Workbook
Name AutNrStOv: [1]StoringsOverzicht!$H$1:$H$65536
Name AutNrTijdPeriode: '[1]Dagen beschikbaar'!$F$1:$F$65536
Name ResponseTijd: [1]StoringsOverzicht!$V$1:$V$65536
Name StoringsTijd: [1]StoringsOverzicht!$U$1:$U$65536
Name Tijd_beschikbaar_in_periode: '[1]Dagen beschikbaar'!$L$1:$L$65536

Sheet Totaal
A1: Prijzenblad EA Warme dranken automaten 2025 v6 | GGDrU | TN 531703 dd 31-07-2025
B5: Prijs excl. btw
A6: Automaten | B6: =Automaten!J30 -> 0
A7: Service en onderhoud | B7: ='Service en onderhoud'!H7 -> 0
A8: Ingrediënten en toebehoren | B8: =SUM(('Ingrediënten en toebehoren'!F12*8)+('Ingrediënten en toebehoren'!F45*8)) -> 0
A9: Totale inschrijfprijs voor acht (8) jaar (excl. btw) | B9: =SUM(B6:B8) -> 0
A12: Toelichting:
A13: -LET OP: OP STRAFFE VAN ONGELDIGHEID VAN DE INSCHRIJVING MAG DE INSCHRIJFPRIJS NIET LAGER ZIJN DAN € 440.000 EXCL. BTW EN NIET HOGER DAN €967.500 EXCL. BTW.
A14: -U dient alleen de geel gemarkeerde cellen (in alle werkbladen) in te vullen.
A15: -De prijzen zijn excl. btw.
A16: -De prijzen in euro's en worden afgerond op maximaal twee (2) cijfers achter de komma.
A18: Aanbestedende dienst: | B18: GGD Regio Utrecht
A19: Versie: | B19: 1.0
A20: Datum:
A21: Naam Inschrijver:
A22: Rechtsgeldige ondertekening:

Sheet Automaten
A1: Prijzenblad EA Warme dranken automaten 2025 v5 | GGDrU | TN 531703 dd 31-07-2025
A3: Aangeboden model type 1:
A4: Aangeboden model type 2:
A5: Aangeboden model type 3:
L6: Uitsluitend invullen indien refurbished automaten worden aangeboden
A7: Locatie | D7: Aanvullende info locatie | E7: Type machine* | F7: Huurprijs per automaat per jaar gedurende de eerste vijf (5) jaar (excl. service en onderhoud en excl. btw) | G7: Huurprijs per automaat per jaar gedurende eerste verlengingsjaar (excl. service en onderhoud en excl. btw) | H7: Huurprijs per automaat per jaar gedurende tweede verlengingsjaar (excl. service en onderhoud en excl. btw) | I7: Huurprijs per automaat per jaar gedurende derde verlengingsjaar (excl. service en onderhoud en excl. btw) | J7: Totale huurprijs | L7: Huurprijs per NIEUWE automaat per jaar gedurende de eerste vijf (5) jaar (excl. service en onderhoud en excl. btw) | M7: Huurprijs per NIEUWE automaat per jaar gedurende eerste verlengingsjaar (excl. service en onderhoud en excl. btw) | N7: Huurprijs per NIEUWE automaat per jaar gedurende tweede verlengingsjaar (excl. service en onderhoud en excl. btw) | O7: Huurprijs per NIEUWE automaat per jaar gedurende derde verlengingsjaar (excl. service en onderhoud en excl. btw)
A8: Wervershoofstraat 365 | B8: 3826 EM | C8: AMERSFOORT | D8: 2e etage teamkamer | E8: 2 | F8: 0 | G8: 0 | H8: 0 | I8: 0 | J8: =SUM(5*F8)+G8+H8+I8 -> 0
A9: Velduil 61 | B9: 3815 XT | C9: AMERSFOORT | D9: Begane grond | E9: 3 | F9: 0 | G9: 0 | H9: 0 | I9: 0 | J9: =SUM(5*F9)+G9+H9+I9 -> 0 | L9: 0 | M9: 0 | N9: 0 | O9: 0
A10: Utrechtseweg 3e | B10: 3811 NA | C10: AMERSFOORT | D10: 1e vedieping (afdeling Reizigers) | E10: =P11 -> 0 | F10: 0 | G10: 0 | H10: 0 | I10: 0 | J10: =SUM(5*F10)+G10+H10+I10 -> 0
A11: Utrechtseweg 3e | B11: 3811 NA | C11: AMERSFOORT | D11: Kantoor | E11: 2 | F11: 0 | G11: 0 | H11: 0 | I11: 0 | J11: =SUM(5*F11)+G11+H11+I11 -> 0
A12: Planetenplein 2 | B12: 3721 LH | C12: BILTHOVEN | D12: 2e etage pantry keuken (lift) | E12: 2 | F12: 0 | G12: 0 | H12: 0 | I12: 0 | J12: =SUM(5*F12)+G12+H12+I12 -> 0
A13: Chopinstraat 1i | B13: 3752 HR | C13: BUNSCHOTEN | D13: Begane grond | E13: 2 | F13: 0 | G13: 0 | H13: 0 | I13: 0 | J13: =SUM(5*F13)+G13+H13+I13 -> 0
A14: Onderdoor 158-160 | B14: 3995 DX | C14: HOUTEN | D14: Begane grond | E14: 2 | F14: 0 | G14: 0 | H14: 0 | I14: 0 | J14: =SUM(5*F14)+G14+H14+I14 -> 0
A15: Merkelbachlaan 2 | B15: 3404 EX | C15: IJSSELSTEIN | D15: Begane grond | E15: 2 | F15: 0 | G15: 0 | H15: 0 | I15: 0 | J15: =SUM(5*F15)+G15+H15+I15 -> 0
A16: Hoefijzer 18 | B16: 3833 XB | C16: LEUSDEN | D16: Begane grond | E16: 3 | F16: 0 | G16: 0 | H16: 0 | I16: 0 | J16: =SUM(5*F16)+G16+H16+I16 -> 0 | L16: 0 | M16: 0 | N16: 0 | O16: 0
A17: Keizer Ottolaan 13 | B17: 3632 BV | C17: LOENEN AAN DE VECHT | D17: Begane grond pantry | E17: 3 | F17: 0 | G17: 0 | H17: 0 | I17: 0 | J17: =SUM(5*F17)+G17+H17+I17 -> 0 | L17: 0 | M17: 0 | N17: 0 | O17: 0
A18: Binnenweg 2 | B18: 3604 AC | C18: MAARSSEN | D18: 1e verdieping | E18: 3 | F18: 0 | G18: 0 | H18: 0 | I18: 0 | J18: =SUM(5*F18)+G18+H18+I18 -> 0 | L18: 0 | M18: 0 | N18: 0 | O18: 0
A19: Overijsselhaven 17 | B19: 3433 PH | C19: NIEUWEGEIN | D19: Begane grond keuken | E19: 3 | F19: 0 | G19: 0 | H19: 0 | I19: 0 | J19: =SUM(5*F19)+G19+H19+I19 -> 0 | L19: 0 | M19: 0 | N19: 0 | O19: 0
A20: Verlaat 20e | B20: 3901 RG | C20: VEENENDAAL | D20: Sourerrain pauzeruimte | E20: 2 | F20: 0 | G20: 0 | H20: 0 | I20: 0 | J20: =SUM(5*F20)+G20+H20+I20 -> 0
A21: Hof van Batenstein 6 | B21: 4131 ZB | C21: VIANEN | D21: Begane grond souterrain | E21: 3 | F21: 0 | G21: 0 | H21: 0 | I21: 0 | J21: =SUM(5*F21)+G21+H21+I21 -> 0 | L21: 0 | M21: 0 | N21: 0 | O21: 0
A22: Polanerbaan 2 | B22: 3447 GN | C22: WOERDEN | D22: 2e etage | E22: 3 | F22: 0 | G22: 0 | H22: 0 | I22: 0 | J22: =SUM(5*F22)+G22+H22+I22 -> 0 | L22: 0 | M22: 0 | N22: 0 | O22: 0
A23: Bergweg 1 | B23: 3701 JJ | C23: ZEIST | D23: 1e verdieping teamkamer | E23: 2 | F23: 0 | G23: 0 | H23: 0 | I23: 0 | J23: =SUM(5*F23)+G23+H23+I23 -> 0
A24: De Dreef 21 | B24: 3706 BR | C24: ZEIST | D24: 1e verdieping keuken | E24: 2 | F24: 0 | G24: 0 | H24: 0 | I24: 0 | J24: =SUM(5*F24)+G24+H24+I24 -> 0
A25: De Dreef 5 | B25: 3706 BR | C25: ZEIST | D25: Begane grond links | E25: 1 | F25: 0 | G25: 0 | H25: 0 | I25: 0 | J25: =SUM(5*F25)+G25+H25+I25 -> 0
A26: De Dreef 5 | B26: 3706 BR | C26: ZEIST | D26: Begane grond centrale hal | E26: 1 | F26: 0 | G26: 0 | H26: 0 | I26: 0 | J26: =SUM(5*F26)+G26+H26+I26 -> 0
A27: De Dreef 5 | B27: 3706 BR | C27: ZEIST | D27: 1e verdieping links | E27: 2 | F27: 0 | G27: 0 | H27: 0 | I27: 0 | J27: =SUM(5*F27)+G27+H27+I27 -> 0
A28: De Dreef 5 | B28: 3706 BR | C28: ZEIST | D28: 1e verdieping rechts | E28: 2 | F28: 0 | G28: 0 | H28: 0 | I28: 0 | J28: =SUM(5*F28)+G28+H28+I28 -> 0
A29: Nieuweweg 14 | B29: 3765 GD | C29: Soest | D29: Nieuwe locatie | E29: 3 | F29: 0 | G29: 0 | H29: 0 | I29: 0 | J29: =SUM(5*F29)+G29+H29+I29 -> 0 | L29: 0 | M29: 0 | N29: 0 | O29: 0
A30: Totale huurprijs voor acht (8) jaar (excl. btw) | J30: =SUM(J8:J29) -> 0
A32: *Kolom E bevat een indicatie van het type machine per locatie. U kunt geen rechten ontlenen aan het genoemde type machine per locatie.
A33: * Alleen de geel gearceerde velden dienen worden ingevuld.

Sheet Service en onderhoud
A1: Prijzenblad EA Warme dranken automaten 2025 v5 | GGDrU | TN 531703 dd 31-07-2025
A3: Type machine | B3: Aangeboden model: | C3: Aantal* | D3: Service en onderhoud per automaat per jaar gedurende de eerste vijf (5) jaar (excl. btw) | E3: Service en onderhoud per automaat per jaar gedurende eerste verlengingsjaar (excl. btw) | F3: Service en onderhoud per automaat per jaar gedurende tweede verlengingsjaar (excl. btw) | G3: Service en onderhoud per automaat per jaar gedurende derde verlengingsjaar (excl. btw) | H3: Totaal service & onderhoud
A4: Type 1 | B4: =Automaten!B3 -> 0 | C4: 2 | D4: 0 | E4: 0 | F4: 0 | G4: 0 | H4: =SUM((C4*D4)*5)+C4*(E4+F4+G4) -> 0
A5: Type 2 | B5: =Automaten!B4 -> 0 | C5: 12 | D5: 0 | E5: 0 | F5: 0 | G5: 0 | H5: =SUM((C5*D5)*5)+C5*(E5+F5+G5) -> 0
A6: Type 3 | B6: =Automaten!B5 -> 0 | C6: 8 | D6: 0 | E6: 0 | F6: 0 | G6: 0 | H6: =SUM((C6*D6)*5)+C6*(E6+F6+G6) -> 0
A7: Totale service & onderhoud voor acht (8) jaar (excl. btw) | H7: =SUM(H4:H6) -> 0
A9: *Kolom C bevat een indicatie van het aantal machines. U kunt geen rechten ontlenen aan de genoemde aantallen.

Sheet Ingrediënten en toebehoren
A1: Prijzenblad EA Warme dranken automaten 2025 v5 | GGDrU | TN 531703 dd 31-07-2025
A3: Ingedriënten
A4: Omschrijving artikel | B4: Eenheid | C4: Indicatie van afname* | D4: Merk | E4: Prijs per eenheid (excl. btw) | F4: Totaalprijs per jaar (excl. btw)
A5: Koffiebonen | B5: Pak (1KG) | C5: 600 | E5: 0 | F5: =SUM(C5*E5) -> 0
A6: Instant | B6: Pak (1KG) | C6: 50 | E6: 0 | F6: =SUM(C6*E6) -> 0
A7: Instant decaf | B7: Pak (1KG) | C7: 10 | E7: 0 | F7: =SUM(C7*E7) -> 0
A8: Melktopping | B8: Pak (500gr) | C8: 60 | E8: 0 | F8: =SUM(C8*E8) -> 0
A9: Melktopping vegan | B9: Pak (500gr) | C9: 10 | E9: 0 | F9: =SUM(C9*E9) -> 0
A10: Cacao/chocopoeder | B10: Pak (1KG) | C10: 200 | E10: 0 | F10: =SUM(C10*E10) -> 0
A11: Cacao/chocopoeder vegan | B11: Pak (1KG) | C11: 50 | E11: 0 | F11: =SUM(C11*E11) -> 0
A12: Totaal ingrediënten (excl. btw) | F12: =SUM(F5:F11) -> 0
A14: Toebehoren
A15: Omschrijving artikel | B15: Eenheid | C15: Indicatie van afname* | D15: Merk/type | E15: Prijs per eenheid (excl. btw) | F15: Totaalprijs per jaar (excl. btw)
A16: Creamer sticks 4gr/doos 500 | B16: doos 500 | C16: 13 | E16: 0 | F16: =SUM(C16*E16) -> 0
A17: Drinkbouillon kip/tuinkr/pk 80 | B17: pk 80 | C17: 80 | E17: 0 | F17: =SUM(C17*E17) -> 0
A18: Drinkbouillon rundvlees/pk 80 | B18: pk 80 | C18: 25 | E18: 0 | F18: =SUM(C18*E18) -> 0
A19: Drinkbouillon tomaat/pk 80 | B19: pk 80 | C19: 117 | E19: 0 | F19: =SUM(C19*E19) -> 0
A20: Drinkbouillon tuinkruiden/pk 80 | B20: pk 80 | C20: 42 | E20: 0 | F20: =SUM(C20*E20) -> 0
A21: Koffie snelfiltermaling/pk 500gr | B21: pk 500 gr | C21: 100 | E21: 0 | F21: =SUM(C21*E21) -> 0
A22: Koffie snelfiltermaling decaf/pk 500gr | B22: pk 500 gr | C22: 15 | E22: 0 | F22: =SUM(C22*E22) -> 0
A23: Koffie regular /pak 36pads | B23: pak 36 pads | C23: 60 | E23: 0 | F23: =SUM(C23*E23) -> 0
A24: Koffie regular/pak 20cups | B24: pak 20 cups | C24: 30 | E24: 0 | F24: =SUM(C24*E24) -> 0
A25: Koffiefilter 1x4 natuur/ds 80st | B25: ds 80 st | C25: 55 | E25: 0 | F25: =SUM(C25*E25) -> 0
A26: Koffiemelk cups/ds 240x7,5gr | B26: ds 240x7,5gr | C26: 43 | E26: 0 | F26: =SUM(C26*E26) -> 0
A27: Mineraalwater | B27: 24x33 cl | C27: 12 | E27: 0 | F27: =SUM(C27*E27) -> 0
... A44: Schoonmaaktabletten | B44: doos 100 | C44: 10 | E44: 0 | F44: =SUM(C44*E44) -> 0
A45: Totaal toebehoren (excl. btw) | F45: =SUM(F16:F44) -> 0
A46: *Kolom C bevat een indicatie van de afname per jaar. U kunt geen rechten ontlenen aan de genoemde aantallen.
