Workbook

Sheet Totaalblad
B9: Prijzenblad
B10: Europese openbare aanbesteding voor de inhuur van Uitzendkrachten (internationaal)
B12: Instructie:
B13: Het invullen van de grijze velden is verplicht. Het invullen van negatieve waarden is niet toegestaan. Overige directe lasten mogen enkel de uniek bij de functie behorende directe lasten betreffen en dienen expliciet geen lasten te zijn die behoren tot de bureaumarge. Indien een post niet van toepassing is, dient inschrijver ‘0’ in te vullen.
B14: Het aangegeven aantal uren is indicatief en derhalve kan Inschrijver hier geenszins, op welke manier dan ook, rechten aan ontlenen.
B16: Alle vermelde prijzen en tarieven dienen gesteld te zijn in euro’s, exclusief BTW. De door u aangeboden prijzen en tarieven dienen inclusief overige belastingen en/of heffingen te zijn. De prijzen worden aangeboden in twee decimalen. Het totaal zoals in cel E38 geldt als fictieve inschrijfprijs en basis voor de vergelijkingsprijs. In cel E33 is de omrekenfactor opgenomen, deze betreft de overige bruto vergoedingen (niet het reguliere uurloon) zoals de toelagen uit de CAO SGO, Overwerk, een Gratificatie etc. Uren omrekenfactor overige brutovergoedingen is (fictief) bepaald op 15% extra op het aantal normale gewerkte uren. Hieraan kunnen geen rechten worden ontleend.
B18: Kostprijsfactor - Uitzenden
C19: Fase A | D19: Fase BC
B20: Uitzendkrachten reguliere uren | C20: ='Uitzenden - Factor Fase A'!D54 -> 19 | D20: ='Uitzenden - Factor Fase BC'!D54 -> 24
B21: Uitzendkrachten bruto vergoedingen 15% | C21: ='Uitzenden - Factor Fase A'!D20*'Uitzenden - Factor Fase A'!C57*15% -> 0 | D21: ='Uitzenden - Factor Fase BC'!D20*'Uitzenden - Factor Fase BC'!C57*15% -> 0
B23: Berekening - Uitzenden
B24: Soort uren | C24: 1 | E24: Gewogen kostprijsfactor
C25: 0.4 | D25: 0.6
B26: Uitzendkrachten normale uren | C26: =C20*C$25 -> 7.6 | D26: =D20*D$25 -> 14.4 | E26: =C26+D26 -> 22
B28: Bureaumarge in euro's - Uitzenden
C29: Fase A, B, C
B30: Uitzendkrachten normale uren | C30: ='Uitzenden - bureaumarge'!C8 -> 0
B32: Berekening totaalprijs voor 1 jaar uitzenden
C33: Aangeboden door inschrijver | D33: Bruto vergoeding extra emolumenten A+B | E33: Gewerkte uren bruto vergoeding | F33: Aantal uren | G33: Totaal prijs
B34: Gewogen kostprijsfactor - Uitzenden | C34: =E26 -> 22 | D34: =(F34*C25*C21)+(F34*D25*D21) -> 0 | E34: =+F34*E26 -> 1210000 | F34: 55000 | G34: =E34+D34 -> 1210000
B35: Bureaumarge in Euro's - Uitzenden | C35: =C30 -> 0 | F35: 55000 | G35: =C35*F35 -> 0
B36: Totaal | G36: =G34+G35 -> 1210000
D38: Inschrijfprijs voor -1- jaar | E38: =G36 -> 1210000
B41: Inschrijver
B42: Naam
B43: Functie
B44: Onderneming
B45: Handtekening
B48: Plaats en datum

Sheet Uitzenden - Factor Fase A
B7: Prijzenblad
B8: Europese openbare aanbesteding voor de inhuur van uitzendkrachten (internationaal)
B10: Instructie:
B11: Het invullen van de grijze velden is verplicht. Het invullen van negatieve waarden is niet toegestaan. Overige directe lasten mogen enkel de uniek bij de functie behorende directe lasten betreffen en dienen expliciet geen lasten te zijn die behoren tot de bureaumarge. Indien een post niet van toepassing is, dient inschrijver ‘0’ in te vullen. De gevraagde tarieven betreffen tarieven voor alle contracten met een bepaalde tijd. De opgegeven prijs door inschrijver betreft een all-in tarief waarin alle kosten verwerkt zijn. Andere dan de opgegeven kosten kunnen niet in rekening worden gebracht.
B12: Het aangegeven aantal uren is indicatief en derhalve kan Inschrijver hier geenszins, op welke manier dan ook, rechten aan ontlenen.
B13: Alle vermelde prijzen en tarieven dienen gesteld te zijn in euro’s, exclusief BTW. De door u aangeboden prijzen en tarieven dienen inclusief overige belastingen en/of heffingen te zijn. De prijzen worden aangeboden in twee decimalen.
B14: Daar waar het percentages betreft, dient u de (wettelijke) percentages in te vullen.
B15: In het veld Omrekenfactor overige bruto vergoedingen geeft u aan wat de omrekenfactor is voor bruto vergoedingen (niet het reguliere uurloon) zoals de toelagen uit de CAO SGO zoals de toelage onregelmatige dienst, Overwerk, een Gratificatie etc. Deze opsomming is niet limitief. De omrekenfactor overige brutovergoedingen is (fictief) bepaald op 15% extra van het aantal normale gewerkte uren. Hieraan kunnen geen rechten worden ontleend.
B16: N.B. transitievergoedingen zullen apart in rekening gebracht c.q. gefactureerd worden.
B18: Loonsomfactor | C18: Bepaalde tijd FASE A, op basis van gewerkte uren
B19: Salariscomponenten | C19: Werkelijk % reservering in kostprijsfactor | D19: Opbouw kostprijs
B20: Brutosalaris = 100% | C20: 1 | D20: 19
B21: Wachtdagcompensatie | C21: 0 | D21: =C20*C21 -> 0
B22: Subtotaal | C22: =C20+C21 -> 1 | D22: =C22*D20 -> 19
B23: Reserveringen
B24: Vakantiedagen | C24: 0
B25: Feestdagen | C25: 0
B26: Buitengewoon verlof | C26: 0
B27: Kort verzuim | C27: 0
B28: Ziekte | C28: 0
B29: Leegloop | C29: 0
B30: Subtotaal | C30: =SUM(C24:C29) -> 0 | D30: =C30*D22+D22 -> 19
B32: Vakantietoeslag | C32: 0
B33: Eindejaarsuitkering | C33: 0
B34: Subtotaal | C34: =C32+C33 -> 0 | D34: =C34*D30+D30 -> 19
B36: Subtotaal Loon + Reserveringen (C) + IKB
B37: Werkgeverslasten
B38: Bijdrage zorgverzekeringswet (ZVW) | C38: 0
B39: Aanvullend ziektewet (AZW) | C39: 0
B40: WW-premie (Awf) | C40: 0
B41: ZW-Flex | C41: 0
B42: (S)PAWW premie | C42: 0
B43: Sociaal fonds Uitzendbranche | C43: 0
B44: Werkhervattingskas premie (WGA) | C44: 0
B45: Aof-premie (WIA/WAO) | C45: 0
B46: StiPP Baiss Pensioen | C46: 0
B47: Opleidingen | C47: 0
B48: Subtotaal | C48: =SUM(C38:C47) -> 0 | D48: =C48*D34+D34 -> 19
B50: Directe lasten
B51: Overige directe lasten | C51: 0
B52: Subtotaal | C52: =C51 -> 0 | D52: =C52*D48+D48 -> 19
B54: All-in tarief excl opslag en BTW (factor en bedrag) | C54: =IF(C32>0,D54/D20,"") | D54: =D52 -> 19
B56: Omrekenfactor overige bruto vergoedingen
B57: De onderbouwing voor de factor die u hier opgeeft kan worden opgevraagd wanneer daar aanleiding toe is. De waarde die u opgeeft moet liggen tussen de 1 en 2 en geeft u op met 2 decimalen. | C57: 0
B60: N.B.: Overige directe lasten mogen enkel de uniek bij de functie behorende directe lasten te betreffen. Overige directe lasten dienen expliciet géén lasten te zijn die behoren tot de bureaumarge.
B61: Aanbestedende dienst is gerechtigd een nadere uitsplitsing van de directe lasten op te vragen. Mocht naar mening van Aanbestedende dienst een deel van de bureaumarge zijn opgenomen
B62: in de overige directe lasten kan de Inschrijver een nadere toelichting geven. Wanneer deze toelichting niet voldoet komt de Inschrijver niet voor gunning in aanmerking.

Sheet Uitzenden - Factor Fase BC
B7: Prijzenblad
B8: Europese openbare aanbesteding voor de inhuur van uitzendkrachten (internationaal)
B10: Instructie:
B11: Het invullen van de grijze velden is verplicht. Het invullen van negatieve waarden is niet toegestaan. Overige directe lasten mogen enkel de uniek bij de functie behorende directe lasten betreffen en dienen expliciet geen lasten te zijn die behoren tot de bureaumarge. Indien een post niet van toepassing is, dient inschrijver ‘0’ in te vullen. De gevraagde tarieven betreffen tarieven voor alle contracten met een bepaalde tijd. Aanbestedende dienst is niet voornemens contracten voor onbepaalde tijd af te sluiten. Indien dit in het uitzonderlijke geval zal voorkomen zal er in overleg getreden worden. De opgegeven prijs door inschrijver betreft een all-in tarief waarin alle kosten verwerkt zijn. Andere dan de opgegeven kosten kunnen niet in rekening worden gebracht.
B12: Het aangegeven aantal uren is indicatief en derhalve kan Inschrijver hier geenszins, op welke manier dan ook, rechten aan ontlenen.
B13: Alle vermelde prijzen en tarieven dienen gesteld te zijn in euro’s, exclusief BTW. De door u aangeboden prijzen en tarieven dienen inclusief overige belastingen en/of heffingen te zijn. De prijzen worden aangeboden in twee decimalen.
B14: Daar waar het percentages betreft, dient u de (wettelijke) percentages in te vullen.
B15: In het veld Omrekenfactor overige bruto vergoedingen geeft u aan wat de omrekenfactor is voor bruto vergoedingen (niet het reguliere uurloon) zoals de toelagen uit de CAO SGO zoals de toelage onregelmatige dienst, Overwerk, een Gratificatie etc. Deze opsomming is niet limitief. De omrekenfactor overige brutovergoedingen is (fictief) bepaald op 15% extra van het aantal normale gewerkte uren. Hieraan kunnen geen rechten worden ontleend.
B16: N.B. transitievergoedingen zullen apart in rekening gebracht c.q. gefactureerd worden.
B18: Loonsomfactor | C18: Bepaalde tijd FASE B (en C), op basis van gewerkte uren
B19: Salariscomponenten | C19: Werkelijk % reservering in kostprijsfactor | D19: Opbouw kostprijs
B20: Brutosalaris = 100% | C20: 1 | D20: 24
B21: Wachtdagcompensatie | C21: 0 | D21: =C20*C21 -> 0
B22: Subtotaal | C22: =C20+C21 -> 1 | D22: =C22*D20 -> 24
B23: Reserveringen
B24: Vakantiedagen | C24: 0
B25: Feestdagen | C25: 0
B26: Buitengewoon verlof | C26: 0
B27: Kort verzuim | C27: 0
B28: Ziekteverzuim | C28: 0
B29: Leegloop | C29: 0
B30: Subtotaal | C30: =SUM(C24:C29) -> 0 | D30: =C30*D22+D22 -> 24
B32: Vakantietoeslag | C32: 0
B33: Eindejaarsuitkering | C33: 0
B34: Subtotaal | C34: =C32+C33 -> 0 | D34: =C34*D30+D30 -> 24
B36: Subtotaal Loon + Reserveringen (C) + IKB
B37: Werkgeverslasten
B38: Bijdrage zorgverzekeringswet (ZVW) | C38: 0
B39: Aanvullend ziektewet (AZW) | C39: 0
B40: WW-premie (Awf) | C40: 0
B41: ZW-Flex | C41: 0
B42: (S)PAWW premie | C42: 0
B43: Sociaal fonds Uitzendbranche | C43: 0
B44: Werkhervattingskas premie (WGA) | C44: 0
B45: Aof-premie (WIA/WAO) | C45: 0
B46: StiPP Plus Pensioen | C46: 0
B47: Opleidingen | C47: 0
B48: Subtotaal | C48: =SUM(C38:C47) -> 0 | D48: =C48*D34+D34 -> 24
B50: Directe lasten
B51: Overige directe lasten | C51: 0
B52: Subtotaal | C52: =C51 -> 0 | D52: =C52*D48+D48 -> 24
B54: All-in tarief excl opslag en BTW (factor en bedrag) | C54: =IF(C32>0,D54/D20,"") | D54: =D52 -> 24
B56: Omrekenfactor overige bruto vergoedingen
B57: De onderbouwing voor de factor die u hier opgeeft kan worden opgevraagd wanneer daar aanleiding toe is. De waarde die u opgeeft moet liggen tussen de 1 en 2 en geeft u op met 2 decimalen. | C57: 0
B60: N.B.: Overige directe lasten mogen enkel de uniek bij de functie behorende directe lasten te betreffen. Overige directe lasten dienen expliciet géén lasten te zijn die behoren tot de bureaumarge.
B61: Aanbestedende dienst is gerechtigd een nadere uitsplitsing van de directe lasten op te vragen. Mocht naar mening van Aanbestedende dienst een deel van de bureaumarge zijn opgenomen
B62: in de overige directe lasten kan de Inschrijver een nadere toelichting geven. Wanneer deze toelichting niet voldoet komt de Inschrijver niet voor gunning in aanmerking.

Sheet Uitzenden - bureaumarge
B4: Uitzendkrachten internationaal
B5: U dient alleen de grijs gearceerde cellen in te vullen
B7: Bureaumarge | C7: Per uur in euro's
B8: Bureaumarge en per uur in euro's (fase A, B en C - 1-2-3-4). | C8: 0
B10: Inschrijver
B11: Naam
B12: Functie
B13: Onderneming
B14: Handtekening
B17: Plaats en datum
