Workbook
Name SCORE: 'Beoordelen wiskundeles'!$A$12:$A$16

Sheet Beoordelen wiskundeles
A1: Beoordeling kwaliteit GEBODEN DIGIBORDEN wiskundeles
A2: De werking ten behoeve van een wiskundeles waaronder de tools voor het trekken van lijnen op het scherm gekoppeld aan het device van de docent worden door een andere beoordelingscommissie getest. Deze docenten zullen met de eigen de device en software met het aangeboden digibord een proefles geven.
A3: Beoordelingskader geboden oplossing Wiskundeles
A4: 1. Eenvoud van opstarten van de video uit de link ('bissectrice construeren').
A5: 2. Eenvoud van openen van de drie bijlagen.
A6: 3. Gebruiksvriendelijkheid constructiegereedschap (geodriehoek, passer, liniaal).
A7: 4. Mate van gebruiksvriendelijkheid GeoGebra
A8: 5. De mate van gebruiksvriendelijkheid van de bediening van de grafische rekenmachine op het smartboard.
A9: Totaalscore van de bovenstaande items (verkregen o.b.v. consensus)
A11: De afzonderlijke items zullen worden beoordeeld met:
A12: Beter | B12: dan de huidige oplossing
A13: Vergelijkbaar | B13: met de huidige oplossing
A14: Acceptabel verbeterpunt | B14: met de huidige oplossing
A15: Onacceptabel verbeterpunt | B15: met de huidige oplossing
A16: SCORE:

Sheet Docent VMBO
A1: Beoordelaar 1: <<>> | C1: Inschrijver 1 | F1: Inschrijver 2 | I1: Inschrijver 3
A2: ='Beoordelen wiskundeles'!A3 -> Beoordelingskader geboden oplossing Wiskundeles | C2: Score: | F2: Score: | I2: Score:
A3: ='Beoordelen wiskundeles'!A4 -> 1. Eenvoud van opstarten van de video uit de link ('bissectrice construeren'). | C3: SCORE | F3: SCORE | I3: SCORE
C4: <MOTIVATIE> | F4: <MOTIVATIE> | I4: <MOTIVATIE>
A5: ='Beoordelen wiskundeles'!A5 -> 2. Eenvoud van openen van de drie bijlagen. | C5: SCORE | F5: SCORE | I5: SCORE
C6: <MOTIVATIE> | F6: <MOTIVATIE> | I6: <MOTIVATIE>
A7: ='Beoordelen wiskundeles'!A6 -> 3. Gebruiksvriendelijkheid constructiegereedschap (geodriehoek, passer, liniaal). | C7: SCORE | F7: SCORE | I7: SCORE
C8: <MOTIVATIE> | F8: <MOTIVATIE> | I8: <MOTIVATIE>
A9: ='Beoordelen wiskundeles'!A7 -> 4. Mate van gebruiksvriendelijkheid GeoGebra | C9: SCORE | F9: SCORE | I9: SCORE
C10: <MOTIVATIE> | F10: <MOTIVATIE> | I10: <MOTIVATIE>
A11: ='Beoordelen wiskundeles'!A8 -> 5. De mate van gebruiksvriendelijkheid van de bediening van de grafische rekenmachine op het smartboard. | C11: SCORE | F11: SCORE | I11: SCORE
C12: <MOTIVATIE> | F12: <MOTIVATIE> | I12: <MOTIVATIE>

Sheet Docent HBO 1
A1: Beoordelaar 2: <<>> | C1: ='Docent VMBO'!C1:D1 -> Inschrijver 1 | F1: ='Docent VMBO'!F1:G1 -> Inschrijver 2 | I1: ='Docent VMBO'!I1:J1 -> Inschrijver 3
A2: ='Beoordelen wiskundeles'!A3:A3 -> Beoordelingskader geboden oplossing Wiskundeles | C2: Score: | F2: Score: | I2: Score:
A3: ='Beoordelen wiskundeles'!A4:A4 -> 1. Eenvoud van opstarten van de video uit de link ('bissectrice construeren'). | C3: SCORE | F3: SCORE | I3: SCORE
C4: <MOTIVATIE> | F4: <MOTIVATIE> | I4: <MOTIVATIE>
A5: ='Beoordelen wiskundeles'!A5:A5 -> 2. Eenvoud van openen van de drie bijlagen. | C5: SCORE | F5: SCORE | I5: SCORE
C6: <MOTIVATIE> | F6: <MOTIVATIE> | I6: <MOTIVATIE>
A7: ='Beoordelen wiskundeles'!A6:A6 -> 3. Gebruiksvriendelijkheid constructiegereedschap (geodriehoek, passer, liniaal). | C7: SCORE | F7: SCORE | I7: SCORE
C8: <MOTIVATIE> | F8: <MOTIVATIE> | I8: <MOTIVATIE>
A9: ='Beoordelen wiskundeles'!A7 -> 4. Mate van gebruiksvriendelijkheid GeoGebra | C9: SCORE | F9: SCORE | I9: SCORE
C10: <MOTIVATIE> | F10: <MOTIVATIE> | I10: <MOTIVATIE>
A11: ='Beoordelen wiskundeles'!A8 -> 5. De mate van gebruiksvriendelijkheid van de bediening van de grafische rekenmachine op het smartboard. | C11: SCORE | F11: SCORE | I11: SCORE
C12: <MOTIVATIE> | F12: <MOTIVATIE> | I12: <MOTIVATIE>

Sheet Docent HBO 2
A1: Beoordelaar 3: <<>> | C1: ='Docent VMBO'!C1:D1 -> Inschrijver 1 | F1: ='Docent VMBO'!F1:G1 -> Inschrijver 2 | I1: ='Docent VMBO'!I1:J1 -> Inschrijver 3
A2: ='Beoordelen wiskundeles'!A3:A3 -> Beoordelingskader geboden oplossing Wiskundeles | C2: Score: | F2: Score: | I2: Score:
A3: ='Beoordelen wiskundeles'!A4:A4 -> 1. Eenvoud van opstarten van de video uit de link ('bissectrice construeren'). | C3: SCORE | F3: SCORE | I3: SCORE
C4: <MOTIVATIE> | F4: <MOTIVATIE> | I4: <MOTIVATIE>
A5: ='Beoordelen wiskundeles'!A5:A5 -> 2. Eenvoud van openen van de drie bijlagen. | C5: SCORE | F5: SCORE | I5: SCORE
C6: <MOTIVATIE> | F6: <MOTIVATIE> | I6: <MOTIVATIE>
A7: ='Beoordelen wiskundeles'!A6:A6 -> 3. Gebruiksvriendelijkheid constructiegereedschap (geodriehoek, passer, liniaal). | C7: SCORE | F7: SCORE | I7: SCORE
C8: <MOTIVATIE> | F8: <MOTIVATIE> | I8: <MOTIVATIE>
A9: ='Beoordelen wiskundeles'!A7 -> 4. Mate van gebruiksvriendelijkheid GeoGebra | C9: SCORE | F9: SCORE | I9: SCORE
C10: <MOTIVATIE> | F10: <MOTIVATIE> | I10: <MOTIVATIE>
A11: ='Beoordelen wiskundeles'!A8 -> 5. De mate van gebruiksvriendelijkheid van de bediening van de grafische rekenmachine op het smartboard. | C11: SCORE | F11: SCORE | I11: SCORE
C12: <MOTIVATIE> | F12: <MOTIVATIE> | I12: <MOTIVATIE>

Sheet Eindscores
A1: Totaalwaardes GEBODEN AUDIOVISUELE OPLOSSING wiskundeles
D2: ='Docent VMBO'!C1 -> Inschrijver 1 | E2: Motivatie consensus | G2: ='Docent VMBO'!F1 -> Inschrijver 2 | H2: Motivatie consensus | J2: ='Docent VMBO'!I1 -> Inschrijver 3 | K2: Motivatie consensus
A3: ='Beoordelen wiskundeles'!A4 -> 1. Eenvoud van opstarten van de video uit de link ('bissectrice construeren'). | B3: Beoordelaar 1 | D3: ='Docent VMBO'!C3 -> SCORE | E3: <<MOTIVATIE>> | G3: ='Docent VMBO'!F3 -> SCORE | H3: <<MOTIVATIE>> | J3: ='Docent VMBO'!I3 -> SCORE | K3: <<MOTIVATIE>>
B4: Beoordelaar 2 | D4: ='Docent HBO 1'!C3 -> SCORE | G4: ='Docent HBO 1'!F3 -> SCORE | J4: ='Docent HBO 1'!I3 -> SCORE
B5: Beoordelaar 3 | D5: ='Docent HBO 2'!C3 -> SCORE | G5: ='Docent HBO 2'!F3 -> SCORE | J5: ='Docent HBO 2'!I3 -> SCORE
A6: Consensus | D6: SCORE: | G6: SCORE: | J6: SCORE:
D7: =IF(D6="Beter","€ 5.000",IF(D6="Vergelijkbaar","€ 0",IF(D6="Acceptabel verbeterpunt","-€ 5.000",IF(D6="Onacceptabel verbeterpunt","KNOCK OUT"," ")))) | G7: =IF(G6="Beter","€ 5.000",IF(G6="Vergelijkbaar","€ 0",IF(G6="Acceptabel verbeterpunt","-€ 5.000",IF(G6="Onacceptabel verbeterpunt","KNOCK OUT"," ")))) | J7: =IF(J6="Beter","€ 5.000",IF(J6="Vergelijkbaar","€ 0",IF(J6="Acceptabel verbeterpunt","-€ 5.000",IF(J6="Onacceptabel verbeterpunt","KNOCK OUT"," "))))
A8: ='Beoordelen wiskundeles'!A5 -> 2. Eenvoud van openen van de drie bijlagen. | B8: Beoordelaar 1 | D8: ='Docent VMBO'!C5 -> SCORE | E8: <<MOTIVATIE>> | G8: ='Docent VMBO'!F5 -> SCORE | H8: <<MOTIVATIE>> | J8: ='Docent VMBO'!I5 -> SCORE | K8: <<MOTIVATIE>>
B9: Beoordelaar 2 | D9: ='Docent HBO 1'!C5 -> SCORE | G9: ='Docent HBO 1'!F5 -> SCORE | J9: ='Docent HBO 1'!I5 -> SCORE
B10: Beoordelaar 3 | D10: ='Docent HBO 2'!C5 -> SCORE | G10: ='Docent HBO 2'!F5 -> SCORE | J10: ='Docent HBO 2'!I5 -> SCORE
A11: Consensus | D11: SCORE: | G11: SCORE: | J11: SCORE:
D12: =IF(D11="Beter","€ 5.000",IF(D11="Vergelijkbaar","€ 0",IF(D11="Acceptabel verbeterpunt","-€ 5.000",IF(D11="Onacceptabel verbeterpunt","KNOCK OUT"," ")))) | G12: =IF(G11="Beter","€ 5.000",IF(G11="Vergelijkbaar","€ 0",IF(G11="Acceptabel verbeterpunt","-€ 5.000",IF(G11="Onacceptabel verbeterpunt","KNOCK OUT"," ")))) | J12: =IF(J11="Beter","€ 5.000",IF(J11="Vergelijkbaar","€ 0",IF(J11="Acceptabel verbeterpunt","-€ 5.000",IF(J11="Onacceptabel verbeterpunt","KNOCK OUT"," "))))
A13: ='Beoordelen wiskundeles'!A6 -> 3. Gebruiksvriendelijkheid constructiegereedschap (geodriehoek, passer, liniaal). | B13: Beoordelaar 1 | D13: ='Docent VMBO'!C7 -> SCORE | E13: <<MOTIVATIE>> | G13: ='Docent VMBO'!F7 -> SCORE | H13: <<MOTIVATIE>> | J13: ='Docent VMBO'!I7 -> SCORE | K13: <<MOTIVATIE>>
B14: Beoordelaar 2 | D14: ='Docent HBO 1'!C7 -> SCORE | G14: ='Docent HBO 1'!F7 -> SCORE | J14: ='Docent HBO 1'!I7 -> SCORE
B15: Beoordelaar 3 | D15: ='Docent HBO 2'!C7 -> SCORE | G15: ='Docent HBO 2'!F7 -> SCORE | J15: ='Docent HBO 2'!I7 -> SCORE
A16: Consensus | D16: SCORE: | G16: SCORE: | J16: SCORE:
D17: =IF(D16="Beter","€ 5.000",IF(D16="Vergelijkbaar","€ 0",IF(D16="Acceptabel verbeterpunt","-€ 5.000",IF(D16="Onacceptabel verbeterpunt","KNOCK OUT"," ")))) | G17: =IF(G16="Beter","€ 5.000",IF(G16="Vergelijkbaar","€ 0",IF(G16="Acceptabel verbeterpunt","-€ 5.000",IF(G16="Onacceptabel verbeterpunt","KNOCK OUT"," ")))) | J17: =IF(J16="Beter","€ 5.000",IF(J16="Vergelijkbaar","€ 0",IF(J16="Acceptabel verbeterpunt","-€ 5.000",IF(J16="Onacceptabel verbeterpunt","KNOCK OUT"," "))))
A18: ='Beoordelen wiskundeles'!A7 -> 4. Mate van gebruiksvriendelijkheid GeoGebra | B18: Beoordelaar 1 | D18: ='Docent VMBO'!C9 -> SCORE | E18: <<MOTIVATIE>> | G18: ='Docent VMBO'!F9 -> SCORE | H18: <<MOTIVATIE>> | J18: ='Docent VMBO'!I9 -> SCORE | K18: <<MOTIVATIE>>
B19: Beoordelaar 2 | D19: ='Docent HBO 1'!C9 -> SCORE | G19: ='Docent HBO 1'!F9 -> SCORE | J19: ='Docent HBO 1'!I9 -> SCORE
B20: Beoordelaar 3 | D20: ='Docent HBO 2'!C9 -> SCORE | G20: ='Docent HBO 2'!F9 -> SCORE | J20: ='Docent HBO 2'!I9 -> SCORE
A21: Consensus | D21: SCORE: | G21: SCORE: | J21: SCORE:
D22: =IF(D21="Beter","€ 5.000",IF(D21="Vergelijkbaar","€ 0",IF(D21="Acceptabel verbeterpunt","-€ 5.000",IF(D21="Onacceptabel verbeterpunt","KNOCK OUT"," ")))) | G22: =IF(G21="Beter","€ 5.000",IF(G21="Vergelijkbaar","€ 0",IF(G21="Acceptabel verbeterpunt","-€ 5.000",IF(G21="Onacceptabel verbeterpunt","KNOCK OUT"," ")))) | J22: =IF(J21="Beter","€ 5.000",IF(J21="Vergelijkbaar","€ 0",IF(J21="Acceptabel verbeterpunt","-€ 5.000",IF(J21="Onacceptabel verbeterpunt","KNOCK OUT"," "))))
A23: ='Beoordelen wiskundeles'!A8 -> 5. De mate van gebruiksvriendelijkheid van de bediening van de grafische rekenmachine op het smartboard. | B23: Beoordelaar 1 | D23: ='Docent VMBO'!C11 -> SCORE | E23: <<MOTIVATIE>> | G23: ='Docent VMBO'!F11 -> SCORE | H23: <<MOTIVATIE>> | J23: ='Docent VMBO'!I11 -> SCORE | K23: <<MOTIVATIE>>
B24: Beoordelaar 2 | D24: ='Docent HBO 1'!C11 -> SCORE | G24: ='Docent HBO 1'!F11 -> SCORE | J24: ='Docent HBO 1'!I11 -> SCORE
B25: Beoordelaar 3 | D25: ='Docent HBO 2'!C11 -> SCORE | G25: ='Docent HBO 2'!F11 -> SCORE | J25: ='Docent HBO 2'!I11 -> SCORE
A26: Consensus | D26: SCORE: | G26: SCORE: | J26: SCORE:
D27: =IF(D26="Beter","€ 5.000",IF(D26="Vergelijkbaar","€ 0",IF(D26="Acceptabel verbeterpunt","-€ 5.000",IF(D26="Onacceptabel verbeterpunt","KNOCK OUT"," ")))) | G27: =IF(G26="Beter","€ 5.000",IF(G26="Vergelijkbaar","€ 0",IF(G26="Acceptabel verbeterpunt","-€ 5.000",IF(G26="Onacceptabel verbeterpunt","KNOCK OUT"," ")))) | J27: =IF(J26="Beter","€ 5.000",IF(J26="Vergelijkbaar","€ 0",IF(J26="Acceptabel verbeterpunt","-€ 5.000",IF(J26="Onacceptabel verbeterpunt","KNOCK OUT"," "))))
A28: Totaal behaalde waarde geboden oplossing: | D28: =D7+D12+D17+D22+D27 -> #VALUE! | G28: =G7+G12+G17+G22+G27 -> #VALUE! | J28: =J7+J12+J17+J22+J27 -> #VALUE!
