Workbook
Name _Fill: NA()
Name _Key1: NA()
Name _Order1: 255
Name gebouw: '3. RUIMTESTAAT ALLE LOCATIES'!$B:$B
Name han: NA()
Name han: NA()
Name Kengetal: NA()
Name uren_mavr: '3. RUIMTESTAAT ALLE LOCATIES'!$N:$N
Name uren_naloop: NA()
Name uren_zazofe: NA()
Name Vierknatemeter: '3. RUIMTESTAAT ALLE LOCATIES'!$I:$I

Sheet INLEIDING
C5: Inleiding
A7: Dit calculatiebestand bestaat uit deze inleiding, het totaalblad, basis invulbld, ruimtestaat alle locaties, glasbewassing, sanitaire voorzieningen en het regieoverzicht. Uitleg bij het invullen van het calculatiebestand:
A8: De inschrijver dient alle gele vakken in te vullen. Prijzen dienen excl. Btw ingevoerd te worden.
A9: Voor schoonmaak en glasbewassing geldt: Er dient te worden uitgegaan van een integraal calculatie-uurtarief waarin alle kosten, waaronder de kosten voor direct toezicht, administratieve werkzaamheden, suppletiekosten, investeringskosten, vervoerskosten, machines en overige additionele kosten zijn inbegrepen.
A10: Eenmalige bonussen of vergoedingen, worden niet in de beoordeling meegenomen. Manipulatief inschrijven of aanpassen van het prijsmodel leidt tot uitsluiting.
A11: Inschrijver vult de naam in op het totaalblad.
A12: 1. Totaalblad | B12: In het totaalblad worden, middels aangebrachte formules, de prijzen uit de andere tabbladen samengevoegd per locatie. In cel H33 komt de totale inschrijfsom excl. Btw te staan. Voor de Dislocaties is er een mogelijkheid om de prijs af te ronden. Dit is mogelijk in kolom E.
A13: 2. Basis invulblad | B13: In het basis invulblad zijn alle ruimtesoorten, vloersoorten, frequenties en schoonmaaksleutel weergegeven. Deze gegevens komen uit de ruimtestaat van alle locaties. De inschrijver dient aan te geven welke norm zij hanteert voor de schoonmaakactiviteit m2/uur. Daarnaast wordt het uurloon voor de schoonmaakmedewerker en het uurloon van de begeleiding ingevuld. Uurloon dient excl btw ingevuld te worden.
A14: 3. Ruimtestaat alle locaties | B14: In de ruimtestaat van alle locaties is beschreven per locatie welke ruimtes er zijn, welke vloersoort hier aanwezig is en welke afmeting de ruimte heeft. In dit blad dient het percentage van de leiding voor de schoonmaakactiviteit ingevoerd te worden.
A15: 4. Glasbewassing | B15: De glasbewassing geldt alleen voor de vijf hoofdlocaties. In het tabblad glasbewassing dient de prijs per m2 ingevoerd te worden.
A16: 5. Sanitaire voorzieningen | B16: Op de vijf hoofdlocaties dienen alle sanitaire voorzieningen vervangen te worden. De eisen hiervoor zijn opgenomen in het PVE. In het tabblad is er per locatie aangegeven hoeveel sanitaire voorzieningen vervangen dienen te worden. Ook dient het type/model aangegeven te worden.
A17: 6. Vloeronderhoud | B17: Op de vijf hoofdlocaties dient er twee keer per jaar vloeronderhoud uitgevoerd te worden.
A18: 7. Afroepprijzen | B18: Overzicht kosten afroepprijzen. De leverancier dient eenheidsprijzen op te geven voor werkzaamheden die de opdrachtgever gedurende de contractperiode kan laten uitvoeren. De inschrijver dient de eenheidsprijzen (in staffel) op te geven. In de tarieven dienen alle kosten te zijn verdisconteerd.

Sheet 1. TOTAALBLAD
A2: Naam opdrachtgever | B2: Gemeente Ede
A3: Omschrijving opdracht | B3: Contractblad jaarprijs schoonmaak
A4: Gebouw/plaats | B4: Alle gebouwen
A5: Besteknummer
A6: Naam leverancier
A7: Bijzonderheden
A8: LOCATIE | B8: HOOFDFREQUENTIE | C8: M2 VLOER | D8: PRIJS SCHOONMAAK PER JAAR | E8: PRIJS SCHOONMAAK PER JAAR | F8: PRIJS GLASBEWASSING PER JAAR | G8: SANITAIRE VOORZIENINGEN | H8: VLOERONDERHOUD | I8: AFROEPPRIJZEN | J8: TOTAAL excl. BTW | AV8: sap
A9: Gemeente werf, Asakkerweg 8 | B9: 255 | C9: 864.65 | D9: =SUMIF(gebouw,'1. TOTAALBLAD'!A9,'3. RUIMTESTAAT ALLE LOCATIES'!T:T) -> 0 | F9: ='4. GLASBEWASSING'!I36 -> 0 | G9: ='5. SANITAIRE VOORZIENINGEN'!H50 -> 0 | H9: ='6. VLOERONDERHOUD'!H35 -> 0 | J9: =SUM(D9:I9) -> 0 | AT9: =D9/12 -> 0 | AU9: =NA() -> #N/A | AV9: 1031.85
A10: Manenberg, kantoor Werkkracht, Molenstraat 80F | B10: 255 | C10: 982.19 | D10: =SUMIF(gebouw,'1. TOTAALBLAD'!A10,'3. RUIMTESTAAT ALLE LOCATIES'!T:T) -> 0 | H10: ='6. VLOERONDERHOUD'!H29 -> 0 | J10: =SUM(D10:I10) -> 0 | AT10: =D10/12 -> 0 | AU10: =NA() -> #N/A | AV10: 1108.33
A11: Manenberg, Molenstraat 80 | B11: 255 | C11: 1024.53 | D11: =SUMIF(gebouw,'1. TOTAALBLAD'!A11,'3. RUIMTESTAAT ALLE LOCATIES'!T:T) -> 0 | F11: ='4. GLASBEWASSING'!I28 -> 0 | G11: ='5. SANITAIRE VOORZIENINGEN'!H41 -> 0 | H11: ='6. VLOERONDERHOUD'!H25 -> 0 | J11: =SUM(D11:I11) -> 0 | AT11: =D11/12 -> 0 | AU11: =NA() -> #N/A | AV11: 912.75
A12: Doelen I, Raadhuisplein 2 | B12: 255 | C12: 3850.5 | D12: =SUMIF(gebouw,'1. TOTAALBLAD'!A12,'3. RUIMTESTAAT ALLE LOCATIES'!T:T) -> 0 | F12: ='4. GLASBEWASSING'!I18 -> 0 | G12: ='5. SANITAIRE VOORZIENINGEN'!H23 -> 0 | H12: ='6. VLOERONDERHOUD'!H17 -> 0 | J12: =SUM(D12:I12) -> 0 | AT12: =D12/12 -> 0 | AU12: =NA() -> #N/A | AV12: 3797
A13: Raadhuis, Bergstraat 4 | B13: 255 | C13: 11927.767 | D13: =SUMIF(gebouw,'1. TOTAALBLAD'!A13,'3. RUIMTESTAAT ALLE LOCATIES'!T:T) -> 0 | F13: ='4. GLASBEWASSING'!I11 -> 0 | G13: ='5. SANITAIRE VOORZIENINGEN'!H13 -> 0 | H13: ='6. VLOERONDERHOUD'!H11 -> 0 | I13: ='7. AFROEPPRIJZEN'!G39 -> 0 | J13: =SUM(D13:I13) -> 0 | AT13: =D13/12 -> 0 | AU13: =NA() -> #N/A | AV13: 12381.05
A14: Vleugel, Raadhuisstraat 117 | B14: 255 | C14: 2981.21 | D14: =SUMIF(gebouw,'1. TOTAALBLAD'!A14,'3. RUIMTESTAAT ALLE LOCATIES'!T:T) -> 0 | F14: ='4. GLASBEWASSING'!I25 -> 0 | G14: ='5. SANITAIRE VOORZIENINGEN'!H32 -> 0 | H14: ='6. VLOERONDERHOUD'!H22 -> 0 | J14: =SUM(D14:I14) -> 0
A15: Subtotaal Bovenstaande locaties | C15: =SUM(C9:C14) -> 21630.847 | D15: =SUM(D9:D14) -> 0 | F15: =SUM(F9:F14) -> 0 | G15: =SUM(G9:G14) -> 0 | H15: =SUM(H9:H14) -> 0 | I15: =SUM(I9:I14) -> 0 | J15: =SUM(J9:J14) -> 0
E16: Afronding minimaal 1 uur
A17: Aula Ede, Asakkerweg 8 | B17: 255 | C17: 770.2 | D17: =SUMIF(gebouw,'1. TOTAALBLAD'!A17,'3. RUIMTESTAAT ALLE LOCATIES'!T:T) -> 0 | J17: =IF(E17=0,D17,E17) -> 0 | AT17: =D14/12 -> 0 | AU17: =NA() -> #N/A | AV17: 2528.41
A18: Onderkomen Harskamp, Heersweg 2A | B18: 52 | C18: 27.02 | D18: =SUMIF(gebouw,'1. TOTAALBLAD'!A18,'3. RUIMTESTAAT ALLE LOCATIES'!T:T) -> 0 | J18: =IF(E18=0,D18,E18) -> 0 | AT18: =D18/12 -> 0 | AU18: =NA() -> #N/A | AV18: 36.53
A19: Wijkpost, Zandlaan 34 | B19: 156 | C19: 111.05 | D19: =SUMIF(gebouw,'1. TOTAALBLAD'!A19,'3. RUIMTESTAAT ALLE LOCATIES'!T:T) -> 0 | J19: =IF(E19=0,D19,E19) -> 0 | AT19: =D19/12 -> 0 | AU19: =NA() -> #N/A | AV19: 156.11
A20: Wijkpost, Verlengde Parkweg 47B | B20: 255 | C20: 121.14 | D20: =SUMIF(gebouw,'1. TOTAALBLAD'!A20,'3. RUIMTESTAAT ALLE LOCATIES'!T:T) -> 0 | J20: =IF(E20=0,D20,E20) -> 0 | AT20: =D20/12 -> 0 | AU20: =NA() -> #N/A | AV20: 654.25
A21: Aula Ederveen, Oude Heuvel 2 | B21: 12 | C21: 99.69 | D21: =SUMIF(gebouw,'1. TOTAALBLAD'!A21,'3. RUIMTESTAAT ALLE LOCATIES'!T:T) -> 0 | J21: =IF(E21=0,D21,E21) -> 0 | AT21: =D21/12 -> 0 | AU21: =NA() -> #N/A | AV21: 151.57721
A22: Aula Otterlo, Pothovenlaan 44 | B22: 12 | C22: 99.69 | D22: =SUMIF(gebouw,'1. TOTAALBLAD'!A22,'3. RUIMTESTAAT ALLE LOCATIES'!T:T) -> 0 | J22: =IF(E22=0,D22,E22) -> 0 | AT22: =D22/12 -> 0 | AU22: =NA() -> #N/A | AV22: 143.97004
A23: Aula Lunteren, Kerkhoflaan 40 | B23: 52 | C23: 143.3 | D23: =SUMIF(gebouw,'1. TOTAALBLAD'!A23,'3. RUIMTESTAAT ALLE LOCATIES'!T:T) -> 0 | J23: =IF(E23=0,D23,E23) -> 0 | AT23: =D23/12 -> 0 | AU23: =NA() -> #N/A | AV23: 170.59815
A24: Onderkomen Bennekom, Kerkhoflaan 36 | B24: 52 | C24: 23.18 | D24: =SUMIF(gebouw,'1. TOTAALBLAD'!A24,'3. RUIMTESTAAT ALLE LOCATIES'!T:T) -> 0 | J24: =IF(E24=0,D24,E24) -> 0 | AT24: =D24/12 -> 0 | AU24: =NA() -> #N/A | AV24: 59.882804
A25: Onderkomen Ede, Asakkerweg 6 | B25: 52 | C25: 17.66 | D25: =SUMIF(gebouw,'1. TOTAALBLAD'!A25,'3. RUIMTESTAAT ALLE LOCATIES'!T:T) -> 0 | J25: =IF(E25=0,D25,E25) -> 0 | AT25: =D25/12 -> 0 | AU25: =NA() -> #N/A | AV25: 6.1420724
A26: Onderkomen Lunteren I, Kerkhoflaan 40 | B26: 52 | C26: 20.63 | D26: =SUMIF(gebouw,'1. TOTAALBLAD'!A26,'3. RUIMTESTAAT ALLE LOCATIES'!T:T) -> 0 | J26: =IF(E26=0,D26,E26) -> 0 | AT26: =D26/12 -> 0 | AU26: =NA() -> #N/A | AV26: 19.684716
A27: Onderkomen Lunteren II, Kerkhoflaan 40 | B27: 52 | C27: 8.52 | D27: =SUMIF(gebouw,'1. TOTAALBLAD'!A27,'3. RUIMTESTAAT ALLE LOCATIES'!T:T) -> 0 | J27: =IF(E27=0,D27,E27) -> 0 | AT27: =D27/12 -> 0 | AU27: =NA() -> #N/A | AV27: 3.1113805
A29: Subtotaal Overige locaties | C29: =SUM(C17:C27) -> 1442.08 | D29: =SUM(D17:D27) -> 0 | E29: =SUM(E17:E27) -> 0 | J29: =SUM(J17:J27) -> 0 | AV29: =SUM(AV9:AV27) -> 23161.246
A32: TOTAAL exclusief B.T.W. | D32: =D15+D29 -> 0 | E32: =E15+E29 -> 0 | F32: =F15 -> 0 | G32: =G15 -> 0 | H32: =H15 -> 0 | I32: =I15 -> 0 | J32: =J29+J15 -> 0

Sheet 2. BASIS INVULBLAD
A9: Ruimtesoort | B9: Vloersoort | C9: Frequentie | D9: Sleutel | E9: Norm m2/uur | G9: Soort | H9: Tarief per uur
A10: Administratieve ruimten | B10: Bolon | C10: 156 | D10: AR-Bolon-156 | G10: Dagelijkse en periodieke schoonmaak
A11: Administratieve ruimten | B11: Bolon | C11: 255 | D11: AR-Bolon-255 | G11: Leiding
A12: Administratieve ruimten | B12: DHGT | C12: 52 | D12: AR-DHGT-52
A13: Administratieve ruimten | B13: DHGT | C13: 255 | D13: AR-DHGT-255
A14: Administratieve ruimten | B14: Grindtegel | C14: 12 | D14: AR-Grindtegel-12
A15: Administratieve ruimten | B15: Inloopmat | C15: 156 | D15: AR-Inloopmat-156
A16: Administratieve ruimten | B16: Linoleum | C16: 52 | D16: AR-Linoleum-52
A17: Administratieve ruimten | B17: Linoleum | C17: 156 | D17: AR-Linoleum-156
A18: Administratieve ruimten | B18: Marmer | C18: 156 | D18: AR-Marmer-156
A19: Administratieve ruimten | B19: Tapijt | C19: 156 | D19: AR-Tapijt-156
A20: Administratieve ruimten | B20: Tapijt | C20: 255 | D20: AR-Tapijt-255
A21: Administratieve ruimten | B21: Vinyl | C21: 156 | D21: AR-Vinyl-156
A22: Administratieve ruimten | B22: Vinyl | C22: 255 | D22: AR-Vinyl-255
A23: Gangen en hallen | B23: Beton | C23: 255 | D23: GH-Beton-255
... A87: Vergader-/spreekruimten | B87: Tapijt | C87: 255 | D87: V-Tapijt-255

Sheet 3. RUIMTESTAAT ALLE LOCATIES
B3: ='1. TOTAALBLAD'!A2 -> Naam opdrachtgever | C3: ='1. TOTAALBLAD'!B2 -> Gemeente Ede
B4: ='1. TOTAALBLAD'!A3 -> Omschrijving opdracht | C4: Ruimtestaat
B5: ='1. TOTAALBLAD'!A4 -> Gebouw/plaats | C5: ='1. TOTAALBLAD'!B4 -> Alle gebouwen
B6: ='1. TOTAALBLAD'!A5 -> Besteknummer
B7: ='1. TOTAALBLAD'!A6 -> Naam leverancier
L8: Dagelijkse en periodieke schoonmaak | P8: Leiding | T8: Totaal
B9: GEBOUW | C9: Object nummer | D9: VERD. | E9: RUIMTE NR | F9: RUIMTE OMSCHRIJVING (OPDRACHTGEVER) | G9: RUIMTE CATEGORIE | H9: VLOER SOORT | I9: M2 VLOER | J9: FREQ. NOTATIE | K9: Sleutel | L9: Uren per dag | M9: Uren per jaar | N9: Uurtarief schoonmaak | O9: Prijs per jaar | P9: Percentage leiding | Q9: Uren leiding per jaar | R9: Uurtarief leiding | S9: Prijs per jaar leiding | T9: Kosten per jaar
A10: =A9+1 -> 1 | B10: Aula Ede, Asakkerweg 8 | F10: voorruimte | G10: Gangen en hallen | H10: DHGT | I10: 2.08 | J10: 255 | K10: GH-DHGT-255 | L10: =IF(VLOOKUP(K10,'2. BASIS INVULBLAD'!$D$10:$E$87,2,FALSE())=0,0,I10/VLOOKUP(K10,'2. BASIS INVULBLAD'!$D$10:$E$87,2,FALSE())) -> 0 | M10: =L10*J10 -> 0 | N10: ='2. BASIS INVULBLAD'!$H$10 -> 0 | O10: =M10*N10 -> 0 | Q10: =M10*P10 -> 0 | R10: ='2. BASIS INVULBLAD'!$H$11 -> 0 | S10: =Q10*R10 -> 0 | T10: =O10+S10 -> 0
A11: =A10+1 -> 2 | B11: Aula Ede, Asakkerweg 8 | F11: toilet familiekamer | G11: Sanitaire ruimten | H11: DHGT | I11: 1.25 | J11: 255 | K11: S-DHGT-255 | L11: =IF(VLOOKUP(K11,'2. BASIS INVULBLAD'!$D$10:$E$87,2,FALSE())=0,0,I11/VLOOKUP(K11,'2. BASIS INVULBLAD'!$D$10:$E$87,2,FALSE())) -> 0 | M11: =L11*J11 -> 0 | N11: ='2. BASIS INVULBLAD'!$H$10 -> 0 | O11: =M11*N11 -> 0 | Q11: =M11*P11 -> 0 | R11: ='2. BASIS INVULBLAD'!$H$11 -> 0 | S11: =Q11*R11 -> 0 | T11: =O11+S11 -> 0
A12: =A11+1 -> 3 | B12: Aula Ede, Asakkerweg 8 | F12: personeelsgang | G12: Gangen en hallen | H12: DHGT | I12: 27.71 | J12: 255 | K12: GH-DHGT-255 | L12: =IF(VLOOKUP(K12,'2. BASIS INVULBLAD'!$D$10:$E$87,2,FALSE())=0,0,I12/VLOOKUP(K12,'2. BASIS INVULBLAD'!$D$10:$E$87,2,FALSE())) -> 0 | M12: =L12*J12 -> 0 | N12: ='2. BASIS INVULBLAD'!$H$10 -> 0 | O12: =M12*N12 -> 0 | Q12: =M12*P12 -> 0 | R12: ='2. BASIS INVULBLAD'!$H$11 -> 0 | S12: =Q12*R12 -> 0 | T12: =O12+S12 -> 0
A13: =A12+1 -> 4 | B13: Aula Ede, Asakkerweg 8 | F13: personeelsgang | G13: Gangen en hallen | H13: Tapijt | I13: 3 | J13: 255 | K13: GH-Tapijt-255 | L13: =IF(VLOOKUP(K13,'2. BASIS INVULBLAD'!$D$10:$E$87,2,FALSE())=0,0,I13/VLOOKUP(K13,'2. BASIS INVULBLAD'!$D$10:$E$87,2,FALSE())) -> 0 | M13: =L13*J13 -> 0 | N13: ='2. BASIS INVULBLAD'!$H$10 -> 0 | O13: =M13*N13 -> 0 | Q13: =M13*P13 -> 0 | R13: ='2. BASIS INVULBLAD'!$H$11 -> 0 | S13: =Q13*R13 -> 0 | T13: =O13+S13 -> 0
A14: =A13+1 -> 5 | B14: Aula Ede, Asakkerweg 8 | F14: kantoor beheerder | G14: Administratieve ruimten | H14: DHGT | I14: 19.61 | J14: 255 | K14: AR-DHGT-255 | L14: =IF(VLOOKUP(K14,'2. BASIS INVULBLAD'!$D$10:$E$87,2,FALSE())=0,0,I14/VLOOKUP(K14,'2. BASIS INVULBLAD'!$D$10:$E$87,2,FALSE())) -> 0 | M14: =L14*J14 -> 0 | N14: ='2. BASIS INVULBLAD'!$H$10 -> 0 | O14: =M14*N14 -> 0 | Q14: =M14*P14 -> 0 | R14: ='2. BASIS INVULBLAD'!$H$11 -> 0 | S14: =Q14*R14 -> 0 | T14: =O14+S14 -> 0
A15: =A14+1 -> 6 | B15: Aula Ede, Asakkerweg 8 | F15: bergruimte/opslag | G15: Opslagruimten | H15: Beton | I15: 11.26 | J15: 52 | K15: L-Beton-52 | L15: =IF(VLOOKUP(K15,'2. BASIS INVULBLAD'!$D$10:$E$87,2,FALSE())=0,0,I15/VLOOKUP(K15,'2. BASIS INVULBLAD'!$D$10:$E$87,2,FALSE())) -> 0 | M15: =L15*J15 -> 0 | N15: ='2. BASIS INVULBLAD'!$H$10 -> 0 | O15: =M15*N15 -> 0 | Q15: =M15*P15 -> 0 | R15: ='2. BASIS INVULBLAD'!$H$11 -> 0 | S15: =Q15*R15 -> 0 | T15: =O15+S15 -> 0
A16: =A15+1 -> 7 | B16: Aula Ede, Asakkerweg 8 | F16: douche | G16: Sanitaire ruimten | H16: DHGT | I16: 4.04 | J16: 255 | K16: S-DHGT-255 | L16: =IF(VLOOKUP(K16,'2. BASIS INVULBLAD'!$D$10:$E$87,2,FALSE())=0,0,I16/VLOOKUP(K16,'2. BASIS INVULBLAD'!$D$10:$E$87,2,FALSE())) -> 0 | M16: =L16*J16 -> 0 | N16: ='2. BASIS INVULBLAD'!$H$10 -> 0 | O16: =M16*N16 -> 0 | Q16: =M16*P16 -> 0 | R16: ='2. BASIS INVULBLAD'!$H$11 -> 0 | S16: =Q16*R16 -> 0 | T16: =O16+S16 -> 0
A17: =A16+1 -> 8 | B17: Aula Ede, Asakkerweg 8 | F17: toilet | G17: Sanitaire ruimten | H17: DHGT | I17: 1.72 | J17: 255 | K17: S-DHGT-255 | L17: =IF(VLOOKUP(K17,'2. BASIS INVULBLAD'!$D$10:$E$87,2,FALSE())=0,0,I17/VLOOKUP(K17,'2. BASIS INVULBLAD'!$D$10:$E$87,2,FALSE())) -> 0 | M17: =L17*J17 -> 0 | N17: ='2. BASIS INVULBLAD'!$H$10 -> 0 | O17: =M17*N17 -> 0 | Q17: =M17*P17 -> 0 | R17: ='2. BASIS INVULBLAD'!$H$11 -> 0 | S17: =Q17*R17 -> 0 | T17: =O17+S17 -> 0
A18: =A17+1 -> 9 | B18: Aula Ede, Asakkerweg 8 | F18: kleedruimte | G18: Sanitaire ruimten | H18: DHGT | I18: 7.44 | J18: 255 | K18: S-DHGT-255 | L18: =IF(VLOOKUP(K18,'2. BASIS INVULBLAD'!$D$10:$E$87,2,FALSE())=0,0,I18/VLOOKUP(K18,'2. BASIS INVULBLAD'!$D$10:$E$87,2,FALSE())) -> 0 | M18: =L18*J18 -> 0 | N18: ='2. BASIS INVULBLAD'!$H$10 -> 0 | O18: =M18*N18 -> 0 | Q18: =M18*P18 -> 0 | R18: ='2. BASIS INVULBLAD'!$H$11 -> 0 | S18: =Q18*R18 -> 0 | T18: =O18+S18 -> 0
A19: =A18+1 -> 10 | B19: Aula Ede, Asakkerweg 8 | F19: kantoor | G19: Administratieve ruimten | H19: DHGT | I19: 12.27 | J19: 255 | K19: AR-DHGT-255 | L19: =IF(VLOOKUP(K19,'2. BASIS INVULBLAD'!$D$10:$E$87,2,FALSE())=0,0,I19/VLOOKUP(K19,'2. BASIS INVULBLAD'!$D$10:$E$87,2,FALSE())) -> 0 | M19: =L19*J19 -> 0 | N19: ='2. BASIS INVULBLAD'!$H$10 -> 0 | O19: =M19*N19 -> 0 | Q19: =M19*P19 -> 0 | R19: ='2. BASIS INVULBLAD'!$H$11 -> 0 | S19: =Q19*R19 -> 0 | T19: =O19+S19 -> 0
A20: =A19+1 -> 11 | B20: Aula Ede, Asakkerweg 8 | F20: entree / hal | G20: Gangen en hallen | H20: DHGT | I20: 84.5 | J20: 255 | K20: GH-DHGT-255 | L20: =IF(VLOOKUP(K20,'2. BASIS INVULBLAD'!$D$10:$E$87,2,FALSE())=0,0,I20/VLOOKUP(K20,'2. BASIS INVULBLAD'!$D$10:$E$87,2,FALSE())) -> 0 | M20: =L20*J20 -> 0 | N20: ='2. BASIS INVULBLAD'!$H$10 -> 0 | O20: =M20*N20 -> 0 | Q20: =M20*P20 -> 0 | R20: ='2. BASIS INVULBLAD'!$H$11 -> 0 | S20: =Q20*R20 -> 0 | T20: =O20+S20 -> 0
A21: =A20+1 -> 12 | B21: Aula Ede, Asakkerweg 8 | F21: voorruimte | G21: Gangen en hallen | H21: DHGT | I21: 2.6 | J21: 255 | K21: GH-DHGT-255 | L21: =IF(VLOOKUP(K21,'2. BASIS INVULBLAD'!$D$10:$E$87,2,FALSE())=0,0,I21/VLOOKUP(K21,'2. BASIS INVULBLAD'!$D$10:$E$87,2,FALSE())) -> 0 | M21: =L21*J21 -> 0 | N21: ='2. BASIS INVULBLAD'!$H$10 -> 0 | O21: =M21*N21 -> 0 | Q21: =M21*P21 -> 0 | R21: ='2. BASIS INVULBLAD'!$H$11 -> 0 | S21: =Q21*R21 -> 0 | T21: =O21+S21 -> 0
... A36: =A35+1 -> 27 | B36: Aula Ede, Asakkerweg 8 | F36: pantry/koffiecorner | G36: Pantry/koffiecorner | H36: DHGT | I36: 1.75 | J36: 255 | K36: P-DHGT-255 | L36: =IF(VLOOKUP(K36,'2. BASIS INVULBLAD'!$D$10:$E$87,2,FALSE())=0,0,I36/VLOOKUP(K36,'2. BASIS INVULBLAD'!$D$10:$E$87,2,FALSE())) -> 0 | M36: =L36*J36 -> 0 | N36: ='2. BASIS INVULBLAD'!$H$10 -> 0 | O36: =M36*N36 -> 0 | Q36: =M36*P36 -> 0 | R36: ='2. BASIS INVULBLAD'!$H$11 -> 0 | S36: =Q36*R36 -> 0 | T36: =O36+S36 -> 0
A38: =A36+1 -> 28 | B38: Aula Ederveen, Oude Heuvel 2 | F38: aularuimte | G38: Administratieve ruimten | H38: Grindtegel | I38: 60.29 | J38: 12 | K38: AR-Grindtegel-12 | L38: =IF(VLOOKUP(K38,'2. BASIS INVULBLAD'!$D$10:$E$87,2,FALSE())=0,0,I38/VLOOKUP(K38,'2. BASIS INVULBLAD'!$D$10:$E$87,2,FALSE())) -> 0 | M38: =L38*J38 -> 0 | N38: ='2. BASIS INVULBLAD'!$H$10 -> 0 | O38: =M38*N38 -> 0 | Q38: =M38*P38 -> 0 | R38: ='2. BASIS INVULBLAD'!$H$11 -> 0 | S38: =Q38*R38 -> 0 | T38: =O38+S38 -> 0
A39: =A38+1 -> 29 | B39: Aula Ederveen, Oude Heuvel 2 | F39: opbaarruimte | G39: Administratieve ruimten | H39: Grindtegel | I39: 16 | J39: 12 | K39: AR-Grindtegel-12 | L39: =IF(VLOOKUP(K39,'2. BASIS INVULBLAD'!$D$10:$E$87,2,FALSE())=0,0,I39/VLOOKUP(K39,'2. BASIS INVULBLAD'!$D$10:$E$87,2,FALSE())) -> 0 | M39: =L39*J39 -> 0 | N39: ='2. BASIS INVULBLAD'!$H$10 -> 0 | O39: =M39*N39 -> 0 | Q39: =M39*P39 -> 0 | R39: ='2. BASIS INVULBLAD'!$H$11 -> 0 | S39: =Q39*R39 -> 0 | T39: =O39+S39 -> 0
A40: =A39+1 -> 30 | B40: Aula Ederveen, Oude Heuvel 2 | F40: kantoor | G40: Administratieve ruimten | H40: Grindtegel | I40: 6.12 | J40: 12 | K40: AR-Grindtegel-12 | L40: =IF(VLOOKUP(K40,'2. BASIS INVULBLAD'!$D$10:$E$87,2,FALSE())=0,0,I40/VLOOKUP(K40,'2. BASIS INVULBLAD'!$D$10:$E$87,2,FALSE())) -> 0 | M40: =L40*J40 -> 0 | N40: ='2. BASIS INVULBLAD'!$H$10 -> 0 | O40: =M40*N40 -> 0 | Q40: =M40*P40 -> 0 | R40: ='2. BASIS INVULBLAD'!$H$11 -> 0 | S40: =Q40*R40 -> 0 | T40: =O40+S40 -> 0
A41: =A40+1 -> 31 | B41: Aula Ederveen, Oude Heuvel 2 | F41: opslagruimte | G41: Opslagruimten | H41: DHGT | I41: 2.37 | J41: 12 | K41: O-DHGT-12 | L41: =IF(VLOOKUP(K41,'2. BASIS INVULBLAD'!$D$10:$E$87,2,FALSE())=0,0,I41/VLOOKUP(K41,'2. BASIS INVULBLAD'!$D$10:$E$87,2,FALSE())) -> 0 | M41: =L41*J41 -> 0 | N41: ='2. BASIS INVULBLAD'!$H$10 -> 0 | O41: =M41*N41 -> 0 | Q41: =M41*P41 -> 0 | R41: ='2. BASIS INVULBLAD'!$H$11 -> 0 | S41: =Q41*R41 -> 0 | T41: =O41+S41 -> 0
A42: =A41+1 -> 32 | B42: Aula Ederveen, Oude Heuvel 2 | F42: herentoilet | G42: Sanitaire ruimten | H42: DHGT | I42: 2.37 | J42: 12 | K42: S-DHGT-12 | L42: =IF(VLOOKUP(K42,'2. BASIS INVULBLAD'!$D$10:$E$87,2,FALSE())=0,0,I42/VLOOKUP(K42,'2. BASIS INVULBLAD'!$D$10:$E$87,2,FALSE())) -> 0 | M42: =L42*J42 -> 0 | N42: ='2. BASIS INVULBLAD'!$H$10 -> 0 | O42: =M42*N42 -> 0 | Q42: =M42*P42 -> 0 | R42: ='2. BASIS INVULBLAD'!$H$11 -> 0 | S42: =Q42*R42 -> 0 | T42: =O42+S42 -> 0
A43: =A42+1 -> 33 | B43: Aula Ederveen, Oude Heuvel 2 | F43: dames-/invalidentoilet | G43: Sanitaire ruimten | H43: DHGT | I43: 5.41 | J43: 12 | K43: S-DHGT-12 | L43: =IF(VLOOKUP(K43,'2. BASIS INVULBLAD'!$D$10:$E$87,2,FALSE())=0,0,I43/VLOOKUP(K43,'2. BASIS INVULBLAD'!$D$10:$E$87,2,FALSE())) -> 0 | M43: =L43*J43 -> 0 | N43: ='2. BASIS INVULBLAD'!$H$10 -> 0 | O43: =M43*N43 -> 0 | Q43: =M43*P43 -> 0 | R43: ='2. BASIS INVULBLAD'!$H$11 -> 0 | S43: =Q43*R43 -> 0 | T43: =O43+S43 -> 0
A44: =A43+1 -> 34 | B44: Aula Ederveen, Oude Heuvel 2 | F44: entree / hal | G44: Gangen en hallen | H44: Grindtegel | I44: 7.13 | J44: 12 | K44: GH-Grindtegel-12 | L44: =IF(VLOOKUP(K44,'2. BASIS INVULBLAD'!$D$10:$E$87,2,FALSE())=0,0,I44/VLOOKUP(K44,'2. BASIS INVULBLAD'!$D$10:$E$87,2,FALSE())) -> 0 | M44: =L44*J44 -> 0 | N44: ='2. BASIS INVULBLAD'!$H$10 -> 0 | O44: =M44*N44 -> 0 | Q44: =M44*P44 -> 0 | R44: ='2. BASIS INVULBLAD'!$H$11 -> 0 | S44: =Q44*R44 -> 0 | T44: =O44+S44 -> 0
A46: =A44+1 -> 35 | B46: Aula Lunteren, Kerkhoflaan 40 | F46: keuken | G46: Pantry/koffiecorner | H46: DHGT | I46: 8.44 | J46: 52 | K46: P-DHGT-52 | L46: =IF(VLOOKUP(K46,'2. BASIS INVULBLAD'!$D$10:$E$87,2,FALSE())=0,0,I46/VLOOKUP(K46,'2. BASIS INVULBLAD'!$D$10:$E$87,2,FALSE())) -> 0 | M46: =L46*J46 -> 0 | N46: ='2. BASIS INVULBLAD'!$H$10 -> 0 | O46: =M46*N46 -> 0 | Q46: =M46*P46 -> 0 | R46: ='2. BASIS INVULBLAD'!$H$11 -> 0 | S46: =Q46*R46 -> 0 | T46: =O46+S46 -> 0
A47: =A46+1 -> 36 | B47: Aula Lunteren, Kerkhoflaan 40 | F47: opslagruimte | G47: Opslagruimten | H47: DHGT | I47: 7.61 | J47: 52 | K47: O-DHGT-52 | L47: =IF(VLOOKUP(K47,'2. BASIS INVULBLAD'!$D$10:$E$87,2,FALSE())=0,0,I47/VLOOKUP(K47,'2. BASIS INVULBLAD'!$D$10:$E$87,2,FALSE())) -> 0 | M47: =L47*J47 -> 0 | N47: ='2. BASIS INVULBLAD'!$H$10 -> 0 | O47: =M47*N47 -> 0 | Q47: =M47*P47 -> 0 | R47: ='2. BASIS INVULBLAD'!$H$11 -> 0 | S47: =Q47*R47 -> 0 | T47: =O47+S47 -> 0
A48: =A47+1 -> 37 | B48: Aula Lunteren, Kerkhoflaan 40 | F48: aula | G48: Gangen en hallen | H48: DHGT | I48: 90.21 | J48: 52 | K48: GH-DHGT-52 | L48: =IF(VLOOKUP(K48,'2. BASIS INVULBLAD'!$D$10:$E$87,2,FALSE())=0,0,I48/VLOOKUP(K48,'2. BASIS INVULBLAD'!$D$10:$E$87,2,FALSE())) -> 0 | M48: =L48*J48 -> 0 | N48: ='2. BASIS INVULBLAD'!$H$10 -> 0 | O48: =M48*N48 -> 0 | Q48: =M48*P48 -> 0 | R48: ='2. BASIS INVULBLAD'!$H$11 -> 0 | S48: =Q48*R48 -> 0 | T48: =O48+S48 -> 0
A49: =A48+1 -> 38 | B49: Aula Lunteren, Kerkhoflaan 40 | F49: entree | G49: Gangen en hallen | H49: DHGT | I49: 2.48 | J49: 52 | K49: GH-DHGT-52 | L49: =IF(VLOOKUP(K49,'2. BASIS INVULBLAD'!$D$10:$E$87,2,FALSE())=0,0,I49/VLOOKUP(K49,'2. BASIS INVULBLAD'!$D$10:$E$87,2,FALSE())) -> 0 | M49: =L49*J49 -> 0 | N49: ='2. BASIS INVULBLAD'!$H$10 -> 0 | O49: =M49*N49 -> 0 | Q49: =M49*P49 -> 0 | R49: ='2. BASIS INVULBLAD'!$H$11 -> 0 | S49: =Q49*R49 -> 0 | T49: =O49+S49 -> 0
A50: =A49+1 -> 39 | B50: Aula Lunteren, Kerkhoflaan 40 | F50: hoofdentree en centrale hal | G50: Gangen en hallen | H50: DHGT | I50: 17.61 | J50: 52 | K50: GH-DHGT-52 | L50: =IF(VLOOKUP(K50,'2. BASIS INVULBLAD'!$D$10:$E$87,2,FALSE())=0,0,I50/VLOOKUP(K50,'2. BASIS INVULBLAD'!$D$10:$E$87,2,FALSE())) -> 0 | M50: =L50*J50 -> 0 | N50: ='2. BASIS INVULBLAD'!$H$10 -> 0 | O50: =M50*N50 -> 0 | Q50: =M50*P50 -> 0 | R50: ='2. BASIS INVULBLAD'!$H$11 -> 0 | S50: =Q50*R50 -> 0 | T50: =O50+S50 -> 0
A51: =A50+1 -> 40 | B51: Aula Lunteren, Kerkhoflaan 40 | F51: kantoor | G51: Administratieve ruimten | H51: DHGT | I51: 7.55 | J51: 52 | K51: AR-DHGT-52 | L51: =IF(VLOOKUP(K51,'2. BASIS INVULBLAD'!$D$10:$E$87,2,FALSE())=0,0,I51/VLOOKUP(K51,'2. BASIS INVULBLAD'!$D$10:$E$87,2,FALSE())) -> 0 | M51: =L51*J51 -> 0 | N51: ='2. BASIS INVULBLAD'!$H$10 -> 0 | O51: =M51*N51 -> 0 | Q51: =M51*P51 -> 0 | R51: ='2. BASIS INVULBLAD'!$H$11 -> 0 | S51: =Q51*R51 -> 0 | T51: =O51+S51 -> 0
A52: =A51+1 -> 41 | B52: Aula Lunteren, Kerkhoflaan 40 | F52: herentoilet | G52: Sanitaire ruimten | H52: DHGT | I52: 1.8 | J52: 52 | K52: S-DHGT-52 | L52: =IF(VLOOKUP(K52,'2. BASIS INVULBLAD'!$D$10:$E$87,2,FALSE())=0,0,I52/VLOOKUP(K52,'2. BASIS INVULBLAD'!$D$10:$E$87,2,FALSE())) -> 0 | M52: =L52*J52 -> 0 | N52: ='2. BASIS INVULBLAD'!$H$10 -> 0 | O52: =M52*N52 -> 0 | Q52: =M52*P52 -> 0 | R52: ='2. BASIS INVULBLAD'!$H$11 -> 0 | S52: =Q52*R52 -> 0 | T52: =O52+S52 -> 0
A53: =A52+1 -> 42 | B53: Aula Lunteren, Kerkhoflaan 40 | F53: douche | G53: Sanitaire ruimten | H53: DHGT | I53: 1.85 | J53: 52 | K53: S-DHGT-52 | L53: =IF(VLOOKUP(K53,'2. BASIS INVULBLAD'!$D$10:$E$87,2,FALSE())=0,0,I53/VLOOKUP(K53,'2. BASIS INVULBLAD'!$D$10:$E$87,2,FALSE())) -> 0 | M53: =L53*J53 -> 0 | N53: ='2. BASIS INVULBLAD'!$H$10 -> 0 | O53: =M53*N53 -> 0 | Q53: =M53*P53 -> 0 | R53: ='2. BASIS INVULBLAD'!$H$11 -> 0 | S53: =Q53*R53 -> 0 | T53: =O53+S53 -> 0
A54: =A53+1 -> 43 | B54: Aula Lunteren, Kerkhoflaan 40 | F54: damestoilet | G54: Sanitaire ruimten | H54: DHGT | I54: 1.98 | J54: 52 | K54: S-DHGT-52 | L54: =IF(VLOOKUP(K54,'2. BASIS INVULBLAD'!$D$10:$E$87,2,FALSE())=0,0,I54/VLOOKUP(K54,'2. BASIS INVULBLAD'!$D$10:$E$87,2,FALSE())) -> 0 | M54: =L54*J54 -> 0 | N54: ='2. BASIS INVULBLAD'!$H$10 -> 0 | O54: =M54*N54 -> 0 | Q54: =M54*P54 -> 0 | R54: ='2. BASIS INVULBLAD'!$H$11 -> 0 | S54: =Q54*R54 -> 0 | T54: =O54+S54 -> 0
A55: =A54+1 -> 44 | B55: Aula Lunteren, Kerkhoflaan 40 | F55: invalidentoilet | G55: Sanitaire ruimten | H55: DHGT | I55: 3.77 | J55: 52 | K55: S-DHGT-52 | L55: =IF(VLOOKUP(K55,'2. BASIS INVULBLAD'!$D$10:$E$87,2,FALSE())=0,0,I55/VLOOKUP(K55,'2. BASIS INVULBLAD'!$D$10:$E$87,2,FALSE())) -> 0 | M55: =L55*J55 -> 0 | N55: ='2. BASIS INVULBLAD'!$H$10 -> 0 | O55: =M55*N55 -> 0 | Q55: =M55*P55 -> 0 | R55: ='2. BASIS INVULBLAD'!$H$11 -> 0 | S55: =Q55*R55 -> 0 | T55: =O55+S55 -> 0
A57: =A55+1 -> 45 | B57: Aula Otterlo, Pothovenlaan 44 | F57: aularuimte | G57: Administratieve ruimten | H57: Grindtegel | I57: 60.29 | J57: 12 | K57: AR-Grindtegel-12 | L57: =IF(VLOOKUP(K57,'2. BASIS INVULBLAD'!$D$10:$E$87,2,FALSE())=0,0,I57/VLOOKUP(K57,'2. BASIS INVULBLAD'!$D$10:$E$87,2,FALSE())) -> 0 | M57: =L57*J57 -> 0 | N57: ='2. BASIS INVULBLAD'!$H$10 -> 0 | O57: =M57*N57 -> 0 | Q57: =M57*P57 -> 0 | R57: ='2. BASIS INVULBLAD'!$H$11 -> 0 | S57: =Q57*R57 -> 0 | T57: =O57+S57 -> 0
A58: =A57+1 -> 46 | B58: Aula Otterlo, Pothovenlaan 44 | F58: opbaarruimte | G58: Administratieve ruimten | H58: Grindtegel | I58: 16 | J58: 12 | K58: AR-Grindtegel-12 | L58: =IF(VLOOKUP(K58,'2. BASIS INVULBLAD'!$D$10:$E$87,2,FALSE())=0,0,I58/VLOOKUP(K58,'2. BASIS INVULBLAD'!$D$10:$E$87,2,FALSE())) -> 0 | M58: =L58*J58 -> 0 | N58: ='2. BASIS INVULBLAD'!$H$10 -> 0 | O58: =M58*N58 -> 0 | Q58: =M58*P58 -> 0 | R58: ='2. BASIS INVULBLAD'!$H$11 -> 0 | S58: =Q58*R58 -> 0 | T58: =O58+S58 -> 0
A59: =A58+1 -> 47 | B59: Aula Otterlo, Pothovenlaan 44 | F59: kantoor | G59: Administratieve ruimten | H59: Grindtegel | I59: 6.12 | J59: 12 | K59: AR-Grindtegel-12 | L59: =IF(VLOOKUP(K59,'2. BASIS INVULBLAD'!$D$10:$E$87,2,FALSE())=0,0,I59/VLOOKUP(K59,'2. BASIS INVULBLAD'!$D$10:$E$87,2,FALSE())) -> 0 | M59: =L59*J59 -> 0 | N59: ='2. BASIS INVULBLAD'!$H$10 -> 0 | O59: =M59*N59 -> 0 | Q59: =M59*P59 -> 0 | R59: ='2. BASIS INVULBLAD'!$H$11 -> 0 | S59: =Q59*R59 -> 0 | T59: =O59+S59 -> 0
A60: =A59+1 -> 48 | B60: Aula Otterlo, Pothovenlaan 44 | F60: opslagruimte | G60: Opslagruimten | H60: DHGT | I60: 2.37 | J60: 12 | K60: O-DHGT-12 | L60: =IF(VLOOKUP(K60,'2. BASIS INVULBLAD'!$D$10:$E$87,2,FALSE())=0,0,I60/VLOOKUP(K60,'2. BASIS INVULBLAD'!$D$10:$E$87,2,FALSE())) -> 0 | M60: =L60*J60 -> 0 | N60: ='2. BASIS INVULBLAD'!$H$10 -> 0 | O60: =M60*N60 -> 0 | Q60: =M60*P60 -> 0 | R60: ='2. BASIS INVULBLAD'!$H$11 -> 0 | S60: =Q60*R60 -> 0 | T60: =O60+S60 -> 0
A61: =A60+1 -> 49 | B61: Aula Otterlo, Pothovenlaan 44 | F61: herentoilet | G61: Sanitaire ruimten | H61: DHGT | I61: 2.37 | J61: 12 | K61: S-DHGT-12 | L61: =IF(VLOOKUP(K61,'2. BASIS INVULBLAD'!$D$10:$E$87,2,FALSE())=0,0,I61/VLOOKUP(K61,'2. BASIS INVULBLAD'!$D$10:$E$87,2,FALSE())) -> 0 | M61: =L61*J61 -> 0 | N61: ='2. BASIS INVULBLAD'!$H$10 -> 0 | O61: =M61*N61 -> 0 | Q61: =M61*P61 -> 0 | R61: ='2. BASIS INVULBLAD'!$H$11 -> 0 | S61: =Q61*R61 -> 0 | T61: =O61+S61 -> 0
A62: =A61+1 -> 50 | B62: Aula Otterlo, Pothovenlaan 44 | F62: dames-/invalidentoilet | G62: Sanitaire ruimten | H62: DHGT | I62: 5.41 | J62: 12 | K62: S-DHGT-12 | L62: =IF(VLOOKUP(K62,'2. BASIS INVULBLAD'!$D$10:$E$87,2,FALSE())=0,0,I62/VLOOKUP(K62,'2. BASIS INVULBLAD'!$D$10:$E$87,2,FALSE())) -> 0 | M62: =L62*J62 -> 0 | N62: ='2. BASIS INVULBLAD'!$H$10 -> 0 | O62: =M62*N62 -> 0 | Q62: =M62*P62 -> 0 | R62: ='2. BASIS INVULBLAD'!$H$11 -> 0 | S62: =Q62*R62 -> 0 | T62: =O62+S62 -> 0
A63: =A62+1 -> 51 | B63: Aula Otterlo, Pothovenlaan 44 | F63: entree / hal | G63: Gangen en hallen | H63: Grindtegel | I63: 7.13 | J63: 12 | K63: GH-Grindtegel-12 | L63: =IF(VLOOKUP(K63,'2. BASIS INVULBLAD'!$D$10:$E$87,2,FALSE())=0,0,I63/VLOOKUP(K63,'2. BASIS INVULBLAD'!$D$10:$E$87,2,FALSE())) -> 0 | M63: =L63*J63 -> 0 | N63: ='2. BASIS INVULBLAD'!$H$10 -> 0 | O63: =M63*N63 -> 0 | Q63: =M63*P63 -> 0 | R63: ='2. BASIS INVULBLAD'!$H$11 -> 0 | S63: =Q63*R63 -> 0 | T63: =O63+S63 -> 0
A65: =A63+1 -> 52 | B65: Doelen I, Raadhuisplein 2 | C65: B | D65: 2 | E65: B2VT3 | F65: trappenhuis | G65: Trappenhuizen | H65: Beton | I65: 12.1 | J65: 255 | K65: T-Beton-255 | L65: =IF(VLOOKUP(K65,'2. BASIS INVULBLAD'!$D$10:$E$87,2,FALSE())=0,0,I65/VLOOKUP(K65,'2. BASIS INVULBLAD'!$D$10:$E$87,2,FALSE())) -> 0 | M65: =L65*J65 -> 0 | N65: ='2. BASIS INVULBLAD'!$H$10 -> 0 | O65: =M65*N65 -> 0 | Q65: =M65*P65 -> 0 | R65: ='2. BASIS INVULBLAD'!$H$11 -> 0 | S65: =Q65*R65 -> 0 | T65: =O65+S65 -> 0
A66: =A65+1 -> 53 | B66: Doelen I, Raadhuisplein 2 | C66: B | D66: BG | E66: B0VT1 | F66: Trappenhuis | G66: Trappenhuizen | H66: Beton | I66: 12.1 | J66: 255 | K66: T-Beton-255 | L66: =IF(VLOOKUP(K66,'2. BASIS INVULBLAD'!$D$10:$E$87,2,FALSE())=0,0,I66/VLOOKUP(K66,'2. BASIS INVULBLAD'!$D$10:$E$87,2,FALSE())) -> 0 | M66: =L66*J66 -> 0 | N66: ='2. BASIS INVULBLAD'!$H$10 -> 0 | O66: =M66*N66 -> 0 | Q66: =M66*P66 -> 0 | R66: ='2. BASIS INVULBLAD'!$H$11 -> 0 | S66: =Q66*R66 -> 0 | T66: =O66+S66 -> 0
A67: =A66+1 -> 54 | B67: Doelen I, Raadhuisplein 2 | C67: B | D67: 1 | E67: B1VT2 | F67: Trappenhal | G67: Gangen en hallen | H67: Beton | I67: 12.1 | J67: 255 | K67: GH-Beton-255 | L67: =IF(VLOOKUP(K67,'2. BASIS INVULBLAD'!$D$10:$E$87,2,FALSE())=0,0,I67/VLOOKUP(K67,'2. BASIS INVULBLAD'!$D$10:$E$87,2,FALSE())) -> 0 | M67: =L67*J67 -> 0 | N67: ='2. BASIS INVULBLAD'!$H$10 -> 0 | O67: =M67*N67 -> 0 | Q67: =M67*P67 -> 0 | R67: ='2. BASIS INVULBLAD'!$H$11 -> 0 | S67: =Q67*R67 -> 0 | T67: =O67+S67 -> 0
A68: =A67+1 -> 55 | B68: Doelen I, Raadhuisplein 2 | C68: B | D68: 2 | E68: B2ST3 | F68: Sanitair | G68: Sanitaire ruimten | H68: DHGT | I68: 6.87 | J68: 255 | K68: S-DHGT-255 | L68: =IF(VLOOKUP(K68,'2. BASIS INVULBLAD'!$D$10:$E$87,2,FALSE())=0,0,I68/VLOOKUP(K68,'2. BASIS INVULBLAD'!$D$10:$E$87,2,FALSE())) -> 0 | M68: =L68*J68 -> 0 | N68: ='2. BASIS INVULBLAD'!$H$10 -> 0 | O68: =M68*N68 -> 0 | Q68: =M68*P68 -> 0 | R68: ='2. BASIS INVULBLAD'!$H$11 -> 0 | S68: =Q68*R68 -> 0 | T68: =O68+S68 -> 0
A69: =A68+1 -> 56 | B69: Doelen I, Raadhuisplein 2 | C69: B | D69: 2 | E69: B2SV2 | F69: voorruimte | G69: Sanitaire ruimten | H69: DHGT | I69: 6.09 | J69: 255 | K69: S-DHGT-255 | L69: =IF(VLOOKUP(K69,'2. BASIS INVULBLAD'!$D$10:$E$87,2,FALSE())=0,0,I69/VLOOKUP(K69,'2. BASIS INVULBLAD'!$D$10:$E$87,2,FALSE())) -> 0 | M69: =L69*J69 -> 0 | N69: ='2. BASIS INVULBLAD'!$H$10 -> 0 | O69: =M69*N69 -> 0 | Q69: =M69*P69 -> 0 | R69: ='2. BASIS INVULBLAD'!$H$11 -> 0 | S69: =Q69*R69 -> 0 | T69: =O69+S69 -> 0
A70: =A69+1 -> 57 | B70: Doelen I, Raadhuisplein 2 | C70: B | D70: 2 | E70: B2ST4 | F70: Sanitair | G70: Sanitaire ruimten | H70: DHGT | I70: 0.95 | J70: 255 | K70: S-DHGT-255 | L70: =IF(VLOOKUP(K70,'2. BASIS INVULBLAD'!$D$10:$E$87,2,FALSE())=0,0,I70/VLOOKUP(K70,'2. BASIS INVULBLAD'!$D$10:$E$87,2,FALSE())) -> 0 | M70: =L70*J70 -> 0 | N70: ='2. BASIS INVULBLAD'!$H$10 -> 0 | O70: =M70*N70 -> 0 | Q70: =M70*P70 -> 0 | R70: ='2. BASIS INVULBLAD'!$H$11 -> 0 | S70: =Q70*R70 -> 0 | T70: =O70+S70 -> 0
A71: =A70+1 -> 58 | B71: Doelen I, Raadhuisplein 2 | C71: B | D71: 2 | E71: B2ST5 | F71: Sanitair | G71: Sanitaire ruimten | H71: DHGT | I71: 0.95 | J71: 255 | K71: S-DHGT-255 | L71: =IF(VLOOKUP(K71,'2. BASIS INVULBLAD'!$D$10:$E$87,2,FALSE())=0,0,I71/VLOOKUP(K71,'2. BASIS INVULBLAD'!$D$10:$E$87,2,FALSE())) -> 0 | M71: =L71*J71 -> 0 | N71: ='2. BASIS INVULBLAD'!$H$10 -> 0 | O71: =M71*N71 -> 0 | Q71: =M71*P71 -> 0 | R71: ='2. BASIS INVULBLAD'!$H$11 -> 0 | S71: =Q71*R71 -> 0 | T71: =O71+S71 -> 0
A72: =A71+1 -> 59 | B72: Doelen I, Raadhuisplein 2 | C72: B | D72: 2 | E72: B2ST6 | F72: Sanitair | G72: Sanitaire ruimten | H72: DHGT | I72: 0.95 | J72: 255 | K72: S-DHGT-255 | L72: =IF(VLOOKUP(K72,'2. BASIS INVULBLAD'!$D$10:$E$87,2,FALSE())=0,0,I72/VLOOKUP(K72,'2. BASIS INVULBLAD'!$D$10:$E$87,2,FALSE())) -> 0 | M72: =L72*J72 -> 0 | N72: ='2. BASIS INVULBLAD'!$H$10 -> 0 | O72: =M72*N72 -> 0 | Q72: =M72*P72 -> 0 | R72: ='2. BASIS INVULBLAD'!$H$11 -> 0 | S72: =Q72*R72 -> 0 | T72: =O72+S72 -> 0
A73: =A72+1 -> 60 | B73: Doelen I, Raadhuisplein 2 | C73: B | D73: 2 | E73: B2.SV1 | F73: Voorruimte | G73: Sanitaire ruimten | H73: DHGT | I73: 4.36 | J73: 255 | K73: S-DHGT-255 | L73: =IF(VLOOKUP(K73,'2. BASIS INVULBLAD'!$D$10:$E$87,2,FALSE())=0,0,I73/VLOOKUP(K73,'2. BASIS INVULBLAD'!$D$10:$E$87,2,FALSE())) -> 0 | M73: =L73*J73 -> 0 | N73: ='2. BASIS INVULBLAD'!$H$10 -> 0 | O73: =M73*N73 -> 0 | Q73: =M73*P73 -> 0 | R73: ='2. BASIS INVULBLAD'!$H$11 -> 0 | S73: =Q73*R73 -> 0 | T73: =O73+S73 -> 0
A74: =A73+1 -> 61 | B74: Doelen I, Raadhuisplein 2 | C74: B | D74: 2 | E74: B2ST2 | F74: Sanitair | G74: Sanitaire ruimten | H74: DHGT | I74: 0.95 | J74: 255 | K74: S-DHGT-255 | L74: =IF(VLOOKUP(K74,'2. BASIS INVULBLAD'!$D$10:$E$87,2,FALSE())=0,0,I74/VLOOKUP(K74,'2. BASIS INVULBLAD'!$D$10:$E$87,2,FALSE())) -> 0 | M74: =L74*J74 -> 0 | N74: ='2. BASIS INVULBLAD'!$H$10 -> 0 | O74: =M74*N74 -> 0 | Q74: =M74*P74 -> 0 | R74: ='2. BASIS INVULBLAD'!$H$11 -> 0 | S74: =Q74*R74 -> 0 | T74: =O74+S74 -> 0
A75: =A74+1 -> 62 | B75: Doelen I, Raadhuisplein 2 | C75: B | D75: 2 | E75: B2ST1 | F75: Sanitair | G75: Sanitaire ruimten | H75: DHGT | I75: 0.95 | J75: 255 | K75: S-DHGT-255 | L75: =IF(VLOOKUP(K75,'2. BASIS INVULBLAD'!$D$10:$E$87,2,FALSE())=0,0,I75/VLOOKUP(K75,'2. BASIS INVULBLAD'!$D$10:$E$87,2,FALSE())) -> 0 | M75: =L75*J75 -> 0 | N75: ='2. BASIS INVULBLAD'!$H$10 -> 0 | O75: =M75*N75 -> 0 | Q75: =M75*P75 -> 0 | R75: ='2. BASIS INVULBLAD'!$H$11 -> 0 | S75: =Q75*R75 -> 0 | T75: =O75+S75 -> 0
A76: =A75+1 -> 63 | B76: Doelen I, Raadhuisplein 2 | C76: B | D76: 1 | E76: B1ST3 | F76: Sanitair | G76: Sanitaire ruimten | H76: DHGT | I76: 6.87 | J76: 255 | K76: S-DHGT-255 | L76: =IF(VLOOKUP(K76,'2. BASIS INVULBLAD'!$D$10:$E$87,2,FALSE())=0,0,I76/VLOOKUP(K76,'2. BASIS INVULBLAD'!$D$10:$E$87,2,FALSE())) -> 0 | M76: =L76*J76 -> 0 | N76: ='2. BASIS INVULBLAD'!$H$10 -> 0 | O76: =M76*N76 -> 0 | Q76: =M76*P76 -> 0 | R76: ='2. BASIS INVULBLAD'!$H$11 -> 0 | S76: =Q76*R76 -> 0 | T76: =O76+S76 -> 0
A77: =A76+1 -> 64 | B77: Doelen I, Raadhuisplein 2 | C77: B | D77: 1 | E77: B1SV2 | F77: Voorruimte | G77: Sanitaire ruimten | H77: DHGT | I77: 6.09 | J77: 255 | K77: S-DHGT-255 | L77: =IF(VLOOKUP(K77,'2. BASIS INVULBLAD'!$D$10:$E$87,2,FALSE())=0,0,I77/VLOOKUP(K77,'2. BASIS INVULBLAD'!$D$10:$E$87,2,FALSE())) -> 0 | M77: =L77*J77 -> 0 | N77: ='2. BASIS INVULBLAD'!$H$10 -> 0 | O77: =M77*N77 -> 0 | Q77: =M77*P77 -> 0 | R77: ='2. BASIS INVULBLAD'!$H$11 -> 0 | S77: =Q77*R77 -> 0 | T77: =O77+S77 -> 0
A78: =A77+1 -> 65 | B78: Doelen I, Raadhuisplein 2 | C78: B | D78: 1 | E78: B1ST3 | F78: Toilet | G78: Sanitaire ruimten | H78: DHGT | I78: 6.87 | J78: 255 | K78: S-DHGT-255 | L78: =IF(VLOOKUP(K78,'2. BASIS INVULBLAD'!$D$10:$E$87,2,FALSE())=0,0,I78/VLOOKUP(K78,'2. BASIS INVULBLAD'!$D$10:$E$87,2,FALSE())) -> 0 | M78: =L78*J78 -> 0 | N78: ='2. BASIS INVULBLAD'!$H$10 -> 0 | O78: =M78*N78 -> 0 | Q78: =M78*P78 -> 0 | R78: ='2. BASIS INVULBLAD'!$H$11 -> 0 | S78: =Q78*R78 -> 0 | T78: =O78+S78 -> 0
... A81: =A80+1 -> 68 | B81: Doelen I, Raadhuisplein 2 | C81: B | D81: 1 | E81: B1ST6 | F81: Toilet | G81: Sanitaire ruimten | H81: DHGT | I81: 0.95 | J81: 255 | K81: S-DHGT-255 | L81: =IF(VLOOKUP(K81,'2. BASIS INVULBLAD'!$D$10:$E$87,2,FALSE())=0,0,I81/VLOOKUP(K81,'2. BASIS INVULBLAD'!$D$10:$E$87,2,FALSE())) -> 0 | M81: =L81*J81 -> 0 | N81: ='2. BASIS INVULBLAD'!$H$10 -> 0 | O81: =M81*N81 -> 0 | Q81: =M81*P81 -> 0 | R81: ='2. BASIS INVULBLAD'!$H$11 -> 0 | S81: =Q81*R81 -> 0 | T81: =O81+S81 -> 0
A82: =A81+1 -> 69 | B82: Doelen I, Raadhuisplein 2 | C82: B | D82: 1 | E82: B1WK1 | F82: Werkkast | G82: Niet van toepassing | H82: DHGT | I82: 2.54 | J82: 0
A83: =A82+1 -> 70 | B83: Doelen I, Raadhuisplein 2 | C83: B | D83: 1 | E83: B1SV1 | F83: Voorruimte | G83: Sanitaire ruimten | H83: DHGT | I83: 4.36 | J83: 255 | K83: S-DHGT-255 | L83: =IF(VLOOKUP(K83,'2. BASIS INVULBLAD'!$D$10:$E$87,2,FALSE())=0,0,I83/VLOOKUP(K83,'2. BASIS INVULBLAD'!$D$10:$E$87,2,FALSE())) -> 0 | M83: =L83*J83 -> 0 | N83: ='2. BASIS INVULBLAD'!$H$10 -> 0 | O83: =M83*N83 -> 0 | Q83: =M83*P83 -> 0 | R83: ='2. BASIS INVULBLAD'!$H$11 -> 0 | S83: =Q83*R83 -> 0 | T83: =O83+S83 -> 0
A84: =A83+1 -> 71 | B84: Doelen I, Raadhuisplein 2 | C84: B | D84: 1 | E84: B1ST1 | F84: Sanitair | G84: Sanitaire ruimten | H84: DHGT | I84: 0.95 | J84: 255 | K84: S-DHGT-255 | L84: =IF(VLOOKUP(K84,'2. BASIS INVULBLAD'!$D$10:$E$87,2,FALSE())=0,0,I84/VLOOKUP(K84,'2. BASIS INVULBLAD'!$D$10:$E$87,2,FALSE())) -> 0 | M84: =L84*J84 -> 0 | N84: ='2. BASIS INVULBLAD'!$H$10 -> 0 | O84: =M84*N84 -> 0 | Q84: =M84*P84 -> 0 | R84: ='2. BASIS INVULBLAD'!$H$11 -> 0 | S84: =Q84*R84 -> 0 | T84: =O84+S84 -> 0
A85: =A84+1 -> 72 | B85: Doelen I, Raadhuisplein 2 | C85: B | D85: 1 | E85: B1ST2 | F85: Sanitair | G85: Sanitaire ruimten | H85: DHGT | I85: 0.95 | J85: 255 | K85: S-DHGT-255 | L85: =IF(VLOOKUP(K85,'2. BASIS INVULBLAD'!$D$10:$E$87,2,FALSE())=0,0,I85/VLOOKUP(K85,'2. BASIS INVULBLAD'!$D$10:$E$87,2,FALSE())) -> 0 | M85: =L85*J85 -> 0 | N85: ='2. BASIS INVULBLAD'!$H$10 -> 0 | O85: =M85*N85 -> 0 | Q85: =M85*P85 -> 0 | R85: ='2. BASIS INVULBLAD'!$H$11 -> 0 | S85: =Q85*R85 -> 0 | T85: =O85+S85 -> 0
A86: =A85+1 -> 73 | B86: Doelen I, Raadhuisplein 2 | C86: B | D86: BG | E86: B0ST5 | F86: Mindervalide Toilet | G86: Sanitaire ruimten | H86: DHGT | I86: 7.56 | J86: 255 | K86: S-DHGT-255 | L86: =IF(VLOOKUP(K86,'2. BASIS INVULBLAD'!$D$10:$E$87,2,FALSE())=0,0,I86/VLOOKUP(K86,'2. BASIS INVULBLAD'!$D$10:$E$87,2,FALSE())) -> 0 | M86: =L86*J86 -> 0 | N86: ='2. BASIS INVULBLAD'!$H$10 -> 0 | O86: =M86*N86 -> 0 | Q86: =M86*P86 -> 0 | R86: ='2. BASIS INVULBLAD'!$H$11 -> 0 | S86: =Q86*R86 -> 0 | T86: =O86+S86 -> 0
A87: =A86+1 -> 74 | B87: Doelen I, Raadhuisplein 2 | C87: B | D87: BG | E87: B0SV3 | F87: Voorruimte | G87: Sanitaire ruimten | H87: DHGT | I87: 4.89 | J87: 255 | K87: S-DHGT-255 | L87: =IF(VLOOKUP(K87,'2. BASIS INVULBLAD'!$D$10:$E$87,2,FALSE())=0,0,I87/VLOOKUP(K87,'2. BASIS INVULBLAD'!$D$10:$E$87,2,FALSE())) -> 0 | M87: =L87*J87 -> 0 | N87: ='2. BASIS INVULBLAD'!$H$10 -> 0 | O87: =M87*N87 -> 0 | Q87: =M87*P87 -> 0 | R87: ='2. BASIS INVULBLAD'!$H$11 -> 0 | S87: =Q87*R87 -> 0 | T87: =O87+S87 -> 0
A88: =A87+1 -> 75 | B88: Doelen I, Raadhuisplein 2 | C88: B | D88: BG | E88: B0ST6 | F88: Sanitair | G88: Sanitaire ruimten | H88: DHGT | I88: 1.34 | J88: 255 | K88: S-DHGT-255 | L88: =IF(VLOOKUP(K88,'2. BASIS INVULBLAD'!$D$10:$E$87,2,FALSE())=0,0,I88/VLOOKUP(K88,'2. BASIS INVULBLAD'!$D$10:$E$87,2,FALSE())) -> 0 | M88: =L88*J88 -> 0 | N88: ='2. BASIS INVULBLAD'!$H$10 -> 0 | O88: =M88*N88 -> 0 | Q88: =M88*P88 -> 0 | R88: ='2. BASIS INVULBLAD'!$H$11 -> 0 | S88: =Q88*R88 -> 0 | T88: =O88+S88 -> 0
A89: =A88+1 -> 76 | B89: Doelen I, Raadhuisplein 2 | C89: B | D89: BG | E89: B0ST7 | F89: Sanitair | G89: Sanitaire ruimten | H89: DHGT | I89: 1.34 | J89: 255 | K89: S-DHGT-255 | L89: =IF(VLOOKUP(K89,'2. BASIS INVULBLAD'!$D$10:$E$87,2,FALSE())=0,0,I89/VLOOKUP(K89,'2. BASIS INVULBLAD'!$D$10:$E$87,2,FALSE())) -> 0 | M89: =L89*J89 -> 0 | N89: ='2. BASIS INVULBLAD'!$H$10 -> 0 | O89: =M89*N89 -> 0 | Q89: =M89*P89 -> 0 | R89: ='2. BASIS INVULBLAD'!$H$11 -> 0 | S89: =Q89*R89 -> 0 | T89: =O89+S89 -> 0
A90: =A89+1 -> 77 | B90: Doelen I, Raadhuisplein 2 | C90: B | D90: BG | E90: B0ST8 | F90: Sanitair | G90: Sanitaire ruimten | H90: DHGT | I90: 1.1 | J90: 255 | K90: S-DHGT-255 | L90: =IF(VLOOKUP(K90,'2. BASIS INVULBLAD'!$D$10:$E$87,2,FALSE())=0,0,I90/VLOOKUP(K90,'2. BASIS INVULBLAD'!$D$10:$E$87,2,FALSE())) -> 0 | M90: =L90*J90 -> 0 | N90: ='2. BASIS INVULBLAD'!$H$10 -> 0 | O90: =M90*N90 -> 0 | Q90: =M90*P90 -> 0 | R90: ='2. BASIS INVULBLAD'!$H$11 -> 0 | S90: =Q90*R90 -> 0 | T90: =O90+S90 -> 0
A91: =A90+1 -> 78 | B91: Doelen I, Raadhuisplein 2 | C91: B | D91: BG | E91: B0ST9 | F91: Sanitair | G91: Sanitaire ruimten | H91: DHGT | I91: 1.1 | J91: 255 | K91: S-DHGT-255 | L91: =IF(VLOOKUP(K91,'2. BASIS INVULBLAD'!$D$10:$E$87,2,FALSE())=0,0,I91/VLOOKUP(K91,'2. BASIS INVULBLAD'!$D$10:$E$87,2,FALSE())) -> 0 | M91: =L91*J91 -> 0 | N91: ='2. BASIS INVULBLAD'!$H$10 -> 0 | O91: =M91*N91 -> 0 | Q91: =M91*P91 -> 0 | R91: ='2. BASIS INVULBLAD'!$H$11 -> 0 | S91: =Q91*R91 -> 0 | T91: =O91+S91 -> 0
A92: =A91+1 -> 79 | B92: Doelen I, Raadhuisplein 2 | C92: B | D92: BG | E92: B0SV2 | F92: Voorruimte | G92: Sanitaire ruimten | H92: DHGT | I92: 3.97 | J92: 255 | K92: S-DHGT-255 | L92: =IF(VLOOKUP(K92,'2. BASIS INVULBLAD'!$D$10:$E$87,2,FALSE())=0,0,I92/VLOOKUP(K92,'2. BASIS INVULBLAD'!$D$10:$E$87,2,FALSE())) -> 0 | M92: =L92*J92 -> 0 | N92: ='2. BASIS INVULBLAD'!$H$10 -> 0 | O92: =M92*N92 -> 0 | Q92: =M92*P92 -> 0 | R92: ='2. BASIS INVULBLAD'!$H$11 -> 0 | S92: =Q92*R92 -> 0 | T92: =O92+S92 -> 0
A93: =A92+1 -> 80 | B93: Doelen I, Raadhuisplein 2 | C93: B | D93: BG | E93: B0SV1 | F93: Voorruimte | G93: Sanitaire ruimten | H93: DHGT | I93: 3.97 | J93: 255 | K93: S-DHGT-255 | L93: =IF(VLOOKUP(K93,'2. BASIS INVULBLAD'!$D$10:$E$87,2,FALSE())=0,0,I93/VLOOKUP(K93,'2. BASIS INVULBLAD'!$D$10:$E$87,2,FALSE())) -> 0 | M93: =L93*J93 -> 0 | N93: ='2. BASIS INVULBLAD'!$H$10 -> 0 | O93: =M93*N93 -> 0 | Q93: =M93*P93 -> 0 | R93: ='2. BASIS INVULBLAD'!$H$11 -> 0 | S93: =Q93*R93 -> 0 | T93: =O93+S93 -> 0
A94: =A93+1 -> 81 | B94: Doelen I, Raadhuisplein 2 | C94: B | D94: BG | E94: B0ST1 | F94: Sanitair | G94: Sanitaire ruimten | H94: DHGT | I94: 0.95 | J94: 255 | K94: S-DHGT-255 | L94: =IF(VLOOKUP(K94,'2. BASIS INVULBLAD'!$D$10:$E$87,2,FALSE())=0,0,I94/VLOOKUP(K94,'2. BASIS INVULBLAD'!$D$10:$E$87,2,FALSE())) -> 0 | M94: =L94*J94 -> 0 | N94: ='2. BASIS INVULBLAD'!$H$10 -> 0 | O94: =M94*N94 -> 0 | Q94: =M94*P94 -> 0 | R94: ='2. BASIS INVULBLAD'!$H$11 -> 0 | S94: =Q94*R94 -> 0 | T94: =O94+S94 -> 0
A95: =A94+1 -> 82 | B95: Doelen I, Raadhuisplein 2 | C95: B | D95: BG | E95: BOST2 | F95: Sanitair | G95: Sanitaire ruimten | H95: DHGT | I95: 0.95 | J95: 255 | K95: S-DHGT-255 | L95: =IF(VLOOKUP(K95,'2. BASIS INVULBLAD'!$D$10:$E$87,2,FALSE())=0,0,I95/VLOOKUP(K95,'2. BASIS INVULBLAD'!$D$10:$E$87,2,FALSE())) -> 0 | M95: =L95*J95 -> 0 | N95: ='2. BASIS INVULBLAD'!$H$10 -> 0 | O95: =M95*N95 -> 0 | Q95: =M95*P95 -> 0 | R95: ='2. BASIS INVULBLAD'!$H$11 -> 0 | S95: =Q95*R95 -> 0 | T95: =O95+S95 -> 0
A96: =A95+1 -> 83 | B96: Doelen I, Raadhuisplein 2 | C96: B | D96: BG | E96: BOST3 | F96: Sanitair | G96: Sanitaire ruimten | H96: DHGT | I96: 0.95 | J96: 255 | K96: S-DHGT-255 | L96: =IF(VLOOKUP(K96,'2. BASIS INVULBLAD'!$D$10:$E$87,2,FALSE())=0,0,I96/VLOOKUP(K96,'2. BASIS INVULBLAD'!$D$10:$E$87,2,FALSE())) -> 0 | M96: =L96*J96 -> 0 | N96: ='2. BASIS INVULBLAD'!$H$10 -> 0 | O96: =M96*N96 -> 0 | Q96: =M96*P96 -> 0 | R96: ='2. BASIS INVULBLAD'!$H$11 -> 0 | S96: =Q96*R96 -> 0 | T96: =O96+S96 -> 0
A97: =A96+1 -> 84 | B97: Doelen I, Raadhuisplein 2 | C97: B | D97: BG | E97: BOST4 | F97: Sanitair | G97: Sanitaire ruimten | H97: DHGT | I97: 0.95 | J97: 255 | K97: S-DHGT-255 | L97: =IF(VLOOKUP(K97,'2. BASIS INVULBLAD'!$D$10:$E$87,2,FALSE())=0,0,I97/VLOOKUP(K97,'2. BASIS INVULBLAD'!$D$10:$E$87,2,FALSE())) -> 0 | M97: =L97*J97 -> 0 | N97: ='2. BASIS INVULBLAD'!$H$10 -> 0 | O97: =M97*N97 -> 0 | Q97: =M97*P97 -> 0 | R97: ='2. BASIS INVULBLAD'!$H$11 -> 0 | S97: =Q97*R97 -> 0 | T97: =O97+S97 -> 0
A98: =A97+1 -> 85 | B98: Doelen I, Raadhuisplein 2 | C98: C | D98: 2 | E98: C2SV1 | F98: Voorruimte | G98: Sanitaire ruimten | H98: DHGT | I98: 4.36 | J98: 255 | K98: S-DHGT-255 | L98: =IF(VLOOKUP(K98,'2. BASIS INVULBLAD'!$D$10:$E$87,2,FALSE())=0,0,I98/VLOOKUP(K98,'2. BASIS INVULBLAD'!$D$10:$E$87,2,FALSE())) -> 0 | M98: =L98*J98 -> 0 | N98: ='2. BASIS INVULBLAD'!$H$10 -> 0 | O98: =M98*N98 -> 0 | Q98: =M98*P98 -> 0 | R98: ='2. BASIS INVULBLAD'!$H$11 -> 0 | S98: =Q98*R98 -> 0 | T98: =O98+S98 -> 0
A99: =A98+1 -> 86 | B99: Doelen I, Raadhuisplein 2 | C99: C | D99: 2 | E99: C2ST2 | F99: Sanitair | G99: Sanitaire ruimten | H99: DHGT | I99: 0.95 | J99: 255 | K99: S-DHGT-255 | L99: =IF(VLOOKUP(K99,'2. BASIS INVULBLAD'!$D$10:$E$87,2,FALSE())=0,0,I99/VLOOKUP(K99,'2. BASIS INVULBLAD'!$D$10:$E$87,2,FALSE())) -> 0 | M99: =L99*J99 -> 0 | N99: ='2. BASIS INVULBLAD'!$H$10 -> 0 | O99: =M99*N99 -> 0 | Q99: =M99*P99 -> 0 | R99: ='2. BASIS INVULBLAD'!$H$11 -> 0 | S99: =Q99*R99 -> 0 | T99: =O99+S99 -> 0
A100: =A99+1 -> 87 | B100: Doelen I, Raadhuisplein 2 | C100: C | D100: 2 | E100: C2ST1 | F100: Sanitair | G100: Sanitaire ruimten | H100: DHGT | I100: 0.95 | J100: 255 | K100: S-DHGT-255 | L100: =IF(VLOOKUP(K100,'2. BASIS INVULBLAD'!$D$10:$E$87,2,FALSE())=0,0,I100/VLOOKUP(K100,'2. BASIS INVULBLAD'!$D$10:$E$87,2,FALSE())) -> 0 | M100: =L100*J100 -> 0 | N100: ='2. BASIS INVULBLAD'!$H$10 -> 0 | O100: =M100*N100 -> 0 | Q100: =M100*P100 -> 0 | R100: ='2. BASIS INVULBLAD'!$H$11 -> 0 | S100: =Q100*R100 -> 0 | T100: =O100+S100 -> 0
A101: =A100+1 -> 88 | B101: Doelen I, Raadhuisplein 2 | C101: C | D101: 1 | E101: C1SV1 | F101: Voorruimte | G101: Sanitaire ruimten | H101: DHGT | I101: 4.36 | J101: 255 | K101: S-DHGT-255 | L101: =IF(VLOOKUP(K101,'2. BASIS INVULBLAD'!$D$10:$E$87,2,FALSE())=0,0,I101/VLOOKUP(K101,'2. BASIS INVULBLAD'!$D$10:$E$87,2,FALSE())) -> 0 | M101: =L101*J101 -> 0 | N101: ='2. BASIS INVULBLAD'!$H$10 -> 0 | O101: =M101*N101 -> 0 | Q101: =M101*P101 -> 0 | R101: ='2. BASIS INVULBLAD'!$H$11 -> 0 | S101: =Q101*R101 -> 0 | T101: =O101+S101 -> 0
A102: =A101+1 -> 89 | B102: Doelen I, Raadhuisplein 2 | C102: C | D102: 1 | E102: C1ST1 | F102: Sanitair | G102: Sanitaire ruimten | H102: DHGT | I102: 0.95 | J102: 255 | K102: S-DHGT-255 | L102: =IF(VLOOKUP(K102,'2. BASIS INVULBLAD'!$D$10:$E$87,2,FALSE())=0,0,I102/VLOOKUP(K102,'2. BASIS INVULBLAD'!$D$10:$E$87,2,FALSE())) -> 0 | M102: =L102*J102 -> 0 | N102: ='2. BASIS INVULBLAD'!$H$10 -> 0 | O102: =M102*N102 -> 0 | Q102: =M102*P102 -> 0 | R102: ='2. BASIS INVULBLAD'!$H$11 -> 0 | S102: =Q102*R102 -> 0 | T102: =O102+S102 -> 0
A103: =A102+1 -> 90 | B103: Doelen I, Raadhuisplein 2 | C103: C | D103: 1 | E103: C1ST2 | F103: Sanitair | G103: Sanitaire ruimten | H103: DHGT | I103: 0.95 | J103: 255 | K103: S-DHGT-255 | L103: =IF(VLOOKUP(K103,'2. BASIS INVULBLAD'!$D$10:$E$87,2,FALSE())=0,0,I103/VLOOKUP(K103,'2. BASIS INVULBLAD'!$D$10:$E$87,2,FALSE())) -> 0 | M103: =L103*J103 -> 0 | N103: ='2. BASIS INVULBLAD'!$H$10 -> 0 | O103: =M103*N103 -> 0 | Q103: =M103*P103 -> 0 | R103: ='2. BASIS INVULBLAD'!$H$11 -> 0 | S103: =Q103*R103 -> 0 | T103: =O103+S103 -> 0
A104: =A103+1 -> 91 | B104: Doelen I, Raadhuisplein 2 | C104: A | D104: -1 | E104: A-1SV2 | F104: voorruimte | G104: Sanitaire ruimten | H104: DHGT | I104: 4.15 | J104: 255 | K104: S-DHGT-255 | L104: =IF(VLOOKUP(K104,'2. BASIS INVULBLAD'!$D$10:$E$87,2,FALSE())=0,0,I104/VLOOKUP(K104,'2. BASIS INVULBLAD'!$D$10:$E$87,2,FALSE())) -> 0 | M104: =L104*J104 -> 0 | N104: ='2. BASIS INVULBLAD'!$H$10 -> 0 | O104: =M104*N104 -> 0 | Q104: =M104*P104 -> 0 | R104: ='2. BASIS INVULBLAD'!$H$11 -> 0 | S104: =Q104*R104 -> 0 | T104: =O104+S104 -> 0
A105: =A104+1 -> 92 | B105: Doelen I, Raadhuisplein 2 | C105: A | D105: -1 | E105: A-1SV3 | F105: voorruimte | G105: Sanitaire ruimten | H105: DHGT | I105: 4.15 | J105: 255 | K105: S-DHGT-255 | L105: =IF(VLOOKUP(K105,'2. BASIS INVULBLAD'!$D$10:$E$87,2,FALSE())=0,0,I105/VLOOKUP(K105,'2. BASIS INVULBLAD'!$D$10:$E$87,2,FALSE())) -> 0 | M105: =L105*J105 -> 0 | N105: ='2. BASIS INVULBLAD'!$H$10 -> 0 | O105: =M105*N105 -> 0 | Q105: =M105*P105 -> 0 | R105: ='2. BASIS INVULBLAD'!$H$11 -> 0 | S105: =Q105*R105 -> 0 | T105: =O105+S105 -> 0
A106: =A105+1 -> 93 | B106: Doelen I, Raadhuisplein 2 | C106: A | D106: -1 | E106: A-1ST1 | F106: sanitair | G106: Sanitaire ruimten | H106: DHGT | I106: 0.95 | J106: 255 | K106: S-DHGT-255 | L106: =IF(VLOOKUP(K106,'2. BASIS INVULBLAD'!$D$10:$E$87,2,FALSE())=0,0,I106/VLOOKUP(K106,'2. BASIS INVULBLAD'!$D$10:$E$87,2,FALSE())) -> 0 | M106: =L106*J106 -> 0 | N106: ='2. BASIS INVULBLAD'!$H$10 -> 0 | O106: =M106*N106 -> 0 | Q106: =M106*P106 -> 0 | R106: ='2. BASIS INVULBLAD'!$H$11 -> 0 | S106: =Q106*R106 -> 0 | T106: =O106+S106 -> 0
A107: =A106+1 -> 94 | B107: Doelen I, Raadhuisplein 2 | C107: A | D107: -1 | E107: A-1ST2 | F107: sanitair | G107: Sanitaire ruimten | H107: DHGT | I107: 0.95 | J107: 255 | K107: S-DHGT-255 | L107: =IF(VLOOKUP(K107,'2. BASIS INVULBLAD'!$D$10:$E$87,2,FALSE())=0,0,I107/VLOOKUP(K107,'2. BASIS INVULBLAD'!$D$10:$E$87,2,FALSE())) -> 0 | M107: =L107*J107 -> 0 | N107: ='2. BASIS INVULBLAD'!$H$10 -> 0 | O107: =M107*N107 -> 0 | Q107: =M107*P107 -> 0 | R107: ='2. BASIS INVULBLAD'!$H$11 -> 0 | S107: =Q107*R107 -> 0 | T107: =O107+S107 -> 0
A108: =A107+1 -> 95 | B108: Doelen I, Raadhuisplein 2 | C108: A | D108: -1 | E108: A-1SV1 | F108: Kleedruimte | G108: Kleedruimten | H108: DHGT | I108: 12.7 | J108: 255 | K108: KL-DHGT-255 | L108: =IF(VLOOKUP(K108,'2. BASIS INVULBLAD'!$D$10:$E$87,2,FALSE())=0,0,I108/VLOOKUP(K108,'2. BASIS INVULBLAD'!$D$10:$E$87,2,FALSE())) -> 0 | M108: =L108*J108 -> 0 | N108: ='2. BASIS INVULBLAD'!$H$10 -> 0 | O108: =M108*N108 -> 0 | Q108: =M108*P108 -> 0 | R108: ='2. BASIS INVULBLAD'!$H$11 -> 0 | S108: =Q108*R108 -> 0 | T108: =O108+S108 -> 0
A109: =A108+1 -> 96 | B109: Doelen I, Raadhuisplein 2 | C109: A | D109: -1 | E109: A-1SR1 | F109: Douche | G109: Sanitaire ruimten | H109: DHGT | I109: 2.8 | J109: 255 | K109: S-DHGT-255 | L109: =IF(VLOOKUP(K109,'2. BASIS INVULBLAD'!$D$10:$E$87,2,FALSE())=0,0,I109/VLOOKUP(K109,'2. BASIS INVULBLAD'!$D$10:$E$87,2,FALSE())) -> 0 | M109: =L109*J109 -> 0 | N109: ='2. BASIS INVULBLAD'!$H$10 -> 0 | O109: =M109*N109 -> 0 | Q109: =M109*P109 -> 0 | R109: ='2. BASIS INVULBLAD'!$H$11 -> 0 | S109: =Q109*R109 -> 0 | T109: =O109+S109 -> 0
... A115: =A114+1 -> 102 | B115: Doelen I, Raadhuisplein 2 | C115: B | D115: 1 | E115: B1VT1 | F115: trappenhuis | G115: Trappenhuizen | H115: Hout | I115: 12.5 | J115: 255 | K115: T-Hout-255 | L115: =IF(VLOOKUP(K115,'2. BASIS INVULBLAD'!$D$10:$E$87,2,FALSE())=0,0,I115/VLOOKUP(K115,'2. BASIS INVULBLAD'!$D$10:$E$87,2,FALSE())) -> 0 | M115: =L115*J115 -> 0 | N115: ='2. BASIS INVULBLAD'!$H$10 -> 0 | O115: =M115*N115 -> 0 | Q115: =M115*P115 -> 0 | R115: ='2. BASIS INVULBLAD'!$H$11 -> 0 | S115: =Q115*R115 -> 0 | T115: =O115+S115 -> 0
A116: =A115+1 -> 103 | B116: Doelen I, Raadhuisplein 2 | C116: B | D116: BG | E116: B0VT2 | F116: trappenhuis | G116: Trappenhuizen | H116: Hout | I116: 12.5 | J116: 255 | K116: T-Hout-255 | L116: =IF(VLOOKUP(K116,'2. BASIS INVULBLAD'!$D$10:$E$87,2,FALSE())=0,0,I116/VLOOKUP(K116,'2. BASIS INVULBLAD'!$D$10:$E$87,2,FALSE())) -> 0 | M116: =L116*J116 -> 0 | N116: ='2. BASIS INVULBLAD'!$H$10 -> 0 | O116: =M116*N116 -> 0 | Q116: =M116*P116 -> 0 | R116: ='2. BASIS INVULBLAD'!$H$11 -> 0 | S116: =Q116*R116 -> 0 | T116: =O116+S116 -> 0
A117: =A116+1 -> 104 | B117: Doelen I, Raadhuisplein 2 | C117: A | D117: BG | E117: A0HV1B | F117: Trap | G117: Trappenhuizen | H117: Hout | I117: 11.9 | J117: 255 | K117: T-Hout-255 | L117: =IF(VLOOKUP(K117,'2. BASIS INVULBLAD'!$D$10:$E$87,2,FALSE())=0,0,I117/VLOOKUP(K117,'2. BASIS INVULBLAD'!$D$10:$E$87,2,FALSE())) -> 0 | M117: =L117*J117 -> 0 | N117: ='2. BASIS INVULBLAD'!$H$10 -> 0 | O117: =M117*N117 -> 0 | Q117: =M117*P117 -> 0 | R117: ='2. BASIS INVULBLAD'!$H$11 -> 0 | S117: =Q117*R117 -> 0 | T117: =O117+S117 -> 0
A118: =A117+1 -> 105 | B118: Doelen I, Raadhuisplein 2 | C118: A | D118: -1 | E118: A-1.07 | F118: trap | G118: Trappenhuizen | H118: Hout | I118: 6.5 | J118: 255 | K118: T-Hout-255 | L118: =IF(VLOOKUP(K118,'2. BASIS INVULBLAD'!$D$10:$E$87,2,FALSE())=0,0,I118/VLOOKUP(K118,'2. BASIS INVULBLAD'!$D$10:$E$87,2,FALSE())) -> 0 | M118: =L118*J118 -> 0 | N118: ='2. BASIS INVULBLAD'!$H$10 -> 0 | O118: =M118*N118 -> 0 | Q118: =M118*P118 -> 0 | R118: ='2. BASIS INVULBLAD'!$H$11 -> 0 | S118: =Q118*R118 -> 0 | T118: =O118+S118 -> 0
A119: =A118+1 -> 106 | B119: Doelen I, Raadhuisplein 2 | C119: B | D119: 2 | E119: B2WK1 | F119: Werkkast | G119: Niet van toepassing | H119: Linoleum | I119: 2.54 | J119: 0
A120: =A119+1 -> 107 | B120: Doelen I, Raadhuisplein 2 | C120: B | D120: BG | E120: B0WK1 | F120: Werkkast | G120: Niet van toepassing | H120: Linoleum | I120: 2.54 | J120: 0
A121: =A120+1 -> 108 | B121: Doelen I, Raadhuisplein 2 | C121: C | D121: 3 | E121: C3V1 | F121: hal | G121: Gangen en hallen | H121: Linoleum | I121: 6.72 | J121: 255 | K121: GH-Linoleum-255 | L121: =IF(VLOOKUP(K121,'2. BASIS INVULBLAD'!$D$10:$E$87,2,FALSE())=0,0,I121/VLOOKUP(K121,'2. BASIS INVULBLAD'!$D$10:$E$87,2,FALSE())) -> 0 | M121: =L121*J121 -> 0 | N121: ='2. BASIS INVULBLAD'!$H$10 -> 0 | O121: =M121*N121 -> 0 | Q121: =M121*P121 -> 0 | R121: ='2. BASIS INVULBLAD'!$H$11 -> 0 | S121: =Q121*R121 -> 0 | T121: =O121+S121 -> 0
A122: =A121+1 -> 109 | B122: Doelen I, Raadhuisplein 2 | C122: C | D122: 2 | E122: C2VT1 | F122: hal | G122: Gangen en hallen | H122: Linoleum | I122: 2.45 | J122: 255 | K122: GH-Linoleum-255 | L122: =IF(VLOOKUP(K122,'2. BASIS INVULBLAD'!$D$10:$E$87,2,FALSE())=0,0,I122/VLOOKUP(K122,'2. BASIS INVULBLAD'!$D$10:$E$87,2,FALSE())) -> 0 | M122: =L122*J122 -> 0 | N122: ='2. BASIS INVULBLAD'!$H$10 -> 0 | O122: =M122*N122 -> 0 | Q122: =M122*P122 -> 0 | R122: ='2. BASIS INVULBLAD'!$H$11 -> 0 | S122: =Q122*R122 -> 0 | T122: =O122+S122 -> 0
A123: =A122+1 -> 110 | B123: Doelen I, Raadhuisplein 2 | C123: C | D123: 1 | E123: C1VT1 | F123: gang | G123: Gangen en hallen | H123: Linoleum | I123: 2.45 | J123: 255 | K123: GH-Linoleum-255 | L123: =IF(VLOOKUP(K123,'2. BASIS INVULBLAD'!$D$10:$E$87,2,FALSE())=0,0,I123/VLOOKUP(K123,'2. BASIS INVULBLAD'!$D$10:$E$87,2,FALSE())) -> 0 | M123: =L123*J123 -> 0 | N123: ='2. BASIS INVULBLAD'!$H$10 -> 0 | O123: =M123*N123 -> 0 | Q123: =M123*P123 -> 0 | R123: ='2. BASIS INVULBLAD'!$H$11 -> 0 | S123: =Q123*R123 -> 0 | T123: =O123+S123 -> 0
A124: =A123+1 -> 111 | B124: Doelen I, Raadhuisplein 2 | C124: C | D124: BG | E124: C0VT1 | F124: trappenhal | G124: Gangen en hallen | H124: Linoleum | I124: 12.38 | J124: 255 | K124: GH-Linoleum-255 | L124: =IF(VLOOKUP(K124,'2. BASIS INVULBLAD'!$D$10:$E$87,2,FALSE())=0,0,I124/VLOOKUP(K124,'2. BASIS INVULBLAD'!$D$10:$E$87,2,FALSE())) -> 0 | M124: =L124*J124 -> 0 | N124: ='2. BASIS INVULBLAD'!$H$10 -> 0 | O124: =M124*N124 -> 0 | Q124: =M124*P124 -> 0 | R124: ='2. BASIS INVULBLAD'!$H$11 -> 0 | S124: =Q124*R124 -> 0 | T124: =O124+S124 -> 0
A125: =A124+1 -> 112 | B125: Doelen I, Raadhuisplein 2 | C125: C | D125: BG | E125: C0.WK1 | F125: Werkkast | G125: Niet van toepassing | H125: Linoleum | I125: 2.54 | J125: 0
A126: =A125+1 -> 113 | B126: Doelen I, Raadhuisplein 2 | C126: A | D126: 3 | E126: A3VT1a | F126: Trappenhuishal | G126: Gangen en hallen | H126: Linoleum | I126: 2.29 | J126: 255 | K126: GH-Linoleum-255 | L126: =IF(VLOOKUP(K126,'2. BASIS INVULBLAD'!$D$10:$E$87,2,FALSE())=0,0,I126/VLOOKUP(K126,'2. BASIS INVULBLAD'!$D$10:$E$87,2,FALSE())) -> 0 | M126: =L126*J126 -> 0 | N126: ='2. BASIS INVULBLAD'!$H$10 -> 0 | O126: =M126*N126 -> 0 | Q126: =M126*P126 -> 0 | R126: ='2. BASIS INVULBLAD'!$H$11 -> 0 | S126: =Q126*R126 -> 0 | T126: =O126+S126 -> 0
A127: =A126+1 -> 114 | B127: Doelen I, Raadhuisplein 2 | C127: A | D127: 2 | E127: A2VT1A | F127: Trappenhuishal | G127: Gangen en hallen | H127: Linoleum | I127: 2.29 | J127: 255 | K127: GH-Linoleum-255 | L127: =IF(VLOOKUP(K127,'2. BASIS INVULBLAD'!$D$10:$E$87,2,FALSE())=0,0,I127/VLOOKUP(K127,'2. BASIS INVULBLAD'!$D$10:$E$87,2,FALSE())) -> 0 | M127: =L127*J127 -> 0 | N127: ='2. BASIS INVULBLAD'!$H$10 -> 0 | O127: =M127*N127 -> 0 | Q127: =M127*P127 -> 0 | R127: ='2. BASIS INVULBLAD'!$H$11 -> 0 | S127: =Q127*R127 -> 0 | T127: =O127+S127 -> 0
...

Sheet 4. GLASBEWASSING
A3: Locatie | B3: Freq/J | C3: omschrijving | D3: M2 | E3: omschrijving Bereikbaarheidsmiddel | F3: m2 prijs | G3: prijs per beurt | H3: per jaar | I3: Totaal
A5: Raadhuis | B5: 3 | C5: Gevelglas buitenzijde | D5: 2923.5 | G5: =D5*F5 -> 0 | H5: =G5*B5 -> 0
A6: Raadhuis | B6: 6 | C6: Gevelglas buitenzijde (entrees) | D6: 86 | G6: =D6*F6 -> 0 | H6: =G6*B6 -> 0
A7: Raadhuis | B7: 3 | C7: Gevelglas binnenzijde | D7: 2879.6 | G7: =D7*F7 -> 0 | H7: =G7*B7 -> 0
A8: Raadhuis | B8: 6 | C8: Gevelglas binnenzijde (entrees) | D8: 86 | G8: =D8*F8 -> 0 | H8: =G8*B8 -> 0
A9: Raadhuis | B9: 3 | C9: Separatieglas (m ² is totaal) | D9: 2777.3 | G9: =D9*F9 -> 0 | H9: =G9*B9 -> 0
A10: Raadhuis | B10: 3 | C10: bereikbaarheidsmiddelen | D10: 1 | E10: hoogwerker, Raadhuis | G10: =D10*F10 -> 0 | H10: =G10*B10 -> 0
A11: Raadhuis | B11: Totaal | I11: =SUM(H5:H10) -> 0
A12: Doelen | B12: 3 | C12: Gevelglas buitenzijde | D12: 1011.8 | G12: =D12*F12 -> 0 | H12: =G12*B12 -> 0
A13: Doelen | B13: 3 | C13: Gevelglas buitenzijde (entrees) | D13: 30 | G13: =D13*F13 -> 0 | H13: =G13*B13 -> 0
A14: Doelen | B14: 3 | C14: Gevelglas binnenzijde | D14: 1011.8 | G14: =D14*F14 -> 0 | H14: =G14*B14 -> 0
A15: Doelen | B15: 3 | C15: Gevelglas binnenzijde (entrees) | D15: 30 | G15: =D15*F15 -> 0 | H15: =G15*B15 -> 0
A16: Doelen | B16: 3 | C16: Separatieglas | D16: 1075.4 | G16: =D16*F16 -> 0 | H16: =G16*B16 -> 0
A17: Doelen | B17: 3 | C17: bereikbaarheidsmiddelen | D17: 1 | E17: Hoogwerker, Doelen | G17: =D17*F17 -> 0 | H17: =G17*B17 -> 0
A18: Doelen | B18: Totaal | I18: =SUM(H12:H17) -> 0
A19: Vleugel | B19: 3 | C19: Gevelglas buitenzijde | D19: 727.9 | G19: =D19*F19 -> 0 | H19: =G19*B19 -> 0
A20: Vleugel | B20: 3 | C20: Gevelglas buitenzijde (entrees) | D20: 8 | G20: =D20*F20 -> 0 | H20: =G20*B20 -> 0
A21: Vleugel | B21: 3 | C21: Gevelglas binnenzijde | D21: 727 | G21: =D21*F21 -> 0 | H21: =G21*B21 -> 0
A22: Vleugel | B22: 3 | C22: Gevelglas binnenzijde (entrees) | D22: 8 | G22: =D22*F22 -> 0 | H22: =G22*B22 -> 0
A23: Vleugel | B23: 3 | C23: Separatieglas | D23: 78.1 | G23: =D23*F23 -> 0 | H23: =G23*B23 -> 0
A24: Vleugel | B24: 3 | C24: bereikbaarheidsmiddelen | D24: 1 | E24: Hoogwerker, vleugel | G24: =D24*F24 -> 0 | H24: =G24*B24 -> 0
A25: Vleugel | B25: Totaal | I25: =SUM(H19:H24) -> 0
A26: Manenberg | B26: 3 | C26: Gevelglas binnenzijde | D26: 145.2 | G26: =D26*F26 -> 0 | H26: =G26*B26 -> 0
A27: Manenberg | B27: 3 | C27: Separatieglas | D27: 396.4 | G27: =D27*F27 -> 0 | H27: =G27*B27 -> 0
A28: Manenberg | B28: Totaal | I28: =SUM(H26:H27) -> 0
A29: Gemeente werf | B29: 3 | C29: Gevelglas buitenzijde | D29: 379.6 | G29: =D29*F29 -> 0 | H29: =G29*B29 -> 0
A30: Gemeente werf | B30: 3 | C30: Gevelglas buitenzijde (entrees) | D30: 8 | G30: =D30*F30 -> 0 | H30: =G30*B30 -> 0
A31: Gemeente werf | B31: 3 | C31: Gevelglas binnenzijde | D31: 312.4 | G31: =D31*F31 -> 0 | H31: =G31*B31 -> 0
A32: Gemeente werf | B32: 3 | C32: Gevelglas binnenzijde (entrees) | D32: 8 | G32: =D32*F32 -> 0 | H32: =G32*B32 -> 0
A33: Gemeente werf | B33: 3 | C33: Separatieglas | D33: 65.1 | G33: =D33*F33 -> 0 | H33: =G33*B33 -> 0
A34: Gemeente werf | B34: 3 | C34: Roldeur (buitenzijde) | D34: 195 | G34: =D34*F34 -> 0 | H34: =G34*B34 -> 0
A35: Gemeente werf | B35: 3 | C35: bereikbaarheidsmiddelen | D35: 1 | E35: Hoogwerker i.v.m. vijver en lamellen | G35: =D35*F35 -> 0 | H35: =G35*B35 -> 0
A36: Gemeente werf | B36: Totaal | I36: =SUM(H29:H35) -> 0
I38: =SUM(I5:I36) -> 0

Sheet 5. SANITAIRE VOORZIENINGEN
A2: Locatie | B2: Omschrijving | C2: Aantal | D2: Type/Model | E2: Prijs per stuk / per maand | F2: totaalprijs per maand | G2: Per jaar | H2: Totaal
A4: Raadhuis | B4: Zeepdispenser 1L | C4: 27 | F4: =C4*E4 -> 0 | G4: =F4*12 -> 0
A5: Raadhuis | B5: Borstelset | C5: 31 | F5: =C5*E5 -> 0 | G5: =F5*12 -> 0
A6: Raadhuis | B6: Luchtverfrisser | C6: 43 | F6: =C6*E6 -> 0 | G6: =F6*12 -> 0
A7: Raadhuis | B7: Vouwhandoekautomaat | C7: 7 | F7: =C7*E7 -> 0 | G7: =F7*12 -> 0
A8: Raadhuis | B8: Seatcleaner | C8: 31 | F8: =C8*E8 -> 0 | G8: =F8*12 -> 0
A9: Raadhuis | B9: Damesverbandcontainer | C9: 34 | F9: =C9*E9 -> 0 | G9: =F9*12 -> 0
A10: Raadhuis | B10: Hair & body dispenser | C10: 2 | F10: =C10*E10 -> 0 | G10: =F10*12 -> 0
A11: Raadhuis | B11: Toiletrol automaat | C11: 31 | F11: =C11*E11 -> 0 | G11: =F11*12 -> 0
A12: Raadhuis | B12: Filter Dyson handdroger | C12: 18 | F12: =C12*E12 -> 0 | G12: =F12*12 -> 0
A13: Raadhuis | H13: =SUM(G4:G12) -> 0
A14: Doelen | B14: Zeepdispenser 1L | C14: 59 | F14: =C14*E14 -> 0 | G14: =F14*12 -> 0
A15: Doelen | B15: Borstelset | C15: 23 | F15: =C15*E15 -> 0 | G15: =F15*12 -> 0
A16: Doelen | B16: Luchtverfrisser | C16: 15 | F16: =C16*E16 -> 0 | G16: =F16*12 -> 0
A17: Doelen | B17: Vouwhandoekautomaat | C17: 34 | F17: =C17*E17 -> 0 | G17: =F17*12 -> 0
A18: Doelen | B18: Seatcleaner | C18: 55 | F18: =C18*E18 -> 0 | G18: =F18*12 -> 0
A19: Doelen | B19: Damesverbandcontainer | C19: 13 | F19: =C19*E19 -> 0 | G19: =F19*12 -> 0
A20: Doelen | B20: Hair & body dispenser | C20: 0 | F20: =C20*E20 -> 0 | G20: =F20*12 -> 0
A21: Doelen | B21: Toiletrol automaat | C21: 55 | F21: =C21*E21 -> 0 | G21: =F21*12 -> 0
A22: Doelen | B22: Filter Dyson handdroger | C22: 12 | F22: =C22*E22 -> 0 | G22: =F22*12 -> 0
A23: Doelen | H23: =SUM(G14:G22) -> 0
A24: Vleugel | B24: Zeepdispenser 1L | C24: 9 | F24: =C24*E24 -> 0 | G24: =F24*12 -> 0
A25: Vleugel | B25: Borstelset | C25: 11 | F25: =C25*E25 -> 0 | G25: =F25*12 -> 0
A26: Vleugel | B26: Luchtverfrisser | C26: 9 | F26: =C26*E26 -> 0 | G26: =F26*12 -> 0
A27: Vleugel | B27: Vouwhandoekautomaat | C27: 9 | F27: =C27*E27 -> 0 | G27: =F27*12 -> 0
A28: Vleugel | B28: Seatcleaner | C28: 11 | F28: =C28*E28 -> 0 | G28: =F28*12 -> 0
A29: Vleugel | B29: Damesverbandcontainer | C29: 6 | F29: =C29*E29 -> 0 | G29: =F29*12 -> 0
A30: Vleugel | B30: Hair & body dispenser | C30: 0 | F30: =C30*E30 -> 0 | G30: =F30*12 -> 0
A31: Vleugel | B31: Toiletrol automaat | C31: 11 | F31: =C31*E31 -> 0 | G31: =F31*12 -> 0
A32: Vleugel | H32: =SUM(G24:G31) -> 0
A33: Manenberg | B33: Zeepdispenser 1L | C33: 15 | F33: =C33*E33 -> 0 | G33: =F33*12 -> 0
A34: Manenberg | B34: Borstelset | C34: 15 | F34: =C34*E34 -> 0 | G34: =F34*12 -> 0
A35: Manenberg | B35: Luchtverfrisser | C35: 11 | F35: =C35*E35 -> 0 | G35: =F35*12 -> 0
A36: Manenberg | B36: Vouwhandoekautomaat | C36: 7 | F36: =C36*E36 -> 0 | G36: =F36*12 -> 0
A37: Manenberg | B37: Seatcleaner | C37: 10 | F37: =C37*E37 -> 0 | G37: =F37*12 -> 0
A38: Manenberg | B38: Damesverbandcontainer | C38: 7 | F38: =C38*E38 -> 0 | G38: =F38*12 -> 0
A39: Manenberg | B39: Hair & body dispenser | C39: 0 | F39: =C39*E39 -> 0 | G39: =F39*12 -> 0
A40: Manenberg | B40: Toiletrol automaat | C40: 15 | F40: =C40*E40 -> 0 | G40: =F40*12 -> 0
A41: Manenberg | H41: =SUM(G33:G40) -> 0
A42: Gemeente werf | B42: Zeepdispenser 1L | C42: 5 | F42: =C42*E42 -> 0 | G42: =F42*12 -> 0
A43: Gemeente werf | B43: Borstelset | C43: 6 | F43: =C43*E43 -> 0 | G43: =F43*12 -> 0
A44: Gemeente werf | B44: Luchtverfrisser | C44: 6 | F44: =C44*E44 -> 0 | G44: =F44*12 -> 0
A45: Gemeente werf | B45: Vouwhandoekautomaat | C45: 6 | F45: =C45*E45 -> 0 | G45: =F45*12 -> 0
A46: Gemeente werf | B46: Seatcleaner | C46: 6 | F46: =C46*E46 -> 0 | G46: =F46*12 -> 0
A47: Gemeente werf | B47: Damesverbandcontainer | C47: 3 | F47: =C47*E47 -> 0 | G47: =F47*12 -> 0
A48: Gemeente werf | B48: Hair & body dispenser | C48: 0 | F48: =C48*E48 -> 0 | G48: =F48*12 -> 0
A49: Gemeente werf | B49: Toiletrol automaat | C49: 6 | F49: =C49*E49 -> 0 | G49: =F49*12 -> 0
A50: Gemeente werf | H50: =SUM(G42:G49) -> 0
H51: =SUM(H4:H50) -> 0

Sheet 6. VLOERONDERHOUD
A3: Locatie | B3: Freq/J | C3: omschrijving | D3: M2 | E3: m2 prijs | F3: prijs per beurt | G3: per jaar | H3: Totaal
A5: Raadhuis | B5: 1 | C5: Bolon | D5: 4008.66 | F5: =D5*E5 -> 0 | G5: =F5*B5 -> 0
A6: Raadhuis | B6: 1 | C6: DHGT | D6: 1101.77 | F6: =D6*E6 -> 0 | G6: =F6*B6 -> 0
A7: Raadhuis | B7: 1 | C7: Houtnerf/vinyl | D7: 195.14 | F7: =D7*E7 -> 0 | G7: =F7*B7 -> 0
A8: Raadhuis | B8: 1 | C8: Linoleum | D8: 1135.11 | F8: =D8*E8 -> 0 | G8: =F8*B8 -> 0
A9: Raadhuis | B9: 1 | C9: Marmer | D9: 359.58 | F9: =D9*E9 -> 0 | G9: =F9*B9 -> 0
A10: Raadhuis | B10: 1 | C10: Tapijt | D10: 4412.42 | F10: =D10*E10 -> 0 | G10: =F10*B10 -> 0
A11: Raadhuis | B11: Totaal | H11: =SUM(G5:G10) -> 0
A12: Doelen | B12: 1 | C12: DHGT | D12: 123.64 | F12: =D12*E12 -> 0 | G12: =F12*B12 -> 0
A13: Doelen | B13: 1 | C13: Hout | D13: 138.36 | F13: =D13*E13 -> 0 | G13: =F13*B13 -> 0
A14: Doelen | B14: 1 | C14: Linoleum | D14: 85.36 | F14: =D14*E14 -> 0 | G14: =F14*B14 -> 0
A15: Doelen | B15: 1 | C15: Tapijt | D15: 3238.07 | F15: =D15*E15 -> 0 | G15: =F15*B15 -> 0
A16: Doelen | B16: 1 | C16: Vinyl | D16: 98.19 | F16: =D16*E16 -> 0 | G16: =F16*B16 -> 0
A17: Doelen | B17: Totaal | H17: =SUM(G12:G16) -> 0
A18: Vleugel | B18: 1 | C18: DHGT | D18: 66.64 | F18: =D18*E18 -> 0 | G18: =F18*B18 -> 0
A19: Vleugel | B19: 1 | C19: Hout | D19: 104.93 | F19: =D19*E19 -> 0 | G19: =F19*B19 -> 0
A20: Vleugel | B20: 1 | C20: Linoleum | D20: 5.31 | F20: =D20*E20 -> 0 | G20: =F20*B20 -> 0
A21: Vleugel | B21: 1 | C21: Tapijt | D21: 2141.89 | F21: =D21*E21 -> 0 | G21: =F21*B21 -> 0
A22: Vleugel | B22: Totaal | H22: =SUM(G18:G21) -> 0
A23: Manenberg | B23: 1 | C23: DHGT | D23: 25.36 | F23: =D23*E23 -> 0 | G23: =F23*B23 -> 0
A24: Manenberg | B24: 1 | C24: Tapijt | D24: 999.17 | F24: =D24*E24 -> 0 | G24: =F24*B24 -> 0
A25: Manenberg | B25: Totaal | H25: =SUM(G23:G24) -> 0
A26: Manenberg Werkkracht | B26: 1 | C26: DHGT | D26: 39.36 | F26: =D26*E26 -> 0 | G26: =F26*B26 -> 0
A27: Manenberg Werkkracht | B27: 1 | C27: PVC | D27: 62.52 | F27: =D27*E27 -> 0 | G27: =F27*B27 -> 0
A28: Manenberg Werkkracht | B28: 1 | C28: Tapijt | D28: 880.31 | F28: =D28*E28 -> 0 | G28: =F28*B28 -> 0
A29: Manenberg Werkkracht | B29: Totaal | H29: =SUM(G26:G28) -> 0
A30: Gemeente werf | B30: 1 | C30: DHGT | D30: 220.63 | F30: =D30*E30 -> 0 | G30: =F30*B30 -> 0
A31: Gemeente werf | B31: 1 | C31: Hout | D31: 29.88 | F31: =D31*E31 -> 0 | G31: =F31*B31 -> 0
A32: Gemeente werf | B32: 1 | C32: PVC | D32: 27 | F32: =D32*E32 -> 0 | G32: =F32*B32 -> 0
A33: Gemeente werf | B33: 1 | C33: Tapijt | D33: 384.76 | F33: =D33*E33 -> 0 | G33: =F33*B33 -> 0
A34: Gemeente werf | B34: 1 | C34: Vinyl | D34: 171.42 | F34: =D34*E34 -> 0 | G34: =F34*B34 -> 0
A35: Gemeente werf | B35: Totaal | H35: =SUM(G30:G34) -> 0
H37: =SUM(H5:H35) -> 0

Sheet 7. AFROEPPRIJZEN
A3: Naam opdrachtgever | B3: Gemeente Ede
A4: Calculatie onderdeel | B4: Afroepprijzen
A5: Gebouw/plaats | B5: Alle locaties
A6: Besteknummer
A7: Naam leverancier
A8: Prijspeil
A9: Bijzonderheden | B9: Uitvoering normale werktijden: maandag t/m vrijdag [06.00 en 21.30 uur]
A12: Prijsvorming Extra Vloerenonderhoud (inclusief uit-/inruimen van het meubilair)
C14: Prijs p/m2 excl. btw
A15: Activiteit | B15: Toelichting | C15: 0-100m2 | D15: 101-500m2 | E15: 501-1000m2 | F15: > 1000m2
A16: Lino-/marmoleum conserveren | B16: verwijderen alle oude lagen en aanbrengen van 2 nieuwe lagen
A17: Lino-/marmoleum sprayen | B17: geheel
A18: Steen/PVC schrobben
A19: Tapijt sproeiextraheren
A20: Tapijt poederreiniging
A21: Tapijt koolzuureinging
A23: Prijsvorming Stoelen/banken/fauteuils reiniging (uitvoering op afroep)
A24: (inclusief materialen en middelen)
C26: Prijs p/stuk excl. btw
A27: Activiteit | B27: Toelichting | C27: Aantal stuks 0-10 | D27: Aantal stuks 11-50 | E27: Aantal stuks 51-100 | F27: Aantal stuks > 100
A28: Stoelen stoffering koolzuurreiniging
A29: Stoelen stoffering shamponeren
A30: Stoelen stoffering poederreinging
A32: Extra aanvullende werkzaamheden als onderdeel van overeenkomst
A34: werkzaamheden | D34: Aantal | E34: Freq | F34: Tarief per stuk | G34: Prijs per jaar
A36: reiniging computerscherm, toetsenbord, muis | B36: Betreft alle hoofdlocaties | D36: 1000 | E36: 2 | G36: =D36*E36*F36 -> 0
A37: Vervangen en wassen theedoeken pantry's | B37: Betreft alle hoofdlocaties | D37: 33 | E37: 255 | G37: =D37*E37*F37 -> 0
A38: Leveren afwasmiddel/afwasborstel | B38: Betreft alle hoofdlocaties | D38: 33 | E38: 12 | G38: =D38*E38*F38 -> 0
G39: =SUM(G36:G38) -> 0
A42: Opmerking:
A43: Alle prijzen inclusief materialen en middelen, voorrijkosten en overige bijkomende kosten.
A44: Alle prijzen exclusief btw
A47: Tarieven
A48: regietarieven regulier
A49: regietarieven specialistisch
