Workbook
Name _Fill: NA()
Name _Key1: NA()
Name _Order1: 255
Name gebouw: '3. RUIMTESTAAT ALLE LOCATIES'!$B:$B
Name han: NA()
Name han: NA()
Name Kengetal: NA()
Name uren_mavr: '3. RUIMTESTAAT ALLE LOCATIES'!$N:$N
Name uren_naloop: NA()
Name uren_zazofe: NA()
Name Vierknatemeter: '3. RUIMTESTAAT ALLE LOCATIES'!$I:$I

Sheet INLEIDING
C5: Inleiding
A7: Dit calculatiebestand bestaat uit deze inleiding, het totaalblad, basis invulbld, ruimtestaat alle locaties, glasbewassing, sanitaire voorzieningen en het regieoverzicht. Uitleg bij het invullen van het calculatiebestand:
A8: De inschrijver dient alle gele vakken in te vullen. Prijzen dienen excl. Btw ingevoerd te worden.
A9: Voor schoonmaak en glasbewassing geldt: Er dient te worden uitgegaan van een integraal calculatie-uurtarief waarin alle kosten, waaronder de kosten voor direct toezicht, administratieve werkzaamheden, suppletiekosten, investeringskosten, vervoerskosten, machines en overige additionele kosten zijn inbegrepen.
A10: Eenmalige bonussen of vergoedingen, worden niet in de beoordeling meegenomen. Manipulatief inschrijven of aanpassen van het prijsmodel leidt tot uitsluiting.
A11: Inschrijver vult de naam in op het totaalblad.
A12: 1. Totaalblad | B12: In het totaalblad worden, middels aangebrachte formules, de prijzen uit de andere tabbladen samengevoegd per locatie. In cel H33 komt de totale inschrijfsom excl. Btw te staan. Voor de Dislocaties is er een mogelijkheid om de prijs af te ronden. Dit is mogelijk in kolom E.
A13: 2. Basis invulblad | B13: In het basis invulblad zijn alle ruimtesoorten, vloersoorten, frequenties en schoonmaaksleutel weergegeven. Deze gegevens komen uit de ruimtestaat van alle locaties. De inschrijver dient aan te geven welke norm zij hanteert voor de schoonmaakactiviteit m2/uur. Daarnaast wordt het uurloon voor de schoonmaakmedewerker en het uurloon van de begeleiding ingevuld. Uurloon dient excl btw ingevuld te worden.
A14: 3. Ruimtestaat alle locaties | B14: In de ruimtestaat van alle locaties is beschreven per locatie welke ruimtes er zijn, welke vloersoort hier aanwezig is en welke afmeting de ruimte heeft. In dit blad dient het percentage van de leiding voor de schoonmaakactiviteit ingevoerd te worden.
A15: 4. Glasbewassing | B15: De glasbewassing geldt alleen voor de vijf hoofdlocaties. In het tabblad glasbewassing dient de prijs per m2 ingevoerd te worden.
A16: 5. Sanitaire voorzieningen | B16: Op de vijf hoofdlocaties dienen alle sanitaire voorzieningen vervangen te worden. De eisen hiervoor zijn opgenomen in het PVE. In het tabblad is er per locatie aangegeven hoeveel sanitaire voorzieningen vervangen dienen te worden. Ook dient het type/model aangegeven te worden.
A17: 6. Vloeronderhoud | B17: Op de vijf hoofdlocaties dient er twee keer per jaar vloeronderhoud uitgevoerd te worden.
A18: 7. Afroepprijzen | B18: Overzicht kosten afroepprijzen. De leverancier dient eenheidsprijzen op te geven voor werkzaamheden die de opdrachtgever gedurende de contractperiode kan laten uitvoeren. De inschrijver dient de eenheidsprijzen (in staffel) op te geven. In de tarieven dienen alle kosten te zijn verdisconteerd.

Sheet 1. TOTAALBLAD
A2: Naam opdrachtgever | B2: Gemeente Ede
A3: Omschrijving opdracht | B3: Contractblad jaarprijs schoonmaak
A4: Gebouw/plaats | B4: Alle gebouwen
A5: Besteknummer
A6: Naam leverancier
A7: Bijzonderheden
A8: LOCATIE | B8: HOOFDFREQUENTIE | C8: M2 VLOER | D8: PRIJS SCHOONMAAK PER JAAR | E8: PRIJS SCHOONMAAK PER JAAR | F8: PRIJS GLASBEWASSING PER JAAR | G8: SANITAIRE VOORZIENINGEN | H8: VLOERONDERHOUD | I8: AFROEPPRIJZEN | J8: TOTAAL excl. BTW | AV8: sap
A9: Gemeente werf, Asakkerweg 8 | B9: 255 | C9: 864.65 | D9: =SUMIF(gebouw,'1. TOTAALBLAD'!A9,'3. RUIMTESTAAT ALLE LOCATIES'!T:T) -> 0 | F9: ='4. GLASBEWASSING'!I36 -> 0 | G9: ='5. SANITAIRE VOORZIENINGEN'!H50 -> 0 | H9: ='6. VLOERONDERHOUD'!H35 -> 0 | J9: =SUM(D9:I9) -> 0 | AT9: =D9/12 -> 0 | AU9: =NA() -> #N/A | AV9: 1031.85
A10: Manenberg, kantoor Werkkracht, Molenstraat 80F | B10: 255 | C10: 982.19 | D10: =SUMIF(gebouw,'1. TOTAALBLAD'!A10,'3. RUIMTESTAAT ALLE LOCATIES'!T:T) -> 0 | H10: ='6. VLOERONDERHOUD'!H29 -> 0 | J10: =SUM(D10:I10) -> 0 | AT10: =D10/12 -> 0 | AU10: =NA() -> #N/A | AV10: 1108.33
A11: Manenberg, Molenstraat 80 | B11: 255 | C11: 1024.53 | D11: =SUMIF(gebouw,'1. TOTAALBLAD'!A11,'3. RUIMTESTAAT ALLE LOCATIES'!T:T) -> 0 | F11: ='4. GLASBEWASSING'!I28 -> 0 | G11: ='5. SANITAIRE VOORZIENINGEN'!H41 -> 0 | H11: ='6. VLOERONDERHOUD'!H25 -> 0 | J11: =SUM(D11:I11) -> 0 | AT11: =D11/12 -> 0 | AU11: =NA() -> #N/A | AV11: 912.75
A12: Doelen I, Raadhuisplein 2 | B12: 255 | C12: 3850.5 | D12: =SUMIF(gebouw,'1. TOTAALBLAD'!A12,'3. RUIMTESTAAT ALLE LOCATIES'!T:T) -> 0 | F12: ='4. GLASBEWASSING'!I18 -> 0 | G12: ='5. SANITAIRE VOORZIENINGEN'!H23 -> 0 | H12: ='6. VLOERONDERHOUD'!H17 -> 0 | J12: =SUM(D12:I12) -> 0 | AT12: =D12/12 -> 0 | AU12: =NA() -> #N/A | AV12: 3797
A13: Raadhuis, Bergstraat 4 | B13: 255 | C13: 11927.767 | D13: =SUMIF(gebouw,'1. TOTAALBLAD'!A13,'3. RUIMTESTAAT ALLE LOCATIES'!T:T) -> 0 | F13: ='4. GLASBEWASSING'!I11 -> 0 | G13: ='5. SANITAIRE VOORZIENINGEN'!H13 -> 0 | H13: ='6. VLOERONDERHOUD'!H11 -> 0 | I13: ='7. AFROEPPRIJZEN'!G39 -> 0 | J13: =SUM(D13:I13) -> 0 | AT13: =D13/12 -> 0 | AU13: =NA() -> #N/A | AV13: 12381.05
A14: Vleugel, Raadhuisstraat 117 | B14: 255 | C14: 2981.21 | D14: =SUMIF(gebouw,'1. TOTAALBLAD'!A14,'3. RUIMTESTAAT ALLE LOCATIES'!T:T) -> 0 | F14: ='4. GLASBEWASSING'!I25 -> 0 | G14: ='5. SANITAIRE VOORZIENINGEN'!H32 -> 0 | H14: ='6. VLOERONDERHOUD'!H22 -> 0 | J14: =SUM(D14:I14) -> 0
A15: Subtotaal Bovenstaande locaties | C15: =SUM(C9:C14) -> 21630.847 | D15: =SUM(D9:D14) -> 0 | F15: =SUM(F9:F14) -> 0 | G15: =SUM(G9:G14) -> 0 | H15: =SUM(H9:H14) -> 0 | I15: =SUM(I9:I14) -> 0 | J15: =SUM(J9:J14) -> 0
E16: Afronding minimaal 1 uur
A17: Aula Ede, Asakkerweg 8 | B17: 255 | C17: 770.2 | D17: =SUMIF(gebouw,'1. TOTAALBLAD'!A17,'3. RUIMTESTAAT ALLE LOCATIES'!T:T) -> 0 | J17: =IF(E17=0,D17,E17) -> 0 | AT17: =D14/12 -> 0 | AU17: =NA() -> #N/A | AV17: 2528.41
A18: Onderkomen Harskamp, Heersweg 2A | B18: 52 | C18: 27.02 | D18: =SUMIF(gebouw,'1. TOTAALBLAD'!A18,'3. RUIMTESTAAT ALLE LOCATIES'!T:T) -> 0 | J18: =IF(E18=0,D18,E18) -> 0 | AT18: =D18/12 -> 0 | AU18: =NA() -> #N/A | AV18: 36.53
A19: Wijkpost, Zandlaan 34 | B19: 156 | C19: 111.05 | D19: =SUMIF(gebouw,'1. TOTAALBLAD'!A19,'3. RUIMTESTAAT ALLE LOCATIES'!T:T) -> 0 | J19: =IF(E19=0,D19,E19) -> 0 | AT19: =D19/12 -> 0 | AU19: =NA() -> #N/A | AV19: 156.11
A20: Wijkpost, Verlengde Parkweg 47B | B20: 255 | C20: 121.14 | D20: =SUMIF(gebouw,'1. TOTAALBLAD'!A20,'3. RUIMTESTAAT ALLE LOCATIES'!T:T) -> 0 | J20: =IF(E20=0,D20,E20) -> 0 | AT20: =D20/12 -> 0 | AU20: =NA() -> #N/A | AV20: 654.25
A21: Aula Ederveen, Oude Heuvel 2 | B21: 12 | C21: 99.69 | D21: =SUMIF(gebouw,'1. TOTAALBLAD'!A21,'3. RUIMTESTAAT ALLE LOCATIES'!T:T) -> 0 | J21: =IF(E21=0,D21,E21) -> 0 | AT21: =D21/12 -> 0 | AU21: =NA() -> #N/A | AV21: 151.57721
A22: Aula Otterlo, Pothovenlaan 44 | B22: 12 | C22: 99.69 | D22: =SUMIF(gebouw,'1. TOTAALBLAD'!A22,'3. RUIMTESTAAT ALLE LOCATIES'!T:T) -> 0 | J22: =IF(E22=0,D22,E22) -> 0 | AT22: =D22/12 -> 0 | AU22: =NA() -> #N/A | AV22: 143.97004
A23: Aula Lunteren, Kerkhoflaan 40 | B23: 52 | C23: 143.3 | D23: =SUMIF(gebouw,'1. TOTAALBLAD'!A23,'3. RUIMTESTAAT ALLE LOCATIES'!T:T) -> 0 | J23: =IF(E23=0,D23,E23) -> 0 | AT23: =D23/12 -> 0 | AU23: =NA() -> #N/A | AV23: 170.59815
A24: Onderkomen Bennekom, Kerkhoflaan 36 | B24: 52 | C24: 23.18 | D24: =SUMIF(gebouw,'1. TOTAALBLAD'!A24,'3. RUIMTESTAAT ALLE LOCATIES'!T:T) -> 0 | J24: =IF(E24=0,D24,E24) -> 0 | AT24: =D24/12 -> 0 | AU24: =NA() -> #N/A | AV24: 59.882804
A25: Onderkomen Ede, Asakkerweg 6 | B25: 52 | C25: 17.66 | D25: =SUMIF(gebouw,'1. TOTAALBLAD'!A25,'3. RUIMTESTAAT ALLE LOCATIES'!T:T) -> 0 | J25: =IF(E25=0,D25,E25) -> 0 | AT25: =D25/12 -> 0 | AU25: =NA() -> #N/A | AV25: 6.1420724
A26: Onderkomen Lunteren I, Kerkhoflaan 40 | B26: 52 | C26: 20.63 | D26: =SUMIF(gebouw,'1. TOTAALBLAD'!A26,'3. RUIMTESTAAT ALLE LOCATIES'!T:T) -> 0 | J26: =IF(E26=0,D26,E26) -> 0 | AT26: =D26/12 -> 0 | AU26: =NA() -> #N/A | AV26: 19.684716
A27: Onderkomen Lunteren II, Kerkhoflaan 40 | B27: 52 | C27: 8.52 | D27: =SUMIF(gebouw,'1. TOTAALBLAD'!A27,'3. RUIMTESTAAT ALLE LOCATIES'!T:T) -> 0 | J27: =IF(E27=0,D27,E27) -> 0 | AT27: =D27/12 -> 0 | AU27: =NA() -> #N/A | AV27: 3.1113805
A29: Subtotaal Overige locaties | C29: =SUM(C17:C27) -> 1442.08 | D29: =SUM(D17:D27) -> 0 | E29: =SUM(E17:E27) -> 0 | J29: =SUM(J17:J27) -> 0 | AV29: =SUM(AV9:AV27) -> 23161.246
A32: TOTAAL exclusief B.T.W. | D32: =D15+D29 -> 0 | E32: =E15+E29 -> 0 | F32: =F15 -> 0 | G32: =G15 -> 0 | H32: =H15 -> 0 | I32: =I15 -> 0 | J32: =J29+J15 -> 0

Sheet 2. BASIS INVULBLAD
A9: Ruimtesoort | B9: Vloersoort | C9: Frequentie | D9: Sleutel | E9: Norm m2/uur | G9: Soort | H9: Tarief per uur
A10: Administratieve ruimten | B10: Bolon | C10: 156 | D10: AR-Bolon-156 | G10: Dagelijkse en periodieke schoonmaak
A11: Administratieve ruimten | B11: Bolon | C11: 255 | D11: AR-Bolon-255 | G11: Leiding
A12: Administratieve ruimten | B12: DHGT | C12: 52 | D12: AR-DHGT-52
A13: Administratieve ruimten | B13: DHGT | C13: 255 | D13: AR-DHGT-255
A14: Administratieve ruimten | B14: Grindtegel | C14: 12 | D14: AR-Grindtegel-12
A15: Administratieve ruimten | B15: Inloopmat | C15: 156 | D15: AR-Inloopmat-156
A16: Administratieve ruimten | B16: Linoleum | C16: 52 | D16: AR-Linoleum-52
A17: Administratieve ruimten | B17: Linoleum | C17: 156 | D17: AR-Linoleum-156
A18: Administratieve ruimten | B18: Marmer | C18: 156 | D18: AR-Marmer-156
A19: Administratieve ruimten | B19: Tapijt | C19: 156 | D19: AR-Tapijt-156
A20: Administratieve ruimten | B20: Tapijt | C20: 255 | D20: AR-Tapijt-255
A21: Administratieve ruimten | B21: Vinyl | C21: 156 | D21: AR-Vinyl-156
A22: Administratieve ruimten | B22: Vinyl | C22: 255 | D22: AR-Vinyl-255
A23: Gangen en hallen | B23: Beton | C23: 255 | D23: GH-Beton-255
... A87: Vergader-/spreekruimten | B87: Tapijt | C87: 255 | D87: V-Tapijt-255

Sheet 3. RUIMTESTAAT ALLE LOCATIES
B3: ='1. TOTAALBLAD'!A2 -> Naam opdrachtgever | C3: ='1. TOTAALBLAD'!B2 -> Gemeente Ede
B4: ='1. TOTAALBLAD'!A3 -> Omschrijving opdracht | C4: Ruimtestaat
B5: ='1. TOTAALBLAD'!A4 -> Gebouw/plaats | C5: ='1. TOTAALBLAD'!B4 -> Alle gebouwen
B6: ='1. TOTAALBLAD'!A5 -> Besteknummer
B7: ='1. TOTAALBLAD'!A6 -> Naam leverancier
L8: Dagelijkse en periodieke schoonmaak | P8: Leiding | T8: Totaal
B9: GEBOUW | C9: Object nummer | D9: VERD. | E9: RUIMTE NR | F9: RUIMTE OMSCHRIJVING (OPDRACHTGEVER) | G9: RUIMTE CATEGORIE | H9: VLOER SOORT | I9: M2 VLOER | J9: FREQ. NOTATIE | K9: Sleutel | L9: Uren per dag | M9: Uren per jaar | N9: Uurtarief schoonmaak | O9: Prijs per jaar | P9: Percentage leiding | Q9: Uren leiding per jaar | R9: Uurtarief leiding | S9: Prijs per jaar leiding | T9: Kosten per jaar
A10: =A9+1 -> 1 | B10: Aula Ede, Asakkerweg 8 | F10: voorruimte | G10: Gangen en hallen | H10: DHGT | I10: 2.08 | J10: 255 | K10: GH-DHGT-255 | L10: =IF(VLOOKUP(K10,'2. BASIS INVULBLAD'!$D$10:$E$87,2,FALSE())=0,0,I10/VLOOKUP(K10,'2. BASIS INVULBLAD'!$D$10:$E$87,2,FALSE())) -> 0 | M10: =L10*J10 -> 0 | N10: ='2. BASIS INVULBLAD'!$H$10 -> 0 | O10: =M10*N10 -> 0 | Q10: =M10*P10 -> 0 | R10: ='2. BASIS INVULBLAD'!$H$11 -> 0 | S10: =Q10*R10 -> 0 | T10: =O10+S10 -> 0
A11: =A10+1 -> 2 | B11: Aula Ede, Asakkerweg 8 | F11: toilet familiekamer | G11: Sanitaire ruimten | H11: DHGT | I11: 1.25 | J11: 255 | K11: S-DHGT-255 | L11: =IF(VLOOKUP(K11,'2. BASIS INVULBLAD'!$D$10:$E$87,2,FALSE())=0,0,I11/VLOOKUP(K11,'2. BASIS INVULBLAD'!$D$10:$E$87,2,FALSE())) -> 0 | M11: =L11*J11 -> 0 | N11: ='2. BASIS INVULBLAD'!$H$10 -> 0 | O11: =M11*N11 -> 0 | Q11: =M11*P11 -> 0 | R11: ='2. BASIS INVULBLAD'!$H$11 -> 0 | S11: =Q11*R11 -> 0 | T11: =O11+S11 -> 0
A12: =A11+1 -> 3 | B12: Aula Ede, Asakkerweg 8 | F12: personeelsgang | G12: Gangen en hallen | H12: DHGT | I12: 27.71 | J12: 255 | K12: GH-DHGT-255 | L12: =IF(VLOOKUP(K12,'2. BASIS INVULBLAD'!$D$10:$E$87,2,FALSE())=0,0,I12/VLOOKUP(K12,'2. BASIS INVULBLAD'!$D$10:$E$87,2,FALSE())) -> 0 | M12: =L12*J12 -> 0 | N12: ='2. BASIS INVULBLAD'!$H$10 -> 0 | O12: =M12*N12 -> 0 | Q12: =M12*P12 -> 0 | R12: ='2. BASIS INVULBLAD'!$H$11 -> 0 | S12: =Q12*R12 -> 0 | T12: =O12+S12 -> 0
A13: =A12+1 -> 4 | B13: Aula Ede, Asakkerweg 8 | F13: personeelsgang | G13: Gangen en hallen | H13: Tapijt | I13: 3 | J13: 255 | K13: GH-Tapijt-255 | L13: =IF(VLOOKUP(K13,'2. BASIS INVULBLAD'!$D$10:$E$87,2,FALSE())=0,0,I13/VLOOKUP(K13,'2. BASIS INVULBLAD'!$D$10:$E$87,2,FALSE())) -> 0 | M13: =L13*J13 -> 0 | N13: ='2. BASIS INVULBLAD'!$H$10 -> 0 | O13: =M13*N13 -> 0 | Q13: =M13*P13 -> 0 | R13: ='2. BASIS INVULBLAD'!$H$11 -> 0 | S13: =Q13*R13 -> 0 | T13: =O13+S13 -> 0
A14: =A13+1 -> 5 | B14: Aula Ede, Asakkerweg 8 | F14: kantoor beheerder | G14: Administratieve ruimten | H14: DHGT | I14: 19.61 | J14: 255 | K14: AR-DHGT-255 | L14: =IF(VLOOKUP(K14,'2. BASIS INVULBLAD'!$D$10:$E$87,2,FALSE())=0,0,I14/VLOOKUP(K14,'2. BASIS INVULBLAD'!$D$10:$E$87,2,FALSE())) -> 0 | M14: =L14*J14 -> 0 | N14: ='2. BASIS INVULBLAD'!$H$10 -> 0 | O14: =M14*N14 -> 0 | Q14: =M14*P14 -> 0 | R14: ='2. BASIS INVULBLAD'!$H$11 -> 0 | S14: =Q14*R14 -> 0 | T14: =O14+S14 -> 0
A15: =A14+1 -> 6 | B15: Aula Ede, Asakkerweg 8 | F15: bergruimte/opslag | G15: Opslagruimten | H15: Beton | I15: 11.26 | J15: 52 | K15: L-Beton-52 | L15: =IF(VLOOKUP(K15,'2. BASIS INVULBLAD'!$D$10:$E$87,2,FALSE())=0,0,I15/VLOOKUP(K15,'2. BASIS INVULBLAD'!$D$10:$E$87,2,FALSE())) -> 0 | M15: =L15*J15 -> 0 | N15: ='2. BASIS INVULBLAD'!$H$10 -> 0 | O15: =M15*N15 -> 0 | Q15: =M15*P15 -> 0 | R15: ='2. BASIS INVULBLAD'!$H$11 -> 0 | S15: =Q15*R15 -> 0 | T15: =O15+S15 -> 0
A16: =A15+1 -> 7 | B16: Aula Ede, Asakkerweg 8 | F16: douche | G16: Sanitaire ruimten | H16: DHGT | I16: 4.04 | J16: 255 | K16: S-DHGT-255 | L16: =IF(VLOOKUP(K16,'2. BASIS INVULBLAD'!$D$10:$E$87,2,FALSE())=0,0,I16/VLOOKUP(K16,'2. BASIS INVULBLAD'!$D$10:$E$87,2,FALSE())) -> 0 | M16: =L16*J16 -> 0 | N16: ='2. BASIS INVULBLAD'!$H$10 -> 0 | O16: =M16*N16 -> 0 | Q16: =M16*P16 -> 0 | R16: ='2. BASIS INVULBLAD'!$H$11 -> 0 | S16: =Q16*R16 -> 0 | T16: =O16+S16 -> 0
A17: =A16+1 -> 8 | B17: Aula Ede, Asakkerweg 8 | F17: toilet | G17: Sanitaire ruimten | H17: DHGT | I17: 1.72 | J17: 255 | K17: S-DHGT-255 | L17: =IF(VLOOKUP(K17,'2. BASIS INVULBLAD'!$D$10:$E$87,2,FALSE())=0,0,I17/VLOOKUP(K17,'2. BASIS INVULBLAD'!$D$10:$E$87,2,FALSE())) -> 0 | M17: =L17*J17 -> 0 | N17: ='2. BASIS INVULBLAD'!$H$10 -> 0 | O17: =M17*N17 -> 0 | Q17: =M17*P17 -> 0 | R17: ='2. BASIS INVULBLAD'!$H$11 -> 0 | S17: =Q17*R17 -> 0 | T17: =O17+S17 -> 0
A18: =A17+1 -> 9 | B18: Aula Ede, Asakkerweg 8 | F18: kleedruimte | G18: Sanitaire ruimten | H18: DHGT | I18: 7.44 | J18: 255 | K18: S-DHGT-255 | L18: =IF(VLOOKUP(K18,'2. BASIS INVULBLAD'!$D$10:$E$87,2,FALSE())=0,0,I18/VLOOKUP(K18,'2. BASIS INVULBLAD'!$D$10:$E$87,2,FALSE())) -> 0 | M18: =L18*J18 -> 0 | N18: ='2. BASIS INVULBLAD'!$H$10 -> 0 | O18: =M18*N18 -> 0 | Q18: =M18*P18 -> 0 | R18: ='2. BASIS INVULBLAD'!$H$11 -> 0 | S18: =Q18*R18 -> 0 | T18: =O18+S18 -> 0
A19: =A18+1 -> 10 | B19: Aula Ede, Asakkerweg 8 | F19: kantoor | G19: Administratieve ruimten | H19: DHGT | I19: 12.27 | J19: 255 | K19: AR-DHGT-255 | L19: =IF(VLOOKUP(K19,'2. BASIS INVULBLAD'!$D$10:$E$87,2,FALSE())=0,0,I19/VLOOKUP(K19,'2. BASIS INVULBLAD'!$D$10:$E$87,2,FALSE())) -> 0 | M19: =L19*J19 -> 0 | N19: ='2. BASIS INVULBLAD'!$H$10 -> 0 | O19: =M19*N19 -> 0 | Q19: =M19*P19 -> 0 | R19: ='2. BASIS INVULBLAD'!$H$11 -> 0 | S19: =Q19*R19 -> 0 | T19: =O19+S19 -> 0
A20: =A19+1 -> 11 | B20: Aula Ede, Asakkerweg 8 | F20: entree / hal | G20: Gangen en hallen | H20: DHGT | I20: 84.5 | J20: 255 | K20: GH-DHGT-255 | L20: =IF(VLOOKUP(K20,'2. BASIS INVULBLAD'!$D$10:$E$87,2,FALSE())=0,0,I20/VLOOKUP(K20,'2. BASIS INVULBLAD'!$D$10:$E$87,2,FALSE())) -> 0 | M20: =L20*J20 -> 0 | N20: ='2. BASIS INVULBLAD'!$H$10 -> 0 | O20: =M20*N20 -> 0 | Q20: =M20*P20 -> 0 | R20: ='2. BASIS INVULBLAD'!$H$11 -> 0 | S20: =Q20*R20 -> 0 | T20: =O20+S20 -> 0
A21: =A20+1 -> 12 | B21: Aula Ede, Asakkerweg 8 | F21: voorruimte | G21: Gangen en hallen | H21: DHGT | I21: 2.6 | J21: 255 | K21: GH-DHGT-255 | L21: =IF(VLOOKUP(K21,'2. BASIS INVULBLAD'!$D$10:$E$87,2,FALSE())=0,0,I21/VLOOKUP(K21,'2. BASIS INVULBLAD'!$D$10:$E$87,2,FALSE())) -> 0 | M21: =L21*J21 -> 0 | N21: ='2. BASIS INVULBLAD'!$H$10 -> 0 | O21: =M21*N21 -> 0 | Q21: =M21*P21 -> 0 | R21: ='2. BASIS INVULBLAD'!$H$11 -> 0 | S21: =Q21*R21 -> 0 | T21: =O21+S21 -> 0
... A36: =A35+1 -> 27 | B36: Aula Ede, Asakkerweg 8 | F36: pantry/koffiecorner | G36: Pantry/koffiecorner | H36: DHGT | I36: 1.75 | J36: 255 | K36: P-DHGT-255 | L36: =IF(VLOOKUP(K36,'2. BASIS INVULBLAD'!$D$10:$E$87,2,FALSE())=0,0,I36/VLOOKUP(K36,'2. BASIS INVULBLAD'!$D$10:$E$87,2,FALSE())) -> 0 | M36: =L36*J36 -> 0 | N36: ='2. BASIS INVULBLAD'!$H$10 -> 0 | O36: =M36*N36 -> 0 | Q36: =M36*P36 -> 0 | R36: ='2. BASIS INVULBLAD'!$H$11 -> 0 | S36: =Q36*R36 -> 0 | T36: =O36+S36 -> 0
A38: =A36+1 -> 28 | B38: Aula Ederveen, Oude Heuvel 2 | F38: aularuimte | G38: Administratieve ruimten | H38: Grindtegel | I38: 60.29 | J38: 12 | K38: AR-Grindtegel-12 | L38: =IF(VLOOKUP(K38,'2. BASIS INVULBLAD'!$D$10:$E$87,2,FALSE())=0,0,I38/VLOOKUP(K38,'2. BASIS INVULBLAD'!$D$10:$E$87,2,FALSE())) -> 0 | M38: =L38*J38 -> 0 | N38: ='2. BASIS INVULBLAD'!$H$10 -> 0 | O38: =M38*N38 -> 0 | Q38: =M38*P38 -> 0 | R38: ='2. BASIS INVULBLAD'!$H$11 -> 0 | S38: =Q38*R38 -> 0 | T38: =O38+S38 -> 0
A39: =A38+1 -> 29 | B39: Aula Ederveen, Oude Heuvel 2 | F39: opbaarruimte | G39: Administratieve ruimten | H39: Grindtegel | I39: 16 | J39: 12 | K39: AR-Grindtegel-12 | L39: =IF(VLOOKUP(K39,'2. BASIS INVULBLAD'!$D$10:$E$87,2,FALSE())=0,0,I39/VLOOKUP(K39,'2. BASIS INVULBLAD'!$D$10:$E$87,2,FALSE())) -> 0 | M39: =L39*J39 -> 0 | N39: ='2. BASIS INVULBLAD'!$H$10 -> 0 | O39: =M39*N39 -> 0 | Q39: =M39*P39 -> 0 | R39: ='2. BASIS INVULBLAD'!$H$11 -> 0 | S39: =Q39*R39 -> 0 | T39: =O39+S39 -> 0
A40: =A39+1 -> 30 | B40: Aula Ederveen, Oude Heuvel 2 | F40: kantoor | G40: Administratieve ruimten | H40: Grindtegel | I40: 6.12 | J40: 12 | K40: AR-Grindtegel-12 | L40: =IF(VLOOKUP(K40,'2. BASIS INVULBLAD'!$D$10:$E$87,2,FALSE())=0,0,I40/VLOOKUP(K40,'2. BASIS INVULBLAD'!$D$10:$E$87,2,FALSE())) -> 0 | M40: =L40*J40 -> 0 | N40: ='2. BASIS INVULBLAD'!$H$10 -> 0 | O40: =M40*N40 -> 0 | Q40: =M40*P40 -> 0 | R40: ='2. BASIS INVULBLAD'!$H$11 -> 0 | S40: =Q40*R40 -> 0 | T40: =O40+S40 -> 0
A41: =A40+1 -> 31 | B41: Aula Ederveen, Oude Heuvel 2 | F41: opslagruimte | G41: Opslagruimten | H41: DHGT | I41: 2.37 | J41: 12 | K41: O-DHGT-12 | L41: =IF(VLOOKUP(K41,'2. BASIS INVULBLAD'!$D$10:$E$87,2,FALSE())=0,0,I41/VLOOKUP(K41,'2. BASIS INVULBLAD'!$D$10:$E$87,2,FALSE())) -> 0 | M41: =L41*J41 -> 0 | N41: ='2. BASIS INVULBLAD'!$H$10 -> 0 | O41: =M41*N41 -> 0 | Q41: =M41*P41 -> 0 | R41: ='2. BASIS INVULBLAD'!$H$11 -> 0 | S41: =Q41*R41 -> 0 | T41: =O41+S41 -> 0
A42: =A41+1 -> 32 | B42: Aula Ederveen, Oude Heuvel 2 | F42: herentoilet | G42: Sanitaire ruimten | H42: DHGT | I42: 2.37 | J42: 12 | K42: S-DHGT-12 | L42: =IF(VLOOKUP(K42,'2. BASIS INVULBLAD'!$D$10:$E$87,2,FALSE())=0,0,I42/VLOOKUP(K42,'2. BASIS INVULBLAD'!$D$10:$E$87,2,FALSE())) -> 0 | M42: =L42*J42 -> 0 | N42: ='2. BASIS INVULBLAD'!$H$10 -> 0 | O42: =M42*N42 -> 0 | Q42: =M42*P42 -> 0 | R42: ='2. BASIS INVULBLAD'!$H$11 -> 0 | S42: =Q42*R42 -> 0 | T42: =O42+S42 -> 0
A43: =A42+1 -> 33 | B43: Aula Ederveen, Oude Heuvel 2 | F43: dames-/invalidentoilet | G43: Sanitaire ruimten | H43: DHGT | I43: 5.41 | J43: 12 | K43: S-DHGT-12 | L43: =IF(VLOOKUP(K43,'2. BASIS INVULBLAD'!$D$10:$E$87,2,FALSE())=0,0,I43/VLOOKUP(K43,'2. BASIS INVULBLAD'!$D$10:$E$87,2,FALSE())) -> 0 | M43: =L43*J43 -> 0 | N43: ='2. BASIS INVULBLAD'!$H$10 -> 0 | O43: =M43*N43 -> 0 | Q43: =M43*P43 -> 0 | R43: ='2. BASIS INVULBLAD'!$H$11 -> 0 | S43: =Q43*R43 -> 0 | T43: =O43+S43 -> 0
A44: =A43+1 -> 34 | B44: Aula Ederveen, Oude Heuvel 2 | F44: entree / hal | G44: Gangen en hallen | H44: Grindtegel | I44: 7.13 | J44: 12 | K44: GH-Grindtegel-12 | L44: =IF(VLOOKUP(K44,'2. BASIS INVULBLAD'!$D$10:$E$87,2,FALSE())=0,0,I44/VLOOKUP(K44,'2. BASIS INVULBLAD'!$D$10:$E$87,2,FALSE())) -> 0 | M44: =L44*J44 -> 0 | N44: ='2. BASIS INVULBLAD'!$H$10 -> 0 | O44: =M44*N44 -> 0 | Q44: =M44*P44 -> 0 | R44: ='2. BASIS INVULBLAD'!$H$11 -> 0 | S44: =Q44*R44 -> 0 | T44: =O44+S44 -> 0
A46: =A44+1 -> 35 | B46: Aula Lunteren, Kerkhoflaan 40 | F46: keuken | G46: Pantry/koffiecorner | H46: DHGT | I46: 8.44 | J46: 52 | K46: P-DHGT-52 | L46: =IF(VLOOKUP(K46,'2. BASIS INVULBLAD'!$D$10:$E$87,2,FALSE())=0,0,I46/VLOOKUP(K46,'2. BASIS INVULBLAD'!$D$10:$E$87,2,FALSE())) -> 0 | M46: =L46*J46 -> 0 | N46: ='2. BASIS INVULBLAD'!$H$10 -> 0 | O46: =M46*N46 -> 0 | Q46: =M46*P46 -> 0 | R46: ='2. BASIS INVULBLAD'!$H$11 -> 0 | S46: =Q46*R46 -> 0 | T46: =O46+S46 -> 0
A47: =A46+1 -> 36 | B47: Aula Lunteren, Kerkhoflaan 40 | F47: opslagruimte | G47: Opslagruimten | H47: DHGT | I47: 7.61 | J47: 52 | K47: O-DHGT-52 | L47: =IF(VLOOKUP(K47,'2. BASIS INVULBLAD'!$D$10:$E$87,2,FALSE())=0,0,I47/VLOOKUP(K47,'2. BASIS INVULBLAD'!$D$10:$E$87,2,FALSE())) -> 0 | M47: =L47*J47 -> 0 | N47: ='2. BASIS INVULBLAD'!$H$10 -> 0 | O47: =M47*N47 -> 0 | Q47: =M47*P47 -> 0 | R47: ='2. BASIS INVULBLAD'!$H$11 -> 0 | S47: =Q47*R47 -> 0 | T47: =O47+S47 -> 0
A48: =A47+1 -> 37 | B48: Aula Lunteren, Kerkhoflaan 40 | F48: aula | G48: Gangen en hallen | H48: DHGT | I48: 90.21 | J48: 52 | K48: GH-DHGT-52 | L48: =IF(VLOOKUP(K48,'2. BASIS INVULBLAD'!$D$10:$E$87,2,FALSE())=0,0,I48/VLOOKUP(K48,'2. BASIS INVULBLAD'!$D$10:$E$87,2,FALSE())) -> 0 | M48: =L48*J48 -> 0 | N48: ='2. BASIS INVULBLAD'!$H$10 -> 0 | O48: =M48*N48 -> 0 | Q48: =M48*P48 -> 0 | R48: ='2. BASIS INVULBLAD'!$H$11 -> 0 | S48: =Q48*R48 -> 0 | T48: =O48+S48 -> 0
A49: =A48+1 -> 38 | B49: Aula Lunteren, Kerkhoflaan 40 | F49: entree | G49: Gangen en hallen | H49: DHGT | I49: 2.48 | J49: 52 | K49: GH-DHGT-52 | L49: =IF(VLOOKUP(K49,'2. BASIS INVULBLAD'!$D$10:$E$87,2,FALSE())=0,0,I49/VLOOKUP(K49,'2. BASIS INVULBLAD'!$D$10:$E$87,2,FALSE())) -> 0 | M49: =L49*J49 -> 0 | N49: ='2. BASIS INVULBLAD'!$H$10 -> 0 | O49: =M49*N49 -> 0 | Q49: =M49*P49 -> 0 | R49: ='2. BASIS INVULBLAD'!$H$11 -> 0 | S49: =Q49*R49 -> 0 | T49: =O49+S49 -> 0
A50: =A49+1 -> 39 | B50: Aula Lunteren, Kerkhoflaan 40 | F50: hoofdentree en centrale hal | G50: Gangen en hallen | H50: DHGT | I50: 17.61 | J50: 52 | K50: GH-DHGT-52 | L50: =IF(VLOOKUP(K50,'2. BASIS INVULBLAD'!$D$10:$E$87,2,FALSE())=0,0,I50/VLOOKUP(K50,'2. BASIS INVULBLAD'!$D$10:$E$87,2,FALSE())) -> 0 | M50: =L50*J50 -> 0 | N50: ='2. BASIS INVULBLAD'!$H$10 -> 0 | O50: =M50*N50 -> 0 | Q50: =M50*P50 -> 0 | R50: ='2. BASIS INVULBLAD'!$H$11 -> 0 | S50: =Q50*R50 -> 0 | T50: =O50+S50 -> 0
A51: =A50+1 -> 40 | B51: Aula Lunteren, Kerkhoflaan 40 | F51: kantoor | G51: Administratieve ruimten | H51: DHGT | I51: 7.55 | J51: 52 | K51: AR-DHGT-52 | L51: =IF(VLOOKUP(K51,'2. BASIS INVULBLAD'!$D$10:$E$87,2,FALSE())=0,0,I51/VLOOKUP(K51,'2. BASIS INVULBLAD'!$D$10:$E$87,2,FALSE())) -> 0 | M51: =L51*J51 -> 0 | N51: ='2. BASIS INVULBLAD'!$H$10 -> 0 | O51: =M51*N51 -> 0 | Q51: =M51*P51 -> 0 | R51: ='2. BASIS INVULBLAD'!$H$11 -> 0 | S51: =Q51*R51 -> 0 | T51: =O51+S51 -> 0
A52: =A51+1 -> 41 | B52: Aula Lunteren, Kerkhoflaan 40 | F52: herentoilet | G52: Sanitaire ruimten | H52: DHGT | I52: 1.8 | J52: 52 | K52: S-DHGT-52 | L52: =IF(VLOOKUP(K52,'2. BASIS INVULBLAD'!$D$10:$E$87,2,FALSE())=0,0,I52/VLOOKUP(K52,'2. BASIS INVULBLAD'!$D$10:$E$87,2,FALSE())) -> 0 | M52: =L52*J52 -> 0 | N52: ='2. BASIS INVULBLAD'!$H$10 -> 0 | O52: =M52*N52 -> 0 | Q52: =M52*P52 -> 0 | R52: ='2. BASIS INVULBLAD'!$H$11 -> 0 | S52: =Q52*R52 -> 0 | T52: =O52+S52 -> 0
A53: =A52+1 -> 42 | B53: Aula Lunteren, Kerkhoflaan 40 | F53: douche | G53: Sanitaire ruimten | H53: DHGT | I53: 1.85 | J53: 52 | K53: S-DHGT-52 | L53: =IF(VLOOKUP(K53,'2. BASIS INVULBLAD'!$D$10:$E$87,2,FALSE())=0,0,I53/VLOOKUP(K53,'2. BASIS INVULBLAD'!$D$10:$E$87,2,FALSE())) -> 0 | M53: =L53*J53 -> 0 | N53: ='2. BASIS INVULBLAD'!$H$10 -> 0 | O53: =M53*N53 -> 0 | Q53: =M53*P53 -> 0 | R53: ='2. BASIS INVULBLAD'!$H$11 -> 0 | S53: =Q53*R53 -> 0 | T53: =O53+S53 -> 0
A54: =A53+1 -> 43 | B54: Aula Lunteren, Kerkhoflaan 40 | F54: damestoilet | G54: Sanitaire ruimten | H54: DHGT | I54: 1.98 | J54: 52 | K54: S-DHGT-52 | L54: =IF(VLOOKUP(K54,'2. BASIS INVULBLAD'!$D$10:$E$87,2,FALSE())=0,0,I54/VLOOKUP(K54,'2. BASIS INVULBLAD'!$D$10:$E$87,2,FALSE())) -> 0 | M54: =L54*J54 -> 0 | N54: ='2. BASIS INVULBLAD'!$H$10 -> 0 | O54: =M54*N54 -> 0 | Q54: =M54*P54 -> 0 | R54: ='2. BASIS INVULBLAD'!$H$11 -> 0 | S54: =Q54*R54 -> 0 | T54: =O54+S54 -> 0
A55: =A54+1 -> 44 | B55: Aula Lunteren, Kerkhoflaan 40 | F55: invalidentoilet | G55: Sanitaire ruimten | H55: DHGT | I55: 3.77 | J55: 52 | K55: S-DHGT-52 | L55: =IF(VLOOKUP(K55,'2. BASIS INVULBLAD'!$D$10:$E$87,2,FALSE())=0,0,I55/VLOOKUP(K55,'2. BASIS INVULBLAD'!$D$10:$E$87,2,FALSE())) -> 0 | M55: =L55*J55 -> 0 | N55: ='2. BASIS INVULBLAD'!$H$10 -> 0 | O55: =M55*N55 -> 0 | Q55: =M55*P55 -> 0 | R55: ='2. BASIS INVULBLAD'!$H$11 -> 0 | S55: =Q55*R55 -> 0 | T55: =O55+S55 -> 0
A57: =A55+1 -> 45 | B57: Aula Otterlo, Pothovenlaan 44 | F57: aularuimte | G57: Administratieve ruimten | H57: Grindtegel | I57: 60.29 | J57: 12 | K57: AR-Grindtegel-12 | L57: =IF(VLOOKUP(K57,'2. BASIS INVULBLAD'!$D$10:$E$87,2,FALSE())=0,0,I57/VLOOKUP(K57,'2. BASIS INVULBLAD'!$D$10:$E$87,2,FALSE())) -> 0 | M57: =L57*J57 -> 0 | N57: ='2. BASIS INVULBLAD'!$H$10 -> 0 | O57: =M57*N57 -> 0 | Q57: =M57*P57 -> 0 | R57: ='2. BASIS INVULBLAD'!$H$11 -> 0 | S57: =Q57*R57 -> 0 | T57: =O57+S57 -> 0
A58: =A57+1 -> 46 | B58: Aula Otterlo, Pothovenlaan 44 | F58: opbaarruimte | G58: Administratieve ruimten | H58: Grindtegel | I58: 16 | J58: 12 | K58: AR-Grindtegel-12 | L58: =IF(VLOOKUP(K58,'2. BASIS INVULBLAD'!$D$10:$E$87,2,FALSE())=0,0,I58/VLOOKUP(K58,'2. BASIS INVULBLAD'!$D$10:$E$87,2,FALSE())) -> 0 | M58: =L58*J58 -> 0 | N58: ='2. BASIS INVULBLAD'!$H$10 -> 0 | O58: =M58*N58 -> 0 | Q58: =M58*P58 -> 0 | R58: ='2. BASIS INVULBLAD'!$H$11 -> 0 | S58: =Q58*R58 -> 0 | T58: =O58+S58 -> 0
A59: =A58+1 -> 47 | B59: Aula Otterlo, Pothovenlaan 44 | F59: kantoor | G59: Administratieve ruimten | H59: Grindtegel | I59: 6.12 | J59: 12 | K59: AR-Grindtegel-12 | L59: =IF(VLOOKUP(K59,'2. BASIS INVULBLAD'!$D$10:$E$87,2,FALSE())=0,0,I59/VLOOKUP(K59,'2. BASIS INVULBLAD'!$D$10:$E$87,2,FALSE())) -> 0 | M59: =L59*J59 -> 0 | N59: ='2. BASIS INVULBLAD'!$H$10 -> 0 | O59: =M59*N59 -> 0 | Q59: =M59*P59 -> 0 | R59: ='2. BASIS INVULBLAD'!$H$11 -> 0 | S59: =Q59*R59 -> 0 | T59: =O59+S59 -> 0
...

Sheet 4. GLASBEWASSING
A3: Locatie | B3: Freq/J | C3: omschrijving | D3: M2 | E3: omschrijving Bereikbaarheidsmiddel | F3: m2 prijs | G3: prijs per beurt | H3: per jaar | I3: Totaal
A5: Raadhuis | B5: 3 | C5: Gevelglas buitenzijde | D5: 2923.5 | G5: =D5*F5 -> 0 | H5: =G5*B5 -> 0
A6: Raadhuis | B6: 6 | C6: Gevelglas buitenzijde (entrees) | D6: 86 | G6: =D6*F6 -> 0 | H6: =G6*B6 -> 0
A7: Raadhuis | B7: 3 | C7: Gevelglas binnenzijde | D7: 2879.6 | G7: =D7*F7 -> 0 | H7: =G7*B7 -> 0
A8: Raadhuis | B8: 6 | C8: Gevelglas binnenzijde (entrees) | D8: 86 | G8: =D8*F8 -> 0 | H8: =G8*B8 -> 0
A9: Raadhuis | B9: 3 | C9: Separatieglas (m ² is totaal) | D9: 2777.3 | G9: =D9*F9 -> 0 | H9: =G9*B9 -> 0
A10: Raadhuis | B10: 3 | C10: bereikbaarheidsmiddelen | D10: 1 | E10: hoogwerker, Raadhuis | G10: =D10*F10 -> 0 | H10: =G10*B10 -> 0
A11: Raadhuis | B11: Totaal | I11: =SUM(H5:H10) -> 0
A12: Doelen | B12: 3 | C12: Gevelglas buitenzijde | D12: 1011.8 | G12: =D12*F12 -> 0 | H12: =G12*B12 -> 0
A13: Doelen | B13: 3 | C13: Gevelglas buitenzijde (entrees) | D13: 30 | G13: =D13*F13 -> 0 | H13: =G13*B13 -> 0
A14: Doelen | B14: 3 | C14: Gevelglas binnenzijde | D14: 1011.8 | G14: =D14*F14 -> 0 | H14: =G14*B14 -> 0
A15: Doelen | B15: 3 | C15: Gevelglas binnenzijde (entrees) | D15: 30 | G15: =D15*F15 -> 0 | H15: =G15*B15 -> 0
A16: Doelen | B16: 3 | C16: Separatieglas | D16: 1075.4 | G16: =D16*F16 -> 0 | H16: =G16*B16 -> 0
A17: Doelen | B17: 3 | C17: bereikbaarheidsmiddelen | D17: 1 | E17: Hoogwerker, Doelen | G17: =D17*F17 -> 0 | H17: =G17*B17 -> 0
A18: Doelen | B18: Totaal | I18: =SUM(H12:H17) -> 0
A19: Vleugel | B19: 3 | C19: Gevelglas buitenzijde | D19: 727.9 | G19: =D19*F19 -> 0 | H19: =G19*B19 -> 0
A20: Vleugel | B20: 3 | C20: Gevelglas buitenzijde (entrees) | D20: 8 | G20: =D20*F20 -> 0 | H20: =G20*B20 -> 0
A21: Vleugel | B21: 3 | C21: Gevelglas binnenzijde | D21: 727 | G21: =D21*F21 -> 0 | H21: =G21*B21 -> 0
A22: Vleugel | B22: 3 | C22: Gevelglas binnenzijde (entrees) | D22: 8 | G22: =D22*F22 -> 0 | H22: =G22*B22 -> 0
A23: Vleugel | B23: 3 | C23: Separatieglas | D23: 78.1 | G23: =D23*F23 -> 0 | H23: =G23*B23 -> 0
A24: Vleugel | B24: 3 | C24: bereikbaarheidsmiddelen | D24: 1 | E24: Hoogwerker, vleugel | G24: =D24*F24 -> 0 | H24: =G24*B24 -> 0
A25: Vleugel | B25: Totaal | I25: =SUM(H19:H24) -> 0
A26: Manenberg | B26: 3 | C26: Gevelglas binnenzijde | D26: 145.2 | G26: =D26*F26 -> 0 | H26: =G26*B26 -> 0
A27: Manenberg | B27: 3 | C27: Separatieglas | D27: 396.4 | G27: =D27*F27 -> 0 | H27: =G27*B27 -> 0
A28: Manenberg | B28: Totaal | I28: =SUM(H26:H27) -> 0
A29: Gemeente werf | B29: 3 | C29: Gevelglas buitenzijde | D29: 379.6 | G29: =D29*F29 -> 0 | H29: =G29*B29 -> 0
A30: Gemeente werf | B30: 3 | C30: Gevelglas buitenzijde (entrees) | D30: 8 | G30: =D30*F30 -> 0 | H30: =G30*B30 -> 0
A31: Gemeente werf | B31: 3 | C31: Gevelglas binnenzijde | D31: 312.4 | G31: =D31*F31 -> 0 | H31: =G31*B31 -> 0
A32: Gemeente werf | B32: 3 | C32: Gevelglas binnenzijde (entrees) | D32: 8 | G32: =D32*F32 -> 0 | H32: =G32*B32 -> 0
A33: Gemeente werf | B33: 3 | C33: Separatieglas | D33: 65.1 | G33: =D33*F33 -> 0 | H33: =G33*B33 -> 0
A34: Gemeente werf | B34: 3 | C34: Roldeur (buitenzijde) | D34: 195 | G34: =D34*F34 -> 0 | H34: =G34*B34 -> 0
A35: Gemeente werf | B35: 3 | C35: bereikbaarheidsmiddelen | D35: 1 | E35: Hoogwerker i.v.m. vijver en lamellen | G35: =D35*F35 -> 0 | H35: =G35*B35 -> 0
A36: Gemeente werf | B36: Totaal | I36: =SUM(H29:H35) -> 0
I38: =SUM(I5:I36) -> 0

Sheet 5. SANITAIRE VOORZIENINGEN
A2: Locatie | B2: Omschrijving | C2: Aantal | D2: Type/Model | E2: Prijs per stuk / per maand | F2: totaalprijs per maand | G2: Per jaar | H2: Totaal
A4: Raadhuis | B4: Zeepdispenser 1L | C4: 27 | F4: =C4*E4 -> 0 | G4: =F4*12 -> 0
A5: Raadhuis | B5: Borstelset | C5: 31 | F5: =C5*E5 -> 0 | G5: =F5*12 -> 0
A6: Raadhuis | B6: Luchtverfrisser | C6: 43 | F6: =C6*E6 -> 0 | G6: =F6*12 -> 0
A7: Raadhuis | B7: Vouwhandoekautomaat | C7: 7 | F7: =C7*E7 -> 0 | G7: =F7*12 -> 0
A8: Raadhuis | B8: Seatcleaner | C8: 31 | F8: =C8*E8 -> 0 | G8: =F8*12 -> 0
A9: Raadhuis | B9: Damesverbandcontainer | C9: 34 | F9: =C9*E9 -> 0 | G9: =F9*12 -> 0
A10: Raadhuis | B10: Hair & body dispenser | C10: 2 | F10: =C10*E10 -> 0 | G10: =F10*12 -> 0
A11: Raadhuis | B11: Toiletrol automaat | C11: 31 | F11: =C11*E11 -> 0 | G11: =F11*12 -> 0
A12: Raadhuis | B12: Filter Dyson handdroger | C12: 18 | F12: =C12*E12 -> 0 | G12: =F12*12 -> 0
A13: Raadhuis | H13: =SUM(G4:G12) -> 0
A14: Doelen | B14: Zeepdispenser 1L | C14: 59 | F14: =C14*E14 -> 0 | G14: =F14*12 -> 0
A15: Doelen | B15: Borstelset | C15: 23 | F15: =C15*E15 -> 0 | G15: =F15*12 -> 0
A16: Doelen | B16: Luchtverfrisser | C16: 15 | F16: =C16*E16 -> 0 | G16: =F16*12 -> 0
A17: Doelen | B17: Vouwhandoekautomaat | C17: 34 | F17: =C17*E17 -> 0 | G17: =F17*12 -> 0
A18: Doelen | B18: Seatcleaner | C18: 55 | F18: =C18*E18 -> 0 | G18: =F18*12 -> 0
A19: Doelen | B19: Damesverbandcontainer | C19: 13 | F19: =C19*E19 -> 0 | G19: =F19*12 -> 0
A20: Doelen | B20: Hair & body dispenser | C20: 0 | F20: =C20*E20 -> 0 | G20: =F20*12 -> 0
A21: Doelen | B21: Toiletrol automaat | C21: 55 | F21: =C21*E21 -> 0 | G21: =F21*12 -> 0
A22: Doelen | B22: Filter Dyson handdroger | C22: 12 | F22: =C22*E22 -> 0 | G22: =F22*12 -> 0
A23: Doelen | H23: =SUM(G14:G22) -> 0
A24: Vleugel | B24: Zeepdispenser 1L | C24: 9 | F24: =C24*E24 -> 0 | G24: =F24*12 -> 0
A25: Vleugel | B25: Borstelset | C25: 11 | F25: =C25*E25 -> 0 | G25: =F25*12 -> 0
A26: Vleugel | B26: Luchtverfrisser | C26: 9 | F26: =C26*E26 -> 0 | G26: =F26*12 -> 0
A27: Vleugel | B27: Vouwhandoekautomaat | C27: 9 | F27: =C27*E27 -> 0 | G27: =F27*12 -> 0
A28: Vleugel | B28: Seatcleaner | C28: 11 | F28: =C28*E28 -> 0 | G28: =F28*12 -> 0
A29: Vleugel | B29: Damesverbandcontainer | C29: 6 | F29: =C29*E29 -> 0 | G29: =F29*12 -> 0
A30: Vleugel | B30: Hair & body dispenser | C30: 0 | F30: =C30*E30 -> 0 | G30: =F30*12 -> 0
A31: Vleugel | B31: Toiletrol automaat | C31: 11 | F31: =C31*E31 -> 0 | G31: =F31*12 -> 0
A32: Vleugel | H32: =SUM(G24:G31) -> 0
A33: Manenberg | B33: Zeepdispenser 1L | C33: 15 | F33: =C33*E33 -> 0 | G33: =F33*12 -> 0
A34: Manenberg | B34: Borstelset | C34: 15 | F34: =C34*E34 -> 0 | G34: =F34*12 -> 0
A35: Manenberg | B35: Luchtverfrisser | C35: 11 | F35: =C35*E35 -> 0 | G35: =F35*12 -> 0
A36: Manenberg | B36: Vouwhandoekautomaat | C36: 7 | F36: =C36*E36 -> 0 | G36: =F36*12 -> 0
A37: Manenberg | B37: Seatcleaner | C37: 10 | F37: =C37*E37 -> 0 | G37: =F37*12 -> 0
A38: Manenberg | B38: Damesverbandcontainer | C38: 7 | F38: =C38*E38 -> 0 | G38: =F38*12 -> 0
A39: Manenberg | B39: Hair & body dispenser | C39: 0 | F39: =C39*E39 -> 0 | G39: =F39*12 -> 0
A40: Manenberg | B40: Toiletrol automaat | C40: 15 | F40: =C40*E40 -> 0 | G40: =F40*12 -> 0
A41: Manenberg | H41: =SUM(G33:G40) -> 0
A42: Gemeente werf | B42: Zeepdispenser 1L | C42: 5 | F42: =C42*E42 -> 0 | G42: =F42*12 -> 0
...

Sheet 6. VLOERONDERHOUD
A3: Locatie | B3: Freq/J | C3: omschrijving | D3: M2 | E3: m2 prijs | F3: prijs per beurt | G3: per jaar | H3: Totaal
A5: Raadhuis | B5: 1 | C5: Bolon | D5: 4008.66 | F5: =D5*E5 -> 0 | G5: =F5*B5 -> 0
A6: Raadhuis | B6: 1 | C6: DHGT | D6: 1101.77 | F6: =D6*E6 -> 0 | G6: =F6*B6 -> 0
A7: Raadhuis | B7: 1 | C7: Houtnerf/vinyl | D7: 195.14 | F7: =D7*E7 -> 0 | G7: =F7*B7 -> 0
A8: Raadhuis | B8: 1 | C8: Linoleum | D8: 1135.11 | F8: =D8*E8 -> 0 | G8: =F8*B8 -> 0
A9: Raadhuis | B9: 1 | C9: Marmer | D9: 359.58 | F9: =D9*E9 -> 0 | G9: =F9*B9 -> 0
A10: Raadhuis | B10: 1 | C10: Tapijt | D10: 4412.42 | F10: =D10*E10 -> 0 | G10: =F10*B10 -> 0
A11: Raadhuis | B11: Totaal | H11: =SUM(G5:G10) -> 0
A12: Doelen | B12: 1 | C12: DHGT | D12: 123.64 | F12: =D12*E12 -> 0 | G12: =F12*B12 -> 0
A13: Doelen | B13: 1 | C13: Hout | D13: 138.36 | F13: =D13*E13 -> 0 | G13: =F13*B13 -> 0
A14: Doelen | B14: 1 | C14: Linoleum | D14: 85.36 | F14: =D14*E14 -> 0 | G14: =F14*B14 -> 0
A15: Doelen | B15: 1 | C15: Tapijt | D15: 3238.07 | F15: =D15*E15 -> 0 | G15: =F15*B15 -> 0
A16: Doelen | B16: 1 | C16: Vinyl | D16: 98.19 | F16: =D16*E16 -> 0 | G16: =F16*B16 -> 0
A17: Doelen | B17: Totaal | H17: =SUM(G12:G16) -> 0
A18: Vleugel | B18: 1 | C18: DHGT | D18: 66.64 | F18: =D18*E18 -> 0 | G18: =F18*B18 -> 0
A19: Vleugel | B19: 1 | C19: Hout | D19: 104.93 | F19: =D19*E19 -> 0 | G19: =F19*B19 -> 0
A20: Vleugel | B20: 1 | C20: Linoleum | D20: 5.31 | F20: =D20*E20 -> 0 | G20: =F20*B20 -> 0
A21: Vleugel | B21: 1 | C21: Tapijt | D21: 2141.89 | F21: =D21*E21 -> 0 | G21: =F21*B21 -> 0
A22: Vleugel | B22: Totaal | H22: =SUM(G18:G21) -> 0
A23: Manenberg | B23: 1 | C23: DHGT | D23: 25.36 | F23: =D23*E23 -> 0 | G23: =F23*B23 -> 0
A24: Manenberg | B24: 1 | C24: Tapijt | D24: 999.17 | F24: =D24*E24 -> 0 | G24: =F24*B24 -> 0
A25: Manenberg | B25: Totaal | H25: =SUM(G23:G24) -> 0
A26: Manenberg Werkkracht | B26: 1 | C26: DHGT | D26: 39.36 | F26: =D26*E26 -> 0 | G26: =F26*B26 -> 0
A27: Manenberg Werkkracht | B27: 1 | C27: PVC | D27: 62.52 | F27: =D27*E27 -> 0 | G27: =F27*B27 -> 0
A28: Manenberg Werkkracht | B28: 1 | C28: Tapijt | D28: 880.31 | F28: =D28*E28 -> 0 | G28: =F28*B28 -> 0
A29: Manenberg Werkkracht | B29: Totaal | H29: =SUM(G26:G28) -> 0
A30: Gemeente werf | B30: 1 | C30: DHGT | D30: 220.63 | F30: =D30*E30 -> 0 | G30: =F30*B30 -> 0
A31: Gemeente werf | B31: 1 | C31: Hout | D31: 29.88 | F31: =D31*E31 -> 0 | G31: =F31*B31 -> 0
A32: Gemeente werf | B32: 1 | C32: PVC | D32: 27 | F32: =D32*E32 -> 0 | G32: =F32*B32 -> 0
A33: Gemeente werf | B33: 1 | C33: Tapijt | D33: 384.76 | F33: =D33*E33 -> 0 | G33: =F33*B33 -> 0
A34: Gemeente werf | B34: 1 | C34: Vinyl | D34: 171.42 | F34: =D34*E34 -> 0 | G34: =F34*B34 -> 0
A35: Gemeente werf | B35: Totaal | H35: =SUM(G30:G34) -> 0
H37: =SUM(H5:H35) -> 0

Sheet 7. AFROEPPRIJZEN
A3: Naam opdrachtgever | B3: Gemeente Ede
A4: Calculatie onderdeel | B4: Afroepprijzen
A5: Gebouw/plaats | B5: Alle locaties
A6: Besteknummer
A7: Naam leverancier
A8: Prijspeil
A9: Bijzonderheden | B9: Uitvoering normale werktijden: maandag t/m vrijdag [06.00 en 21.30 uur]
A12: Prijsvorming Extra Vloerenonderhoud (inclusief uit-/inruimen van het meubilair)
C14: Prijs p/m2 excl. btw
A15: Activiteit | B15: Toelichting | C15: 0-100m2 | D15: 101-500m2 | E15: 501-1000m2 | F15: > 1000m2
A16: Lino-/marmoleum conserveren | B16: verwijderen alle oude lagen en aanbrengen van 2 nieuwe lagen
A17: Lino-/marmoleum sprayen | B17: geheel
A18: Steen/PVC schrobben
A19: Tapijt sproeiextraheren
A20: Tapijt poederreiniging
A21: Tapijt koolzuureinging
A23: Prijsvorming Stoelen/banken/fauteuils reiniging (uitvoering op afroep)
A24: (inclusief materialen en middelen)
C26: Prijs p/stuk excl. btw
A27: Activiteit | B27: Toelichting | C27: Aantal stuks 0-10 | D27: Aantal stuks 11-50 | E27: Aantal stuks 51-100 | F27: Aantal stuks > 100
A28: Stoelen stoffering koolzuurreiniging
A29: Stoelen stoffering shamponeren
A30: Stoelen stoffering poederreinging
A32: Extra aanvullende werkzaamheden als onderdeel van overeenkomst
A34: werkzaamheden | D34: Aantal | E34: Freq | F34: Tarief per stuk | G34: Prijs per jaar
A36: reiniging computerscherm, toetsenbord, muis | B36: Betreft alle hoofdlocaties | D36: 1000 | E36: 2 | G36: =D36*E36*F36 -> 0
A37: Vervangen en wassen theedoeken pantry's | B37: Betreft alle hoofdlocaties | D37: 33 | E37: 255 | G37: =D37*E37*F37 -> 0
A38: Leveren afwasmiddel/afwasborstel | B38: Betreft alle hoofdlocaties | D38: 33 | E38: 12 | G38: =D38*E38*F38 -> 0
G39: =SUM(G36:G38) -> 0
A42: Opmerking:
A43: Alle prijzen inclusief materialen en middelen, voorrijkosten en overige bijkomende kosten.
A44: Alle prijzen exclusief btw
A47: Tarieven
A48: regietarieven regulier
A49: regietarieven specialistisch
