Workbook
Name Print_Area: Totaalblad!#REF!

Sheet Basisgegevens
A1: Basisgegevens Contract
A3: Aanbestedende Dienst
A4: Naam Opdrachtgever | B4: Stichting Resonans
A5: Vestigingsplaats Opdrachtgever | B5: Leiderdorp
A6: Kvk-nummer | B6: 27320519
A8: Alpha Adviesbureau
A9: Contactpersoon | B9: Lieke Buurman
A10: Nummer kantoor | B10: 085 200 3991
A11: Communicatie | B11: Via Tenderned
A13: Inschrijver
A14: Volledige naam Inschrijver (Handelsnaam KvK)
A15: Vestigingsplaats Inschrijver (KvK)
A16: KvK-nummer
A17: Tekenbevoegde voor overeenkomt
A18: Functie
A20: Contactpersoon offerte
A21: Telefoonnummer Kantoor
A22: Postadres Kantoor
A23: PC + Woonplaats Kantoor
A24: Mobielnummer contactpersoon offerte
A25: E-mail adres contactpersoon offerte

Sheet Totaalblad
B1: Prijzenblad t.b.v. de gunning Versie 2
B2: Instructie
B6: Onderdeel ICT Hardware | C6: Fictieve uitgave | D6: Korting- en/of Opslagpercentage | E6: Korting- en of Opslag bedrag | F6: Vergelijkingsprijs
A7: 1.1 | B7: Chromebooks | C7: 20000 | D7: ='1. Chromebooks'!C10 -> 0 | E7: =SUM(C7*D7) -> 0 | F7: =SUM(C7+E7) -> 20000
A8: 1.2 | B8: ='1. Chromebooks'!B12 -> Oplaadkarren Chromebooks | C8: 10000 | D8: ='1. Chromebooks'!C21 -> 0 | E8: =SUM(C8*D8) -> 0 | F8: =SUM(C8+E8) -> 10000
A9: 2.1 | B9: ='2. Windows'!B3 -> Laptops | C9: 150000 | D9: ='2. Windows'!C10 -> 0 | E9: =SUM(C9*D9) -> 0 | F9: =SUM(C9+E9) -> 150000
A10: 2.2 | B10: ='2. Windows'!B12 -> Desktops | C10: 25000 | D10: ='2. Windows'!C20 -> 0 | E10: =SUM(C10*D10) -> 0 | F10: =SUM(C10+E10) -> 25000
A11: 2.3 | B11: ='2. Windows'!B22 -> Monitoren Desktop | C11: 25000 | D11: ='2. Windows'!C31 -> 0 | E11: =SUM(C11*D11) -> 0 | F11: =SUM(C11+E11) -> 25000
A12: 3.1 | B12: ='3. Apple'!B3 -> iPads | C12: 50000 | D12: ='3. Apple'!C9 -> 0 | E12: =SUM(C12*D12) -> 0 | F12: =SUM(C12-E12) -> 50000
A13: 3.2 | B13: ='3. Apple'!B12 -> Oplaadkasten iPads | C13: 20000 | D13: ='3. Apple'!C21 -> 0 | E13: =SUM(C13*D13) -> 0 | F13: =SUM(C13+E13) -> 20000
A14: 4.1 | B14: ='4. Accessoires'!B3 -> Accessoires | C14: 20000 | D14: ='4. Accessoires'!B7 -> 0 | E14: =SUM(C14*D14) -> 0 | F14: =SUM(C14+E14) -> 20000
B15: Onderdeel overige leveringen/diensten | F15: Vergelijkingsprijs
A16: 5.1 | B16: ='5. Reparatietarieven'!B3 -> Reparatietarieven | F16: ='5. Reparatietarieven'!E8 -> 2500
A17: 6.1 | B17: ='6. Overige diensten'!B3 -> Overige diensten | F17: ='6. Overige diensten'!E7 -> 0
B18: Eerste bestelling | F18: ='Eerste bestelling'!H11 -> 0
D19: Totaal vergelijkingsprijs | F19: =F7+F8+F9+F10+F11+F12+F13+F14+F16+F17+F18 -> 322500

Sheet Eerste bestelling
A1: Prijzenblad eerste bestelling
B3: Levering | C3: Aantal* | D3: prijs per stuk | E3: Inkoopprijs | F3: Opslagpercentage | G3: Korting- en of Opslag bedrag | H3: Vergelijkingsprijs
A4: 1 | B4: Laptops | C4: 127 | E4: =SUM(C4*D4) -> 0 | G4: =SUM(E4*F4) -> 0 | H4: =SUM(E4+G4) -> 0
A5: 2 | B5: Dockingstations | C5: 5 | E5: =SUM(C5*D5) -> 0 | G5: =SUM(E5*F5) -> 0 | H5: =SUM(E5+G5) -> 0
A6: 3 | B6: Desktops | C6: 29 | E6: =SUM(C6*D6) -> 0 | G6: =SUM(E6*F6) -> 0 | H6: =SUM(E6+G6) -> 0
A7: 4 | B7: Monitor | C7: 29 | E7: =SUM(C7*D7) -> 0 | G7: =SUM(E7*F7) -> 0 | H7: =SUM(E7+G7) -> 0
F8: Kortingspercentage
A9: 5 | B9: Ipads | C9: 12 | E9: =SUM(C9*D9) -> 0 | G9: =SUM(E9*F9) -> 0 | H9: =SUM(E9-G9) -> 0
G11: Totaal | H11: =SUM(H4:H9) -> 0
A12: Specificatie monitoren; Beeldscherm; 27” inch Fysieke resolutie: 2.560 x 1.440 WQHD ingebouwde USB-C dock / KVM De specificaties van de overige prosucten van de eerste bestelling vindt u in de antwoorden van de NvI.

Sheet 1. Chromebooks
B1: Chromebooks
A2: 1.1 | B2: Chromebooks
B3: Technische Specificatie | C3: Omschrijving
B4: Geschikt voor | C4: Ruggedized (is geschikt voor kinderen); kwalitatief stevig toetsenbord
B5: Licentie | C5: Google-licentie meegeleverd
B6: Batterij | C6: Minimaal 12 uur batterijlading
B7: Merk | C7: A merk (zie het Programma van Eisen)
B8: Stroom | C8: Kabel voor stroomvoorziening is mee geleverd
B9: Prijzen Chromebooks
B10: Opslagpercentage
A12: 1.2 | B12: Oplaadkarren Chromebooks
B13: Technische Specificatie | C13: Omschrijving
B14: Omvang/grote | C14: Leverbaar in 2 verschillende oplaadkasten: 24 en 32 Chromebooks
B15: Materiaal | C15: Metaal. De oplaadkar is stoot- en krasbestendig
B16: Afsluitbaar | C16: De oplaadkar is afsluitbaar met een slot
B17: Stroom | C17: De oplaadkar is voorzien van een 220V stopcontact (geaard en gezekerd)
B18: Aansluitingen | C18: Er dient een mogelijkheid te zijn om een verwisselbare aansluitkoppelstuk op de aansluiting te plaatsen, minimaal USB C
B19: Kabels | C19: De kabels zijn volledig weggewerkt in de oplaadkar
B20: Prijzen Oplaadkast
B21: Opslagpercentage oplaadkar

Sheet 2. Windows
B1: Windows
A3: 2.1 | B3: Laptops
B4: Technische Specificatie | C4: Omschrijving
B5: Model | C5: De mogelijkheid om een leerkrachten model en leerlingen model te leveren
B6: Licentie | C6: Windows 11 PRO
B7: Merk | C7: A merk (zie het Programma van Eisen)
B8: Stroom | C8: Kabel voor stroomvoorziening is mee geleverd
B9: Prijzen Laptop
B10: Opslagpercentage
A12: 2.2 | B12: Desktops
B13: Technische Specificatie | C13: Omschrijving
B14: Model | C14: Klein model (mogelijkheid om aan de wand/scherm te bevestigen)
B15: Licentie | C15: Windows 11 PRO
B16: Merk | C16: A merk (zie het Programma van Eisen)
B17: Materiaal | C17: Metaal of soortgelijk
B18: Stroom | C18: Kabel voor stroomvoorziening is mee geleverd
B19: Prijzen Desktop
B20: Opslagpercentage
A22: 2.3 | B22: Monitoren Desktop
B23: Technische Specificatie | C23: Omschrijving
B24: Formaat | C24: Keuze uit 24, 27 en 34'' inch
B25: Scherm | C25: Full HD en Anti reflectielaag
B26: Merk | C26: A merk (zie het Programma van Eisen)
B27: Aansluitingen | C27: 2 HDMI-aansluitingen en/of 2 displaypoort
B28: Kijkhoek | C28: 178 graden
B29: Verstelbaarheid | C29: In hoogte verstelbaar
B30: Prijzen Monitor
B31: Opslagpercentage

Sheet 3. Apple
B1: Apple
A3: 3.1 | B3: iPads
B4: Technische Specificatie | C4: Omschrijving
B5: Model | C5: Leverancier kan de meest actuele iPad leveren. De opdrachtgever maakt bij de aanschaf een keuze voor het model binnen deze overeenkomst.
B6: Opslag | C6: Minimaal 128 Gb
B7: Kleuren | C7: Alle beschikbare kleuren
B8: Prijzen iPads
B9: Let op: kortingspercentage
A12: 3.2 | B12: Oplaadkasten iPads
B13: Technische Specificatie | C13: Omschrijving
B14: Omvang/grote | C14: Leverbaar in verschillende oplaadkasten: minimaal 10 en 20 iPads.
B15: Afsluitbaar | C15: De oplaadkast is afsluitbaar met een slot.
B16: Inclusief hoes | C16: De iPads passen inclusief hoes in de oplaadkast.
B17: Stroom | C17: Oplaadkast is voorzien van een 220V stopcontact (geaard en gezekerd).
B18: Aansluitingen | C18: Lightning aansluiting. Er dient een mogelijkheid te zijn om een verwisselbare aansluitkoppelstuk op de aansluiting te plaatsen, minimaal USB C.
B19: Kabels | C19: De kabels zijn volledig weggewerkt in de oplaadkast.
B20: Prijzen Oplaadkast
B21: Opslagpercentage

Sheet 4. Accessoires
B1: Accessoires
A3: 4.1 | B3: Accessoires
B4: De opdrachtgever heeft de mogelijkheid om accessoires voor de alle Devices bij te bestellen tegen een vast opslagpercentage. Onder accessoires wordt verstaan maar niet beperkt tot: toetsenborden, muizen, beschermhoesen, dockingstations etc.
B5: De accessoires kunnen besteld worden in de webshop van de leverancier, met de opgegeven opslagpercentage.
B6: Opslagpercentage accessoires

Sheet 5. Reparatietarieven
A1: Reparatietarieven
A3: 5.1 | B3: Reparatietarieven | C3: Fictieve aantallen / eenheden | D3: Uurtarief | E3: Totaal
B4: Uurtarief reparatiewerkzaamheden | C4: 20 | E4: =SUM(C4*D4) -> 0
B5: Onderzoekskosten | C5: 20 | E5: =SUM(C5*D5) -> 0
C6: Fictieve inkoopwaarde | D6: Opslagpercentage
B7: Opslagpercentage onderdelen | C7: 2500 | E7: =SUM(C7*D7)+C7 -> 2500
D8: Totaal | E8: =SUM(E4:E7) -> 2500

Sheet 6. Overige diensten
A1: Overige diensten (optioneel)
A3: 6.1 | B3: Overige diensten | C3: Fictief aantal | D3: Prijs per stuk | E3: Totaal
B4: Uitpakken en afvoeren verpakkingsmateriaal | C4: 100 | E4: =SUM(C4*D4) -> 0
B5: Afvoeren oude hardware inclusief het aanleveren van certificaten van vernietiging | C5: 100 | E5: =SUM(C5*D5) -> 0
B6: Volledig werkend opleveren | C6: 100 | E6: =SUM(C6*D6) -> 0
D7: Totaal | E7: =SUM(E4:E6) -> 0
