Workbook

Sheet Ruimtestaat
B1: V4
C2: Ruimtestaat
C4: Onderwijsinstelling: | D4: Twine
C5: Adres: | D5: Hantumerweg 28
C6: Plaats: | D6: Dokkum
C8: Aantal locaties: | D8: 1
M9: Werkprogramma | V9: Vloeronderhoud
B10: Nr. | C10: Locatie | D10: Verdieping | E10: R. nr. | F10: Ruimtesoort | G10: VSR cat. | H10: Opp. | I10: Vloersoort | J10: Opmerking | M10: Werkprogramma (selecteer) | N10: Categorie | O10: Prestatie | P10: Freq. | Q10: Tarief | R10: Tarief per jaar | S10: m2/jaar | T10: uren/jaar | V10: Type onderhoud (selecteer) | W10: Freq. | X10: Tarief | Y10: Tarief per jaar
B11: 1 | C11: Twine | D11: Begane | E11: 1.02 | F11: hoofdingang | H11: 10.7 | I11: mat | M11: entree 5 * per week | O11: =HLOOKUP(M11,Werkprogramma!$A$1:$BQ$61,57,FALSE) -> 292 | P11: =HLOOKUP(M11,Werkprogramma!$A$1:$BQ$61,3,FALSE) -> 200 | Q11: =Werkprogramma!$B$67 -> 36.5 | R11: =((H11*P11)/O11)*Q11 -> 267.5 | S11: =H11*P11 -> 2140 | T11: =R11/Q11 -> 7.3287671 | V11: Tapijtreiniging excl. uit- en inruimen | W11: 2 | X11: =VLOOKUP(V11,Werkprogramma!$A$59:$B$65,2,FALSE) -> 3 | Y11: =H11*W11*X11 -> 64.2
B12: 1 | C12: Twine | D12: Begane | E12: 1.02 | F12: verkeersruimte | H12: 71.4 | I12: lino | M12: gangen, hallen en liften 5 * per week | O12: =HLOOKUP(M12,Werkprogramma!$A$1:$BQ$61,57,FALSE) -> 579 | P12: =HLOOKUP(M12,Werkprogramma!$A$1:$BQ$61,3,FALSE) -> 200 | Q12: =Werkprogramma!$B$67 -> 36.5 | R12: =((H12*P12)/O12)*Q12 -> 900.20725 | S12: =H12*P12 -> 14280 | T12: =R12/Q12 -> 24.663212 | V12: Strippen en conserveren incl. uit- en inruimen | W12: 2 | X12: =VLOOKUP(V12,Werkprogramma!$A$59:$B$65,2,FALSE) -> 3.75 | Y12: =H12*W12*X12 -> 535.5
B13: 1 | C13: Twine | D13: Begane | E13: 1.03 | F13: kantoor concierge | H13: 18.7 | I13: pvc | M13: kantoren / leerkrachtruimte 3 * per week | O13: =HLOOKUP(M13,Werkprogramma!$A$1:$BQ$61,57,FALSE) -> 325 | P13: =HLOOKUP(M13,Werkprogramma!$A$1:$BQ$61,3,FALSE) -> 120 | Q13: =Werkprogramma!$B$67 -> 36.5 | R13: =((H13*P13)/O13)*Q13 -> 252.01846 | S13: =H13*P13 -> 2244 | T13: =R13/Q13 -> 6.9046154 | V13: Schrobben harde vloeren incl. uit- en inruimen | W13: 2 | X13: =VLOOKUP(V13,Werkprogramma!$A$59:$B$65,2,FALSE) -> 1.5 | Y13: =H13*W13*X13 -> 56.1
B14: 1 | C14: Twine | D14: Begane | E14: 1.04 | F14: kantoor administratie | H14: 36 | I14: tapijt | M14: kantoren / leerkrachtruimte 3 * per week | O14: =HLOOKUP(M14,Werkprogramma!$A$1:$BQ$61,57,FALSE) -> 325 | P14: =HLOOKUP(M14,Werkprogramma!$A$1:$BQ$61,3,FALSE) -> 120 | Q14: =Werkprogramma!$B$67 -> 36.5 | R14: =((H14*P14)/O14)*Q14 -> 485.16923 | S14: =H14*P14 -> 4320 | T14: =R14/Q14 -> 13.292308 | V14: Tapijtreiniging incl. uit- en inruimen | W14: 2 | X14: =VLOOKUP(V14,Werkprogramma!$A$59:$B$65,2,FALSE) -> 3.5 | Y14: =H14*W14*X14 -> 252
B15: 1 | C15: Twine | D15: Begane | E15: 1.05 | F15: kantoor org & ontw | H15: 33 | I15: tapijt | M15: kantoren / leerkrachtruimte 3 * per week | O15: =HLOOKUP(M15,Werkprogramma!$A$1:$BQ$61,57,FALSE) -> 325 | P15: =HLOOKUP(M15,Werkprogramma!$A$1:$BQ$61,3,FALSE) -> 120 | Q15: =Werkprogramma!$B$67 -> 36.5 | R15: =((H15*P15)/O15)*Q15 -> 444.73846 | S15: =H15*P15 -> 3960 | T15: =R15/Q15 -> 12.184615 | V15: Tapijtreiniging incl. uit- en inruimen | W15: 2 | X15: =VLOOKUP(V15,Werkprogramma!$A$59:$B$65,2,FALSE) -> 3.5 | Y15: =H15*W15*X15 -> 231
B16: 1 | C16: Twine | D16: Begane | E16: 1.06 | F16: kantoor ond. ondersteuning | H16: 36 | I16: tapijt | M16: kantoren / leerkrachtruimte 3 * per week | O16: =HLOOKUP(M16,Werkprogramma!$A$1:$BQ$61,57,FALSE) -> 325 | P16: =HLOOKUP(M16,Werkprogramma!$A$1:$BQ$61,3,FALSE) -> 120 | Q16: =Werkprogramma!$B$67 -> 36.5 | R16: =((H16*P16)/O16)*Q16 -> 485.16923 | S16: =H16*P16 -> 4320 | T16: =R16/Q16 -> 13.292308 | V16: Tapijtreiniging incl. uit- en inruimen | W16: 2 | X16: =VLOOKUP(V16,Werkprogramma!$A$59:$B$65,2,FALSE) -> 3.5 | Y16: =H16*W16*X16 -> 252
B17: 1 | C17: Twine | D17: Begane | E17: 1.07 | F17: toilet dames | H17: 5.6 | I17: gietvloer | M17: toiletten bovenbouw/personeel 5 * per week | O17: =HLOOKUP(M17,Werkprogramma!$A$1:$BQ$61,57,FALSE) -> 72 | P17: =HLOOKUP(M17,Werkprogramma!$A$1:$BQ$61,3,FALSE) -> 200 | Q17: =Werkprogramma!$B$67 -> 36.5 | R17: =((H17*P17)/O17)*Q17 -> 567.77778 | S17: =H17*P17 -> 1120 | T17: =R17/Q17 -> 15.555556 | V17: Schrobben harde vloeren incl. uit- en inruimen | W17: 2 | X17: =VLOOKUP(V17,Werkprogramma!$A$59:$B$65,2,FALSE) -> 1.5 | Y17: =H17*W17*X17 -> 16.8
B18: 1 | C18: Twine | D18: Begane | E18: 1.08 | F18: toilet heren | H18: 4.9 | I18: gietvloer | M18: toiletten bovenbouw/personeel 5 * per week | O18: =HLOOKUP(M18,Werkprogramma!$A$1:$BQ$61,57,FALSE) -> 72 | P18: =HLOOKUP(M18,Werkprogramma!$A$1:$BQ$61,3,FALSE) -> 200 | Q18: =Werkprogramma!$B$67 -> 36.5 | R18: =((H18*P18)/O18)*Q18 -> 496.80556 | S18: =H18*P18 -> 980 | T18: =R18/Q18 -> 13.611111 | V18: Schrobben harde vloeren incl. uit- en inruimen | W18: 2 | X18: =VLOOKUP(V18,Werkprogramma!$A$59:$B$65,2,FALSE) -> 1.5 | Y18: =H18*W18*X18 -> 14.7
B19: 1 | C19: Twine | D19: Begane | E19: 1.2a | F19: garderobe | H19: 6.7 | I19: lino | M19: garderobe 3 * per week | O19: =HLOOKUP(M19,Werkprogramma!$A$1:$BQ$61,57,FALSE) -> 401 | P19: =HLOOKUP(M19,Werkprogramma!$A$1:$BQ$61,3,FALSE) -> 120 | Q19: =Werkprogramma!$B$67 -> 36.5 | R19: =((H19*P19)/O19)*Q19 -> 73.182045 | S19: =H19*P19 -> 804 | T19: =R19/Q19 -> 2.0049875 | V19: Strippen en conserveren incl. uit- en inruimen | W19: 2 | X19: =VLOOKUP(V19,Werkprogramma!$A$59:$B$65,2,FALSE) -> 3.75 | Y19: =H19*W19*X19 -> 50.25
B20: 1 | C20: Twine | D20: Begane | E20: 1.02b | F20: wachtruimte | H20: 28.3 | I20: lino | M20: gangen, hallen en liften 5 * per week | O20: =HLOOKUP(M20,Werkprogramma!$A$1:$BQ$61,57,FALSE) -> 579 | P20: =HLOOKUP(M20,Werkprogramma!$A$1:$BQ$61,3,FALSE) -> 200 | Q20: =Werkprogramma!$B$67 -> 36.5 | R20: =((H20*P20)/O20)*Q20 -> 356.80484 | S20: =H20*P20 -> 5660 | T20: =R20/Q20 -> 9.775475 | V20: Strippen en conserveren incl. uit- en inruimen | W20: 2 | X20: =VLOOKUP(V20,Werkprogramma!$A$59:$B$65,2,FALSE) -> 3.75 | Y20: =H20*W20*X20 -> 212.25
B21: 1 | C21: Twine | D21: Begane | E21: 1.09 | F21: verkeersruimte | H21: 56.9 | I21: natuursteen | M21: gangen, hallen en liften 5 * per week | O21: =HLOOKUP(M21,Werkprogramma!$A$1:$BQ$61,57,FALSE) -> 579 | P21: =HLOOKUP(M21,Werkprogramma!$A$1:$BQ$61,3,FALSE) -> 200 | Q21: =Werkprogramma!$B$67 -> 36.5 | R21: =((H21*P21)/O21)*Q21 -> 717.39206 | S21: =H21*P21 -> 11380 | T21: =R21/Q21 -> 19.654577 | V21: Schrobben harde vloeren incl. uit- en inruimen | W21: 2 | X21: =VLOOKUP(V21,Werkprogramma!$A$59:$B$65,2,FALSE) -> 1.5 | Y21: =H21*W21*X21 -> 170.7
B22: 1 | C22: Twine | D22: Begane | E22: 1.09 | F22: verkeersruimte | H22: 11.7 | I22: coral | M22: gangen, hallen en liften 5 * per week | O22: =HLOOKUP(M22,Werkprogramma!$A$1:$BQ$61,57,FALSE) -> 579 | P22: =HLOOKUP(M22,Werkprogramma!$A$1:$BQ$61,3,FALSE) -> 200 | Q22: =Werkprogramma!$B$67 -> 36.5 | R22: =((H22*P22)/O22)*Q22 -> 147.51295 | S22: =H22*P22 -> 2340 | T22: =R22/Q22 -> 4.0414508 | V22: Tapijtreiniging incl. uit- en inruimen | W22: 2 | X22: =VLOOKUP(V22,Werkprogramma!$A$59:$B$65,2,FALSE) -> 3.5 | Y22: =H22*W22*X22 -> 81.9
B23: 1 | C23: Twine | D23: Begane | E23: 1.09 | F23: verkeersruimte | H23: 7 | I23: lino | M23: gangen, hallen en liften 5 * per week | O23: =HLOOKUP(M23,Werkprogramma!$A$1:$BQ$61,57,FALSE) -> 579 | P23: =HLOOKUP(M23,Werkprogramma!$A$1:$BQ$61,3,FALSE) -> 200 | Q23: =Werkprogramma!$B$67 -> 36.5 | R23: =((H23*P23)/O23)*Q23 -> 88.255613 | S23: =H23*P23 -> 1400 | T23: =R23/Q23 -> 2.417962 | V23: Strippen en conserveren incl. uit- en inruimen | W23: 2 | X23: =VLOOKUP(V23,Werkprogramma!$A$59:$B$65,2,FALSE) -> 3.75 | Y23: =H23*W23*X23 -> 52.5
B24: 1 | C24: Twine | D24: Begane | E24: 1.10 | F24: verkeersruimte | H24: 32.9 | I24: natuursteen | M24: gangen, hallen en liften 5 * per week | O24: =HLOOKUP(M24,Werkprogramma!$A$1:$BQ$61,57,FALSE) -> 579 | P24: =HLOOKUP(M24,Werkprogramma!$A$1:$BQ$61,3,FALSE) -> 200 | Q24: =Werkprogramma!$B$67 -> 36.5 | R24: =((H24*P24)/O24)*Q24 -> 414.80138 | S24: =H24*P24 -> 6580 | T24: =R24/Q24 -> 11.364421 | V24: Schrobben harde vloeren incl. uit- en inruimen | X24: =VLOOKUP(V24,Werkprogramma!$A$59:$B$65,2,FALSE) -> 1.5 | Y24: =H24*W24*X24 -> 0
B25: 1 | C25: Twine | D25: Begane | E25: 1.11 | F25: lesruimte/ glazenhuis | H25: 18.3 | I25: tapijt | M25: leslokalen 5 * per week | O25: =HLOOKUP(M25,Werkprogramma!$A$1:$BQ$61,57,FALSE) -> 357 | P25: =HLOOKUP(M25,Werkprogramma!$A$1:$BQ$61,3,FALSE) -> 200 | Q25: =Werkprogramma!$B$67 -> 36.5 | R25: =((H25*P25)/O25)*Q25 -> 374.20168 | S25: =H25*P25 -> 3660 | T25: =R25/Q25 -> 10.252101 | V25: Tapijtreiniging incl. uit- en inruimen | W25: 2 | X25: =VLOOKUP(V25,Werkprogramma!$A$59:$B$65,2,FALSE) -> 3.5 | Y25: =H25*W25*X25 -> 128.1
B26: 1 | C26: Twine | D26: Begane | E26: 1.12 | F26: miva | H26: 3.2 | I26: gietvloer | M26: toiletten bovenbouw/personeel 5 * per week | O26: =HLOOKUP(M26,Werkprogramma!$A$1:$BQ$61,57,FALSE) -> 72 | P26: =HLOOKUP(M26,Werkprogramma!$A$1:$BQ$61,3,FALSE) -> 200 | Q26: =Werkprogramma!$B$67 -> 36.5 | R26: =((H26*P26)/O26)*Q26 -> 324.44444 | S26: =H26*P26 -> 640 | T26: =R26/Q26 -> 8.8888889 | V26: Schrobben harde vloeren incl. uit- en inruimen | W26: 2 | X26: =VLOOKUP(V26,Werkprogramma!$A$59:$B$65,2,FALSE) -> 1.5 | Y26: =H26*W26*X26 -> 9.6
B27: 1 | C27: Twine | D27: Begane | E27: 1.13a | F27: time out ruimte | H27: 13.1 | I27: tapijt | M27: kantoren / leerkrachtruimte 3 * per week | O27: =HLOOKUP(M27,Werkprogramma!$A$1:$BQ$61,57,FALSE) -> 325 | P27: =HLOOKUP(M27,Werkprogramma!$A$1:$BQ$61,3,FALSE) -> 120 | Q27: =Werkprogramma!$B$67 -> 36.5 | R27: =((H27*P27)/O27)*Q27 -> 176.54769 | S27: =H27*P27 -> 1572 | T27: =R27/Q27 -> 4.8369231 | V27: Tapijtreiniging incl. uit- en inruimen | W27: 2 | X27: =VLOOKUP(V27,Werkprogramma!$A$59:$B$65,2,FALSE) -> 3.5 | Y27: =H27*W27*X27 -> 91.7
B28: 1 | C28: Twine | D28: Begane | E28: 1.13b | F28: kantoor | H28: 22.24 | I28: tapijt | M28: kantoren / leerkrachtruimte 3 * per week | O28: =HLOOKUP(M28,Werkprogramma!$A$1:$BQ$61,57,FALSE) -> 325 | P28: =HLOOKUP(M28,Werkprogramma!$A$1:$BQ$61,3,FALSE) -> 120 | Q28: =Werkprogramma!$B$67 -> 36.5 | R28: =((H28*P28)/O28)*Q28 -> 299.72677 | S28: =H28*P28 -> 2668.8 | T28: =R28/Q28 -> 8.2116923 | V28: Tapijtreiniging incl. uit- en inruimen | X28: =VLOOKUP(V28,Werkprogramma!$A$59:$B$65,2,FALSE) -> 3.5 | Y28: =H28*W28*X28 -> 0
B29: 1 | C29: Twine | D29: Begane | E29: 1.14 | F29: toiletten spechten meisjes | H29: 2.3 | I29: gietvloer | M29: toiletten bovenbouw/personeel 5 * per week | O29: =HLOOKUP(M29,Werkprogramma!$A$1:$BQ$61,57,FALSE) -> 72 | P29: =HLOOKUP(M29,Werkprogramma!$A$1:$BQ$61,3,FALSE) -> 200 | Q29: =Werkprogramma!$B$67 -> 36.5 | R29: =((H29*P29)/O29)*Q29 -> 233.19444 | S29: =H29*P29 -> 460 | T29: =R29/Q29 -> 6.3888889 | V29: Schrobben harde vloeren incl. uit- en inruimen | W29: 2 | X29: =VLOOKUP(V29,Werkprogramma!$A$59:$B$65,2,FALSE) -> 1.5 | Y29: =H29*W29*X29 -> 6.9
B30: 1 | C30: Twine | D30: Begane | E30: 1.15 | F30: toiletten spechten jongens | H30: 4.7 | I30: gietvloer | M30: toiletten bovenbouw/personeel 5 * per week | O30: =HLOOKUP(M30,Werkprogramma!$A$1:$BQ$61,57,FALSE) -> 72 | P30: =HLOOKUP(M30,Werkprogramma!$A$1:$BQ$61,3,FALSE) -> 200 | Q30: =Werkprogramma!$B$67 -> 36.5 | R30: =((H30*P30)/O30)*Q30 -> 476.52778 | S30: =H30*P30 -> 940 | T30: =R30/Q30 -> 13.055556 | V30: Schrobben harde vloeren incl. uit- en inruimen | W30: 2 | X30: =VLOOKUP(V30,Werkprogramma!$A$59:$B$65,2,FALSE) -> 1.5 | Y30: =H30*W30*X30 -> 14.1
B31: 1 | C31: Twine | D31: Begane | E31: 1.17 | F31: praktijkruimte 2 | H31: 50 | I31: lino | M31: kantoren / leerkrachtruimte 3 * per week | O31: =HLOOKUP(M31,Werkprogramma!$A$1:$BQ$61,57,FALSE) -> 325 | P31: =HLOOKUP(M31,Werkprogramma!$A$1:$BQ$61,3,FALSE) -> 120 | Q31: =Werkprogramma!$B$67 -> 36.5 | R31: =((H31*P31)/O31)*Q31 -> 673.84615 | S31: =H31*P31 -> 6000 | T31: =R31/Q31 -> 18.461538 | V31: Strippen en conserveren incl. uit- en inruimen | W31: 2 | X31: =VLOOKUP(V31,Werkprogramma!$A$59:$B$65,2,FALSE) -> 3.75 | Y31: =H31*W31*X31 -> 375
B32: 1 | C32: Twine | D32: Begane | E32: 1.18 | F32: praktijkruimte 1 | H32: 50 | I32: lino | M32: kantoren / leerkrachtruimte 3 * per week | O32: =HLOOKUP(M32,Werkprogramma!$A$1:$BQ$61,57,FALSE) -> 325 | P32: =HLOOKUP(M32,Werkprogramma!$A$1:$BQ$61,3,FALSE) -> 120 | Q32: =Werkprogramma!$B$67 -> 36.5 | R32: =((H32*P32)/O32)*Q32 -> 673.84615 | S32: =H32*P32 -> 6000 | T32: =R32/Q32 -> 18.461538 | V32: Strippen en conserveren incl. uit- en inruimen | W32: 2 | X32: =VLOOKUP(V32,Werkprogramma!$A$59:$B$65,2,FALSE) -> 3.75 | Y32: =H32*W32*X32 -> 375
B33: 1 | C33: Twine | D33: Begane | E33: 1.20 | F33: leslokaal Spechten | H33: 47.7 | I33: lino | M33: leslokalen 5 * per week | O33: =HLOOKUP(M33,Werkprogramma!$A$1:$BQ$61,57,FALSE) -> 357 | P33: =HLOOKUP(M33,Werkprogramma!$A$1:$BQ$61,3,FALSE) -> 200 | Q33: =Werkprogramma!$B$67 -> 36.5 | R33: =((H33*P33)/O33)*Q33 -> 975.37815 | S33: =H33*P33 -> 9540 | T33: =R33/Q33 -> 26.722689 | V33: Strippen en conserveren incl. uit- en inruimen | W33: 2 | X33: =VLOOKUP(V33,Werkprogramma!$A$59:$B$65,2,FALSE) -> 3.75 | Y33: =H33*W33*X33 -> 357.75
B34: 1 | C34: Twine | D34: Begane | E34: 1.21 | F34: leslokaal Duiven | H34: 56 | I34: lino | M34: leslokalen 5 * per week | O34: =HLOOKUP(M34,Werkprogramma!$A$1:$BQ$61,57,FALSE) -> 357 | P34: =HLOOKUP(M34,Werkprogramma!$A$1:$BQ$61,3,FALSE) -> 200 | Q34: =Werkprogramma!$B$67 -> 36.5 | R34: =((H34*P34)/O34)*Q34 -> 1145.098 | S34: =H34*P34 -> 11200 | T34: =R34/Q34 -> 31.372549 | V34: Strippen en conserveren incl. uit- en inruimen | W34: 2 | X34: =VLOOKUP(V34,Werkprogramma!$A$59:$B$65,2,FALSE) -> 3.75 | Y34: =H34*W34*X34 -> 420
B35: 1 | C35: Twine | D35: Begane | E35: 1.19 en 1.22 | F35: verkeersruimte | H35: 123.4 | I35: lino | M35: gangen, hallen en liften 5 * per week | O35: =HLOOKUP(M35,Werkprogramma!$A$1:$BQ$61,57,FALSE) -> 579 | P35: =HLOOKUP(M35,Werkprogramma!$A$1:$BQ$61,3,FALSE) -> 200 | Q35: =Werkprogramma!$B$67 -> 36.5 | R35: =((H35*P35)/O35)*Q35 -> 1555.8204 | S35: =H35*P35 -> 24680 | T35: =R35/Q35 -> 42.625216 | V35: Strippen en conserveren incl. uit- en inruimen | W35: 2 | X35: =VLOOKUP(V35,Werkprogramma!$A$59:$B$65,2,FALSE) -> 3.75 | Y35: =H35*W35*X35 -> 925.5
B36: 1 | C36: Twine | D36: Begane | E36: 1.25 | F36: keuken | H36: 7.2 | I36: tegels | M36: keuken / pantry 3 * per week | O36: =HLOOKUP(M36,Werkprogramma!$A$1:$BQ$61,57,FALSE) -> 183 | P36: =HLOOKUP(M36,Werkprogramma!$A$1:$BQ$61,3,FALSE) -> 120 | Q36: =Werkprogramma!$B$67 -> 36.5 | R36: =((H36*P36)/O36)*Q36 -> 172.32787 | S36: =H36*P36 -> 864 | T36: =R36/Q36 -> 4.7213115 | V36: Schrobben harde vloeren incl. uit- en inruimen | W36: 2 | X36: =VLOOKUP(V36,Werkprogramma!$A$59:$B$65,2,FALSE) -> 1.5 | Y36: =H36*W36*X36 -> 21.6
B37: 1 | C37: Twine | D37: Begane | E37: 1.23 | F37: bieb | H37: 50 | I37: lino | M37: kantoren / leerkrachtruimte 3 * per week | O37: =HLOOKUP(M37,Werkprogramma!$A$1:$BQ$61,57,FALSE) -> 325 | P37: =HLOOKUP(M37,Werkprogramma!$A$1:$BQ$61,3,FALSE) -> 120 | Q37: =Werkprogramma!$B$67 -> 36.5 | R37: =((H37*P37)/O37)*Q37 -> 673.84615 | S37: =H37*P37 -> 6000 | T37: =R37/Q37 -> 18.461538 | V37: Strippen en conserveren incl. uit- en inruimen | W37: 2 | X37: =VLOOKUP(V37,Werkprogramma!$A$59:$B$65,2,FALSE) -> 3.75 | Y37: =H37*W37*X37 -> 375
B38: 1 | C38: Twine | D38: Begane | E38: 1.27 | F38: toilet j/m Lijsters | H38: 4.7 | I38: gietvloer | M38: toiletten bovenbouw/personeel 5 * per week | O38: =HLOOKUP(M38,Werkprogramma!$A$1:$BQ$61,57,FALSE) -> 72 | P38: =HLOOKUP(M38,Werkprogramma!$A$1:$BQ$61,3,FALSE) -> 200 | Q38: =Werkprogramma!$B$67 -> 36.5 | R38: =((H38*P38)/O38)*Q38 -> 476.52778 | S38: =H38*P38 -> 940 | T38: =R38/Q38 -> 13.055556 | V38: Schrobben harde vloeren incl. uit- en inruimen | W38: 2 | X38: =VLOOKUP(V38,Werkprogramma!$A$59:$B$65,2,FALSE) -> 1.5 | Y38: =H38*W38*X38 -> 14.1
B39: 1 | C39: Twine | D39: Begane | E39: 1.28 | F39: toilet j/m Lijsters | H39: 2.3 | I39: gietvloer | M39: toiletten bovenbouw/personeel 5 * per week | O39: =HLOOKUP(M39,Werkprogramma!$A$1:$BQ$61,57,FALSE) -> 72 | P39: =HLOOKUP(M39,Werkprogramma!$A$1:$BQ$61,3,FALSE) -> 200 | Q39: =Werkprogramma!$B$67 -> 36.5 | R39: =((H39*P39)/O39)*Q39 -> 233.19444 | S39: =H39*P39 -> 460 | T39: =R39/Q39 -> 6.3888889 | V39: Schrobben harde vloeren incl. uit- en inruimen | W39: 2 | X39: =VLOOKUP(V39,Werkprogramma!$A$59:$B$65,2,FALSE) -> 1.5 | Y39: =H39*W39*X39 -> 6.9
B40: 1 | C40: Twine | D40: Begane | E40: 1.29 | F40: leslokaal Lijsters | H40: 47.7 | I40: lino | M40: leslokalen 5 * per week | O40: =HLOOKUP(M40,Werkprogramma!$A$1:$BQ$61,57,FALSE) -> 357 | P40: =HLOOKUP(M40,Werkprogramma!$A$1:$BQ$61,3,FALSE) -> 200 | Q40: =Werkprogramma!$B$67 -> 36.5 | R40: =((H40*P40)/O40)*Q40 -> 975.37815 | S40: =H40*P40 -> 9540 | T40: =R40/Q40 -> 26.722689 | V40: Strippen en conserveren incl. uit- en inruimen | W40: 2 | X40: =VLOOKUP(V40,Werkprogramma!$A$59:$B$65,2,FALSE) -> 3.75 | Y40: =H40*W40*X40 -> 357.75
... B79: 1 | C79: Twine | D79: Begane | E79: 1.72 | F79: speellokaal | H79: 76 | I79: sportvloer | M79: peuterspeelzaal 5 * per week | O79: =HLOOKUP(M79,Werkprogramma!$A$1:$BQ$61,57,FALSE) -> 228 | P79: =HLOOKUP(M79,Werkprogramma!$A$1:$BQ$61,3,FALSE) -> 200 | Q79: =Werkprogramma!$B$67 -> 36.5 | R79: =((H79*P79)/O79)*Q79 -> 2433.3333 | S79: =H79*P79 -> 15200 | T79: =R79/Q79 -> 66.666667 | V79: Schrobben harde vloeren incl. uit- en inruimen | W79: 2 | X79: =VLOOKUP(V79,Werkprogramma!$A$59:$B$65,2,FALSE) -> 1.5 | Y79: =H79*W79*X79 -> 228
B80: 1 | C80: Twine | D80: Begane | E80: 1.77 | F80: berging sport | H80: 6.8 | I80: tapijt | M80: berging / archief | O80: =HLOOKUP(M80,Werkprogramma!$A$1:$BQ$61,57,FALSE) -> 393 | P80: =HLOOKUP(M80,Werkprogramma!$A$1:$BQ$61,3,FALSE) -> 12 | Q80: =Werkprogramma!$B$67 -> 36.5 | R80: =((H80*P80)/O80)*Q80 -> 7.578626 | S80: =H80*P80 -> 81.6 | T80: =R80/Q80 -> 0.20763359 | V80: Schrobben harde vloeren excl. uit- en inruimen | W80: 1 | X80: =VLOOKUP(V80,Werkprogramma!$A$59:$B$65,2,FALSE) -> 1 | Y80: =H80*W80*X80 -> 6.8
B81: 1 | C81: Twine | D81: Begane | E81: 1.73 | F81: keuken | H81: 4.8 | I81: tegels | M81: keuken / pantry 3 * per week | O81: =HLOOKUP(M81,Werkprogramma!$A$1:$BQ$61,57,FALSE) -> 183 | P81: =HLOOKUP(M81,Werkprogramma!$A$1:$BQ$61,3,FALSE) -> 120 | Q81: =Werkprogramma!$B$67 -> 36.5 | R81: =((H81*P81)/O81)*Q81 -> 114.88525 | S81: =H81*P81 -> 576 | T81: =R81/Q81 -> 3.147541 | V81: Schrobben harde vloeren incl. uit- en inruimen | W81: 2 | X81: =VLOOKUP(V81,Werkprogramma!$A$59:$B$65,2,FALSE) -> 1.5 | Y81: =H81*W81*X81 -> 14.4
B82: 1 | C82: Twine | D82: Begane | E82: 1.76 | F82: berging kleuters | H82: 5.9 | I82: lino | M82: berging / archief | O82: =HLOOKUP(M82,Werkprogramma!$A$1:$BQ$61,57,FALSE) -> 393 | P82: =HLOOKUP(M82,Werkprogramma!$A$1:$BQ$61,3,FALSE) -> 12 | Q82: =Werkprogramma!$B$67 -> 36.5 | R82: =((H82*P82)/O82)*Q82 -> 6.5755725 | S82: =H82*P82 -> 70.8 | T82: =R82/Q82 -> 0.18015267 | V82: Strippen en conserveren incl. uit- en inruimen | W82: 2 | X82: =VLOOKUP(V82,Werkprogramma!$A$59:$B$65,2,FALSE) -> 3.75 | Y82: =H82*W82*X82 -> 44.25
B83: 1 | C83: Twine | D83: Begane | E83: 1.78 | F83: leslokaal Vogelnest | H83: 27.9 | I83: lino | M83: leslokalen 5 * per week | O83: =HLOOKUP(M83,Werkprogramma!$A$1:$BQ$61,57,FALSE) -> 357 | P83: =HLOOKUP(M83,Werkprogramma!$A$1:$BQ$61,3,FALSE) -> 200 | Q83: =Werkprogramma!$B$67 -> 36.5 | R83: =((H83*P83)/O83)*Q83 -> 570.5042 | S83: =H83*P83 -> 5580 | T83: =R83/Q83 -> 15.630252 | V83: Strippen en conserveren incl. uit- en inruimen | W83: 2 | X83: =VLOOKUP(V83,Werkprogramma!$A$59:$B$65,2,FALSE) -> 3.75 | Y83: =H83*W83*X83 -> 209.25
B84: 1 | C84: Twine | D84: Begane | E84: 1.79 | F84: berging Vogelnest | H84: 6.5 | I84: lino | M84: leslokalen 5 * per week | O84: =HLOOKUP(M84,Werkprogramma!$A$1:$BQ$61,57,FALSE) -> 357 | P84: =HLOOKUP(M84,Werkprogramma!$A$1:$BQ$61,3,FALSE) -> 200 | Q84: =Werkprogramma!$B$67 -> 36.5 | R84: =((H84*P84)/O84)*Q84 -> 132.91317 | S84: =H84*P84 -> 1300 | T84: =R84/Q84 -> 3.6414566 | V84: Strippen en conserveren incl. uit- en inruimen | W84: 2 | X84: =VLOOKUP(V84,Werkprogramma!$A$59:$B$65,2,FALSE) -> 3.75 | Y84: =H84*W84*X84 -> 48.75
B85: 1 | C85: Twine | D85: Begane | E85: 1.80 | F85: toilet Roodborst | H85: 6.3 | I85: gietvloer | M85: toiletten bovenbouw/personeel 5 * per week | O85: =HLOOKUP(M85,Werkprogramma!$A$1:$BQ$61,57,FALSE) -> 72 | P85: =HLOOKUP(M85,Werkprogramma!$A$1:$BQ$61,3,FALSE) -> 200 | Q85: =Werkprogramma!$B$67 -> 36.5 | R85: =((H85*P85)/O85)*Q85 -> 638.75 | S85: =H85*P85 -> 1260 | T85: =R85/Q85 -> 17.5 | V85: Schrobben harde vloeren incl. uit- en inruimen | W85: 2 | X85: =VLOOKUP(V85,Werkprogramma!$A$59:$B$65,2,FALSE) -> 1.5 | Y85: =H85*W85*X85 -> 18.9
B86: 1 | C86: Twine | D86: Begane | E86: 1.81 | F86: leslokaal koolmees | H86: 58.3 | I86: lino | M86: leslokalen 5 * per week | O86: =HLOOKUP(M86,Werkprogramma!$A$1:$BQ$61,57,FALSE) -> 357 | P86: =HLOOKUP(M86,Werkprogramma!$A$1:$BQ$61,3,FALSE) -> 200 | Q86: =Werkprogramma!$B$67 -> 36.5 | R86: =((H86*P86)/O86)*Q86 -> 1192.1289 | S86: =H86*P86 -> 11660 | T86: =R86/Q86 -> 32.661064 | V86: Strippen en conserveren incl. uit- en inruimen | W86: 2 | X86: =VLOOKUP(V86,Werkprogramma!$A$59:$B$65,2,FALSE) -> 3.75 | Y86: =H86*W86*X86 -> 437.25
B87: 1 | C87: Twine | D87: Begane | E87: 1.46 | F87: leslokaal Roodborst | H87: 67.6 | I87: lino | M87: leslokalen 5 * per week | O87: =HLOOKUP(M87,Werkprogramma!$A$1:$BQ$61,57,FALSE) -> 357 | P87: =HLOOKUP(M87,Werkprogramma!$A$1:$BQ$61,3,FALSE) -> 200 | Q87: =Werkprogramma!$B$67 -> 36.5 | R87: =((H87*P87)/O87)*Q87 -> 1382.2969 | S87: =H87*P87 -> 13520 | T87: =R87/Q87 -> 37.871148 | V87: Strippen en conserveren incl. uit- en inruimen | W87: 2 | X87: =VLOOKUP(V87,Werkprogramma!$A$59:$B$65,2,FALSE) -> 3.75 | Y87: =H87*W87*X87 -> 507
B88: 1 | C88: Twine | D88: Begane | E88: 1.82 | F88: peuterspeelplaats | H88: 67.6 | I88: lino | M88: peuterspeelzaal 5 * per week | O88: =HLOOKUP(M88,Werkprogramma!$A$1:$BQ$61,57,FALSE) -> 228 | P88: =HLOOKUP(M88,Werkprogramma!$A$1:$BQ$61,3,FALSE) -> 200 | Q88: =Werkprogramma!$B$67 -> 36.5 | R88: =((H88*P88)/O88)*Q88 -> 2164.386 | S88: =H88*P88 -> 13520 | T88: =R88/Q88 -> 59.298246 | V88: Strippen en conserveren incl. uit- en inruimen | W88: 2 | X88: =VLOOKUP(V88,Werkprogramma!$A$59:$B$65,2,FALSE) -> 3.75 | Y88: =H88*W88*X88 -> 507
B89: 1 | C89: Twine | D89: Begane | E89: 1.83 | F89: entree | H89: 15 | I89: mat | M89: entree 5 * per week | O89: =HLOOKUP(M89,Werkprogramma!$A$1:$BQ$61,57,FALSE) -> 292 | P89: =HLOOKUP(M89,Werkprogramma!$A$1:$BQ$61,3,FALSE) -> 200 | Q89: =Werkprogramma!$B$67 -> 36.5 | R89: =((H89*P89)/O89)*Q89 -> 375 | S89: =H89*P89 -> 3000 | T89: =R89/Q89 -> 10.273973 | V89: Tapijtreiniging excl. uit- en inruimen | W89: 2 | X89: =VLOOKUP(V89,Werkprogramma!$A$59:$B$65,2,FALSE) -> 3 | Y89: =H89*W89*X89 -> 90
B90: 1 | C90: Twine | D90: Begane | E90: 1.97 | F90: verkeersruimte peuters | H90: 83 | I90: lino | M90: gangen, hallen en liften 5 * per week | O90: =HLOOKUP(M90,Werkprogramma!$A$1:$BQ$61,57,FALSE) -> 579 | P90: =HLOOKUP(M90,Werkprogramma!$A$1:$BQ$61,3,FALSE) -> 200 | Q90: =Werkprogramma!$B$67 -> 36.5 | R90: =((H90*P90)/O90)*Q90 -> 1046.4594 | S90: =H90*P90 -> 16600 | T90: =R90/Q90 -> 28.670121 | V90: Strippen en conserveren incl. uit- en inruimen | W90: 2 | X90: =VLOOKUP(V90,Werkprogramma!$A$59:$B$65,2,FALSE) -> 3.75 | Y90: =H90*W90*X90 -> 622.5
B91: 1 | C91: Twine | D91: Begane | E91: 1.84 | F91: leslokaal Putters | H91: 56.7 | I91: lino | M91: leslokalen 5 * per week | O91: =HLOOKUP(M91,Werkprogramma!$A$1:$BQ$61,57,FALSE) -> 357 | P91: =HLOOKUP(M91,Werkprogramma!$A$1:$BQ$61,3,FALSE) -> 200 | Q91: =Werkprogramma!$B$67 -> 36.5 | R91: =((H91*P91)/O91)*Q91 -> 1159.4118 | S91: =H91*P91 -> 11340 | T91: =R91/Q91 -> 31.764706 | V91: Strippen en conserveren incl. uit- en inruimen | W91: 2 | X91: =VLOOKUP(V91,Werkprogramma!$A$59:$B$65,2,FALSE) -> 3.75 | Y91: =H91*W91*X91 -> 425.25
B92: 1 | C92: Twine | D92: Begane | E92: 1.85 | F92: miva | H92: 3.7 | I92: gietvloer | M92: toiletten bovenbouw/personeel 5 * per week | O92: =HLOOKUP(M92,Werkprogramma!$A$1:$BQ$61,57,FALSE) -> 72 | P92: =HLOOKUP(M92,Werkprogramma!$A$1:$BQ$61,3,FALSE) -> 200 | Q92: =Werkprogramma!$B$67 -> 36.5 | R92: =((H92*P92)/O92)*Q92 -> 375.13889 | S92: =H92*P92 -> 740 | T92: =R92/Q92 -> 10.277778 | V92: Schrobben harde vloeren incl. uit- en inruimen | W92: 2 | X92: =VLOOKUP(V92,Werkprogramma!$A$59:$B$65,2,FALSE) -> 1.5 | Y92: =H92*W92*X92 -> 11.1
... B102: 1 | C102: Twine | D102: Begane | E102: 1.93 | F102: personeelskamer | H102: 56.7 | I102: lino | M102: kantoren / leerkrachtruimte 3 * per week | O102: =HLOOKUP(M102,Werkprogramma!$A$1:$BQ$61,57,FALSE) -> 325 | P102: =HLOOKUP(M102,Werkprogramma!$A$1:$BQ$61,3,FALSE) -> 120 | Q102: =Werkprogramma!$B$67 -> 36.5 | R102: =((H102*P102)/O102)*Q102 -> 764.14154 | S102: =H102*P102 -> 6804 | T102: =R102/Q102 -> 20.935385 | V102: Strippen en conserveren incl. uit- en inruimen | W102: 2 | X102: =VLOOKUP(V102,Werkprogramma!$A$59:$B$65,2,FALSE) -> 3.75 | Y102: =H102*W102*X102 -> 425.25
C103: TOTAAL | H103: =SUM(H11:H87) -> 2254.48 | M103: Totaal werkprogramma | O103: Gemiddelde prestatienorm per jaar | V103: Totaal vloer
M104: =SUM(R11:R87) -> 44824.303 | O104: =ROUND(S104/T104,0) -> 326 | S104: =SUM(S11:S87) -> 399830.8 | T104: =SUM(T11:T87) -> 1228.0631 | V104: =SUM(Y11:Y87) -> 13411.67
B106: Algemene opmerkingen
B107: Indien in een ruimte een wastafel en/of keukenblok aanwezig is, dient deze in dezelfde schoonmaakfrequentie van de ruimte meegenomen te worden,
B108: inclusief aanvullen sanitaire voorzieningen.
B109: Specialistisch vloeronderhoud en glasbewassing kan pas gefactureerd worden na uitvoering en oplevering aan de Opdrachtgever.

Sheet Glasstaat
B1: =Ruimtestaat!B1 -> V4
C2: Glasstaat
C4: Onderwijsinstelling: | D4: =Ruimtestaat!D4 -> Twine
C5: Adres: | D5: =Ruimtestaat!D5 -> Hantumerweg 28
C6: Plaats: | D6: =Ruimtestaat!D6 -> Dokkum
C8: Aantal locaties: | D8: =Ruimtestaat!D8 -> 1
B11: Inventarisatie gegevens te wassen glas
B13: Nr. | C13: Locatie | D13: Verdieping | E13: Soort glas | F13: Freq. | G13: Afmeting | J13: Aantal | K13: Totaal m2 (per beurt) | O13: Specifieke opmerkingen
F14: per jaar | G14: H | H14: B | I14: Opp. | K14: BI / E.Z. | L14: BU / E.Z. | M14: Totaal M2 | N14: Totaal M2 per jaar
B15: 1 | C15: Twine | E15: Binnen/buiten | F15: 2 | I15: =+G15*H15 -> 0 | K15: 594.32 | L15: 594.32 | M15: =K15+L15 -> 1188.64 | N15: =M15*F15 -> 2377.28
B16: 1 | C16: Twine | E16: Seperatie | F16: 2 | I16: =+G16*H16 -> 0 | K16: 142.1 | L16: 142.1 | M16: =K16+L16 -> 284.2 | N16: =M16*F16 -> 568.4
B17: 1 | C17: Twine | E17: Koepels | F17: 2 | I17: =+G17*H17 -> 0 | K17: 163.2 | L17: 163.2 | M17: =K17+L17 -> 326.4 | N17: =M17*F17 -> 652.8
B19: (BI / E.Z. = Binnenzijde/enkelzijdig en BI / E.Z. = Buitenzijde/enkelzijdig) | I19: Totaal: | K19: =SUM(K15:K17) -> 899.62 | L19: =SUM(L15:L17) -> 899.62 | M19: =SUM(M15:M17) -> 1799.24 | N19: =SUM(N15:N17) -> 3598.48
B21: Algemene opmerkingen
B22: Alle glas is gemeten inclusief de kozijnen, kozijnen dienen tijdens het wassen meegenomen worden.
B23: EVENTUELE BIJZONDERHEDEN: glas in lood, roedes bij glaswerk

Sheet Werkprogramma
A1: Ruimesoort | C1: entree 5 * per week | D1: entree 4 * per week | E1: entree 3 * per week | F1: entree 2 * per week | G1: entree 1 * per week | H1: gangen, hallen en liften 5 * per week | I1: gangen, hallen en liften 4 * per week | J1: gangen, hallen en liften 3 * per week | K1: gangen, hallen en liften 2 * per week | L1: gangen, hallen en liften 1 * per week | M1: trappen 5 * per week | N1: trappen 4 * per week | O1: trappen 3 * per week | P1: trappen 2 * per week | Q1: trappen 1 * per week | R1: kleuterlokalen 5 * per week | S1: kleuterlokalen 4 * per week | T1: kleuterlokalen 3 * per week | U1: kleuterlokalen 2 * per week | V1: kleuterlokalen 1 * per week | W1: peuterspeelzaal 5 * per week | X1: peuterspeelzaal 4 * per week | Y1: peuterspeelzaal 3 * per week | Z1: peuterspeelzaal 2 * per week | AA1: peuterspeelzaal 1 * per week | AB1: leslokalen 5 * per week | AC1: leslokalen 4 * per week | AD1: leslokalen 3 * per week | AE1: leslokalen 2 * per week | AF1: leslokalen 1 * per week | AG1: speelzaal 5 * per week | AH1: speelzaal 4 * per week | AI1: speelzaal 3 * per week | AJ1: speelzaal 2 * per week | AK1: speelzaal 1 * per week | AL1: kantoren / leerkrachtruimte 5 * per week | AM1: kantoren / leerkrachtruimte 4 * per week | AN1: kantoren / leerkrachtruimte 3 * per week | AO1: kantoren / leerkrachtruimte 2 * per week | AP1: kantoren / leerkrachtruimte 1 * per week | AQ1: toiletten onderbouw 5 * per week | AR1: toiletten onderbouw 4 * per week | AS1: toiletten onderbouw 3 * per week | AT1: toiletten onderbouw 2 * per week | AU1: toiletten onderbouw 1 * per week | AV1: toiletten bovenbouw/personeel 5 * per week | AW1: toiletten bovenbouw/personeel 4 * per week | AX1: toiletten bovenbouw/personeel 3 * per week | AY1: toiletten bovenbouw/personeel 2 * per week | AZ1: toiletten bovenbouw/personeel 1 * per week | BA1: douches 5 * per week | BB1: sportruimten/gymzalen 5 * per week | BC1: sportruimten/gymzalen 3 * per week | BD1: sportruimten/gymzalen 1 * per week | BE1: kleedruimten 5 * per week | BF1: kleedruimten 3 * per week | BG1: kleedruimten 1 * per week | BH1: aula 5 * per week | BI1: aula 3 * per week | BJ1: aula 1 * per week | BK1: keuken / pantry 5 * per week | BL1: keuken / pantry 3 * per week | BM1: keuken / pantry 1 * per week | BN1: berging / archief | BO1: garderobe 5 * per week | BP1: garderobe 3 * per week | BQ1: garderobe 1 * per week
A2: programma | C2: 1a | D2: 1b | E2: 1c | F2: 1d | G2: 1e | H2: 2a | I2: 2b | J2: 2c | K2: 2d | L2: 2e | M2: 3a | N2: 3b | O2: 3c | P2: 3d | Q2: 3e | R2: 4a | S2: 4b | T2: 4c | U2: 4d | V2: 4e | W2: 4a | X2: 4b | Y2: 4c | Z2: 4d | AA2: 4e | AB2: 5a | AC2: 5b | AD2: 5c | AE2: 5d | AF2: 5e | AG2: 6a | AH2: 6b | AI2: 6c | AJ2: 6d | AK2: 6e | AL2: 7a | AM2: 7b | AN2: 7c | AO2: 7d | AP2: 7e | AQ2: 8a | AR2: 8b | AS2: 8c | AT2: 8d | AU2: 8e | AV2: 8a | AW2: 8b | AX2: 8c | AY2: 8d | AZ2: 8e | BA2: 9 | BB2: 10a | BC2: 10b | BD2: 10c | BE2: 11a | BF2: 11b | BG2: 11c | BH2: 12a | BI2: 12b | BJ2: 12c | BK2: 13a | BL2: 13b | BM2: 13c | BN2: 14 | BO2: 15a | BP2: 15b | BQ2: 15c
C3: 200 | D3: 160 | E3: 120 | F3: 80 | G3: 40 | H3: 200 | I3: 160 | J3: 120 | K3: 80 | L3: 40 | M3: 200 | N3: 160 | O3: 120 | P3: 80 | Q3: 40 | R3: 200 | S3: 160 | T3: 120 | U3: 80 | V3: 40 | W3: 200 | X3: 160 | Y3: 120 | Z3: 80 | AA3: 40 | AB3: 200 | AC3: 160 | AD3: 120 | AE3: 80 | AF3: 40 | AG3: 200 | AH3: 160 | AI3: 120 | AJ3: 80 | AK3: 40 | AL3: 200 | AM3: 160 | AN3: 120 | AO3: 80 | AP3: 40 | AQ3: 200 | AR3: 160 | AS3: 120 | AT3: 80 | AU3: 40 | AV3: 200 | BA3: 200 | BB3: 200 | BC3: 120 | BD3: 40 | BE3: 200 | BF3: 120 | BG3: 40 | BH3: 200 | BI3: 120 | BJ3: 40 | BK3: 200 | BL3: 120 | BM3: 40 | BN3: 12 | BO3: 200 | BP3: 120 | BQ3: 40
A4: activiteit
A5: ledigen van papierbakken en prullenbakken en vervangen van afvalzakken | C5: 200 | D5: 160 | E5: 120 | F5: 80 | G5: 40 | H5: 200 | I5: 160 | J5: 120 | K5: 80 | L5: 40 | R5: 200 | S5: 160 | T5: 120 | U5: 80 | V5: 40 | W5: 200 | X5: 160 | Y5: 120 | Z5: 80 | AA5: 40 | AB5: 200 | AC5: 160 | AD5: 120 | AE5: 80 | AF5: 40 | AG5: 200 | AH5: 160 | AI5: 120 | AJ5: 80 | AK5: 40 | AL5: 200 | AM5: 160 | AN5: 120 | AO5: 80 | AP5: 40 | AQ5: 200 | AR5: 160 | AS5: 120 | AT5: 80 | AU5: 40 | AV5: 200 | BE5: 200 | BF5: 120 | BG5: 40 | BH5: 200 | BI5: 120 | BJ5: 40 | BK5: 200 | BL5: 120 | BM5: 40 | BO5: 200 | BP5: 120 | BQ5: 40
A6: afnemen van bovenbladen van tafels en bureau's en lage kasten | H6: 40 | I6: 40 | J6: 40 | K6: 40 | L6: 40 | R6: 40 | S6: 40 | T6: 40 | U6: 40 | V6: 40 | W6: 40 | X6: 40 | Y6: 40 | Z6: 40 | AA6: 40 | AB6: 40 | AC6: 40 | AD6: 40 | AE6: 40 | AF6: 40 | AG6: 40 | AH6: 40 | AI6: 40 | AJ6: 40 | AK6: 40 | AL6: 40 | AM6: 40 | AN6: 40 | AO6: 40 | AP6: 40 | BH6: 200 | BI6: 120 | BJ6: 40 | BK6: 200 | BL6: 120 | BM6: 40 | BN6: 12
A7: afnemen van vingertasten van (kast-)deuren | C7: 80 | D7: 80 | E7: 80 | H7: 80 | I7: 80 | J7: 80 | K7: 40 | R7: 80 | S7: 80 | T7: 80 | U7: 80 | V7: 40 | W7: 80 | X7: 80 | Y7: 80 | Z7: 80 | AA7: 40 | AB7: 80 | AC7: 80 | AD7: 80 | AE7: 40 | AF7: 40 | AG7: 80 | AH7: 80 | AI7: 80 | AJ7: 40 | AK7: 40 | AL7: 40 | AM7: 40 | AN7: 40 | AO7: 40 | AP7: 40 | BE7: 40 | BF7: 40 | BG7: 40 | BH7: 80 | BI7: 80 | BJ7: 40 | BK7: 40 | BL7: 40 | BM7: 40 | BN7: 12 | BO7: 80 | BP7: 80 | BQ7: 80
A8: bijtippend stofzuigen van tapijtvloeren | R8: 160 | S8: 120 | T8: 80 | U8: 40 | X8: 120 | Z8: 40 | AB8: 160 | AC8: 120 | AD8: 80 | AE8: 40 | AL8: 160 | AM8: 120 | AN8: 80 | AO8: 40
A9: geheel stofzuigen van tapijtvloeren en inloopmatten | C9: 200 | D9: 160 | E9: 120 | F9: 80 | G9: 40 | H9: 200 | I9: 160 | J9: 120 | K9: 80 | L9: 40 | M9: 200 | N9: 160 | O9: 120 | P9: 80 | Q9: 40 | R9: 40 | S9: 40 | T9: 40 | U9: 40 | V9: 40 | W9: 200 | X9: 40 | Y9: 160 | Z9: 40 | AA9: 40 | AB9: 40 | AC9: 40 | AD9: 40 | AE9: 40 | AF9: 40 | AL9: 40 | AM9: 40 | AN9: 40 | AO9: 40 | AP9: 40 | BO9: 200 | BP9: 120 | BQ9: 40
A10: stofwissen en vlekken verwijderen van harde vloeren | C10: 160 | D10: 120 | E10: 80 | F10: 40 | H10: 160 | I10: 120 | J10: 80 | K10: 40 | L10: 40 | M10: 160 | N10: 120 | O10: 80 | P10: 40 | R10: 160 | S10: 120 | T10: 80 | U10: 40 | X10: 120 | Z10: 40 | AB10: 160 | AC10: 120 | AD10: 80 | AE10: 40 | AG10: 160 | AH10: 120 | AI10: 120 | AJ10: 40 | AL10: 160 | AM10: 120 | AN10: 80 | AO10: 40 | BB10: 160 | BC10: 80 | BE10: 160 | BF10: 80 | BH10: 160 | BI10: 80 | BK10: 160 | BL10: 120 | BO10: 160 | BP10: 80
A11: stofwissen en moppen van harde vloeren | C11: 40 | D11: 40 | E11: 40 | F11: 40 | G11: 40 | H11: 40 | I11: 40 | J11: 40 | K11: 40 | L11: 40 | M11: 40 | N11: 40 | O11: 40 | P11: 40 | Q11: 40 | R11: 40 | S11: 40 | T11: 40 | U11: 40 | V11: 40 | W11: 200 | X11: 40 | Y11: 200 | Z11: 40 | AA11: 200 | AB11: 40 | AC11: 40 | AD11: 40 | AE11: 40 | AF11: 40 | AG11: 40 | AH11: 40 | AI11: 40 | AJ11: 40 | AK11: 40 | AL11: 40 | AM11: 40 | AN11: 40 | AO11: 40 | AP11: 40 | BB11: 40 | BC11: 40 | BD11: 40 | BE11: 40 | BF11: 40 | BG11: 40 | BH11: 40 | BI11: 40 | BJ11: 40 | BK11: 40 | BL11: 40 | BM11: 40 | BN11: 12 | BO11: 40 | BP11: 40 | BQ11: 40
A13: afnemen van de bovenzijde van radiatoren | C13: 40 | D13: 40 | E13: 40 | F13: 40 | G13: 40 | H13: 40 | I13: 40 | J13: 40 | K13: 40 | L13: 40 | M13: 40 | N13: 40 | O13: 40 | P13: 40 | Q13: 40 | R13: 40 | S13: 40 | T13: 40 | U13: 40 | V13: 40 | W13: 40 | X13: 40 | Y13: 40 | Z13: 40 | AA13: 40 | AB13: 40 | AC13: 40 | AD13: 40 | AE13: 40 | AF13: 40 | AG13: 40 | AH13: 40 | AI13: 40 | AJ13: 40 | AK13: 40 | AL13: 40 | AM13: 40 | AN13: 40 | AO13: 40 | AP13: 40 | BB13: 40 | BC13: 40 | BD13: 40 | BE13: 40 | BF13: 40 | BG13: 40 | BH13: 40 | BI13: 40 | BJ13: 40 | BK13: 40 | BL13: 40 | BM13: 40 | BN13: 12 | BO13: 40 | BP13: 40 | BQ13: 40
A14: afnemen van vensterbanken | C14: 40 | D14: 40 | E14: 40 | F14: 40 | G14: 40 | H14: 40 | I14: 40 | J14: 40 | K14: 40 | L14: 40 | M14: 40 | N14: 40 | O14: 40 | P14: 40 | Q14: 40 | R14: 40 | S14: 40 | T14: 40 | U14: 40 | V14: 40 | W14: 40 | X14: 40 | Y14: 40 | Z14: 40 | AA14: 40 | AB14: 40 | AC14: 40 | AD14: 40 | AE14: 40 | AF14: 40 | AG14: 40 | AH14: 40 | AI14: 40 | AJ14: 40 | AK14: 40 | AL14: 40 | AM14: 40 | AN14: 40 | AO14: 40 | AP14: 40 | BB14: 40 | BC14: 40 | BD14: 40 | BE14: 40 | BF14: 40 | BG14: 40 | BH14: 40 | BI14: 40 | BJ14: 40 | BK14: 40 | BL14: 40 | BM14: 40 | BN14: 12 | BO14: 40 | BP14: 40 | BQ14: 40
A15: afnemen van randen, richels, contacten enzovoorts | C15: 40 | D15: 40 | E15: 40 | F15: 40 | G15: 40 | H15: 40 | I15: 40 | J15: 40 | K15: 40 | L15: 40 | M15: 40 | N15: 40 | O15: 40 | P15: 40 | Q15: 40 | R15: 40 | S15: 40 | T15: 40 | U15: 40 | V15: 40 | W15: 40 | X15: 40 | Y15: 40 | Z15: 40 | AA15: 40 | AB15: 40 | AC15: 40 | AD15: 40 | AE15: 40 | AF15: 40 | AG15: 40 | AH15: 40 | AI15: 40 | AJ15: 40 | AK15: 40 | AL15: 40 | AM15: 40 | AN15: 40 | AO15: 40 | AP15: 40 | BB15: 40 | BC15: 40 | BD15: 40 | BE15: 40 | BF15: 40 | BG15: 40 | BH15: 40 | BI15: 40 | BJ15: 40 | BK15: 40 | BL15: 40 | BM15: 40 | BN15: 12 | BO15: 40 | BP15: 40 | BQ15: 40
A16: wassen van glasdeuren | C16: 40 | D16: 40 | E16: 40 | F16: 40 | G16: 40 | H16: 40 | I16: 40 | J16: 40 | K16: 40 | L16: 40 | M16: 40 | N16: 40 | O16: 40 | P16: 40 | Q16: 40 | R16: 40 | S16: 40 | T16: 40 | U16: 40 | V16: 40 | W16: 40 | X16: 40 | Y16: 40 | Z16: 40 | AA16: 40 | AB16: 40 | AC16: 40 | AD16: 40 | AE16: 40 | AF16: 40 | AG16: 40 | AH16: 40 | AI16: 40 | AJ16: 40 | AK16: 40 | AL16: 40 | AM16: 40 | AN16: 40 | AO16: 40 | AP16: 40 | BE16: 40 | BF16: 40 | BG16: 40 | BH16: 40 | BI16: 40 | BJ16: 40 | BK16: 40 | BL16: 40 | BM16: 40 | BO16: 40 | BP16: 40 | BQ16: 40
A18: Nat reinigen van spoelbakken en wastafels | R18: 40 | S18: 40 | T18: 40 | U18: 40 | V18: 40 | W18: 40 | X18: 40 | Y18: 40 | Z18: 40 | AA18: 40 | AB18: 40 | AC18: 40 | AD18: 40 | AE18: 40 | AF18: 40 | AG18: 40 | AH18: 40 | AI18: 40 | AJ18: 40 | AK18: 40 | BE18: 200 | BF18: 120 | BG18: 40 | BH18: 200 | BI18: 120 | BJ18: 40
A19: nat reinigen van aanrecht, schappen, kastdeurtjes en gootsteen | BK19: 200 | BL19: 120 | BM19: 40
A20: afnemen van telefoontoestellen | AL20: 40 | AM20: 40 | AN20: 40 | AO20: 40 | AP20: 40
A21: afnemen van zitbanken | H21: 40 | I21: 40 | J21: 40 | K21: 40 | L21: 40 | BB21: 40 | BC21: 40 | BD21: 40 | BE21: 40 | BF21: 40 | BG21: 40
A22: afnemen van liftwanden en deuren | H22: 40 | I22: 40 | J22: 40 | K22: 40 | L22: 40
A23: afnemen van kapstokken | H23: 5 | I23: 5 | J23: 5 | K23: 5 | L23: 5 | BE23: 40 | BF23: 40 | BG23: 40 | BO23: 5 | BP23: 5 | BQ23: 5
A24: nat in- en uitwendig reinigen van papierbakken en prullenbakken | C24: 40 | D24: 40 | E24: 40 | F24: 40 | G24: 40 | H24: 40 | I24: 40 | J24: 40 | K24: 40 | L24: 40 | R24: 40 | S24: 40 | T24: 40 | U24: 40 | V24: 40 | W24: 40 | X24: 40 | Y24: 40 | Z24: 40 | AA24: 40 | AB24: 40 | AC24: 40 | AD24: 40 | AE24: 40 | AF24: 40 | AG24: 40 | AH24: 40 | AI24: 40 | AJ24: 40 | AK24: 40 | AL24: 5 | AM24: 5 | AN24: 5 | AO24: 5 | AP24: 5 | BE24: 5 | BF24: 5 | BG24: 5 | BH24: 40 | BI24: 40 | BJ24: 40 | BK24: 40 | BL24: 40 | BM24: 40 | BO24: 40 | BP24: 40 | BQ24: 40
A25: afnemen van verticale vlakken van bureau's en kasten | R25: 4 | S25: 4 | T25: 4 | U25: 4 | V25: 4 | W25: 4 | X25: 4 | Y25: 4 | Z25: 4 | AA25: 4 | AB25: 4 | AC25: 4 | AD25: 4 | AE25: 4 | AF25: 4 | AG25: 4 | AH25: 4 | AI25: 4 | AJ25: 4 | AK25: 4 | AL25: 4 | AM25: 4 | AN25: 4 | AO25: 4 | AP25: 4
A26: afnemen van de bovenzijde van hoge kasten | R26: 4 | S26: 4 | T26: 4 | U26: 4 | V26: 4 | W26: 4 | X26: 4 | Y26: 4 | Z26: 4 | AA26: 4 | AB26: 4 | AC26: 4 | AD26: 4 | AE26: 4 | AF26: 4 | AG26: 4 | AH26: 4 | AI26: 4 | AJ26: 4 | AK26: 4 | AL26: 4 | AM26: 4 | AN26: 4 | AO26: 4 | AP26: 4 | BH26: 4 | BI26: 4 | BJ26: 4 | BK26: 4 | BL26: 4 | BM26: 4 | BO26: 4 | BP26: 4 | BQ26: 4
A27: afnemen van deuren met omlijsting en sponning | C27: 5 | D27: 5 | E27: 5 | F27: 5 | G27: 5 | H27: 5 | I27: 5 | J27: 5 | K27: 5 | L27: 5 | M27: 5 | N27: 5 | O27: 5 | P27: 5 | Q27: 5 | R27: 5 | S27: 5 | T27: 5 | U27: 5 | V27: 5 | W27: 5 | X27: 5 | Y27: 5 | Z27: 5 | AA27: 5 | AB27: 5 | AC27: 5 | AD27: 5 | AE27: 5 | AF27: 5 | AG27: 5 | AH27: 5 | AI27: 5 | AJ27: 5 | AK27: 5 | AL27: 5 | AM27: 5 | AN27: 5 | AO27: 5 | AP27: 5 | BB27: 5 | BC27: 5 | BD27: 5 | BE27: 5 | BF27: 5 | BG27: 5 | BH27: 5 | BI27: 5 | BJ27: 5 | BK27: 5 | BL27: 5 | BM27: 5 | BO27: 5 | BP27: 5 | BQ27: 5
A28: afnemen van stoelframes | H28: 5 | I28: 5 | J28: 5 | K28: 5 | L28: 5 | R28: 5 | S28: 5 | T28: 5 | U28: 5 | V28: 5 | W28: 5 | X28: 5 | Y28: 5 | Z28: 5 | AA28: 5 | AB28: 5 | AC28: 5 | AD28: 5 | AE28: 5 | AF28: 5 | AL28: 5 | AM28: 5 | AN28: 5 | AO28: 5 | AP28: 5 | BH28: 5 | BI28: 5 | BJ28: 5
A29: stofzuigen van stoelbekleding | H29: 5 | I29: 5 | J29: 5 | K29: 5 | L29: 5 | R29: 5 | S29: 5 | T29: 5 | U29: 5 | V29: 5 | W29: 5 | X29: 5 | Y29: 5 | Z29: 5 | AA29: 5 | AB29: 5 | AC29: 5 | AD29: 5 | AE29: 5 | AF29: 5 | AL29: 5 | AM29: 5 | AN29: 5 | AO29: 5 | AP29: 5 | BH29: 5 | BI29: 5 | BJ29: 5
A30: geheel reinigen van meubels | H30: 1 | I30: 1 | J30: 1 | K30: 1 | L30: 1 | R30: 1 | S30: 1 | T30: 1 | U30: 1 | V30: 1 | W30: 1 | X30: 1 | Y30: 1 | Z30: 1 | AA30: 1 | AB30: 1 | AC30: 1 | AD30: 1 | AE30: 1 | AF30: 1 | AG30: 1 | AH30: 1 | AI30: 1 | AJ30: 1 | AK30: 1 | AL30: 1 | AM30: 1 | AN30: 1 | AO30: 1 | AP30: 1 | BB30: 1 | BC30: 1 | BD30: 1 | BE30: 1 | BF30: 1 | BG30: 1 | BH30: 1 | BI30: 1 | BJ30: 1 | BK30: 1 | BL30: 1 | BM30: 1 | BN30: 1 | BO30: 1 | BP30: 1 | BQ30: 1
A31: geheel reinigen van radiatoren | C31: 1 | D31: 1 | E31: 1 | F31: 1 | G31: 1 | H31: 1 | I31: 1 | J31: 1 | K31: 1 | L31: 1 | M31: 1 | N31: 1 | O31: 1 | P31: 1 | Q31: 1 | R31: 1 | S31: 1 | T31: 1 | U31: 1 | V31: 1 | W31: 1 | X31: 1 | Y31: 1 | Z31: 1 | AA31: 1 | AB31: 1 | AC31: 1 | AD31: 1 | AE31: 1 | AF31: 1 | AG31: 1 | AH31: 1 | AI31: 1 | AJ31: 1 | AK31: 1 | AL31: 1 | AM31: 1 | AN31: 1 | AO31: 1 | AP31: 1 | BB31: 1 | BC31: 1 | BD31: 1 | BE31: 1 | BF31: 1 | BG31: 1 | BH31: 1 | BI31: 1 | BJ31: 1 | BK31: 1 | BL31: 1 | BM31: 1 | BN31: 1 | BO31: 1 | BP31: 1 | BQ31: 1
A32: ragen van plafonds, buizen en verlichtingsornamenten, ventilatieroosters | C32: 5 | D32: 5 | E32: 5 | F32: 5 | G32: 5 | H32: 5 | I32: 5 | J32: 5 | K32: 5 | L32: 5 | M32: 5 | N32: 5 | O32: 5 | P32: 5 | Q32: 5 | R32: 5 | S32: 5 | T32: 5 | U32: 5 | V32: 5 | W32: 5 | X32: 5 | Y32: 5 | Z32: 5 | AA32: 5 | AB32: 5 | AC32: 5 | AD32: 5 | AE32: 5 | AF32: 5 | AG32: 5 | AH32: 5 | AI32: 5 | AJ32: 5 | AK32: 5 | AL32: 5 | AM32: 5 | AN32: 5 | AO32: 5 | AP32: 5 | BB32: 5 | BC32: 5 | BD32: 5 | BE32: 5 | BF32: 5 | BG32: 5 | BH32: 5 | BI32: 5 | BJ32: 5 | BK32: 5 | BL32: 5 | BM32: 5 | BN32: 5 | BO32: 5 | BP32: 5 | BQ32: 5
A34: nat reinigen van toiletpot, urinoir, doucheruimte, wastafel, bad enzovoorts | AQ34: 200 | AR34: 160 | AS34: 120 | AT34: 80 | AU34: 40 | AV34: 200 | BA34: 200
A35: vlekken verwijderen van wanden, spiegels en planchetten | AQ35: 200 | AR35: 160 | AS35: 120 | AT35: 80 | AU35: 40 | AV35: 200 | BA35: 200
A36: moppen van vloeren | AQ36: 160 | AR36: 120 | AS36: 80 | AT36: 40 | AV36: 160 | BA36: 160
A37: aanvullen van sanitaire benodigdheden | AQ37: 200 | AR37: 160 | AS37: 120 | AT37: 80 | AU37: 40 | AV37: 200
A38: afnemen van papierhouders, zeephouders, handdoekautomaten enzovoorts | AQ38: 200 | AR38: 160 | AS38: 120 | AT38: 80 | AU38: 40 | AV38: 200
A39: afnemen van separatieschotten | AQ39: 200 | AR39: 160 | AS39: 120 | AT39: 80 | AU39: 40 | AV39: 200
A40: opwrijven van chroom | AQ40: 200 | AR40: 160 | AS40: 120 | AT40: 80 | AU40: 40 | AV40: 200
A41: zemen van spiegels en planchetten | AQ41: 200 | AR41: 160 | AS41: 120 | AT41: 80 | AU41: 40 | AV41: 200
A42: nat reinigen van stortbakken en valbuizen | AQ42: 40 | AR42: 40 | AS42: 40 | AT42: 40 | AU42: 40 | AV42: 40
A43: nat reinigen van tegelwanden | AQ43: 40 | AR43: 40 | AS43: 40 | AT43: 40 | AU43: 40 | AV43: 40 | BA43: 40
A44: schrobben van vloeren | AQ44: 40 | AR44: 40 | AS44: 40 | AT44: 40 | AU44: 40 | AV44: 12 | BA44: 12
A45: afnemen van de bovenzijde van de afzuigkap | BK45: 40 | BL45: 40 | BM45: 40
A47: 200 iedere schooldag
A48: 160: vier keer per schoolweek
A49: 120: drie keer per schoolweek
A50: 80: tweemaal per schoolweek
A51: 40: eenmaal per schoolweek
A52: 12: twaalf maal per jaar / maandelijks
A53: 5: vijfmaal per jaar / in alle schoolvakanties
A54: 4: viermaal per jaar / in alle schoolvakanties m.u.v. de zomervakantie
A55: 1: eenmaal per jaar / in de zomervakantie
A56: Leverancier vult de prestatie in vierkante meter per uur in op basis van zijn eigen calculatie en tarieven per uur, per vierkante meter glasbewassing, en eventueel vloeren zoals onderstaand weergeven.
A57: Prestatie in vierkante meter per uur | C57: 292 | E57: 242 | G57: 174 | H57: 579 | J57: 484 | L57: 343 | M57: 271 | O57: 225 | Q57: 158 | R57: 316 | T57: 259 | V57: 178 | W57: 228 | Y57: 219 | AA57: 180 | AB57: 357 | AD57: 292 | AF57: 199 | AG57: 383 | AI57: 315 | AK57: 213 | AL57: 398 | AN57: 325 | AP57: 221 | AQ57: 72 | AV57: 72 | BA57: 118 | BB57: 590 | BC57: 479 | BD57: 324 | BE57: 222 | BF57: 186 | BG57: 136 | BH57: 356 | BI57: 288 | BJ57: 195 | BK57: 208 | BL57: 183 | BM57: 141 | BN57: 393 | BO57: 484 | BP57: 401 | BQ57: 280
A59: Kosten divers vloer (allemaal invullen)
A60: Strippen en conserveren incl. uit- en inruimen | B60: 3.75
A61: Strippen en conserveren excl. uit- en inruimen | B61: 3.25
A62: Tapijtreiniging incl. uit- en inruimen | B62: 3.5
A63: Tapijtreiniging excl. uit- en inruimen | B63: 3
A64: Schrobben harde vloeren incl. uit- en inruimen | B64: 1.5
A65: Schrobben harde vloeren excl. uit- en inruimen | B65: 1
A67: uurtarief schoonmaak conform huidige CAO | B67: 36.5
A68: uurtarief regie uren op afroep* (indien niet ingevuld hanteren we het tarief uit B67)
A69: tarief glasbewassing per vierkante meter enkelzijdig binnen / buiten en separatieglas | B69: 0.85
A71: Regietarieven voor uren op afroep (niet specialistisch) | B71: MA | C71: DI | D71: WO | E71: DO | F71: VR | G71: ZA | H71: ZO | I71: FE
A72: 00.00 tot 06.00 uur | B72: =$B$68*1.5 -> 0 | C72: =$B$68*1.3 -> 0 | D72: =$B$68*1.3 -> 0 | E72: =$B$68*1.3 -> 0 | F72: =$B$68*1.3 -> 0 | G72: =$B$68*1.5 -> 0 | H72: =$B$68*1.5 -> 0 | I72: =$B$68*2.5 -> 0
A73: 06.00 tot 21.30 uur | B73: =$B$68*1.3 -> 0 | C73: =$B$68*1.3 -> 0 | D73: =$B$68*1.3 -> 0 | E73: =$B$68*1.3 -> 0 | F73: =$B$68*1.3 -> 0 | G73: =$B$68*1.5 -> 0 | H73: =$B$68*1.5 -> 0 | I73: =$B$68*2.5 -> 0
A74: 21.30 tot 24.00 uur | B74: =$B$68*1.3 -> 0 | C74: =$B$68*1.3 -> 0 | D74: =$B$68*1.3 -> 0 | E74: =$B$68*1.3 -> 0 | F74: =$B$68*1.5 -> 0 | G74: =$B$68*1.5 -> 0 | H74: =$B$68*1.5 -> 0 | I74: =$B$68*2.5 -> 0
A76: * Maximaal 10% hoger dan reguliere uurtarief

Sheet Kostenoverzicht
A1: =Ruimtestaat!B1 -> V4
B2: Kostenoverzicht
B4: Onderwijsinstelling: | C4: =Ruimtestaat!D4 -> Twine
B5: Adres: | C5: =Ruimtestaat!D5 -> Hantumerweg 28
B6: Plaats: | C6: =Ruimtestaat!D6 -> Dokkum
B8: Aantal locaties: | E8: =Ruimtestaat!D8 -> 1
B10: Calculatie inschrijver
E11: Exclusief btw | F11: Inclusief btw
B12: Werkprogramma obv ruimtestaat | E12: =Ruimtestaat!M104 -> 44824.303 | F12: =E12*1.21 -> 54237.407 | G12: Kopier de dikgedrukte getallen naar de lichtblauwe cellen
B13: Glasstaat | E13: =Glasstaat!N19*Werkprogramma!B69 -> 3058.708 | F13: =E13*1.21 -> 3701.0367
B14: Vloeronderhoud | E14: =Ruimtestaat!V104 -> 13411.67 | F14: =E14*1.21 -> 16228.121
B16: Inschrijfprijs | E16: =SUM(E12:E14) -> 61294.681 | F16: =SUM(F12:F14) -> 74166.564
B20: Voorcalculatie | C20: Minimale kosten | E20: Maximale kosten
C21: Exclusief btw | D21: Inclusief btw | E21: Exclusief btw | F21: Inclusief btw
B22: Werkprogramma obv ruimtestaat | C22: =E22*0.9 -> 40341.873 | D22: =F22*0.9 -> 48813.666 | E22: 44824.303 | F22: 54237.407
B23: Glasstaat | C23: =E23*0.9 -> 2752.8372 | D23: =F23*0.9 -> 3330.933 | E23: 3058.708 | F23: 3701.0367
B24: Vloeronderhoud | C24: =E24*0.9 -> 12070.503 | D24: =F24*0.9 -> 14605.309 | E24: 13411.67 | F24: 16228.121
B26: Totaal | C26: =SUM(C22:C25) -> 55165.213 | D26: =SUM(D22:D25) -> 66749.908 | E26: =SUM(E22:E24) -> 61294.681 | F26: =SUM(F22:F24) -> 74166.564
