Workbook

Sheet Totaal voorblad
A1: Code | B1: Naam | C1: Plaats | D1: klantnummer | E1: Tabblad naam | F1: Aantal Drinks Koffie | G1: Aantal Drinks Thee | H1: Aantal machines | I1: Koffie drinks per machine
A2: COOOZBD5 | B2: SO en VSO De Twijn | C2: ZWOLLE | D2: 106682 | E2: De Twijn | F2: ='De Twijn'!H35+'De Twijn'!H70+'De Twijn'!H97 -> 123595 | G2: ='De Twijn'!I35+'De Twijn'!I70+'De Twijn'!I97 -> 53825 | H2: 10 | I2: =F2/H2 -> 12359.5
A3: THORBE | B3: VO Thorbecke SG vmbo Pro | C3: ZWOLLE | D3: 107696 | E3: Thorbecke vmbo Pro | F3: ='Thorbecke VMBO Pro'!H40 -> 58950 | G3: ='Thorbecke VMBO Pro'!I40 -> 13425 | H3: 1 | I3: =F3/H3 -> 58950
A4: TSCHOL1ZWO | B4: VO Thorbecke SG mavo-havo-atheneum | C4: ZWOLLE | D4: 105334 | E4: Thorbecke MHA | F4: ='Thorbecke MHA'!H13 -> 46610 | H4: 2 | I4: =F4/H4 -> 23305
A5: 1SLEED8013 | B5: VO Thorbecke SG PrO (Sleedoornstraat) | C5: ZWOLLE | D5: 103917 | E5: Thorbecke Pro Sleedoorn | F5: ='Thorbecke Pro Sleedoorn'!H26 -> 18810 | G5: ='Thorbecke Pro Sleedoorn'!I26 -> 4125 | H5: 2 | I5: =F5/H5 -> 9405
A6: SPANJWEG | B6: SO en VSO De Ambelt | C6: ZWOLLE | D6: 103830 | E6: Ambelt Zwolle | F6: ='Ambelt Zwolle'!F89 -> 40680 | G6: ='Ambelt Zwolle'!G89 -> 21660 | H6: 11 | I6: =F6/H6 -> 3698.1818
A7: VSO HARDEN | B7: VSO Hardenberg - Ambelt | C7: HARDENBERG | D7: 103830 | E7: Ambelt Hardenberg | F7: ='Ambelt Hardenberg'!G32 -> 16500 | G7: ='Ambelt Hardenberg'!H32 -> 6215 | H7: 1 | I7: =F7/H7 -> 16500
A8: OOZDOBBE74 | B8: Support | C8: ZWOLLE | D8: 105334 | E8: Dobbe 74 | F8: =OOZ!H54 -> 29595 | G8: =OOZ!I54 -> 10025 | H8: 2 | I8: =F8/H8 -> 14797.5
A9: RVSLUIS120 | B9: PO De Sluis | C9: ZWOLLE | D9: 105334 | E9: Sluis | F9: =Sluis!H20 -> 11375 | G9: =Sluis!I20 -> 5320 | H9: 1 | I9: =F9/H9 -> 11375
A10: PARKSCHOOL | B10: PO Parkschool | C10: ZWOLLE | D10: 105334 | E10: Parkschool | F10: =Parkschool!H15 -> 9600 | G10: =Parkschool!I15 -> 400 | H10: 1 | I10: =F10/H10 -> 9600
A11: MARS45ZWOL | B11: PO De Marshof | C11: ZWOLLE | D11: 105334 | E11: Marshof | F11: =Marshof!H5 -> 9120 | H11: 1 | I11: =F11/H11 -> 9120
A12: OBSFESTIV6 | B12: PO Het Festival | C12: ZWOLLE | D12: 105334 | E12: Het Festival | F12: ='Het Festival'!H7 -> 10080 | H12: 1 | I12: =F12/H12 -> 10080
A13: 23AVONTUUR | B13: PO Het Avontuur | C13: DALFSEN | D13: 105334 | E13: Avontuur | F13: =Avontuur!H15 -> 9000 | H13: 1 | I13: =F13/H13 -> 9000
A14: PROVINCIER | B14: PO De Octopus | C14: ZWOLLE | D14: 105334 | E14: Octopus | F14: =Octopus!H54 -> 10625 | G14: =Octopus!I54 -> 3280 | H14: 1 | I14: =F14/H14 -> 10625
A15: OBSTOONLAD | B15: PO De Toonladder | C15: ZWOLLE | D15: 105334 | E15: Toonladder | F15: =Toonladder!H40 -> 10400 | G15: =Toonladder!I40 -> 4720 | H15: 2 | I15: =F15/H15 -> 5200
A16: CAPELLEN | B16: VO Capellenborg | C16: WIJHE | D16: 105334 | E16: Cappellenborg | F16: =Cappellenborg!H12 -> 16730 | H16: 1 | I16: =F16/H16 -> 16730
A17: OOZE9MONTE | B17: PO Montessorischool | C17: ZWOLLE | D17: 105334 | E17: Montessori | F17: =Montessori!H11 -> 7750 | H17: 1 | I17: =F17/H17 -> 7750
A18: MARKESTEEN | B18: PO De Markesteen | C18: ZWOLLE | D18: 105334 | E18: Markesteen | F18: =Markesteen!H31 -> 7600 | G18: =Markesteen!I31 -> 4300 | H18: 1 | I18: =F18/H18 -> 7600
A19: PALETOMMEN | B19: PO Het Palet Ommen | C19: OMMEN | D19: 105334 | E19: Palet Ommen | F19: ='Palet Ommen'!H27 -> 3360 | G19: ='Palet Ommen'!I27 -> 4100 | H19: 1 | I19: =F19/H19 -> 3360
A20: OOZKINSBEL | B20: VO Van Kinsbergen college | C20: ELBURG | D20: 107896 | E20: Van Kinsbergen | F20: ='Van Kinsbergen'!H11 -> 4800 | G20: ='Van Kinsbergen'!I11 -> 400 | H20: 1 | I20: =F20/H20 -> 4800
A21: OOSTERENK | B21: PO De Oosterenk | C21: ZWOLLE | D21: 105334 | E21: Oosterenk | F21: =Oosterenk!H10 -> 6250 | H21: 1 | I21: =F21/H21 -> 6250
A22: WERKSCHUIT | B22: PO De Werkschuit | C22: ZWOLLE | D22: 105334 | E22: Werkschuit | F22: =Werkschuit!H8 -> 3750 | H22: 1 | I22: =F22/H22 -> 3750
A23: TWEEM36NL | B23: PO De Tweemaster | C23: NIEUWLEUSEN | D23: 107807 | E23: Tweemaster | F23: =Tweemaster!H10 -> 2375 | G23: =Tweemaster!I10 -> 2840 | H23: 1 | I23: =F23/H23 -> 2375
A24: DE CAMPHER | B24: PO De Campherbeek | C24: ZWOLLE | D24: 105334 | E24: Campherbeek | F24: =Campherbeek!H34 -> 4800 | G24: =Campherbeek!I34 -> 1500 | H24: 2 | I24: =F24/H24 -> 2400
A25: VLONDER | B25: PO De Vlonder | C25: HATTEM | D25: 105334 | E25: Vlonder | F25: =Vlonder!H6 -> 5280 | H25: 1 | I25: =F25/H25 -> 5280
A26: BARKEWEG | B26: PO Nieuwebrug | C26: OMMEN | D26: 105334 | E26: Nieuwbrug | F26: =Nieuwebrug!H20 -> 3360 | G26: =Nieuwebrug!I20 -> 1675 | H26: 1 | I26: =F26/H26 -> 3360
A27: WIEDEN | B27: PO De Wieden | C27: ZWOLLE | D27: 105334 | E27: Wieden | F27: =Wieden!H7 -> 2250 | H27: 1 | I27: =F27/H27 -> 2250
A28: IJSSELHOF | B28: PO De IJsselhof | C28: ZWOLLE | D28: 105334 | E28: IJsselhof | F28: =IJsselhof!H15 -> 1500 | G28: =IJsselhof!I15 -> 2700 | H28: 1 | I28: =F28/H28 -> 1500
A29: Het laatste tabblad 'Scholen niet Feyen' is toegevoegd op basis van aantal FTE. Voor deze locaties zijn geen gebruikscijfers inzichtelijk. Deze locaties zijn wel onderdeel van de af te sluiten raamovereenkomst.
A31: Totaal * | F31: =SUM(F2:F29) -> 474745 | G31: =SUM(G2:G28) -> 140510 | H31: =SUM(H2:H28) -> 51 | I31: =F31/H31 -> 9308.7255
A33: * : Opgave excl. BTW en afname periode: 01-01-2023 tot 01-12-2023
A35: Machine en afname afspraken begin en einddatum toegevoegd aan tabblad betreffende locatie/school

Sheet De Twijn
A1: Koffie en pakket afname periode 01-01-2023 - 01-12-2023
A2: Omschrijving | B2: Eenheid | C2: Itemnr | D2: Afzet | E2: Klanten | F2: Adresnamen | G2: Adres | H2: Aantal drinks koffie | I2: Aantal drinks thee
A3: 1899 Beker 180ml | B3: Doos a 2500 stuks | C3: 100815 | D3: 16 | E3: Openbaar Onderwijs Zwolle en Regio | F3: OOZ de Twijn | G3: Zwolle, 8032 XW, Boterdiep 5
A4: 1899 Cappuccino topping 750gr | B4: Stuk | C4: 472340 | D4: 120 | E4: Openbaar Onderwijs Zwolle en Regio | F4: OOZ de Twijn | G4: Zwolle, 8032 XW, Boterdiep 5
A5: 1899 Choco mix 1000gr | B5: Stuk | C5: 472341 | D5: 30 | E5: Openbaar Onderwijs Zwolle en Regio | F5: OOZ de Twijn | G5: Zwolle, 8032 XW, Boterdiep 5
A6: 1899 Espresso Dark Roast FT 1kg | B6: Stuk | C6: 471400 | D6: 82 | E6: Openbaar Onderwijs Zwolle en Regio | F6: OOZ de Twijn | G6: Zwolle, 8032 XW, Boterdiep 5 | H6: =D6*125 -> 10250
A7: 1899 Espresso Medium Roast FT 1kg | B7: Zak | C7: 471391 | D7: 54 | E7: Openbaar Onderwijs Zwolle en Regio | F7: OOZ de Twijn | G7: Zwolle, 8032 XW, Boterdiep 5 | H7: =D7*125 -> 6750
A8: 1899 Melktopping 500 gram | B8: Zak | C8: 472440 | D8: 10 | E8: Openbaar Onderwijs Zwolle en Regio | F8: OOZ de Twijn | G8: Zwolle, 8032 XW, Boterdiep 5
A9: Beker karton wit 180ml | B9: Doos a 600 stuks | C9: 473141 | D9: 4 | E9: Openbaar Onderwijs Zwolle en Regio | F9: OOZ de Twijn | G9: Zwolle, 8032 XW, Boterdiep 5
A10: DE Melkproduct v.d. koffie 1kg | B10: Zak | C10: 181180 | D10: 10 | E10: Openbaar Onderwijs Zwolle en Regio | F10: OOZ de Twijn | G10: Zwolle, 8032 XW, Boterdiep 5
A11: DE Smooth roast vlb 1,25 ltr | B11: Doos a 2 stuks | C11: 181903 | D11: 3 | E11: Openbaar Onderwijs Zwolle en Regio | F11: OOZ de Twijn | G11: Zwolle, 8032 XW, Boterdiep 5 | H11: =D11*480 -> 1440
A12: DE Smooth roast vlb 2 ltr | B12: Doos a 2 stuks | C12: 181902 | D12: 7 | E12: Openbaar Onderwijs Zwolle en Regio | F12: OOZ de Twijn | G12: Zwolle, 8032 XW, Boterdiep 5 | H12: =D12*750 -> 5250
A13: Fv Halvamel cups 7 ml | B13: Doos a 400 stuks | C13: 600416 | D13: 6 | E13: Openbaar Onderwijs Zwolle en Regio | F13: OOZ de Twijn | G13: Zwolle, 8032 XW, Boterdiep 5
A14: Houten roerstaafje 110mm dispenserdoos | B14: Doos a 2000 stuks | C14: 367581 | D14: 6 | E14: Openbaar Onderwijs Zwolle en Regio | F14: OOZ de Twijn | G14: Zwolle, 8032 XW, Boterdiep 5
A15: Natrena Zoetjes | B15: Doos a 400 stuks | C15: 124818 | D15: 13 | E15: Openbaar Onderwijs Zwolle en Regio | F15: OOZ de Twijn | G15: Zwolle, 8032 XW, Boterdiep 5
A16: Pickw Thee Earl Grey 2gram env | B16: Doos a 100 stuks | C16: 181151 | D16: 5 | E16: Openbaar Onderwijs Zwolle en Regio | F16: OOZ de Twijn | G16: Zwolle, 8032 XW, Boterdiep 5 | I16: =D16*100 -> 500
A17: Pickw Thee Tea For One 2 gr | B17: Doos a 100 stuks | C17: 181328 | D17: 10 | E17: Openbaar Onderwijs Zwolle en Regio | F17: OOZ de Twijn | G17: Zwolle, 8032 XW, Boterdiep 5 | I17: =D17*100 -> 1000
A18: Pickw. Aardbei thee x25 | B18: Doos a 3 stuks | C18: 181319 | D18: 23 | E18: Openbaar Onderwijs Zwolle en Regio | F18: OOZ de Twijn | G18: Zwolle, 8032 XW, Boterdiep 5 | I18: =D18*75 -> 1725
A19: Pickw. Bosvruchten thee x25 | B19: Doos a 3 stuks | C19: 181315 | D19: 13 | E19: Openbaar Onderwijs Zwolle en Regio | F19: OOZ de Twijn | G19: Zwolle, 8032 XW, Boterdiep 5 | I19: =D19*75 -> 975
A20: Pickw. Citroen thee x25 | B20: Doos a 3 stuks | C20: 181320 | D20: 3 | E20: Openbaar Onderwijs Zwolle en Regio | F20: OOZ de Twijn | G20: Zwolle, 8032 XW, Boterdiep 5 | I20: =D20*75 -> 225
A21: Pickw. Engelse thee x25 | B21: Doos a 3 stuks | C21: 181338 | D21: 2 | E21: Openbaar Onderwijs Zwolle en Regio | F21: OOZ de Twijn | G21: Zwolle, 8032 XW, Boterdiep 5 | I21: =D21*75 -> 150
A22: Pickw. Groen cranb. thee x25 | B22: Doos a 3 stuks | C22: 181323 | D22: 13 | E22: Openbaar Onderwijs Zwolle en Regio | F22: OOZ de Twijn | G22: Zwolle, 8032 XW, Boterdiep 5 | I22: =D22*75 -> 975
A23: Pickw. Groene thee lemon x25 | B23: Doos a 3 stuks | C23: 181313 | D23: 26 | E23: Openbaar Onderwijs Zwolle en Regio | F23: OOZ de Twijn | G23: Zwolle, 8032 XW, Boterdiep 5 | I23: =D23*75 -> 1950
A24: Pickw. Kamille thee x25 | B24: Doos a 3 stuks | C24: 181341 | D24: 6 | E24: Openbaar Onderwijs Zwolle en Regio | F24: OOZ de Twijn | G24: Zwolle, 8032 XW, Boterdiep 5 | I24: =D24*75 -> 450
A25: Pickw. Mango thee x25 | B25: Doos a 3 stuks | C25: 181321 | D25: 10 | E25: Openbaar Onderwijs Zwolle en Regio | F25: OOZ de Twijn | G25: Zwolle, 8032 XW, Boterdiep 5 | I25: =D25*75 -> 750
A26: Pickw. Rooibos honing thee x25 | B26: Doos a 3 stuks | C26: 181318 | D26: 15 | E26: Openbaar Onderwijs Zwolle en Regio | F26: OOZ de Twijn | G26: Zwolle, 8032 XW, Boterdiep 5 | I26: =D26*75 -> 1125
A27: Pickw. Rooibos thee x25 | B27: Doos a 3 stuks | C27: 181314 | D27: 23 | E27: Openbaar Onderwijs Zwolle en Regio | F27: OOZ de Twijn | G27: Zwolle, 8032 XW, Boterdiep 5 | I27: =D27*75 -> 1725
A28: Pickw. Sterrenmunt thee x25 | B28: Doos a 3 stuks | C28: 181317 | D28: 25 | E28: Openbaar Onderwijs Zwolle en Regio | F28: OOZ de Twijn | G28: Zwolle, 8032 XW, Boterdiep 5 | I28: =D28*75 -> 1875
A29: Pickw. Trop.vruchten thee x25 | B29: Doos a 3 stuks | C29: 181316 | D29: 9 | E29: Openbaar Onderwijs Zwolle en Regio | F29: OOZ de Twijn | G29: Zwolle, 8032 XW, Boterdiep 5 | I29: =D29*75 -> 675
... A31: Pickw. Zoethout thee x25 | B31: Doos a 3 stuks | C31: 181322 | D31: 3 | E31: Openbaar Onderwijs Zwolle en Regio | F31: OOZ de Twijn | G31: Zwolle, 8032 XW, Boterdiep 5 | I31: =D31*75 -> 225
A32: Suiker Automaat 1 kg | B32: Pak a 10 stuks | C32: 158824 | D32: 1 | E32: Openbaar Onderwijs Zwolle en Regio | F32: OOZ de Twijn | G32: Zwolle, 8032 XW, Boterdiep 5
A33: Suikertabletten 1 kg | B33: Krimp a 8 stuks | C33: 255144 | D33: 1 | E33: Openbaar Onderwijs Zwolle en Regio | F33: OOZ de Twijn | G33: Zwolle, 8032 XW, Boterdiep 5
A34: Suikerklontjes midi 750 gram | B34: Krimp a 8 stuks | C34: 255145 | D34: 3 | E34: Openbaar Onderwijs Zwolle en Regio | F34: OOZ de Twijn | G34: Zwolle, 8032 XW, Boterdiep 5
A35: Totaal Boterdiep 5 | D35: =SUM(D3:D34) -> 562 | H35: =SUM(H6:H13) -> 23690 | I35: =SUM(I16:I34) -> 15075
A37: Koffie en pakket afname periode 01-01-2023 - 01-12-2023
A38: 1899 Beker 180ml | B38: Doos a 2500 stuks | C38: 100815 | D38: 40 | E38: Openbaar Onderwijs Zwolle en Regio | F38: OOZ de Twijn | G38: Zwolle, 8025 AK, Dr. Hengeveldweg 2
A39: 1899 Cappuccino topping 750gr | B39: Stuk | C39: 472340 | D39: 20 | E39: Openbaar Onderwijs Zwolle en Regio | F39: OOZ de Twijn | G39: Zwolle, 8025 AK, Dr. Hengeveldweg 2
A40: 1899 Creamersticks dispenser 2,5 gram | B40: Doos a 500 stuks | C40: 100799 | D40: 1 | E40: Openbaar Onderwijs Zwolle en Regio | F40: OOZ de Twijn | G40: Zwolle, 8025 AK, Dr. Hengeveldweg 2
A41: 1899 Espresso Medium Roast FT 1kg | B41: Zak | C41: 471391 | D41: 559 | E41: Openbaar Onderwijs Zwolle en Regio | F41: OOZ de Twijn | G41: Zwolle, 8025 AK, Dr. Hengeveldweg 2 | H41: =D41*125 -> 69875
A42: 1899 Snelfilter Traditioneel FT 1kg | B42: Stuk | C42: 471330 | D42: 33 | E42: Openbaar Onderwijs Zwolle en Regio | F42: OOZ de Twijn | G42: Zwolle, 8025 AK, Dr. Hengeveldweg 2 | H42: =D42*160 -> 5280
...

Sheet Thorbecke VMBO Pro
A1: Koffie en pakket afname periode 01-01-2023 - 01-12-2023
A2: Omschrijving | B2: Eenheid | C2: Itemnr | D2: Afzet | E2: Klanten | F2: Adresnamen | G2: Adres | H2: Aantal drinks koffie | I2: Aantal drinks thee
A3: 1899 Beker 180ml | B3: Doos a 2500 stuks | C3: 100815 | D3: 1 | E3: Thorbecke Scholengemeenschap VMBO | F3: Thorbecke VMBO | G3: Zwolle, 8041 AL, Russenweg 3
A4: 1899 Cappuccino topping 750gr | B4: Stuk | C4: 472340 | D4: 130 | E4: Thorbecke Scholengemeenschap VMBO | F4: Thorbecke VMBO | G4: Zwolle, 8041 AL, Russenweg 3
A5: 1899 Choco mix 1000gr | B5: Stuk | C5: 472341 | D5: 75 | E5: Thorbecke Scholengemeenschap VMBO | F5: Thorbecke VMBO | G5: Zwolle, 8041 AL, Russenweg 3
A6: 1899 Creamersticks 2,5 gram | B6: Doos a 1000 stuks | C6: 403457 | D6: 2 | E6: Thorbecke Scholengemeenschap VMBO | F6: Thorbecke VMBO | G6: Zwolle, 8041 AL, Russenweg 3
A7: 1899 Espresso Dark Roast FT 1kg | B7: Stuk | C7: 471400 | D7: 54 | E7: Thorbecke Scholengemeenschap VMBO | F7: Thorbecke VMBO | G7: Zwolle, 8041 AL, Russenweg 3 | H7: =D7*125 -> 6750
A8: 1899 Espresso Medium Roast FT 1kg | B8: Zak | C8: 471391 | D8: 12 | E8: Thorbecke Scholengemeenschap VMBO | F8: Thorbecke VMBO | G8: Zwolle, 8041 AL, Russenweg 3 | H8: =D8*125 -> 1500
A9: 1899 Instant classic UTZ 300gr | B9: Zak | C9: 100819 | D9: 210 | E9: Thorbecke Scholengemeenschap VMBO | F9: Thorbecke VMBO | G9: Zwolle, 8041 AL, Russenweg 3 | H9: =D9*190 -> 39900
A10: 1899 Suikersticks 4 gr. | B10: Doos a 1000 stuks | C10: 403458 | D10: 12 | E10: Thorbecke Scholengemeenschap VMBO | F10: Thorbecke VMBO | G10: Zwolle, 8041 AL, Russenweg 3
A11: Broxomatic 900gr | B11: Stuk | C11: 179324 | D11: 13 | E11: Thorbecke Scholengemeenschap VMBO | F11: Thorbecke VMBO | G11: Zwolle, 8041 AL, Russenweg 3
A12: Cup a Soup Franse Ui | B12: Pak a 21 stuks | C12: 321991 | D12: 4 | E12: Thorbecke Scholengemeenschap VMBO | F12: Thorbecke VMBO | G12: Zwolle, 8041 AL, Russenweg 3
A13: Cup a Soup Groente | B13: Pak a 21 stuks | C13: 407456 | D13: 6 | E13: Thorbecke Scholengemeenschap VMBO | F13: Thorbecke VMBO | G13: Zwolle, 8041 AL, Russenweg 3
A14: Cup a Soup Rundvlees | B14: Pak a 21 stuks | C14: 407511 | D14: 4 | E14: Thorbecke Scholengemeenschap VMBO | F14: Thorbecke VMBO | G14: Zwolle, 8041 AL, Russenweg 3
A15: Cup a Soup Vend. Chin.Kip 40x | B15: Zak | C15: 321475 | D15: 8 | E15: Thorbecke Scholengemeenschap VMBO | F15: Thorbecke VMBO | G15: Zwolle, 8041 AL, Russenweg 3
A16: Cup a Soup Vend.Champignon 40x | B16: Zak | C16: 321472 | D16: 28 | E16: Thorbecke Scholengemeenschap VMBO | F16: Thorbecke VMBO | G16: Zwolle, 8041 AL, Russenweg 3
A17: Cup a Soup Vend.Chin Tomaat 40 | B17: Zak | C17: 321470 | D17: 34 | E17: Thorbecke Scholengemeenschap VMBO | F17: Thorbecke VMBO | G17: Zwolle, 8041 AL, Russenweg 3
A18: Cup a Soup Vending Kerrie 40x | B18: Zak | C18: 321471 | D18: 12 | E18: Thorbecke Scholengemeenschap VMBO | F18: Thorbecke VMBO | G18: Zwolle, 8041 AL, Russenweg 3
A19: Cup a Soup Vending Tomaat 40x | B19: Zak | C19: 321468 | D19: 10 | E19: Thorbecke Scholengemeenschap VMBO | F19: Thorbecke VMBO | G19: Zwolle, 8041 AL, Russenweg 3
A20: DE Aroma Rood SF 250 gr | B20: Krimp a 24 stuks | C20: 180313 | D20: 7 | E20: Thorbecke Scholengemeenschap VMBO | F20: Thorbecke VMBO | G20: Zwolle, 8041 AL, Russenweg 3 | H20: =D20*900 -> 6300
A21: DE Mel. Rood Grove 250 gr | B21: Krimp a 24 stuks | C21: 181424 | D21: 5 | E21: Thorbecke Scholengemeenschap VMBO | F21: Thorbecke VMBO | G21: Zwolle, 8041 AL, Russenweg 3 | H21: =D21*900 -> 4500
A22: Finish machinereiniger 250ml | B22: Fles | C22: 258228 | D22: 12 | E22: Thorbecke Scholengemeenschap VMBO | F22: Thorbecke VMBO | G22: Zwolle, 8041 AL, Russenweg 3
A23: Houten roerstaafje 110mm dispenserdoos | B23: Doos a 2000 stuks | C23: 367581 | D23: 5 | E23: Thorbecke Scholengemeenschap VMBO | F23: Thorbecke VMBO | G23: Zwolle, 8041 AL, Russenweg 3
A24: Pickw Groen lemon Thee TFOC | B24: Doos a 100 stuks | C24: 181295 | D24: 27 | E24: Thorbecke Scholengemeenschap VMBO | F24: Thorbecke VMBO | G24: Zwolle, 8041 AL, Russenweg 3 | I24: =D24*100 -> 2700
A25: Pickw Rooibos Thee TFOC | B25: Doos a 100 stuks | C25: 181296 | D25: 21 | E25: Thorbecke Scholengemeenschap VMBO | F25: Thorbecke VMBO | G25: Zwolle, 8041 AL, Russenweg 3 | I25: =D25*100 -> 2100
A26: Pickw Thee Tea For One 2 gr | B26: Doos a 100 stuks | C26: 181328 | D26: 18 | E26: Thorbecke Scholengemeenschap VMBO | F26: Thorbecke VMBO | G26: Zwolle, 8041 AL, Russenweg 3 | I26: =D26*100 -> 1800
A27: Pickw. Aardbei thee x25 | B27: Doos a 3 stuks | C27: 181319 | D27: 9 | E27: Thorbecke Scholengemeenschap VMBO | F27: Thorbecke VMBO | G27: Zwolle, 8041 AL, Russenweg 3 | I27: =D27*75 -> 675
A28: Pickw. Bosvruchten thee x25 | B28: Doos a 3 stuks | C28: 181315 | D28: 22 | E28: Thorbecke Scholengemeenschap VMBO | F28: Thorbecke VMBO | G28: Zwolle, 8041 AL, Russenweg 3 | I28: =D28*75 -> 1650
A29: Pickw. Groen pure thee x25 | B29: Doos a 3 stuks | C29: 181324 | D29: 8 | E29: Thorbecke Scholengemeenschap VMBO | F29: Thorbecke VMBO | G29: Zwolle, 8041 AL, Russenweg 3 | I29: =D29*75 -> 600
A30: Pickw. Kaneel thee x25 | B30: Doos a 3 stuks | C30: 181335 | D30: 15 | E30: Thorbecke Scholengemeenschap VMBO | F30: Thorbecke VMBO | G30: Zwolle, 8041 AL, Russenweg 3 | I30: =D30*75 -> 1125
A31: Pickw. Mango thee x25 | B31: Doos a 3 stuks | C31: 181321 | D31: 5 | E31: Thorbecke Scholengemeenschap VMBO | F31: Thorbecke VMBO | G31: Zwolle, 8041 AL, Russenweg 3 | I31: =D31*75 -> 375
A32: Pickw. Sinaasappel thee x25 | B32: Doos a 3 stuks | C32: 181339 | D32: 3 | E32: Thorbecke Scholengemeenschap VMBO | F32: Thorbecke VMBO | G32: Zwolle, 8041 AL, Russenweg 3 | I32: =D32*75 -> 225
A33: Pickw. Trop.vruchten thee x25 | B33: Doos a 3 stuks | C33: 181316 | D33: 10 | E33: Thorbecke Scholengemeenschap VMBO | F33: Thorbecke VMBO | G33: Zwolle, 8041 AL, Russenweg 3 | I33: =D33*75 -> 750
A34: Pickw. Wintergloed thee x25 | B34: Doos a 3 stuks | C34: 181343 | D34: 11 | E34: Thorbecke Scholengemeenschap VMBO | F34: Thorbecke VMBO | G34: Zwolle, 8041 AL, Russenweg 3 | I34: =D34*75 -> 825
A35: Pickw. Zoethout thee x25 | B35: Doos a 3 stuks | C35: 181322 | D35: 8 | E35: Thorbecke Scholengemeenschap VMBO | F35: Thorbecke VMBO | G35: Zwolle, 8041 AL, Russenweg 3 | I35: =D35*75 -> 600
A36: Reinigingstabletten Neodisher CM 100 stuks | B36: Pot | C36: 471276 | D36: 1 | E36: Thorbecke Scholengemeenschap VMBO | F36: Thorbecke VMBO | G36: Zwolle, 8041 AL, Russenweg 3
A37: Sun Spoelglans Liter | B37: Fles | C37: 376859 | D37: 3 | E37: Thorbecke Scholengemeenschap VMBO | F37: Thorbecke VMBO | G37: Zwolle, 8041 AL, Russenweg 3
A38: Sun Tablets all in one 102 st | B38: Stuk | C38: 120486 | D38: 5 | E38: Thorbecke Scholengemeenschap VMBO | F38: Thorbecke VMBO | G38: Zwolle, 8041 AL, Russenweg 3
A39: Tea of Life Assortibox FT 120x2gr | B39: Doos | C39: 472868 | D39: 1 | E39: Thorbecke Scholengemeenschap VMBO | F39: Thorbecke VMBO | G39: Zwolle, 8041 AL, Russenweg 3 | I39: =D39*120 -> 120
A40: Totaal | D40: =SUM(D3:D39) -> 811 | H40: =SUM(H6:H29) -> 58950 | I40: =SUM(I22:I36) -> 13425
...

Sheet Thorbecke MHA
A1: Koffie en pakket afname periode 01-01-2023 - 01-12-2023
A2: Omschrijving | B2: Eenheid | C2: Itemnr | D2: Afzet | E2: Klanten | F2: Adresnamen | G2: Adres | H2: Aantal drinks koffie | I2: Aantal drinks thee
A3: 1899 Instant classic UTZ 300gr | B3: Zak | C3: 100819 | D3: 94 | E3: Openbaar Onderwijs Zwolle en Regio | F3: Thorbecke Scholengemeenschap | G3: Zwolle, 8025 AB, Dokter van Heesweg 1 | H3: =D3*190 -> 17860
A4: 1899 Choco mix 1000gr | B4: Stuk | C4: 472341 | D4: 65 | E4: Openbaar Onderwijs Zwolle en Regio | F4: Thorbecke Scholengemeenschap | G4: Zwolle, 8025 AB, Dokter van Heesweg 1
A5: 1899 Espresso Medium Roast FT 1kg | B5: Zak | C5: 471391 | D5: 212 | E5: Openbaar Onderwijs Zwolle en Regio | F5: Thorbecke Scholengemeenschap | G5: Zwolle, 8025 AB, Dokter van Heesweg 1 | H5: =D5*125 -> 26500
A6: 1899 Cappuccino topping 750gr | B6: Stuk | C6: 472340 | D6: 106 | E6: Openbaar Onderwijs Zwolle en Regio | F6: Thorbecke Scholengemeenschap | G6: Zwolle, 8025 AB, Dokter van Heesweg 1
A7: 1899 Melktopping 500 gram | B7: Zak | C7: 472440 | D7: 130 | E7: Openbaar Onderwijs Zwolle en Regio | F7: Thorbecke Scholengemeenschap | G7: Zwolle, 8025 AB, Dokter van Heesweg 1
A8: Houten roerstaafje 110mm dispenserdoos | B8: Doos a 2000 stuks | C8: 367581 | D8: 4 | E8: Openbaar Onderwijs Zwolle en Regio | F8: Thorbecke Scholengemeenschap | G8: Zwolle, 8025 AB, Dokter van Heesweg 1
A9: Reinigingstabletten Neodisher CM 100 stuks | B9: Pot | C9: 471276 | D9: 1 | E9: Openbaar Onderwijs Zwolle en Regio | F9: Thorbecke Scholengemeenschap | G9: Zwolle, 8025 AB, Dokter van Heesweg 1
A10: Kart Beker Limetta 180cc | B10: Doos a 2500 stuks | C10: 70008 | D10: 4 | E10: Openbaar Onderwijs Zwolle en Regio | F10: Thorbecke Scholengemeenschap | G10: Zwolle, 8025 AB, Dokter van Heesweg 1
A11: DE Cacao Sticks 18,5gr | B11: Doos a 100 stuks | C11: 472598 | D11: 1 | E11: Openbaar Onderwijs Zwolle en Regio | F11: Thorbecke Scholengemeenschap | G11: Zwolle, 8025 AB, Dokter van Heesweg 1
A12: DE Smooth roast vlb 2 ltr | B12: Doos a 2 stuks | C12: 181902 | D12: 3 | E12: Openbaar Onderwijs Zwolle en Regio | F12: Thorbecke Scholengemeenschap | G12: Zwolle, 8025 AB, Dokter van Heesweg 1 | H12: =D12*750 -> 2250
A13: Totaal | D13: =SUM(D3:D12) -> 620 | H13: =SUM(H3:H12) -> 46610
A16: Machine park
A17: Nr. | B17: Omschrijving | C17: Serienummer | E17: Klantnr. | F17: Verzendcode | G17: Begindatum | H17: Einddatum
A18: SARTNR011837 | B18: Animo Optibean 3 touch zwart | C18: 2OE20645 | D18: Koop | E18: 105334 | F18: TSCHOL1ZWO | G18: 44526 | H18: 46351
A19: SARTNR011838 | B19: Animo Optivend 32 TS Touch | C19: 2NE20214 | D19: Koop | E19: 105334 | F19: TSCHOL1ZWO | G19: 44526 | H19: 46351

Sheet Thorbecke Pro Sleedoorn
A1: Koffie en pakket afname periode 01-01-2023 - 01-12-2023
A2: Omschrijving | B2: Eenheid | C2: Itemnr | D2: Afzet | E2: Klanten | F2: Adresnamen | G2: Adres | H2: Aantal drinks koffie | I2: Aantal drinks thee
A3: 1899 Beker 180ml | B3: doos 2500 | C3: 100815 | D3: 4 | E3: Thorbeckescholengemeenschap | F3: Thorbeckecholengemeenschap | G3: Zwolle, 8013 XE, Sleedoornstraat 1
A4: 1899 Suikersticks 4 gr. | B4: Doos a 1000 stuks | C4: 403458 | D4: 1 | E4: Thorbeckescholengemeenschap | F4: Thorbeckecholengemeenschap | G4: Zwolle, 8013 XE, Sleedoornstraat 1
A5: DE Aroma Rood SF 250 gr | B5: Krimp a 24 | C5: 180313 | D5: 9 | E5: Thorbeckescholengemeenschap | F5: Thorbeckecholengemeenschap | G5: Zwolle, 8013 XE, Sleedoornstraat 1 | H5: =D5*900 -> 8100
A6: DE Cacao Fantasy Blue 1x1000 g | B6: Zak | C6: 182006 | D6: 78 | E6: Thorbeckescholengemeenschap | F6: Thorbeckecholengemeenschap | G6: Zwolle, 8013 XE, Sleedoornstraat 1
A7: DE Cappuccino topping 1KG | B7: Doos a 10 stuks | C7: 181771 | D7: 1 | E7: Thorbeckescholengemeenschap | F7: Thorbeckecholengemeenschap | G7: Zwolle, 8013 XE, Sleedoornstraat 1
A8: DE Medium roast vlb 1,25 ltr | B8: Tray a 2 stuks | C8: 181892 | D8: 2 | E8: Thorbeckescholengemeenschap | F8: Thorbeckecholengemeenschap | G8: Zwolle, 8013 XE, Sleedoornstraat 1 | H8: =D8*480 -> 960
A9: DE Medium roast vlb 2 ltr | B9: Tray a 2 | C9: 181891 | D9: 13 | E9: Thorbeckescholengemeenschap | F9: Thorbeckecholengemeenschap | G9: Zwolle, 8013 XE, Sleedoornstraat 1 | H9: =D9*750 -> 9750
A10: DE Melkproduct v.d. koffie 1kg | C10: 181180 | D10: 27 | E10: Thorbeckescholengemeenschap | F10: Thorbeckecholengemeenschap | G10: Zwolle, 8013 XE, Sleedoornstraat 1
A11: DE Vlb Cacao Cafitesse 2 Ltr | B11: Pak | C11: 182034 | D11: 6 | E11: Thorbeckescholengemeenschap | F11: Thorbeckecholengemeenschap | G11: Zwolle, 8013 XE, Sleedoornstraat 1
A12: Melitta filter Natuur Nr. 4 80st | B12: krimp a 9 | C12: 296221 | D12: 2 | E12: Thorbeckescholengemeenschap | F12: Thorbeckecholengemeenschap | G12: Zwolle, 8013 XE, Sleedoornstraat 1
A13: Pickw Thee Earl Grey 2gram env | B13: Doos a 100 stuks | C13: 181151 | D13: 3 | E13: Thorbeckescholengemeenschap | F13: Thorbeckecholengemeenschap | G13: Zwolle, 8013 XE, Sleedoornstraat 1 | I13: =D13*100 -> 300
A14: Pickw Thee Tea For One 2 gr | B14: Doos a 100 | C14: 181328 | D14: 3 | E14: Thorbeckescholengemeenschap | F14: Thorbeckecholengemeenschap | G14: Zwolle, 8013 XE, Sleedoornstraat 1 | I14: =D14*100 -> 300
A15: Pickw. Bosvruchten thee x25 | B15: Doos a 3 | C15: 181315 | D15: 12 | E15: Thorbeckescholengemeenschap | F15: Thorbeckecholengemeenschap | G15: Zwolle, 8013 XE, Sleedoornstraat 1 | I15: =D15*75 -> 900
A16: Pickw. Groen pure thee x25 | B16: Doos a 3 | C16: 181324 | D16: 7 | E16: Thorbeckescholengemeenschap | F16: Thorbeckecholengemeenschap | G16: Zwolle, 8013 XE, Sleedoornstraat 1 | I16: =D16*75 -> 525
A17: Pickw. Groene thee lemon x25 | B17: Doos a 3 | C17: 181313 | D17: 11 | E17: Thorbeckescholengemeenschap | F17: Thorbeckecholengemeenschap | G17: Zwolle, 8013 XE, Sleedoornstraat 1 | I17: =D17*75 -> 825
A18: Pickw. Rooibos honing thee x25 | B18: Doos a 3 stuks | C18: 181318 | D18: 2 | E18: Thorbeckescholengemeenschap | F18: Thorbeckecholengemeenschap | G18: Zwolle, 8013 XE, Sleedoornstraat 1 | I18: =D18*75 -> 150
A19: Pickw. Rooibos thee x25 | B19: Doos a 3 | C19: 181314 | D19: 11 | E19: Thorbeckescholengemeenschap | F19: Thorbeckecholengemeenschap | G19: Zwolle, 8013 XE, Sleedoornstraat 1 | I19: =D19*75 -> 825
A20: Pickwick Theezakjes 2gr | B20: Doos a 100 stuks | C20: 181331 | D20: 3 | E20: Thorbeckescholengemeenschap | F20: Thorbeckecholengemeenschap | G20: Zwolle, 8013 XE, Sleedoornstraat 1 | I20: =D20*100 -> 300
A21: Roerstaafje Biodore Hout 110mm | B21: Doos a 1000 stuks | C21: 471667 | D21: 1 | E21: Thorbeckescholengemeenschap | F21: Thorbeckecholengemeenschap | G21: Zwolle, 8013 XE, Sleedoornstraat 1
A22: Roerstaafjes hout 140mm | B22: Doos 1000 | C22: 367574 | D22: 2 | E22: Thorbeckescholengemeenschap | F22: Thorbeckecholengemeenschap | G22: Zwolle, 8013 XE, Sleedoornstraat 1
A23: Suiker Automaat 1 kg | B23: Pak a 10 | C23: 158824 | D23: 3 | E23: Thorbeckescholengemeenschap | F23: Thorbeckecholengemeenschap | G23: Zwolle, 8013 XE, Sleedoornstraat 1
A24: Sun prof.tablets All in 1 200x | B24: Emmer | C24: 377267 | D24: 3 | E24: Thorbeckescholengemeenschap | F24: Thorbeckecholengemeenschap | G24: Zwolle, 8013 XE, Sleedoornstraat 1
A25: Sun Tablets all in one 102 st | B25: Stuk | C25: 120486 | D25: 2 | E25: Thorbeckescholengemeenschap | F25: Thorbeckecholengemeenschap | G25: Zwolle, 8013 XE, Sleedoornstraat 1
A26: Totaal | D26: =SUM(D3:D25) -> 206 | H26: =SUM(H5:H17) -> 18810 | I26: =SUM(I13:I25) -> 4125
A29: Machine park
A30: Nr. | B30: Omschrijving | C30: Serienummer | E30: Klantnr. | F30: Verzendcode | G30: Begindatum | H30: Einddatum
A31: SARTNR009895 | B31: Animo optivend 32 TS NG zwart | C31: 2LB26883 | D31: Koop | E31: 103917 | F31: 1SLEED8013 | G31: 43619 | H31: 45445
A32: SARTNR003931 | B32: Cafitesse 2100 Passion 3 can. | C32: 41711115 | D32: Koop | E32: 103917 | F32: 1SLEED8013 | G32: 41869 | H32: 43694

Sheet Ambelt Zwolle
A1: Koffie en pakket afname periode 01-01-2023 - 01-12-2023
A2: Omschrijving | B2: Eenheid | C2: Itemnr | D2: Afzet | E2: Klantnaam | F2: Adres | G2: Aantal drinks koffie | H2: Aantal drinks thee
A3: 1899 Cappuccino topping 750gr | B3: Stuk | C3: 472340 | D3: 3 | E3: De Ambelt Onderwijs (OOZ) | F3: Zwolle, 8025 PB, Dr. Spanjaardweg 12
A4: 1899 Choco mix 1000gr | B4: Stuk | C4: 472341 | D4: 3 | E4: De Ambelt Onderwijs (OOZ) | F4: Zwolle, 8025 PB, Dr. Spanjaardweg 12
A5: DE Classic roast vlb 2 ltr | B5: Tray a 2 stuks | C5: 181896 | D5: 1 | E5: De Ambelt Onderwijs (OOZ) | F5: Zwolle, 8025 PB, Dr. Spanjaardweg 12 | G5: =D5*750 -> 750
A6: Pickw. Earl grey thee x25 | B6: Doos a 3 stuks | C6: 181337 | D6: 1 | E6: De Ambelt Onderwijs (OOZ) | F6: Zwolle, 8025 PB, Dr. Spanjaardweg 12 | H6: =D6*75 -> 75
A7: Pickw. Kaneel thee x25 | B7: Doos a 3 stuks | C7: 181335 | D7: 2 | E7: De Ambelt Onderwijs (OOZ) | F7: Zwolle, 8025 PB, Dr. Spanjaardweg 12 | H7: =D7*75 -> 150
A8: Pickw. Rooibos thee x25 | B8: Doos a 3 stuks | C8: 181314 | D8: 1 | E8: De Ambelt Onderwijs (OOZ) | F8: Zwolle, 8025 PB, Dr. Spanjaardweg 12 | H8: =D8*75 -> 75
A9: Pickwick Theezakjes 2gr | B9: Doos a 100 stuks | C9: 181331 | D9: 1 | E9: De Ambelt Onderwijs (OOZ) | F9: Zwolle, 8025 PB, Dr. Spanjaardweg 12 | H9: =D9*75 -> 75
A10: Tea of Life Gr. Lemon FT 25x1,5gr | B10: Doos a 4 stuks | C10: 472852 | D10: 1 | E10: De Ambelt Onderwijs (OOZ) | F10: Zwolle, 8025 PB, Dr. Spanjaardweg 12 | H10: =D10*100 -> 100
A11: Totaal Dr. Spanjaardweg 12 | D11: =SUM(D3:D10) -> 13 | G11: =SUM(G5:G10) -> 750 | H11: =SUM(H6:H10) -> 475
A13: Koffie en pakket afname periode 01-01-2023 - 01-12-2023
A14: 1899 Choco mix 1000gr | B14: Stuk | C14: 472341 | D14: 7 | E14: De Ambelt Onderwijs (OOZ) | F14: Zwolle, 8025 AK, Dr. Hengeveldweg 9
A15: Beker karton wit 180ml | B15: Doos a 600 stuks | C15: 473141 | D15: 3 | E15: De Ambelt Onderwijs (OOZ) | F15: Zwolle, 8025 AK, Dr. Hengeveldweg 9
A16: BIO lepel 16cm hout | B16: Doos a 100 stuks | C16: 366687 | D16: 1 | E16: De Ambelt Onderwijs (OOZ) | F16: Zwolle, 8025 AK, Dr. Hengeveldweg 9
A17: DE Cacao Sticks 18,5gr | B17: Doos a 100 stuks | C17: 472598 | D17: 1 | E17: De Ambelt Onderwijs (OOZ) | F17: Zwolle, 8025 AK, Dr. Hengeveldweg 9
A18: DE Strong roast vlb 2 ltr | B18: Tray a 2 stuks | C18: 181904 | D18: 1 | E18: De Ambelt Onderwijs (OOZ) | F18: Zwolle, 8025 AK, Dr. Hengeveldweg 9 | G18: =D18*750 -> 750
A19: Depa Draagtray Zwart 6gaats | B19: Krimp a 2 stuks | C19: 367907 | D19: 2 | E19: De Ambelt Onderwijs (OOZ) | F19: Zwolle, 8025 AK, Dr. Hengeveldweg 9
A20: Houten roerstaafje 110mm dispenserdoos | B20: Doos a 2000 stuks | C20: 367581 | D20: 3 | E20: De Ambelt Onderwijs (OOZ) | F20: Zwolle, 8025 AK, Dr. Hengeveldweg 9
A21: Natrena Zoetjes | B21: Doos a 400 stuks | C21: 124818 | D21: 1 | E21: De Ambelt Onderwijs (OOZ) | F21: Zwolle, 8025 AK, Dr. Hengeveldweg 9
A22: Pickw. Kamille thee x25 | B22: Doos a 3 stuks | C22: 181341 | D22: 1 | E22: De Ambelt Onderwijs (OOZ) | F22: Zwolle, 8025 AK, Dr. Hengeveldweg 9 | H22: =D22*75 -> 75
A23: Pickw. Kaneel thee x25 | B23: Doos a 3 stuks | C23: 181335 | D23: 2 | E23: De Ambelt Onderwijs (OOZ) | F23: Zwolle, 8025 AK, Dr. Hengeveldweg 9 | H23: =D23*75 -> 150
A24: Tea of Life Aardbei FT 25x1,5gr | B24: Doos a 4 stuks | C24: 472862 | D24: 1 | E24: De Ambelt Onderwijs (OOZ) | F24: Zwolle, 8025 AK, Dr. Hengeveldweg 9 | H24: =D24*100 -> 100
A25: Tea of Life Bosvruchten FT 25x1,5gr | B25: Doos a 4 stuks | C25: 472857 | D25: 1 | E25: De Ambelt Onderwijs (OOZ) | F25: Zwolle, 8025 AK, Dr. Hengeveldweg 9 | H25: =D25*100 -> 100
A26: Tea of Life Earl grey FT 25x1,5gr | B26: Doos a 4 stuks | C26: 472856 | D26: 1 | E26: De Ambelt Onderwijs (OOZ) | F26: Zwolle, 8025 AK, Dr. Hengeveldweg 9 | H26: =D26*100 -> 100
A27: Tea of Life Engels FT 25x1,5gr | B27: Doos a 4 stuks | C27: 472858 | D27: 1 | E27: De Ambelt Onderwijs (OOZ) | F27: Zwolle, 8025 AK, Dr. Hengeveldweg 9 | H27: =D27*100 -> 100
A28: Tea of Life Moroc.mint 20x2g | B28: Doos a 4 stuks | C28: 100661 | D28: 2 | E28: De Ambelt Onderwijs (OOZ) | F28: Zwolle, 8025 AK, Dr. Hengeveldweg 9 | H28: =D28*100 -> 200
A29: Tea of Life Relaxing mix FT 25x1,5gr | B29: Doos a 4 stuks | C29: 472859 | D29: 1 | E29: De Ambelt Onderwijs (OOZ) | F29: Zwolle, 8025 AK, Dr. Hengeveldweg 9 | H29: =D29*100 -> 100
A30: Tea of Life Rooibos FT 25x1,25gr | B30: Doos a 4 stuks | C30: 472861 | D30: 1 | E30: De Ambelt Onderwijs (OOZ) | F30: Zwolle, 8025 AK, Dr. Hengeveldweg 9 | H30: =D30*100 -> 100
A31: Totaal Dr. Hengeveldweg 9 | D31: =SUM(D14:D30) -> 30 | G31: =SUM(G18:G30) -> 750 | H31: =SUM(H22:H30) -> 1025
A33: Koffie en pakket afname periode 01-01-2023 - 01-12-2023
A34: 1899 Beker 180ml | B34: Doos a 2500 stuks | C34: 100815 | D34: 9 | E34: De Ambelt Onderwijs (OOZ) | F34: Zwolle, 8026 RC, Herfterlaan 39
A35: 1899 Creamersticks dispenser 2,5 gram | B35: Doos a 500 stuks | C35: 100799 | D35: 16 | E35: De Ambelt Onderwijs (OOZ) | F35: Zwolle, 8026 RC, Herfterlaan 39
A36: 1899 Suikersticks dispenser 4 gram | B36: Doos a 500 stuks | C36: 100798 | D36: 27 | E36: De Ambelt Onderwijs (OOZ) | F36: Zwolle, 8026 RC, Herfterlaan 39
A37: Beker karton wit 180ml | B37: Doos a 600 stuks | C37: 473141 | D37: 2 | E37: De Ambelt Onderwijs (OOZ) | F37: Zwolle, 8026 RC, Herfterlaan 39
A38: Cup a Soup Kerrie | B38: Pak a 21 stuks | C38: 322622 | D38: 1 | E38: De Ambelt Onderwijs (OOZ) | F38: Zwolle, 8026 RC, Herfterlaan 39
A39: DE Cacao Fantasy Blue 1x1000 g | B39: Zak | C39: 182006 | D39: 120 | E39: De Ambelt Onderwijs (OOZ) | F39: Zwolle, 8026 RC, Herfterlaan 39
A40: DE Cafe Milc 6x0.75 liter | B40: Doos a 6 stuks | C40: 133001 | D40: 48 | E40: De Ambelt Onderwijs (OOZ) | F40: Zwolle, 8026 RC, Herfterlaan 39
A41: DE Classic roast vlb 1,25 ltr | B41: Tray a 2 stuks | C41: 181895 | D41: 2 | E41: De Ambelt Onderwijs (OOZ) | F41: Zwolle, 8026 RC, Herfterlaan 39 | G41: =D41*480 -> 960
A42: DE Classic roast vlb 2 ltr | B42: Tray a 2 stuks | C42: 181896 | D42: 25 | E42: De Ambelt Onderwijs (OOZ) | F42: Zwolle, 8026 RC, Herfterlaan 39 | G42: =D42*750 -> 18750
...

Sheet Ambelt Hardenberg
A1: Koffie en pakket afname periode 01-01-2023 - 01-12-2023
A2: Omschrijving | B2: Eenheid | C2: Itemnr | D2: Afzet | E2: Klantnaam | F2: Adres | G2: Aantal drinks koffie | H2: Aantal drinks thee
A3: 1899 Beker 180ml | B3: Doos a 2500 stuks | C3: 100815 | D3: 3 | E3: VSO Hardenberg | F3: Hardenberg, 7772 ZJ, Piet Heinstraat 3
A4: 1899 Choco mix 1000gr | B4: Stuk | C4: 472341 | D4: 40 | E4: VSO Hardenberg | F4: Hardenberg, 7772 ZJ, Piet Heinstraat 3
A5: Cup a Soup Goulash | B5: Pak a 21 stuks | C5: 321973 | D5: 1 | E5: VSO Hardenberg | F5: Hardenberg, 7772 ZJ, Piet Heinstraat 3
A6: Cup a Soup Mosterd Creme | B6: Pak a 21 stuks | C6: 322606 | D6: 1 | E6: VSO Hardenberg | F6: Hardenberg, 7772 ZJ, Piet Heinstraat 3
A7: Cup a Soup Prei-Creme | B7: Pak a 21 stuks | C7: 407466 | D7: 1 | E7: VSO Hardenberg | F7: Hardenberg, 7772 ZJ, Piet Heinstraat 3
A8: Cup a Soup Tomaat | B8: Pak a 21 stuks | C8: 407464 | D8: 1 | E8: VSO Hardenberg | F8: Hardenberg, 7772 ZJ, Piet Heinstraat 3
A9: Cup a Soup Tomaten Creme | B9: Pak a 21 stuks | C9: 322578 | D9: 1 | E9: VSO Hardenberg | F9: Hardenberg, 7772 ZJ, Piet Heinstraat 3
A10: DE Classic roast vlb 2 ltr | B10: Tray a 2 stuks | C10: 181896 | D10: 14 | E10: VSO Hardenberg | F10: Hardenberg, 7772 ZJ, Piet Heinstraat 3 | G10: =D10*750 -> 10500
A11: DE Medium roast vlb 2 ltr | B11: Tray a 2 stuks | C11: 181891 | D11: 8 | E11: VSO Hardenberg | F11: Hardenberg, 7772 ZJ, Piet Heinstraat 3 | G11: =D11*750 -> 6000
A12: DE Melkproduct v.d. koffie 1kg | B12: Zak | C12: 181180 | D12: 58 | E12: VSO Hardenberg | F12: Hardenberg, 7772 ZJ, Piet Heinstraat 3
A13: Houten roerstaafje 110mm dispenserdoos | B13: Doos a 2000 stuks | C13: 367581 | D13: 4 | E13: VSO Hardenberg | F13: Hardenberg, 7772 ZJ, Piet Heinstraat 3
A14: Kart Beker Limetta 180cc | B14: Doos a 2500 stuks | C14: 70008 | D14: 1 | E14: VSO Hardenberg | F14: Hardenberg, 7772 ZJ, Piet Heinstraat 3
A15: Pickw Rooibos Thee TFOC | B15: Doos a 100 stuks | C15: 181296 | D15: 3 | E15: VSO Hardenberg | F15: Hardenberg, 7772 ZJ, Piet Heinstraat 3 | H15: =D15*100 -> 300
A16: Pickw Thee Tea For One 2 gr | B16: Doos a 100 stuks | C16: 181328 | D16: 2 | E16: VSO Hardenberg | F16: Hardenberg, 7772 ZJ, Piet Heinstraat 3 | H16: =D16*100 -> 200
A17: Pickw. Aardbei thee x25 | B17: Doos a 3 stuks | C17: 181319 | D17: 1 | E17: VSO Hardenberg | F17: Hardenberg, 7772 ZJ, Piet Heinstraat 3 | H17: =D17*75 -> 75
A18: Pickw. Bosvruchten thee x25 | B18: Doos a 3 stuks | C18: 181315 | D18: 3 | E18: VSO Hardenberg | F18: Hardenberg, 7772 ZJ, Piet Heinstraat 3 | H18: =D18*75 -> 225
A19: Pickw. Groene thee lemon x25 | B19: Doos a 3 stuks | C19: 181313 | D19: 1 | E19: VSO Hardenberg | F19: Hardenberg, 7772 ZJ, Piet Heinstraat 3 | H19: =D19*75 -> 75
A20: Pickw. Kaneel thee x25 | B20: Doos a 3 stuks | C20: 181335 | D20: 2 | E20: VSO Hardenberg | F20: Hardenberg, 7772 ZJ, Piet Heinstraat 3 | H20: =D20*75 -> 150
A21: Pickw. Mango thee x25 | B21: Doos a 3 stuks | C21: 181321 | D21: 7 | E21: VSO Hardenberg | F21: Hardenberg, 7772 ZJ, Piet Heinstraat 3 | H21: =D21*75 -> 525
A22: Pickw. Minty morocco x25 | B22: Doos a 3 stuks | C22: 181336 | D22: 7 | E22: VSO Hardenberg | F22: Hardenberg, 7772 ZJ, Piet Heinstraat 3 | H22: =D22*75 -> 525
A23: Pickw. Rooibos honing thee x25 | B23: Doos a 3 stuks | C23: 181318 | D23: 6 | E23: VSO Hardenberg | F23: Hardenberg, 7772 ZJ, Piet Heinstraat 3 | H23: =D23*75 -> 450
A24: Pickw. Trop.vruchten thee x25 | B24: Doos a 3 stuks | C24: 181316 | D24: 4 | E24: VSO Hardenberg | F24: Hardenberg, 7772 ZJ, Piet Heinstraat 3 | H24: =D24*75 -> 300
A25: Pickw. Wintergloed thee x25 | B25: Doos a 3 stuks | C25: 181343 | D25: 7 | E25: VSO Hardenberg | F25: Hardenberg, 7772 ZJ, Piet Heinstraat 3 | H25: =D25*75 -> 525
A26: Suiker Automaat 1 kg | B26: Pak a 10 stuks | C26: 158824 | D26: 3 | E26: VSO Hardenberg | F26: Hardenberg, 7772 ZJ, Piet Heinstraat 3 | H26: =D26*75 -> 225
A27: Tea of Life Assortibox FT 120x2gr | B27: Doos | C27: 472868 | D27: 4 | E27: VSO Hardenberg | F27: Hardenberg, 7772 ZJ, Piet Heinstraat 3 | H27: =D27*120 -> 480
A28: Tea of Life Bosvruchten 20x2g | B28: Doos a 4 stuks | C28: 100650 | D28: 2 | E28: VSO Hardenberg | F28: Hardenberg, 7772 ZJ, Piet Heinstraat 3 | H28: =D28*80 -> 160
A29: Tea of Life Gr. Lemon FT 25x1,5gr | B29: Doos a 4 stuks | C29: 472852 | D29: 12 | E29: VSO Hardenberg | F29: Hardenberg, 7772 ZJ, Piet Heinstraat 3 | H29: =D29*100 -> 1200
A30: Tea of Life Moroc.mint 20x2g | B30: Doos a 4 stuks | C30: 100661 | D30: 8 | E30: VSO Hardenberg | F30: Hardenberg, 7772 ZJ, Piet Heinstraat 3 | H30: =D30*80 -> 640
A31: Tea of Life Rooibos 20x2g | B31: Doos a 4 stuks | C31: 100664 | D31: 2 | E31: VSO Hardenberg | F31: Hardenberg, 7772 ZJ, Piet Heinstraat 3 | H31: =D31*80 -> 160
A32: Totaal | D32: =SUM(D3:D31) -> 207 | G32: =SUM(G10:G31) -> 16500 | H32: =SUM(H15:H31) -> 6215
A35: Machine park
A36: Nr. | B36: Omschrijving | C36: Serienummer | E36: Klantnr. | F36: Verzendcode | G36: Begindatum | H36: Einddatum
A37: SARTNR010948 | B37: Cafitesse Omni | C37: 4221030 | D37: Koop | E37: 103830 | F37: VSO HARDEN | G37: 44095 | H37: 45920

Sheet OOZ
A1: Koffie en pakket afname periode 01-01-2023 - 01-12-2023
A2: Omschrijving | B2: Eenheid | C2: Itemnr | D2: Afzet | E2: Klanten | F2: Adresnamen | G2: Adres | H2: Aantal drinks koffie | I2: Aantal drinks thee
A3: 1899 Choco mix 1000gr | B3: Stuk | C3: 472341 | D3: 28 | E3: Openbaar Onderwijs Zwolle en Regio | F3: Openbaar Onderwijs Zwolle en Regio | G3: Zwolle, 8032 JX, Dobbe 74
A4: 1899 Creamersticks 2,5 gram | B4: Doos a 1000 stuks | C4: 403457 | D4: 2 | E4: Openbaar Onderwijs Zwolle en Regio | F4: Openbaar Onderwijs Zwolle en Regio | G4: Zwolle, 8032 JX, Dobbe 74
A5: 1899 Espresso Dark Roast FT 1kg | B5: Stuk | C5: 471400 | D5: 38 | E5: Openbaar Onderwijs Zwolle en Regio | F5: Openbaar Onderwijs Zwolle en Regio | G5: Zwolle, 8032 JX, Dobbe 74 | H5: =D5*125 -> 4750
A6: 1899 Espresso Medium Roast FT 1kg | B6: Zak | C6: 471391 | D6: 145 | E6: Openbaar Onderwijs Zwolle en Regio | F6: Openbaar Onderwijs Zwolle en Regio | G6: Zwolle, 8032 JX, Dobbe 74 | H6: =D6*125 -> 18125
A7: 1899 Melktopping 500 gram | B7: Zak | C7: 472440 | D7: 165 | E7: Openbaar Onderwijs Zwolle en Regio | F7: Openbaar Onderwijs Zwolle en Regio | G7: Zwolle, 8032 JX, Dobbe 74
A8: 1899 Snelfilter Traditioneel FT 1kg | B8: Stuk | C8: 471330 | D8: 4 | E8: Openbaar Onderwijs Zwolle en Regio | F8: Openbaar Onderwijs Zwolle en Regio | G8: Zwolle, 8032 JX, Dobbe 74 | H8: =D8*160 -> 640
A9: 1899 Suikersticks 4 gr. | B9: Doos a 1000 stuks | C9: 403458 | D9: 3 | E9: Openbaar Onderwijs Zwolle en Regio | F9: Openbaar Onderwijs Zwolle en Regio | G9: Zwolle, 8032 JX, Dobbe 74
A10: Cup a Soup Asperge | B10: Pak a 21 stuks | C10: 322614 | D10: 1 | E10: Openbaar Onderwijs Zwolle en Regio | F10: Openbaar Onderwijs Zwolle en Regio | G10: Zwolle, 8032 JX, Dobbe 74
A11: Cup a Soup Champig-Ham | B11: Pak a 21 stuks | C11: 322616 | D11: 3 | E11: Openbaar Onderwijs Zwolle en Regio | F11: Openbaar Onderwijs Zwolle en Regio | G11: Zwolle, 8032 JX, Dobbe 74
A12: Cup a Soup Champignon crème | B12: Pak a 21 stuks | C12: 407472 | D12: 6 | E12: Openbaar Onderwijs Zwolle en Regio | F12: Openbaar Onderwijs Zwolle en Regio | G12: Zwolle, 8032 JX, Dobbe 74
A13: Cup a Soup Chinese Kip | B13: Pak a 21 stuks | C13: 321919 | D13: 2 | E13: Openbaar Onderwijs Zwolle en Regio | F13: Openbaar Onderwijs Zwolle en Regio | G13: Zwolle, 8032 JX, Dobbe 74
A14: Cup a Soup Chinese Tomaat | B14: Pak a 21 stuks | C14: 321928 | D14: 3 | E14: Openbaar Onderwijs Zwolle en Regio | F14: Openbaar Onderwijs Zwolle en Regio | G14: Zwolle, 8032 JX, Dobbe 74
A15: Cup a Soup Erwten | B15: Pak a 21 stuks | C15: 407529 | D15: 1 | E15: Openbaar Onderwijs Zwolle en Regio | F15: Openbaar Onderwijs Zwolle en Regio | G15: Zwolle, 8032 JX, Dobbe 74
A16: Cup a Soup Goulash | B16: Pak a 21 stuks | C16: 321973 | D16: 2 | E16: Openbaar Onderwijs Zwolle en Regio | F16: Openbaar Onderwijs Zwolle en Regio | G16: Zwolle, 8032 JX, Dobbe 74
A17: Cup a Soup Groente | B17: Pak a 21 stuks | C17: 407456 | D17: 3 | E17: Openbaar Onderwijs Zwolle en Regio | F17: Openbaar Onderwijs Zwolle en Regio | G17: Zwolle, 8032 JX, Dobbe 74
A18: Cup a Soup Kerrie | B18: Pak a 21 stuks | C18: 322622 | D18: 3 | E18: Openbaar Onderwijs Zwolle en Regio | F18: Openbaar Onderwijs Zwolle en Regio | G18: Zwolle, 8032 JX, Dobbe 74
A19: Cup a Soup Kip | B19: Pak a 21 stuks | C19: 407503 | D19: 5 | E19: Openbaar Onderwijs Zwolle en Regio | F19: Openbaar Onderwijs Zwolle en Regio | G19: Zwolle, 8032 JX, Dobbe 74
A20: Cup a Soup Koninginne | B20: Pak a 21 stuks | C20: 322583 | D20: 2 | E20: Openbaar Onderwijs Zwolle en Regio | F20: Openbaar Onderwijs Zwolle en Regio | G20: Zwolle, 8032 JX, Dobbe 74
... A26: DE Cafe Milc 6x0.75 liter | B26: Doos a 6 stuks | C26: 133001 | D26: 1 | E26: Openbaar Onderwijs Zwolle en Regio | F26: Openbaar Onderwijs Zwolle en Regio | G26: Zwolle, 8032 JX, Dobbe 74
A27: DE classic 300 gr | B27: Zak | C27: 472368 | D27: 5 | E27: Openbaar Onderwijs Zwolle en Regio | F27: Openbaar Onderwijs Zwolle en Regio | G27: Zwolle, 8032 JX, Dobbe 74 | H27: =D27*190 -> 950
A28: DE Classic roast vlb 1,25 ltr | B28: Tray a 2 stuks | C28: 181895 | D28: 2 | E28: Openbaar Onderwijs Zwolle en Regio | F28: Openbaar Onderwijs Zwolle en Regio | G28: Zwolle, 8032 JX, Dobbe 74 | H28: =D28*480 -> 960
A29: DE Freshbrew Trad. 1000 gr | B29: Krimp a 6 stuks | C29: 181910 | D29: 3 | E29: Openbaar Onderwijs Zwolle en Regio | F29: Openbaar Onderwijs Zwolle en Regio | G29: Zwolle, 8032 JX, Dobbe 74 | H29: =D29*750 -> 2250
A30: DE Medium roast vlb 1,25 ltr | B30: Tray a 2 stuks | C30: 181892 | D30: 4 | E30: Openbaar Onderwijs Zwolle en Regio | F30: Openbaar Onderwijs Zwolle en Regio | G30: Zwolle, 8032 JX, Dobbe 74 | H30: =D30*480 -> 1920
A31: DE Melkproduct v.d. koffie 1kg | B31: Zak | C31: 181180 | D31: 12 | E31: Openbaar Onderwijs Zwolle en Regio | F31: Openbaar Onderwijs Zwolle en Regio | G31: Zwolle, 8032 JX, Dobbe 74
A32: DE Suikersticks 4 Gram | B32: Doos a 500 stuks | C32: 181001 | D32: 1 | E32: Openbaar Onderwijs Zwolle en Regio | F32: Openbaar Onderwijs Zwolle en Regio | G32: Zwolle, 8032 JX, Dobbe 74
A33: Knorr Tuinkruiden Drinkb. | B33: Pak a 80 stuks | C33: 167926 | D33: 1 | E33: Openbaar Onderwijs Zwolle en Regio | F33: Openbaar Onderwijs Zwolle en Regio | G33: Zwolle, 8032 JX, Dobbe 74
A34: Pickw Groen lemon Thee TFOC | B34: Doos a 100 stuks | C34: 181295 | D34: 12 | E34: Openbaar Onderwijs Zwolle en Regio | F34: Openbaar Onderwijs Zwolle en Regio | G34: Zwolle, 8032 JX, Dobbe 74 | I34: =D34*100 -> 1200
A35: Pickw Rooibos Thee TFOC | B35: Doos a 100 stuks | C35: 181296 | D35: 12 | E35: Openbaar Onderwijs Zwolle en Regio | F35: Openbaar Onderwijs Zwolle en Regio | G35: Zwolle, 8032 JX, Dobbe 74 | I35: =D35*100 -> 1200
A36: Pickw Thee Ceylon Tfoc 2 gr | B36: Doos a 100 stuks | C36: 181250 | D36: 17 | E36: Openbaar Onderwijs Zwolle en Regio | F36: Openbaar Onderwijs Zwolle en Regio | G36: Zwolle, 8032 JX, Dobbe 74 | I36: =D36*100 -> 1700
A37: Pickw Thee Earl Grey 2gram env | B37: Doos a 100 stuks | C37: 181151 | D37: 4 | E37: Openbaar Onderwijs Zwolle en Regio | F37: Openbaar Onderwijs Zwolle en Regio | G37: Zwolle, 8032 JX, Dobbe 74 | I37: =D37*100 -> 400
A38: Pickw Thee Tea For One 2 gr | B38: Doos a 100 stuks | C38: 181328 | D38: 5 | E38: Openbaar Onderwijs Zwolle en Regio | F38: Openbaar Onderwijs Zwolle en Regio | G38: Zwolle, 8032 JX, Dobbe 74 | I38: =D38*100 -> 500
A39: Pickw. bosvruchten TFOC | B39: Doos a 100 stuks | C39: 181352 | D39: 2 | E39: Openbaar Onderwijs Zwolle en Regio | F39: Openbaar Onderwijs Zwolle en Regio | G39: Zwolle, 8032 JX, Dobbe 74 | I39: =D39*100 -> 200
A40: Pickw. Bosvruchten thee x25 | B40: Doos a 3 stuks | C40: 181315 | D40: 5 | E40: Openbaar Onderwijs Zwolle en Regio | F40: Openbaar Onderwijs Zwolle en Regio | G40: Zwolle, 8032 JX, Dobbe 74 | I40: =D40*75 -> 375
A41: Pickw. Ginger lemon x25 | B41: Doos a 3 stuks | C41: 181354 | D41: 2 | E41: Openbaar Onderwijs Zwolle en Regio | F41: Openbaar Onderwijs Zwolle en Regio | G41: Zwolle, 8032 JX, Dobbe 74 | I41: =D41*75 -> 150
A42: Pickw. Groen cranb. thee x25 | B42: Doos a 3 stuks | C42: 181323 | D42: 2 | E42: Openbaar Onderwijs Zwolle en Regio | F42: Openbaar Onderwijs Zwolle en Regio | G42: Zwolle, 8032 JX, Dobbe 74 | I42: =D42*75 -> 150
A43: Pickw. Groen pure thee x25 | B43: Doos a 3 stuks | C43: 181324 | D43: 1 | E43: Openbaar Onderwijs Zwolle en Regio | F43: Openbaar Onderwijs Zwolle en Regio | G43: Zwolle, 8032 JX, Dobbe 74 | I43: =D43*75 -> 75
A44: Pickw. Kamille thee x25 | B44: Doos a 3 stuks | C44: 181341 | D44: 9 | E44: Openbaar Onderwijs Zwolle en Regio | F44: Openbaar Onderwijs Zwolle en Regio | G44: Zwolle, 8032 JX, Dobbe 74 | I44: =D44*75 -> 675
A45: Pickw. Mint x25 | B45: Doos a 3 stuks | C45: 181342 | D45: 3 | E45: Openbaar Onderwijs Zwolle en Regio | F45: Openbaar Onderwijs Zwolle en Regio | G45: Zwolle, 8032 JX, Dobbe 74 | I45: =D45*75 -> 225
...

Sheet Sluis
A1: Koffie en pakket afname periode 01-01-2023 - 01-12-2023
A2: Omschrijving | B2: Eenheid | C2: Itemnr | D2: Afzet | E2: Klanten | F2: Adresnamen | G2: Adres | H2: Aantal drinks koffie | I2: Aantal drinks thee
A3: 1899 Cappuccino topping 750gr | B3: Stuk | C3: 472340 | D3: 20 | E3: Openbaar Onderwijs Zwolle en Regio | F3: SBO de Sluis Zwolle | G3: Zwolle, 8017 AZ, Zwarteweg 120
A4: 1899 Espresso Medium Roast FT 1kg | B4: Zak | C4: 471391 | D4: 46 | E4: Openbaar Onderwijs Zwolle en Regio | F4: SBO de Sluis Zwolle | G4: Zwolle, 8017 AZ, Zwarteweg 120 | H4: =D4*125 -> 5750
A5: Suikerklontjes midi 750 gram | B5: Krimp a 8 stuks | C5: 255145 | D5: 1 | E5: Openbaar Onderwijs Zwolle en Regio | F5: SBO de Sluis Zwolle | G5: Zwolle, 8017 AZ, Zwarteweg 120
A6: Tea of Life Bosvruchten FT 25x1,5gr | B6: Doos a 4 stuks | C6: 472857 | D6: 16 | E6: Openbaar Onderwijs Zwolle en Regio | F6: SBO de Sluis Zwolle | G6: Zwolle, 8017 AZ, Zwarteweg 120 | I6: =D6*100 -> 1600
A7: Tea of Life Earl grey FT 25x1,5gr | B7: Doos a 4 stuks | C7: 472856 | D7: 8 | E7: Openbaar Onderwijs Zwolle en Regio | F7: SBO de Sluis Zwolle | G7: Zwolle, 8017 AZ, Zwarteweg 120 | I7: =D7*100 -> 800
A8: Tea of Life Rooibos FT 25x1,25gr | B8: Doos a 4 stuks | C8: 472861 | D8: 10 | E8: Openbaar Onderwijs Zwolle en Regio | F8: SBO de Sluis Zwolle | G8: Zwolle, 8017 AZ, Zwarteweg 120 | I8: =D8*100 -> 1000
A9: DE Cafe Milc 2lt Bag I Box | B9: Pak | C9: 133000 | D9: 20 | E9: Openbaar Onderwijs Zwolle en Regio | F9: SBO de Sluis Zwolle | G9: Zwolle, 8017 AZ, Zwarteweg 120
A10: DE Smooth roast vlb 2 ltr | B10: Doos a 2 stuks | C10: 181902 | D10: 4 | E10: Openbaar Onderwijs Zwolle en Regio | F10: SBO de Sluis Zwolle | G10: Zwolle, 8017 AZ, Zwarteweg 120 | H10: =D10*750 -> 3000
A11: Rinza reinigingstabl. M61 | B11: Pot a 120 stuks | C11: 921245 | D11: 2 | E11: Openbaar Onderwijs Zwolle en Regio | F11: SBO de Sluis Zwolle | G11: Zwolle, 8017 AZ, Zwarteweg 120
A12: Suikerklontjes midi 750 gram | B12: Krimp a 8 stuks | C12: 255145 | D12: 2 | E12: Openbaar Onderwijs Zwolle en Regio | F12: SBO de Sluis Zwolle | G12: Zwolle, 8017 AZ, Zwarteweg 120
A13: 1899 Cappuccino topping 750gr | B13: Stuk | C13: 472340 | D13: 48 | E13: Openbaar Onderwijs Zwolle en Regio | F13: SBO de Sluis Zwolle | G13: Zwolle, 8017 AZ, Zwarteweg 120
A14: 1899 Espresso Medium Roast FT 1kg | B14: Zak | C14: 471391 | D14: 21 | E14: Openbaar Onderwijs Zwolle en Regio | F14: SBO de Sluis Zwolle | G14: Zwolle, 8017 AZ, Zwarteweg 120 | H14: =D14*125 -> 2625
A15: Reinigingstabletten Neodisher CM 100 stuks | B15: Pot | C15: 471276 | D15: 1 | E15: Openbaar Onderwijs Zwolle en Regio | F15: SBO de Sluis Zwolle | G15: Zwolle, 8017 AZ, Zwarteweg 120
A16: Tea of Life Assortibox FT 120x2gr | B16: Doos | C16: 472868 | D16: 1 | E16: Openbaar Onderwijs Zwolle en Regio | F16: SBO de Sluis Zwolle | G16: Zwolle, 8017 AZ, Zwarteweg 120 | I16: =D16*120 -> 120
A17: Tea of Life Bosvruchten FT 25x1,5gr | B17: Doos a 4 stuks | C17: 472857 | D17: 6 | E17: Openbaar Onderwijs Zwolle en Regio | F17: SBO de Sluis Zwolle | G17: Zwolle, 8017 AZ, Zwarteweg 120 | I17: =D17*100 -> 600
A18: Tea of Life Groene thee 25x1,5gr | B18: Doos a 4 stuks | C18: 472863 | D18: 4 | E18: Openbaar Onderwijs Zwolle en Regio | F18: SBO de Sluis Zwolle | G18: Zwolle, 8017 AZ, Zwarteweg 120 | I18: =D18*100 -> 400
A19: Tea of Life Rooibos FT 25x1,25gr | B19: Doos a 4 stuks | C19: 472861 | D19: 8 | E19: Openbaar Onderwijs Zwolle en Regio | F19: SBO de Sluis Zwolle | G19: Zwolle, 8017 AZ, Zwarteweg 120 | I19: =D19*100 -> 800
A20: Totaal | D20: =SUM(D3:D19) -> 218 | H20: =SUM(H4:H18) -> 11375 | I20: =SUM(I4:I19) -> 5320
A22: Machine park
A23: Nr. | B23: Omschrijving | C23: Serienummer | E23: Klantnr. | F23: Verzendcode | G23: Begindatum | H23: Einddatum
A24: SARTNR013568 | B24: Optibean 2 touch zwart | C24: 1KG07356 | D24: Koop | E24: 105334 | F24: RVSLUIS120 | G24: 45054 | H24: 46880

Sheet Parkschool
A1: Koffie en pakket afname periode 01-01-2023 - 01-12-2023
A2: Omschrijving | B2: Eenheid | C2: Itemnr | D2: Afzet | E2: Klanten | F2: Adresnamen | G2: Adres | H2: Aantal drinks koffie | I2: Aantal drinks thee
A3: 1899 Creamersticks dispenser 2,5 gram | B3: Doos a 500 stuks | C3: 100799 | D3: 1 | E3: Openbaar Onderwijs Zwolle en Regio | F3: De Parkschool | G3: Zwolle, 8011 CC, Westerlaan 22
A4: 1899 Suikersticks dispenser 4 gram | B4: Doos a 500 stuks | C4: 100798 | D4: 1 | E4: Openbaar Onderwijs Zwolle en Regio | F4: De Parkschool | G4: Zwolle, 8011 CC, Westerlaan 22
A5: DE Cacao Fantasy Blue 1x1000 g | B5: Zak | C5: 182006 | D5: 48 | E5: Openbaar Onderwijs Zwolle en Regio | F5: De Parkschool | G5: Zwolle, 8011 CC, Westerlaan 22
A6: DE Cafe Milc 6x0.75 liter | B6: Doos a 6 stuks | C6: 133001 | D6: 21 | E6: Openbaar Onderwijs Zwolle en Regio | F6: De Parkschool | G6: Zwolle, 8011 CC, Westerlaan 22
A7: DE Medium roast vlb 1,25 ltr | B7: Tray a 2 stuks | C7: 181892 | D7: 20 | E7: Openbaar Onderwijs Zwolle en Regio | F7: De Parkschool | G7: Zwolle, 8011 CC, Westerlaan 22 | H7: =D7*480 -> 9600
A8: DE Suikersticks 4 Gram | B8: Doos a 500 stuks | C8: 181001 | D8: 1 | E8: Openbaar Onderwijs Zwolle en Regio | F8: De Parkschool | G8: Zwolle, 8011 CC, Westerlaan 22
A9: Houten roerstaafje 110mm dispenserdoos | B9: Doos a 2000 stuks | C9: 367581 | D9: 1 | E9: Openbaar Onderwijs Zwolle en Regio | F9: De Parkschool | G9: Zwolle, 8011 CC, Westerlaan 22
A10: Kart Beker Limetta 180cc | B10: Doos a 2500 stuks | C10: 70008 | D10: 3 | E10: Openbaar Onderwijs Zwolle en Regio | F10: De Parkschool | G10: Zwolle, 8011 CC, Westerlaan 22
A11: Pickw. Minty morocco x25 | B11: Doos a 3 stuks | C11: 181336 | D11: 2 | E11: Openbaar Onderwijs Zwolle en Regio | F11: De Parkschool | G11: Zwolle, 8011 CC, Westerlaan 22 | I11: =D11*75 -> 150
A12: Pickw. sterrenmunt TFOC | B12: Doos a 100 stuks | C12: 181353 | D12: 1 | E12: Openbaar Onderwijs Zwolle en Regio | F12: De Parkschool | G12: Zwolle, 8011 CC, Westerlaan 22 | I12: =D12*100 -> 100
A13: Pickw. Wintergloed thee x25 | B13: Doos a 3 stuks | C13: 181343 | D13: 2 | E13: Openbaar Onderwijs Zwolle en Regio | F13: De Parkschool | G13: Zwolle, 8011 CC, Westerlaan 22 | I13: =D13*75 -> 150
A14: Suikersticks Eco 4gr | B14: Doos a 900 stuks | C14: 181005 | D14: 1 | E14: Openbaar Onderwijs Zwolle en Regio | F14: De Parkschool | G14: Zwolle, 8011 CC, Westerlaan 22
A15: Totaal | D15: =SUM(D3:D14) -> 102 | H15: =SUM(H7:H14) -> 9600 | I15: =SUM(I11:I14) -> 400
A18: Machine park
A19: Nr. | B19: Omschrijving | C19: Serienummer | E19: Klantnr. | F19: Verzendcode | G19: Begindatum | H19: Einddatum
A20: SARTNR012408 | B20: Excellence Compact Touch insta | C20: 4218020004385 | D20: Koop | E20: 105334 | F20: PARKSCHOOL | G20: 44596 | H20: 46421

Sheet Marshof
A1: Koffie en pakket afname periode 01-01-2023 - 01-12-2023
A2: Omschrijving | B2: Eenheid | C2: Itemnr | D2: Afzet | E2: Klanten | F2: Adresnamen | G2: Adres | H2: Aantal drinks koffie | I2: Aantal drinks thee
A3: DE Cafe Milc 6x0.75 liter | B3: Doos a 6 stuks | C3: 133001 | D3: 21 | E3: Openbaar Onderwijs Zwolle en Regio | F3: OBS De Marshof | G3: Zwolle, 8014 LA, Tichelmeesterlaan 45
A4: DE Medium roast vlb 1,25 ltr | B4: Tray a 2 stuks | C4: 181892 | D4: 19 | E4: Openbaar Onderwijs Zwolle en Regio | F4: OBS De Marshof | G4: Zwolle, 8014 LA, Tichelmeesterlaan 45 | H4: =D4*480 -> 9120
A5: Totaal | D5: =SUM(D3:D4) -> 40 | H5: =SUM(H4) -> 9120
A8: Machine park
A9: Nr. | B9: Omschrijving | C9: Serienummer | E9: Klantnr. | F9: Verzendcode | G9: Begindatum | H9: Einddatum
A10: SARTNR008828 | B10: Cafitesse Excellence Compact V | C10: 12171020112212 | D10: Koop | E10: 105334 | F10: MARS45ZWOL | G10: 43256 | H10: 45082

Sheet Het Festival
A1: Koffie en pakket afname periode 01-01-2023 - 01-12-2023
A2: Omschrijving | B2: Eenheid | C2: Itemnr | D2: Afzet | E2: Klanten | F2: Adresnamen | G2: Adres | H2: Aantal drinks koffie | I2: Aantal drinks thee
A3: DE Cafe Milc 6x0.75 liter | B3: Doos a 6 stuks | C3: 133001 | D3: 19 | E3: Openbaar Onderwijs Zwolle en Regio | F3: OBS Het Festival | G3: Zwolle, 8044 GP, Sportlaan 6
A4: DE Medium roast vlb 1,25 ltr | B4: Tray a 2 stuks | C4: 181892 | D4: 19 | E4: Openbaar Onderwijs Zwolle en Regio | F4: OBS Het Festival | G4: Zwolle, 8044 GP, Sportlaan 6 | H4: =D4*480 -> 9120
A5: DE Cafe Milc 6x0.75 liter | B5: Doos a 6 stuks | C5: 133001 | D5: 2 | E5: Openbaar Onderwijs Zwolle en Regio | F5: OBS Het Festival | G5: Zwolle, 8044 GP, Sportlaan 6
A6: DE Medium roast vlb 1,25 ltr | B6: Tray a 2 stuks | C6: 181892 | D6: 2 | E6: Openbaar Onderwijs Zwolle en Regio | F6: OBS Het Festival | G6: Zwolle, 8044 GP, Sportlaan 6 | H6: =D6*480 -> 960
A7: Totaal | D7: =SUM(D3:D6) -> 42 | H7: =SUM(H3:H6) -> 10080
A9: Machine park
A10: Nr. | B10: Omschrijving | C10: Serienummer | E10: Klantnr. | F10: Verzendcode | G10: Begindatum | H10: Einddatum
A11: SARTNR010342 | B11: Excellence Compact Touch stand | C11: 8198010100502 | D11: Koop | E11: 105334 | F11: OBSFESTIV6 | G11: 43808 | H11: 45635

Sheet Avontuur
A1: Koffie en pakket afname periode 01-01-2023 - 01-12-2023
A2: Omschrijving | B2: Eenheid | C2: Itemnr | D2: Afzet | E2: Klanten | F2: Adresnamen | G2: Adres | H2: Aantal drinks koffie | I2: Aantal drinks thee
A3: 1899 Espresso Medium Roast FT 1kg | B3: Zak | C3: 471391 | D3: 60 | E3: Openbaar Onderwijs Zwolle en Regio | F3: Het Avontuur Openbare Basisschool | G3: Dalfsen, 7721 BW, Ruigendoornstraat 23 | H3: =D3*125 -> 7500
A4: DE Melkproduct v.d. koffie 1kg | B4: Zak | C4: 181180 | D4: 18 | E4: Openbaar Onderwijs Zwolle en Regio | F4: Het Avontuur Openbare Basisschool | G4: Dalfsen, 7721 BW, Ruigendoornstraat 23
A5: 1899 Cappuccino topping 750gr | B5: Stuk | C5: 472340 | D5: 15 | E5: Openbaar Onderwijs Zwolle en Regio | F5: Openbaar Onderwijs Zwolle en Regio | G5: Dalfsen, 7721 BW, Ruigendoornstraat 23
A6: 1899 Espresso Dark Roast FT 1kg | B6: Stuk | C6: 471400 | D6: 6 | E6: Openbaar Onderwijs Zwolle en Regio | F6: Openbaar Onderwijs Zwolle en Regio | G6: Dalfsen, 7721 BW, Ruigendoornstraat 23 | H6: =D6*125 -> 750
A7: 1899 Espresso Medium Roast FT 1kg | B7: Zak | C7: 471391 | D7: 6 | E7: Openbaar Onderwijs Zwolle en Regio | F7: Openbaar Onderwijs Zwolle en Regio | G7: Dalfsen, 7721 BW, Ruigendoornstraat 23 | H7: =D7*125 -> 750
A8: 1899 Melktopping 500 gram | B8: Zak | C8: 472440 | D8: 5 | E8: Openbaar Onderwijs Zwolle en Regio | F8: Openbaar Onderwijs Zwolle en Regio | G8: Dalfsen, 7721 BW, Ruigendoornstraat 23
A9: Campina Halfvolle Melk 1ltr | B9: Doos a 12 stuks | C9: 179118 | D9: 2 | E9: Openbaar Onderwijs Zwolle en Regio | F9: Openbaar Onderwijs Zwolle en Regio | G9: Dalfsen, 7721 BW, Ruigendoornstraat 23
A10: Cup a Soup Champignon crème | B10: Pak a 21 stuks | C10: 407472 | D10: 1 | E10: Openbaar Onderwijs Zwolle en Regio | F10: Openbaar Onderwijs Zwolle en Regio | G10: Dalfsen, 7721 BW, Ruigendoornstraat 23
A11: Cup a Soup Kip | B11: Pak a 21 stuks | C11: 407503 | D11: 2 | E11: Openbaar Onderwijs Zwolle en Regio | F11: Openbaar Onderwijs Zwolle en Regio | G11: Dalfsen, 7721 BW, Ruigendoornstraat 23
A12: Cup a Soup Mosterd Creme | B12: Pak a 21 stuks | C12: 322606 | D12: 4 | E12: Openbaar Onderwijs Zwolle en Regio | F12: Openbaar Onderwijs Zwolle en Regio | G12: Dalfsen, 7721 BW, Ruigendoornstraat 23
A13: Cup a Soup Tomaat | B13: Pak a 21 stuks | C13: 407464 | D13: 4 | E13: Openbaar Onderwijs Zwolle en Regio | F13: Openbaar Onderwijs Zwolle en Regio | G13: Dalfsen, 7721 BW, Ruigendoornstraat 23
A14: Cup a Soup Tomaten Creme | B14: Pak a 21 stuks | C14: 322578 | D14: 3 | E14: Openbaar Onderwijs Zwolle en Regio | F14: Openbaar Onderwijs Zwolle en Regio | G14: Dalfsen, 7721 BW, Ruigendoornstraat 23
A15: Totaal | D15: =SUM(D3:D14) -> 126 | H15: =SUM(H3:H8) -> 9000
A17: Machine park
A18: Nr. | B18: Omschrijving | C18: Serienummer | E18: Klantnr. | F18: Verzendcode | G18: Begindatum | H18: Einddatum
A19: SARTNR010266 | B19: Koro 2.0 | C19: 93810254 | D19: Koop | E19: 105334P | F19: 23AVONTUUR | G19: 43783 | H19: 45609

Sheet Octopus
A1: Koffie en pakket afname periode 01-01-2023 - 01-12-2023
A2: Omschrijving | B2: Eenheid | C2: Itemnr | D2: Afzet | E2: Klanten | F2: Adresnamen | G2: Adres | H2: Aantal drinks koffie | I2: Aantal drinks thee
A3: 1899 Creamersticks 2,5 gram | B3: Doos a 1000 stuks | C3: 403457 | D3: 1 | E3: Openbaar Onderwijs Zwolle en Regio | F3: OOZ/ Obs de Octopus | G3: Zwolle, 8016 GB, Provincieroute 143
A4: 1899 Suikersticks 4 gr. | B4: Doos a 1000 stuks | C4: 403458 | D4: 2 | E4: Openbaar Onderwijs Zwolle en Regio | F4: OOZ/ Obs de Octopus | G4: Zwolle, 8016 GB, Provincieroute 143
A5: 1899 Suikersticks dispenser 4 gram | B5: Doos a 500 stuks | C5: 100798 | D5: 1 | E5: Openbaar Onderwijs Zwolle en Regio | F5: OOZ/ Obs de Octopus | G5: Zwolle, 8016 GB, Provincieroute 143
A6: Ajax Fris 1 liter | B6: Fles | C6: 161275 | D6: 4 | E6: Openbaar Onderwijs Zwolle en Regio | F6: OOZ/ Obs de Octopus | G6: Zwolle, 8016 GB, Provincieroute 143
A7: Brise Relaxing zen | B7: Fles | C7: 193818 | D7: 3 | E7: Openbaar Onderwijs Zwolle en Regio | F7: OOZ/ Obs de Octopus | G7: Zwolle, 8016 GB, Provincieroute 143
A8: Enjoy Koffiemelkcups | B8: Doos a 200 stuks | C8: 601999 | D8: 1 | E8: Openbaar Onderwijs Zwolle en Regio | F8: OOZ/ Obs de Octopus | G8: Zwolle, 8016 GB, Provincieroute 143
