Workbook

Sheet Totaal voorblad
A1: Code | B1: Naam | C1: Plaats | D1: klantnummer | E1: Tabblad naam | F1: Aantal Drinks Koffie | G1: Aantal Drinks Thee | H1: Aantal machines | I1: Koffie drinks per machine
A2: COOOZBD5 | B2: SO en VSO De Twijn | C2: ZWOLLE | D2: 106682 | E2: De Twijn | F2: ='De Twijn'!H35+'De Twijn'!H70+'De Twijn'!H97 -> 123595 | G2: ='De Twijn'!I35+'De Twijn'!I70+'De Twijn'!I97 -> 53825 | H2: 10 | I2: =F2/H2 -> 12359.5
A3: THORBE | B3: VO Thorbecke SG vmbo Pro | C3: ZWOLLE | D3: 107696 | E3: Thorbecke vmbo Pro | F3: ='Thorbecke VMBO Pro'!H40 -> 58950 | G3: ='Thorbecke VMBO Pro'!I40 -> 13425 | H3: 1 | I3: =F3/H3 -> 58950
A4: TSCHOL1ZWO | B4: VO Thorbecke SG mavo-havo-atheneum | C4: ZWOLLE | D4: 105334 | E4: Thorbecke MHA | F4: ='Thorbecke MHA'!H13 -> 46610 | H4: 2 | I4: =F4/H4 -> 23305
A5: 1SLEED8013 | B5: VO Thorbecke SG PrO (Sleedoornstraat) | C5: ZWOLLE | D5: 103917 | E5: Thorbecke Pro Sleedoorn | F5: ='Thorbecke Pro Sleedoorn'!H26 -> 18810 | G5: ='Thorbecke Pro Sleedoorn'!I26 -> 4125 | H5: 2 | I5: =F5/H5 -> 9405
A6: SPANJWEG | B6: SO en VSO De Ambelt | C6: ZWOLLE | D6: 103830 | E6: Ambelt Zwolle | F6: ='Ambelt Zwolle'!F89 -> 40680 | G6: ='Ambelt Zwolle'!G89 -> 21660 | H6: 11 | I6: =F6/H6 -> 3698.1818
A7: VSO HARDEN | B7: VSO Hardenberg - Ambelt | C7: HARDENBERG | D7: 103830 | E7: Ambelt Hardenberg | F7: ='Ambelt Hardenberg'!G32 -> 16500 | G7: ='Ambelt Hardenberg'!H32 -> 6215 | H7: 1 | I7: =F7/H7 -> 16500
A8: OOZDOBBE74 | B8: Support | C8: ZWOLLE | D8: 105334 | E8: Dobbe 74 | F8: =OOZ!H54 -> 29595 | G8: =OOZ!I54 -> 10025 | H8: 2 | I8: =F8/H8 -> 14797.5
A9: RVSLUIS120 | B9: PO De Sluis | C9: ZWOLLE | D9: 105334 | E9: Sluis | F9: =Sluis!H20 -> 11375 | G9: =Sluis!I20 -> 5320 | H9: 1 | I9: =F9/H9 -> 11375
A10: PARKSCHOOL | B10: PO Parkschool | C10: ZWOLLE | D10: 105334 | E10: Parkschool | F10: =Parkschool!H15 -> 9600 | G10: =Parkschool!I15 -> 400 | H10: 1 | I10: =F10/H10 -> 9600
A11: MARS45ZWOL | B11: PO De Marshof | C11: ZWOLLE | D11: 105334 | E11: Marshof | F11: =Marshof!H5 -> 9120 | H11: 1 | I11: =F11/H11 -> 9120
A12: OBSFESTIV6 | B12: PO Het Festival | C12: ZWOLLE | D12: 105334 | E12: Het Festival | F12: ='Het Festival'!H7 -> 10080 | H12: 1 | I12: =F12/H12 -> 10080
A13: 23AVONTUUR | B13: PO Het Avontuur | C13: DALFSEN | D13: 105334 | E13: Avontuur | F13: =Avontuur!H15 -> 9000 | H13: 1 | I13: =F13/H13 -> 9000
A14: PROVINCIER | B14: PO De Octopus | C14: ZWOLLE | D14: 105334 | E14: Octopus | F14: =Octopus!H54 -> 10625 | G14: =Octopus!I54 -> 3280 | H14: 1 | I14: =F14/H14 -> 10625
A15: OBSTOONLAD | B15: PO De Toonladder | C15: ZWOLLE | D15: 105334 | E15: Toonladder | F15: =Toonladder!H40 -> 10400 | G15: =Toonladder!I40 -> 4720 | H15: 2 | I15: =F15/H15 -> 5200
A16: CAPELLEN | B16: VO Capellenborg | C16: WIJHE | D16: 105334 | E16: Cappellenborg | F16: =Cappellenborg!H12 -> 16730 | H16: 1 | I16: =F16/H16 -> 16730
A17: OOZE9MONTE | B17: PO Montessorischool | C17: ZWOLLE | D17: 105334 | E17: Montessori | F17: =Montessori!H11 -> 7750 | H17: 1 | I17: =F17/H17 -> 7750
A18: MARKESTEEN | B18: PO De Markesteen | C18: ZWOLLE | D18: 105334 | E18: Markesteen | F18: =Markesteen!H31 -> 7600 | G18: =Markesteen!I31 -> 4300 | H18: 1 | I18: =F18/H18 -> 7600
A19: PALETOMMEN | B19: PO Het Palet Ommen | C19: OMMEN | D19: 105334 | E19: Palet Ommen | F19: ='Palet Ommen'!H27 -> 3360 | G19: ='Palet Ommen'!I27 -> 4100 | H19: 1 | I19: =F19/H19 -> 3360
A20: OOZKINSBEL | B20: VO Van Kinsbergen college | C20: ELBURG | D20: 107896 | E20: Van Kinsbergen | F20: ='Van Kinsbergen'!H11 -> 4800 | G20: ='Van Kinsbergen'!I11 -> 400 | H20: 1 | I20: =F20/H20 -> 4800
A21: OOSTERENK | B21: PO De Oosterenk | C21: ZWOLLE | D21: 105334 | E21: Oosterenk | F21: =Oosterenk!H10 -> 6250 | H21: 1 | I21: =F21/H21 -> 6250
A22: WERKSCHUIT | B22: PO De Werkschuit | C22: ZWOLLE | D22: 105334 | E22: Werkschuit | F22: =Werkschuit!H8 -> 3750 | H22: 1 | I22: =F22/H22 -> 3750
A23: TWEEM36NL | B23: PO De Tweemaster | C23: NIEUWLEUSEN | D23: 107807 | E23: Tweemaster | F23: =Tweemaster!H10 -> 2375 | G23: =Tweemaster!I10 -> 2840 | H23: 1 | I23: =F23/H23 -> 2375
A24: DE CAMPHER | B24: PO De Campherbeek | C24: ZWOLLE | D24: 105334 | E24: Campherbeek | F24: =Campherbeek!H34 -> 4800 | G24: =Campherbeek!I34 -> 1500 | H24: 2 | I24: =F24/H24 -> 2400
A25: VLONDER | B25: PO De Vlonder | C25: HATTEM | D25: 105334 | E25: Vlonder | F25: =Vlonder!H6 -> 5280 | H25: 1 | I25: =F25/H25 -> 5280
A26: BARKEWEG | B26: PO Nieuwebrug | C26: OMMEN | D26: 105334 | E26: Nieuwbrug | F26: =Nieuwebrug!H20 -> 3360 | G26: =Nieuwebrug!I20 -> 1675 | H26: 1 | I26: =F26/H26 -> 3360
A27: WIEDEN | B27: PO De Wieden | C27: ZWOLLE | D27: 105334 | E27: Wieden | F27: =Wieden!H7 -> 2250 | H27: 1 | I27: =F27/H27 -> 2250
A28: IJSSELHOF | B28: PO De IJsselhof | C28: ZWOLLE | D28: 105334 | E28: IJsselhof | F28: =IJsselhof!H15 -> 1500 | G28: =IJsselhof!I15 -> 2700 | H28: 1 | I28: =F28/H28 -> 1500
A29: Het laatste tabblad 'Scholen niet Feyen' is toegevoegd op basis van aantal FTE. Voor deze locaties zijn geen gebruikscijfers inzichtelijk. Deze locaties zijn wel onderdeel van de af te sluiten raamovereenkomst.
A31: Totaal * | F31: =SUM(F2:F29) -> 474745 | G31: =SUM(G2:G28) -> 140510 | H31: =SUM(H2:H28) -> 51 | I31: =F31/H31 -> 9308.7255
A33: * : Opgave excl. BTW en afname periode: 01-01-2023 tot 01-12-2023
A35: Machine en afname afspraken begin en einddatum toegevoegd aan tabblad betreffende locatie/school

Sheet De Twijn
A1: Koffie en pakket afname periode 01-01-2023 - 01-12-2023
A2: Omschrijving | B2: Eenheid | C2: Itemnr | D2: Afzet | E2: Klanten | F2: Adresnamen | G2: Adres | H2: Aantal drinks koffie | I2: Aantal drinks thee
A3: 1899 Beker 180ml | B3: Doos a 2500 stuks | C3: 100815 | D3: 16 | E3: Openbaar Onderwijs Zwolle en Regio | F3: OOZ de Twijn | G3: Zwolle, 8032 XW, Boterdiep 5
A4: 1899 Cappuccino topping 750gr | B4: Stuk | C4: 472340 | D4: 120 | E4: Openbaar Onderwijs Zwolle en Regio | F4: OOZ de Twijn | G4: Zwolle, 8032 XW, Boterdiep 5
A5: 1899 Choco mix 1000gr | B5: Stuk | C5: 472341 | D5: 30 | E5: Openbaar Onderwijs Zwolle en Regio | F5: OOZ de Twijn | G5: Zwolle, 8032 XW, Boterdiep 5
A6: 1899 Espresso Dark Roast FT 1kg | B6: Stuk | C6: 471400 | D6: 82 | E6: Openbaar Onderwijs Zwolle en Regio | F6: OOZ de Twijn | G6: Zwolle, 8032 XW, Boterdiep 5 | H6: =D6*125 -> 10250
A7: 1899 Espresso Medium Roast FT 1kg | B7: Zak | C7: 471391 | D7: 54 | E7: Openbaar Onderwijs Zwolle en Regio | F7: OOZ de Twijn | G7: Zwolle, 8032 XW, Boterdiep 5 | H7: =D7*125 -> 6750
A8: 1899 Melktopping 500 gram | B8: Zak | C8: 472440 | D8: 10 | E8: Openbaar Onderwijs Zwolle en Regio | F8: OOZ de Twijn | G8: Zwolle, 8032 XW, Boterdiep 5
A9: Beker karton wit 180ml | B9: Doos a 600 stuks | C9: 473141 | D9: 4 | E9: Openbaar Onderwijs Zwolle en Regio | F9: OOZ de Twijn | G9: Zwolle, 8032 XW, Boterdiep 5
A10: DE Melkproduct v.d. koffie 1kg | B10: Zak | C10: 181180 | D10: 10 | E10: Openbaar Onderwijs Zwolle en Regio | F10: OOZ de Twijn | G10: Zwolle, 8032 XW, Boterdiep 5
A11: DE Smooth roast vlb 1,25 ltr | B11: Doos a 2 stuks | C11: 181903 | D11: 3 | E11: Openbaar Onderwijs Zwolle en Regio | F11: OOZ de Twijn | G11: Zwolle, 8032 XW, Boterdiep 5 | H11: =D11*480 -> 1440
A12: DE Smooth roast vlb 2 ltr | B12: Doos a 2 stuks | C12: 181902 | D12: 7 | E12: Openbaar Onderwijs Zwolle en Regio | F12: OOZ de Twijn | G12: Zwolle, 8032 XW, Boterdiep 5 | H12: =D12*750 -> 5250
A13: Fv Halvamel cups 7 ml | B13: Doos a 400 stuks | C13: 600416 | D13: 6 | E13: Openbaar Onderwijs Zwolle en Regio | F13: OOZ de Twijn | G13: Zwolle, 8032 XW, Boterdiep 5
A14: Houten roerstaafje 110mm dispenserdoos | B14: Doos a 2000 stuks | C14: 367581 | D14: 6 | E14: Openbaar Onderwijs Zwolle en Regio | F14: OOZ de Twijn | G14: Zwolle, 8032 XW, Boterdiep 5
A15: Natrena Zoetjes | B15: Doos a 400 stuks | C15: 124818 | D15: 13 | E15: Openbaar Onderwijs Zwolle en Regio | F15: OOZ de Twijn | G15: Zwolle, 8032 XW, Boterdiep 5
A16: Pickw Thee Earl Grey 2gram env | B16: Doos a 100 stuks | C16: 181151 | D16: 5 | E16: Openbaar Onderwijs Zwolle en Regio | F16: OOZ de Twijn | G16: Zwolle, 8032 XW, Boterdiep 5 | I16: =D16*100 -> 500
A17: Pickw Thee Tea For One 2 gr | B17: Doos a 100 stuks | C17: 181328 | D17: 10 | E17: Openbaar Onderwijs Zwolle en Regio | F17: OOZ de Twijn | G17: Zwolle, 8032 XW, Boterdiep 5 | I17: =D17*100 -> 1000
A18: Pickw. Aardbei thee x25 | B18: Doos a 3 stuks | C18: 181319 | D18: 23 | E18: Openbaar Onderwijs Zwolle en Regio | F18: OOZ de Twijn | G18: Zwolle, 8032 XW, Boterdiep 5 | I18: =D18*75 -> 1725
A19: Pickw. Bosvruchten thee x25 | B19: Doos a 3 stuks | C19: 181315 | D19: 13 | E19: Openbaar Onderwijs Zwolle en Regio | F19: OOZ de Twijn | G19: Zwolle, 8032 XW, Boterdiep 5 | I19: =D19*75 -> 975
A20: Pickw. Citroen thee x25 | B20: Doos a 3 stuks | C20: 181320 | D20: 3 | E20: Openbaar Onderwijs Zwolle en Regio | F20: OOZ de Twijn | G20: Zwolle, 8032 XW, Boterdiep 5 | I20: =D20*75 -> 225
A21: Pickw. Engelse thee x25 | B21: Doos a 3 stuks | C21: 181338 | D21: 2 | E21: Openbaar Onderwijs Zwolle en Regio | F21: OOZ de Twijn | G21: Zwolle, 8032 XW, Boterdiep 5 | I21: =D21*75 -> 150
A22: Pickw. Groen cranb. thee x25 | B22: Doos a 3 stuks | C22: 181323 | D22: 13 | E22: Openbaar Onderwijs Zwolle en Regio | F22: OOZ de Twijn | G22: Zwolle, 8032 XW, Boterdiep 5 | I22: =D22*75 -> 975
A23: Pickw. Groene thee lemon x25 | B23: Doos a 3 stuks | C23: 181313 | D23: 26 | E23: Openbaar Onderwijs Zwolle en Regio | F23: OOZ de Twijn | G23: Zwolle, 8032 XW, Boterdiep 5 | I23: =D23*75 -> 1950
A24: Pickw. Kamille thee x25 | B24: Doos a 3 stuks | C24: 181341 | D24: 6 | E24: Openbaar Onderwijs Zwolle en Regio | F24: OOZ de Twijn | G24: Zwolle, 8032 XW, Boterdiep 5 | I24: =D24*75 -> 450
A25: Pickw. Mango thee x25 | B25: Doos a 3 stuks | C25: 181321 | D25: 10 | E25: Openbaar Onderwijs Zwolle en Regio | F25: OOZ de Twijn | G25: Zwolle, 8032 XW, Boterdiep 5 | I25: =D25*75 -> 750
A26: Pickw. Rooibos honing thee x25 | B26: Doos a 3 stuks | C26: 181318 | D26: 15 | E26: Openbaar Onderwijs Zwolle en Regio | F26: OOZ de Twijn | G26: Zwolle, 8032 XW, Boterdiep 5 | I26: =D26*75 -> 1125
A27: Pickw. Rooibos thee x25 | B27: Doos a 3 stuks | C27: 181314 | D27: 23 | E27: Openbaar Onderwijs Zwolle en Regio | F27: OOZ de Twijn | G27: Zwolle, 8032 XW, Boterdiep 5 | I27: =D27*75 -> 1725
A28: Pickw. Sterrenmunt thee x25 | B28: Doos a 3 stuks | C28: 181317 | D28: 25 | E28: Openbaar Onderwijs Zwolle en Regio | F28: OOZ de Twijn | G28: Zwolle, 8032 XW, Boterdiep 5 | I28: =D28*75 -> 1875
A29: Pickw. Trop.vruchten thee x25 | B29: Doos a 3 stuks | C29: 181316 | D29: 9 | E29: Openbaar Onderwijs Zwolle en Regio | F29: OOZ de Twijn | G29: Zwolle, 8032 XW, Boterdiep 5 | I29: =D29*75 -> 675
... A31: Pickw. Zoethout thee x25 | B31: Doos a 3 stuks | C31: 181322 | D31: 3 | E31: Openbaar Onderwijs Zwolle en Regio | F31: OOZ de Twijn | G31: Zwolle, 8032 XW, Boterdiep 5 | I31: =D31*75 -> 225
A32: Suiker Automaat 1 kg | B32: Pak a 10 stuks | C32: 158824 | D32: 1 | E32: Openbaar Onderwijs Zwolle en Regio | F32: OOZ de Twijn | G32: Zwolle, 8032 XW, Boterdiep 5
A33: Suikertabletten 1 kg | B33: Krimp a 8 stuks | C33: 255144 | D33: 1 | E33: Openbaar Onderwijs Zwolle en Regio | F33: OOZ de Twijn | G33: Zwolle, 8032 XW, Boterdiep 5
A34: Suikerklontjes midi 750 gram | B34: Krimp a 8 stuks | C34: 255145 | D34: 3 | E34: Openbaar Onderwijs Zwolle en Regio | F34: OOZ de Twijn | G34: Zwolle, 8032 XW, Boterdiep 5
A35: Totaal Boterdiep 5 | D35: =SUM(D3:D34) -> 562 | H35: =SUM(H6:H13) -> 23690 | I35: =SUM(I16:I34) -> 15075
A37: Koffie en pakket afname periode 01-01-2023 - 01-12-2023
A38: 1899 Beker 180ml | B38: Doos a 2500 stuks | C38: 100815 | D38: 40 | E38: Openbaar Onderwijs Zwolle en Regio | F38: OOZ de Twijn | G38: Zwolle, 8025 AK, Dr. Hengeveldweg 2
A39: 1899 Cappuccino topping 750gr | B39: Stuk | C39: 472340 | D39: 20 | E39: Openbaar Onderwijs Zwolle en Regio | F39: OOZ de Twijn | G39: Zwolle, 8025 AK, Dr. Hengeveldweg 2
A40: 1899 Creamersticks dispenser 2,5 gram | B40: Doos a 500 stuks | C40: 100799 | D40: 1 | E40: Openbaar Onderwijs Zwolle en Regio | F40: OOZ de Twijn | G40: Zwolle, 8025 AK, Dr. Hengeveldweg 2
A41: 1899 Espresso Medium Roast FT 1kg | B41: Zak | C41: 471391 | D41: 559 | E41: Openbaar Onderwijs Zwolle en Regio | F41: OOZ de Twijn | G41: Zwolle, 8025 AK, Dr. Hengeveldweg 2 | H41: =D41*125 -> 69875
A42: 1899 Snelfilter Traditioneel FT 1kg | B42: Stuk | C42: 471330 | D42: 33 | E42: Openbaar Onderwijs Zwolle en Regio | F42: OOZ de Twijn | G42: Zwolle, 8025 AK, Dr. Hengeveldweg 2 | H42: =D42*160 -> 5280
A43: 1899 Suikersticks 4 gr. | B43: Doos a 1000 stuks | C43: 403458 | D43: 32 | E43: Openbaar Onderwijs Zwolle en Regio | F43: OOZ de Twijn | G43: Zwolle, 8025 AK, Dr. Hengeveldweg 2
A44: Animo Korffilters 250/90 | B44: Doos a 1000 stuks | C44: 296822 | D44: 1 | E44: Openbaar Onderwijs Zwolle en Regio | F44: OOZ de Twijn | G44: Zwolle, 8025 AK, Dr. Hengeveldweg 2
A45: Beker karton wit 180ml | B45: Doos a 600 stuks | C45: 473141 | D45: 12 | E45: Openbaar Onderwijs Zwolle en Regio | F45: OOZ de Twijn | G45: Zwolle, 8025 AK, Dr. Hengeveldweg 2
A46: Beker karton wit 180ml FSC | B46: Doos a 2500 stuks | C46: 473079 | D46: 2 | E46: Openbaar Onderwijs Zwolle en Regio | F46: OOZ de Twijn | G46: Zwolle, 8025 AK, Dr. Hengeveldweg 2
A47: DE Cacao Fantasy Blue 1x1000 g | B47: Zak | C47: 182006 | D47: 53 | E47: Openbaar Onderwijs Zwolle en Regio | F47: OOZ de Twijn | G47: Zwolle, 8025 AK, Dr. Hengeveldweg 2
A48: DE Melkproduct v.d. koffie 1kg | B48: Zak | C48: 181180 | D48: 441 | E48: Openbaar Onderwijs Zwolle en Regio | F48: OOZ de Twijn | G48: Zwolle, 8025 AK, Dr. Hengeveldweg 2
A49: DE Smooth roast vlb 2 ltr | B49: Doos a 2 stuks | C49: 181902 | D49: 14 | E49: Openbaar Onderwijs Zwolle en Regio | F49: OOZ de Twijn | G49: Zwolle, 8025 AK, Dr. Hengeveldweg 2 | H49: =D49*750 -> 10500
A50: Enjoy Koffiemelkcups | B50: Doos a 200 stuks | C50: 601999 | D50: 2 | E50: Openbaar Onderwijs Zwolle en Regio | F50: OOZ de Twijn | G50: Zwolle, 8025 AK, Dr. Hengeveldweg 2
A51: Fv Halvamel cups 7 ml | B51: Doos a 400 stuks | C51: 600416 | D51: 12 | E51: Openbaar Onderwijs Zwolle en Regio | F51: OOZ de Twijn | G51: Zwolle, 8025 AK, Dr. Hengeveldweg 2
A52: Houten roerstaafje 110mm dispenserdoos | B52: Doos a 2000 stuks | C52: 367581 | D52: 15 | E52: Openbaar Onderwijs Zwolle en Regio | F52: OOZ de Twijn | G52: Zwolle, 8025 AK, Dr. Hengeveldweg 2
A53: Pickw Thee Earl Grey 2gram env | B53: Doos a 100 stuks | C53: 181151 | D53: 24 | E53: Openbaar Onderwijs Zwolle en Regio | F53: OOZ de Twijn | G53: Zwolle, 8025 AK, Dr. Hengeveldweg 2 | I53: =D53*100 -> 2400
A54: Pickw Thee Tea For One 2 gr | B54: Doos a 100 stuks | C54: 181328 | D54: 30 | E54: Openbaar Onderwijs Zwolle en Regio | F54: OOZ de Twijn | G54: Zwolle, 8025 AK, Dr. Hengeveldweg 2 | I54: =D54*100 -> 3000
A55: Pickw. Aardbei thee x25 | B55: Doos a 3 stuks | C55: 181319 | D55: 31 | E55: Openbaar Onderwijs Zwolle en Regio | F55: OOZ de Twijn | G55: Zwolle, 8025 AK, Dr. Hengeveldweg 2 | I55: =D55*100 -> 3100
A56: Pickw. Bosvruchten thee x25 | B56: Doos a 3 stuks | C56: 181315 | D56: 38 | E56: Openbaar Onderwijs Zwolle en Regio | F56: OOZ de Twijn | G56: Zwolle, 8025 AK, Dr. Hengeveldweg 2 | I56: =D56*75 -> 2850
A57: Pickw. Groen pure thee x25 | B57: Doos a 3 stuks | C57: 181324 | D57: 33 | E57: Openbaar Onderwijs Zwolle en Regio | F57: OOZ de Twijn | G57: Zwolle, 8025 AK, Dr. Hengeveldweg 2 | I57: =D57*75 -> 2475
A58: Pickw. Groene thee lemon x25 | B58: Doos a 3 stuks | C58: 181313 | D58: 40 | E58: Openbaar Onderwijs Zwolle en Regio | F58: OOZ de Twijn | G58: Zwolle, 8025 AK, Dr. Hengeveldweg 2 | I58: =D58*75 -> 3000
A59: Pickw. Mango thee x25 | B59: Doos a 3 stuks | C59: 181321 | D59: 26 | E59: Openbaar Onderwijs Zwolle en Regio | F59: OOZ de Twijn | G59: Zwolle, 8025 AK, Dr. Hengeveldweg 2 | I59: =D59*75 -> 1950
A60: Pickw. Minty morocco x25 | B60: Doos a 3 stuks | C60: 181336 | D60: 40 | E60: Openbaar Onderwijs Zwolle en Regio | F60: OOZ de Twijn | G60: Zwolle, 8025 AK, Dr. Hengeveldweg 2 | I60: =D60*75 -> 3000
A61: Pickw. Rooibos honing thee x25 | B61: Doos a 3 stuks | C61: 181318 | D61: 37 | E61: Openbaar Onderwijs Zwolle en Regio | F61: OOZ de Twijn | G61: Zwolle, 8025 AK, Dr. Hengeveldweg 2 | I61: =D61*75 -> 2775
A62: Pickw. Rooibos thee x25 | B62: Doos a 3 stuks | C62: 181314 | D62: 39 | E62: Openbaar Onderwijs Zwolle en Regio | F62: OOZ de Twijn | G62: Zwolle, 8025 AK, Dr. Hengeveldweg 2 | I62: =D62*75 -> 2925
A63: Pickw. Sterrenmunt thee x25 | B63: Doos a 3 stuks | C63: 181317 | D63: 46 | E63: Openbaar Onderwijs Zwolle en Regio | F63: OOZ de Twijn | G63: Zwolle, 8025 AK, Dr. Hengeveldweg 2 | I63: =D63*75 -> 3450
A64: Pickw. Wintergloed thee x25 | B64: Doos a 3 stuks | C64: 181343 | D64: 40 | E64: Openbaar Onderwijs Zwolle en Regio | F64: OOZ de Twijn | G64: Zwolle, 8025 AK, Dr. Hengeveldweg 2 | I64: =D64*75 -> 3000
A65: Pickwick Theezakjes 2gr | B65: Doos a 100 stuks | C65: 181331 | D65: 1 | E65: Openbaar Onderwijs Zwolle en Regio | F65: OOZ de Twijn | G65: Zwolle, 8025 AK, Dr. Hengeveldweg 2 | I65: =D65*100 -> 100
A66: Reinigingstabletten Neodisher CM 100 stuks | B66: Pot | C66: 471276 | D66: 3 | E66: Openbaar Onderwijs Zwolle en Regio | F66: OOZ de Twijn | G66: Zwolle, 8025 AK, Dr. Hengeveldweg 2
A67: Suiker Automaat 1 kg | B67: Pak a 10 stuks | C67: 158824 | D67: 2 | E67: Openbaar Onderwijs Zwolle en Regio | F67: OOZ de Twijn | G67: Zwolle, 8025 AK, Dr. Hengeveldweg 2
A68: Tea of Life assorti box 10x2gr | B68: Doos a 12 stuks | C68: 100660 | D68: 1 | E68: Openbaar Onderwijs Zwolle en Regio | F68: OOZ de Twijn | G68: Zwolle, 8025 AK, Dr. Hengeveldweg 2 | I68: =D68*120 -> 120
A69: Tea of Life Assortibox FT 120x2gr | B69: Doos | C69: 472868 | D69: 7 | E69: Openbaar Onderwijs Zwolle en Regio | F69: OOZ De Twijn | G69: Zwolle, 8025 AK, Dr. Hengeveldweg 2 | I69: =D69*120 -> 840
A70: Totaal Dr. Hengeveldweg 2 | D70: =SUM(D38:D69) -> 1675 | H70: =SUM(H41:H49) -> 85655 | I70: =SUM(I53:I69) -> 34985
A72: Koffie en pakket afname periode 01-01-2023 - 01-12-2023
A73: 1899 Beker 180ml | B73: Doos a 2500 stuks | C73: 100815 | D73: 3 | E73: Openbaar Onderwijs Zwolle en Regio | F73: OOZ De Twijn | G73: Zwolle, 8013 TV, Violierenstraat 42
A74: 1899 Cappuccino topping 750gr | B74: Stuk | C74: 472340 | D74: 60 | E74: Openbaar Onderwijs Zwolle en Regio | F74: OOZ De Twijn | G74: Zwolle, 8013 TV, Violierenstraat 42
A75: 1899 Espresso Medium Roast FT 1kg | B75: Zak | C75: 471391 | D75: 72 | E75: Openbaar Onderwijs Zwolle en Regio | F75: OOZ De Twijn | G75: Zwolle, 8013 TV, Violierenstraat 42 | H75: =D75*125 -> 9000
A76: 1899 Espresso Ambachtelijk Med.Roast 1kg | B76: Zak | C76: 472197 | D76: 6 | E76: Openbaar Onderwijs Zwolle en Regio | F76: OOZ De Twijn | G76: Zwolle, 8013 TV, Violierenstraat 42 | H76: =D76*125 -> 750
A77: DE Espresso Medium Roast 1kg | B77: Doos a 6 stuks | C77: 422112 | D77: 6 | E77: Openbaar Onderwijs Zwolle en Regio | F77: OOZ De Twijn | G77: Zwolle, 8013 TV, Violierenstraat 42 | H77: =D77*750 -> 4500
A78: Fv Coffee Roasters cups 9gr | B78: Doos a 200 stuks | C78: 473143 | D78: 1 | E78: Openbaar Onderwijs Zwolle en Regio | F78: OOZ De Twijn | G78: Zwolle, 8013 TV, Violierenstraat 42
A79: Fv Halvamel cups 7 ml | B79: Doos a 400 stuks | C79: 600416 | D79: 2 | E79: Openbaar Onderwijs Zwolle en Regio | F79: OOZ De Twijn | G79: Zwolle, 8013 TV, Violierenstraat 42
A80: Houten roerstaafje 110mm dispenserdoos | B80: Doos a 2000 stuks | C80: 367581 | D80: 3 | E80: Openbaar Onderwijs Zwolle en Regio | F80: OOZ De Twijn | G80: Zwolle, 8013 TV, Violierenstraat 42
A81: Natrena Zoetjes | B81: Doos a 400 stuks | C81: 124818 | D81: 2 | E81: Openbaar Onderwijs Zwolle en Regio | F81: OOZ De Twijn | G81: Zwolle, 8013 TV, Violierenstraat 42
A82: Pickw Thee Earl Grey 2gram env | B82: Doos a 100 stuks | C82: 181151 | D82: 1 | E82: Openbaar Onderwijs Zwolle en Regio | F82: OOZ De Twijn | G82: Zwolle, 8013 TV, Violierenstraat 42 | I82: =D82*100 -> 100
A83: Pickw Thee Tea For One 2 gr | B83: Doos a 100 stuks | C83: 181328 | D83: 2 | E83: Openbaar Onderwijs Zwolle en Regio | F83: OOZ De Twijn | G83: Zwolle, 8013 TV, Violierenstraat 42 | I83: =D83*100 -> 200
A84: Pickw. Aardbei thee x25 | B84: Doos a 3 stuks | C84: 181319 | D84: 4 | E84: Openbaar Onderwijs Zwolle en Regio | F84: OOZ De Twijn | G84: Zwolle, 8013 TV, Violierenstraat 42 | I84: =D84*75 -> 300
A85: Pickw. Bosvruchten thee x25 | B85: Doos a 3 stuks | C85: 181315 | D85: 4 | E85: Openbaar Onderwijs Zwolle en Regio | F85: OOZ De Twijn | G85: Zwolle, 8013 TV, Violierenstraat 42 | I85: =D85*75 -> 300
A86: Pickw. Engelse thee x25 | B86: Doos a 3 stuks | C86: 181338 | D86: 1 | E86: Openbaar Onderwijs Zwolle en Regio | F86: OOZ De Twijn | G86: Zwolle, 8013 TV, Violierenstraat 42 | I86: =D86*75 -> 75
A87: Pickw. Groene thee lemon x25 | B87: Doos a 3 stuks | C87: 181313 | D87: 11 | E87: Openbaar Onderwijs Zwolle en Regio | F87: OOZ De Twijn | G87: Zwolle, 8013 TV, Violierenstraat 42 | I87: =D87*75 -> 825
A88: Pickw. Mango thee x25 | B88: Doos a 3 stuks | C88: 181321 | D88: 3 | E88: Openbaar Onderwijs Zwolle en Regio | F88: OOZ De Twijn | G88: Zwolle, 8013 TV, Violierenstraat 42 | I88: =D88*75 -> 225
A89: Pickw. Rooibos thee x25 | B89: Doos a 3 stuks | C89: 181314 | D89: 7 | E89: Openbaar Onderwijs Zwolle en Regio | F89: OOZ De Twijn | G89: Zwolle, 8013 TV, Violierenstraat 42 | I89: =D89*75 -> 525
A90: Pickw. Sterrenmunt thee x25 | B90: Doos a 3 stuks | C90: 181317 | D90: 7 | E90: Openbaar Onderwijs Zwolle en Regio | F90: OOZ De Twijn | G90: Zwolle, 8013 TV, Violierenstraat 42 | I90: =D90*75 -> 525
A91: Pickw. Trop.vruchten thee x25 | B91: Doos a 3 stuks | C91: 181316 | D91: 4 | E91: Openbaar Onderwijs Zwolle en Regio | F91: OOZ De Twijn | G91: Zwolle, 8013 TV, Violierenstraat 42 | I91: =D91*75 -> 300
A92: Pickw. Wintergloed thee x25 | B92: Doos a 3 stuks | C92: 181343 | D92: 2 | E92: Openbaar Onderwijs Zwolle en Regio | F92: OOZ De Twijn | G92: Zwolle, 8013 TV, Violierenstraat 42 | I92: =D92*75 -> 150
A93: Tea of Life assorti box 10x2gr | B93: Doos a 12 stuks | C93: 100660 | D93: 1 | E93: Openbaar Onderwijs Zwolle en Regio | F93: OOZ De Twijn | G93: Zwolle, 8013 TV, Violierenstraat 42 | I93: =D93*120 -> 120
A94: Suikerklontjes midi 750 gram | B94: Krimp a 8 stuks | C94: 255145 | D94: 1 | E94: Openbaar Onderwijs Zwolle en Regio | F94: OOZ De Twijn | G94: Zwolle, 8013 TV, Violierenstraat 42
A95: Tea of Life Assortibox FT 120x2gr | B95: Doos | C95: 472868 | D95: 1 | E95: Openbaar Onderwijs Zwolle en Regio | F95: OOZ De Twijn | G95: Zwolle, 8013 TV, Violierenstraat 42 | I95: =D95*120 -> 120
A96: Reinigingstabletten Neodisher CM 100 stuks | B96: Pot | C96: 471276 | D96: 2 | E96: Openbaar Onderwijs Zwolle en Regio | F96: OOZ De Twijn | G96: Zwolle, 8013 TV, Violierenstraat 42
A97: Totaal Violierenstraat | D97: =SUM(D73:D96) -> 206 | H97: =SUM(H75:H94) -> 14250 | I97: =SUM(I82:I95) -> 3765
A99: Totaal Onderwijscentrum De Twijn
A101: Machine park
A102: Nr. | B102: Omschrijving | C102: Serienummer | E102: Klantnr. | F102: Verzendcode | G102: Begindatum | H102: Einddatum
A103: SARTNR013412 | B103: Optibean 2 touch zwart | C103: 1BG00949 | D103: Koop | E103: 106682 | F103: COOOZBD5 | G103: 44958 | H103: 46784 | I103: Locatie De Twijn Boterdiep 5
A104: SARTNR012552 | B104: Optibean 2 touch zwart | C104: 1PF36680 | D104: Koop | E104: 106682 | F104: COOOZBD5 | G104: 44690 | H104: 46515 | I104: Locatie De Twijn Boterdiep 6
A105: SARTNR012553 | B105: Optibean 2 touch zwart + ozk | C105: 1PF36726 | D105: Koop | E105: 106682 | F105: COHENG2 | G105: 44690 | H105: 46515 | I105: Locatie De Twijn Hengeveld 2
...

Sheet Thorbecke VMBO Pro
A1: Koffie en pakket afname periode 01-01-2023 - 01-12-2023
A2: Omschrijving | B2: Eenheid | C2: Itemnr | D2: Afzet | E2: Klanten | F2: Adresnamen | G2: Adres | H2: Aantal drinks koffie | I2: Aantal drinks thee
A3: 1899 Beker 180ml | B3: Doos a 2500 stuks | C3: 100815 | D3: 1 | E3: Thorbecke Scholengemeenschap VMBO | F3: Thorbecke VMBO | G3: Zwolle, 8041 AL, Russenweg 3
A4: 1899 Cappuccino topping 750gr | B4: Stuk | C4: 472340 | D4: 130 | E4: Thorbecke Scholengemeenschap VMBO | F4: Thorbecke VMBO | G4: Zwolle, 8041 AL, Russenweg 3
A5: 1899 Choco mix 1000gr | B5: Stuk | C5: 472341 | D5: 75 | E5: Thorbecke Scholengemeenschap VMBO | F5: Thorbecke VMBO | G5: Zwolle, 8041 AL, Russenweg 3
A6: 1899 Creamersticks 2,5 gram | B6: Doos a 1000 stuks | C6: 403457 | D6: 2 | E6: Thorbecke Scholengemeenschap VMBO | F6: Thorbecke VMBO | G6: Zwolle, 8041 AL, Russenweg 3
A7: 1899 Espresso Dark Roast FT 1kg | B7: Stuk | C7: 471400 | D7: 54 | E7: Thorbecke Scholengemeenschap VMBO | F7: Thorbecke VMBO | G7: Zwolle, 8041 AL, Russenweg 3 | H7: =D7*125 -> 6750
A8: 1899 Espresso Medium Roast FT 1kg | B8: Zak | C8: 471391 | D8: 12 | E8: Thorbecke Scholengemeenschap VMBO | F8: Thorbecke VMBO | G8: Zwolle, 8041 AL, Russenweg 3 | H8: =D8*125 -> 1500
A9: 1899 Instant classic UTZ 300gr | B9: Zak | C9: 100819 | D9: 210 | E9: Thorbecke Scholengemeenschap VMBO | F9: Thorbecke VMBO | G9: Zwolle, 8041 AL, Russenweg 3 | H9: =D9*190 -> 39900
A10: 1899 Suikersticks 4 gr. | B10: Doos a 1000 stuks | C10: 403458 | D10: 12 | E10: Thorbecke Scholengemeenschap VMBO | F10: Thorbecke VMBO | G10: Zwolle, 8041 AL, Russenweg 3
A11: Broxomatic 900gr | B11: Stuk | C11: 179324 | D11: 13 | E11: Thorbecke Scholengemeenschap VMBO | F11: Thorbecke VMBO | G11: Zwolle, 8041 AL, Russenweg 3
A12: Cup a Soup Franse Ui | B12: Pak a 21 stuks | C12: 321991 | D12: 4 | E12: Thorbecke Scholengemeenschap VMBO | F12: Thorbecke VMBO | G12: Zwolle, 8041 AL, Russenweg 3
A13: Cup a Soup Groente | B13: Pak a 21 stuks | C13: 407456 | D13: 6 | E13: Thorbecke Scholengemeenschap VMBO | F13: Thorbecke VMBO | G13: Zwolle, 8041 AL, Russenweg 3
A14: Cup a Soup Rundvlees | B14: Pak a 21 stuks | C14: 407511 | D14: 4 | E14: Thorbecke Scholengemeenschap VMBO | F14: Thorbecke VMBO | G14: Zwolle, 8041 AL, Russenweg 3
A15: Cup a Soup Vend. Chin.Kip 40x | B15: Zak | C15: 321475 | D15: 8 | E15: Thorbecke Scholengemeenschap VMBO | F15: Thorbecke VMBO | G15: Zwolle, 8041 AL, Russenweg 3
A16: Cup a Soup Vend.Champignon 40x | B16: Zak | C16: 321472 | D16: 28 | E16: Thorbecke Scholengemeenschap VMBO | F16: Thorbecke VMBO | G16: Zwolle, 8041 AL, Russenweg 3
A17: Cup a Soup Vend.Chin Tomaat 40 | B17: Zak | C17: 321470 | D17: 34 | E17: Thorbecke Scholengemeenschap VMBO | F17: Thorbecke VMBO | G17: Zwolle, 8041 AL, Russenweg 3
A18: Cup a Soup Vending Kerrie 40x | B18: Zak | C18: 321471 | D18: 12 | E18: Thorbecke Scholengemeenschap VMBO | F18: Thorbecke VMBO | G18: Zwolle, 8041 AL, Russenweg 3
A19: Cup a Soup Vending Tomaat 40x | B19: Zak | C19: 321468 | D19: 10 | E19: Thorbecke Scholengemeenschap VMBO | F19: Thorbecke VMBO | G19: Zwolle, 8041 AL, Russenweg 3
A20: DE Aroma Rood SF 250 gr | B20: Krimp a 24 stuks | C20: 180313 | D20: 7 | E20: Thorbecke Scholengemeenschap VMBO | F20: Thorbecke VMBO | G20: Zwolle, 8041 AL, Russenweg 3 | H20: =D20*900 -> 6300
A21: DE Mel. Rood Grove 250 gr | B21: Krimp a 24 stuks | C21: 181424 | D21: 5 | E21: Thorbecke Scholengemeenschap VMBO | F21: Thorbecke VMBO | G21: Zwolle, 8041 AL, Russenweg 3 | H21: =D21*900 -> 4500
A22: Finish machinereiniger 250ml | B22: Fles | C22: 258228 | D22: 12 | E22: Thorbecke Scholengemeenschap VMBO | F22: Thorbecke VMBO | G22: Zwolle, 8041 AL, Russenweg 3
A23: Houten roerstaafje 110mm dispenserdoos | B23: Doos a 2000 stuks | C23: 367581 | D23: 5 | E23: Thorbecke Scholengemeenschap VMBO | F23: Thorbecke VMBO | G23: Zwolle, 8041 AL, Russenweg 3
A24: Pickw Groen lemon Thee TFOC | B24: Doos a 100 stuks | C24: 181295 | D24: 27 | E24: Thorbecke Scholengemeenschap VMBO | F24: Thorbecke VMBO | G24: Zwolle, 8041 AL, Russenweg 3 | I24: =D24*100 -> 2700
A25: Pickw Rooibos Thee TFOC | B25: Doos a 100 stuks | C25: 181296 | D25: 21 | E25: Thorbecke Scholengemeenschap VMBO | F25: Thorbecke VMBO | G25: Zwolle, 8041 AL, Russenweg 3 | I25: =D25*100 -> 2100
A26: Pickw Thee Tea For One 2 gr | B26: Doos a 100 stuks | C26: 181328 | D26: 18 | E26: Thorbecke Scholengemeenschap VMBO | F26: Thorbecke VMBO | G26: Zwolle, 8041 AL, Russenweg 3 | I26: =D26*100 -> 1800
A27: Pickw. Aardbei thee x25 | B27: Doos a 3 stuks | C27: 181319 | D27: 9 | E27: Thorbecke Scholengemeenschap VMBO | F27: Thorbecke VMBO | G27: Zwolle, 8041 AL, Russenweg 3 | I27: =D27*75 -> 675
A28: Pickw. Bosvruchten thee x25 | B28: Doos a 3 stuks | C28: 181315 | D28: 22 | E28: Thorbecke Scholengemeenschap VMBO | F28: Thorbecke VMBO | G28: Zwolle, 8041 AL, Russenweg 3 | I28: =D28*75 -> 1650
A29: Pickw. Groen pure thee x25 | B29: Doos a 3 stuks | C29: 181324 | D29: 8 | E29: Thorbecke Scholengemeenschap VMBO | F29: Thorbecke VMBO | G29: Zwolle, 8041 AL, Russenweg 3 | I29: =D29*75 -> 600
A30: Pickw. Kaneel thee x25 | B30: Doos a 3 stuks | C30: 181335 | D30: 15 | E30: Thorbecke Scholengemeenschap VMBO | F30: Thorbecke VMBO | G30: Zwolle, 8041 AL, Russenweg 3 | I30: =D30*75 -> 1125
A31: Pickw. Mango thee x25 | B31: Doos a 3 stuks | C31: 181321 | D31: 5 | E31: Thorbecke Scholengemeenschap VMBO | F31: Thorbecke VMBO | G31: Zwolle, 8041 AL, Russenweg 3 | I31: =D31*75 -> 375
A32: Pickw. Sinaasappel thee x25 | B32: Doos a 3 stuks | C32: 181339 | D32: 3 | E32: Thorbecke Scholengemeenschap VMBO | F32: Thorbecke VMBO | G32: Zwolle, 8041 AL, Russenweg 3 | I32: =D32*75 -> 225
A33: Pickw. Trop.vruchten thee x25 | B33: Doos a 3 stuks | C33: 181316 | D33: 10 | E33: Thorbecke Scholengemeenschap VMBO | F33: Thorbecke VMBO | G33: Zwolle, 8041 AL, Russenweg 3 | I33: =D33*75 -> 750
A34: Pickw. Wintergloed thee x25 | B34: Doos a 3 stuks | C34: 181343 | D34: 11 | E34: Thorbecke Scholengemeenschap VMBO | F34: Thorbecke VMBO | G34: Zwolle, 8041 AL, Russenweg 3 | I34: =D34*75 -> 825
A35: Pickw. Zoethout thee x25 | B35: Doos a 3 stuks | C35: 181322 | D35: 8 | E35: Thorbecke Scholengemeenschap VMBO | F35: Thorbecke VMBO | G35: Zwolle, 8041 AL, Russenweg 3 | I35: =D35*75 -> 600
A36: Reinigingstabletten Neodisher CM 100 stuks | B36: Pot | C36: 471276 | D36: 1 | E36: Thorbecke Scholengemeenschap VMBO | F36: Thorbecke VMBO | G36: Zwolle, 8041 AL, Russenweg 3
A37: Sun Spoelglans Liter | B37: Fles | C37: 376859 | D37: 3 | E37: Thorbecke Scholengemeenschap VMBO | F37: Thorbecke VMBO | G37: Zwolle, 8041 AL, Russenweg 3
A38: Sun Tablets all in one 102 st | B38: Stuk | C38: 120486 | D38: 5 | E38: Thorbecke Scholengemeenschap VMBO | F38: Thorbecke VMBO | G38: Zwolle, 8041 AL, Russenweg 3
A39: Tea of Life Assortibox FT 120x2gr | B39: Doos | C39: 472868 | D39: 1 | E39: Thorbecke Scholengemeenschap VMBO | F39: Thorbecke VMBO | G39: Zwolle, 8041 AL, Russenweg 3 | I39: =D39*120 -> 120
A40: Totaal | D40: =SUM(D3:D39) -> 811 | H40: =SUM(H6:H29) -> 58950 | I40: =SUM(I22:I36) -> 13425
A43: Machine park
A44: Nr. | B44: Omschrijving | C44: Serienummer | E44: Klantnr. | F44: Verzendcode | G44: Begindatum | H44: Einddatum
A45: SARTNR014059 | B45: Animo OptiBean X 12 TS + kopdetectie | C45: 2OG25857 | D45: Koop | E45: 107696 | F45: THORBE | G45: 45240 | H45: 47066

Sheet Thorbecke MHA
A1: Koffie en pakket afname periode 01-01-2023 - 01-12-2023
A2: Omschrijving | B2: Eenheid | C2: Itemnr | D2: Afzet | E2: Klanten | F2: Adresnamen | G2: Adres | H2: Aantal drinks koffie | I2: Aantal drinks thee
A3: 1899 Instant classic UTZ 300gr | B3: Zak | C3: 100819 | D3: 94 | E3: Openbaar Onderwijs Zwolle en Regio | F3: Thorbecke Scholengemeenschap | G3: Zwolle, 8025 AB, Dokter van Heesweg 1 | H3: =D3*190 -> 17860
A4: 1899 Choco mix 1000gr | B4: Stuk | C4: 472341 | D4: 65 | E4: Openbaar Onderwijs Zwolle en Regio | F4: Thorbecke Scholengemeenschap | G4: Zwolle, 8025 AB, Dokter van Heesweg 1
A5: 1899 Espresso Medium Roast FT 1kg | B5: Zak | C5: 471391 | D5: 212 | E5: Openbaar Onderwijs Zwolle en Regio | F5: Thorbecke Scholengemeenschap | G5: Zwolle, 8025 AB, Dokter van Heesweg 1 | H5: =D5*125 -> 26500
A6: 1899 Cappuccino topping 750gr | B6: Stuk | C6: 472340 | D6: 106 | E6: Openbaar Onderwijs Zwolle en Regio | F6: Thorbecke Scholengemeenschap | G6: Zwolle, 8025 AB, Dokter van Heesweg 1
A7: 1899 Melktopping 500 gram | B7: Zak | C7: 472440 | D7: 130 | E7: Openbaar Onderwijs Zwolle en Regio | F7: Thorbecke Scholengemeenschap | G7: Zwolle, 8025 AB, Dokter van Heesweg 1
A8: Houten roerstaafje 110mm dispenserdoos | B8: Doos a 2000 stuks | C8: 367581 | D8: 4 | E8: Openbaar Onderwijs Zwolle en Regio | F8: Thorbecke Scholengemeenschap | G8: Zwolle, 8025 AB, Dokter van Heesweg 1
A9: Reinigingstabletten Neodisher CM 100 stuks | B9: Pot | C9: 471276 | D9: 1 | E9: Openbaar Onderwijs Zwolle en Regio | F9: Thorbecke Scholengemeenschap | G9: Zwolle, 8025 AB, Dokter van Heesweg 1
A10: Kart Beker Limetta 180cc | B10: Doos a 2500 stuks | C10: 70008 | D10: 4 | E10: Openbaar Onderwijs Zwolle en Regio | F10: Thorbecke Scholengemeenschap | G10: Zwolle, 8025 AB, Dokter van Heesweg 1
A11: DE Cacao Sticks 18,5gr | B11: Doos a 100 stuks | C11: 472598 | D11: 1 | E11: Openbaar Onderwijs Zwolle en Regio | F11: Thorbecke Scholengemeenschap | G11: Zwolle, 8025 AB, Dokter van Heesweg 1
A12: DE Smooth roast vlb 2 ltr | B12: Doos a 2 stuks | C12: 181902 | D12: 3 | E12: Openbaar Onderwijs Zwolle en Regio | F12: Thorbecke Scholengemeenschap | G12: Zwolle, 8025 AB, Dokter van Heesweg 1 | H12: =D12*750 -> 2250
A13: Totaal | D13: =SUM(D3:D12) -> 620 | H13: =SUM(H3:H12) -> 46610
A16: Machine park
A17: Nr. | B17: Omschrijving | C17: Serienummer | E17: Klantnr. | F17: Verzendcode | G17: Begindatum | H17: Einddatum
A18: SARTNR011837 | B18: Animo Optibean 3 touch zwart | C18: 2OE20645 | D18: Koop | E18: 105334 | F18: TSCHOL1ZWO | G18: 44526 | H18: 46351
A19: SARTNR011838 | B19: Animo Optivend 32 TS Touch | C19: 2NE20214 | D19: Koop | E19: 105334 | F19: TSCHOL1ZWO | G19: 44526 | H19: 46351

Sheet Thorbecke Pro Sleedoorn
A1: Koffie en pakket afname periode 01-01-2023 - 01-12-2023
A2: Omschrijving | B2: Eenheid | C2: Itemnr | D2: Afzet | E2: Klanten | F2: Adresnamen | G2: Adres | H2: Aantal drinks koffie | I2: Aantal drinks thee
A3: 1899 Beker 180ml | B3: doos 2500 | C3: 100815 | D3: 4 | E3: Thorbeckescholengemeenschap | F3: Thorbeckecholengemeenschap | G3: Zwolle, 8013 XE, Sleedoornstraat 1
A4: 1899 Suikersticks 4 gr. | B4: Doos a 1000 stuks | C4: 403458 | D4: 1 | E4: Thorbeckescholengemeenschap | F4: Thorbeckecholengemeenschap | G4: Zwolle, 8013 XE, Sleedoornstraat 1
A5: DE Aroma Rood SF 250 gr | B5: Krimp a 24 | C5: 180313 | D5: 9 | E5: Thorbeckescholengemeenschap | F5: Thorbeckecholengemeenschap | G5: Zwolle, 8013 XE, Sleedoornstraat 1 | H5: =D5*900 -> 8100
A6: DE Cacao Fantasy Blue 1x1000 g | B6: Zak | C6: 182006 | D6: 78 | E6: Thorbeckescholengemeenschap | F6: Thorbeckecholengemeenschap | G6: Zwolle, 8013 XE, Sleedoornstraat 1
A7: DE Cappuccino topping 1KG | B7: Doos a 10 stuks | C7: 181771 | D7: 1 | E7: Thorbeckescholengemeenschap | F7: Thorbeckecholengemeenschap | G7: Zwolle, 8013 XE, Sleedoornstraat 1
A8: DE Medium roast vlb 1,25 ltr | B8: Tray a 2 stuks | C8: 181892 | D8: 2 | E8: Thorbeckescholengemeenschap | F8: Thorbeckecholengemeenschap | G8: Zwolle, 8013 XE, Sleedoornstraat 1 | H8: =D8*480 -> 960
A9: DE Medium roast vlb 2 ltr | B9: Tray a 2 | C9: 181891 | D9: 13 | E9: Thorbeckescholengemeenschap | F9: Thorbeckecholengemeenschap | G9: Zwolle, 8013 XE, Sleedoornstraat 1 | H9: =D9*750 -> 9750
A10: DE Melkproduct v.d. koffie 1kg | C10: 181180 | D10: 27 | E10: Thorbeckescholengemeenschap | F10: Thorbeckecholengemeenschap | G10: Zwolle, 8013 XE, Sleedoornstraat 1
A11: DE Vlb Cacao Cafitesse 2 Ltr | B11: Pak | C11: 182034 | D11: 6 | E11: Thorbeckescholengemeenschap | F11: Thorbeckecholengemeenschap | G11: Zwolle, 8013 XE, Sleedoornstraat 1
A12: Melitta filter Natuur Nr. 4 80st | B12: krimp a 9 | C12: 296221 | D12: 2 | E12: Thorbeckescholengemeenschap | F12: Thorbeckecholengemeenschap | G12: Zwolle, 8013 XE, Sleedoornstraat 1
A13: Pickw Thee Earl Grey 2gram env | B13: Doos a 100 stuks | C13: 181151 | D13: 3 | E13: Thorbeckescholengemeenschap | F13: Thorbeckecholengemeenschap | G13: Zwolle, 8013 XE, Sleedoornstraat 1 | I13: =D13*100 -> 300
A14: Pickw Thee Tea For One 2 gr | B14: Doos a 100 | C14: 181328 | D14: 3 | E14: Thorbeckescholengemeenschap | F14: Thorbeckecholengemeenschap | G14: Zwolle, 8013 XE, Sleedoornstraat 1 | I14: =D14*100 -> 300
A15: Pickw. Bosvruchten thee x25 | B15: Doos a 3 | C15: 181315 | D15: 12 | E15: Thorbeckescholengemeenschap | F15: Thorbeckecholengemeenschap | G15: Zwolle, 8013 XE, Sleedoornstraat 1 | I15: =D15*75 -> 900
A16: Pickw. Groen pure thee x25 | B16: Doos a 3 | C16: 181324 | D16: 7 | E16: Thorbeckescholengemeenschap | F16: Thorbeckecholengemeenschap | G16: Zwolle, 8013 XE, Sleedoornstraat 1 | I16: =D16*75 -> 525
A17: Pickw. Groene thee lemon x25 | B17: Doos a 3 | C17: 181313 | D17: 11 | E17: Thorbeckescholengemeenschap | F17: Thorbeckecholengemeenschap | G17: Zwolle, 8013 XE, Sleedoornstraat 1 | I17: =D17*75 -> 825
A18: Pickw. Rooibos honing thee x25 | B18: Doos a 3 stuks | C18: 181318 | D18: 2 | E18: Thorbeckescholengemeenschap | F18: Thorbeckecholengemeenschap | G18: Zwolle, 8013 XE, Sleedoornstraat 1 | I18: =D18*75 -> 150
A19: Pickw. Rooibos thee x25 | B19: Doos a 3 | C19: 181314 | D19: 11 | E19: Thorbeckescholengemeenschap | F19: Thorbeckecholengemeenschap | G19: Zwolle, 8013 XE, Sleedoornstraat 1 | I19: =D19*75 -> 825
A20: Pickwick Theezakjes 2gr | B20: Doos a 100 stuks | C20: 181331 | D20: 3 | E20: Thorbeckescholengemeenschap | F20: Thorbeckecholengemeenschap | G20: Zwolle, 8013 XE, Sleedoornstraat 1 | I20: =D20*100 -> 300
A21: Roerstaafje Biodore Hout 110mm | B21: Doos a 1000 stuks | C21: 471667 | D21: 1 | E21: Thorbeckescholengemeenschap | F21: Thorbeckecholengemeenschap | G21: Zwolle, 8013 XE, Sleedoornstraat 1
A22: Roerstaafjes hout 140mm | B22: Doos 1000 | C22: 367574 | D22: 2 | E22: Thorbeckescholengemeenschap | F22: Thorbeckecholengemeenschap | G22: Zwolle, 8013 XE, Sleedoornstraat 1
A23: Suiker Automaat 1 kg | B23: Pak a 10 | C23: 158824 | D23: 3 | E23: Thorbeckescholengemeenschap | F23: Thorbeckecholengemeenschap | G23: Zwolle, 8013 XE, Sleedoornstraat 1
A24: Sun prof.tablets All in 1 200x | B24: Emmer | C24: 377267 | D24: 3 | E24: Thorbeckescholengemeenschap | F24: Thorbeckecholengemeenschap | G24: Zwolle, 8013 XE, Sleedoornstraat 1
A25: Sun Tablets all in one 102 st | B25: Stuk | C25: 120486 | D25: 2 | E25: Thorbeckescholengemeenschap | F25: Thorbeckecholengemeenschap | G25: Zwolle, 8013 XE, Sleedoornstraat 1
A26: Totaal | D26: =SUM(D3:D25) -> 206 | H26: =SUM(H5:H17) -> 18810 | I26: =SUM(I13:I25) -> 4125
A29: Machine park
A30: Nr. | B30: Omschrijving | C30: Serienummer | E30: Klantnr. | F30: Verzendcode | G30: Begindatum | H30: Einddatum
A31: SARTNR009895 | B31: Animo optivend 32 TS NG zwart | C31: 2LB26883 | D31: Koop | E31: 103917 | F31: 1SLEED8013 | G31: 43619 | H31: 45445
A32: SARTNR003931 | B32: Cafitesse 2100 Passion 3 can. | C32: 41711115 | D32: Koop | E32: 103917 | F32: 1SLEED8013 | G32: 41869 | H32: 43694

Sheet Ambelt Zwolle
A1: Koffie en pakket afname periode 01-01-2023 - 01-12-2023
A2: Omschrijving | B2: Eenheid | C2: Itemnr | D2: Afzet | E2: Klantnaam | F2: Adres | G2: Aantal drinks koffie | H2: Aantal drinks thee
A3: 1899 Cappuccino topping 750gr | B3: Stuk | C3: 472340 | D3: 3 | E3: De Ambelt Onderwijs (OOZ) | F3: Zwolle, 8025 PB, Dr. Spanjaardweg 12
A4: 1899 Choco mix 1000gr | B4: Stuk | C4: 472341 | D4: 3 | E4: De Ambelt Onderwijs (OOZ) | F4: Zwolle, 8025 PB, Dr. Spanjaardweg 12
A5: DE Classic roast vlb 2 ltr | B5: Tray a 2 stuks | C5: 181896 | D5: 1 | E5: De Ambelt Onderwijs (OOZ) | F5: Zwolle, 8025 PB, Dr. Spanjaardweg 12 | G5: =D5*750 -> 750
A6: Pickw. Earl grey thee x25 | B6: Doos a 3 stuks | C6: 181337 | D6: 1 | E6: De Ambelt Onderwijs (OOZ) | F6: Zwolle, 8025 PB, Dr. Spanjaardweg 12 | H6: =D6*75 -> 75
A7: Pickw. Kaneel thee x25 | B7: Doos a 3 stuks | C7: 181335 | D7: 2 | E7: De Ambelt Onderwijs (OOZ) | F7: Zwolle, 8025 PB, Dr. Spanjaardweg 12 | H7: =D7*75 -> 150
A8: Pickw. Rooibos thee x25 | B8: Doos a 3 stuks | C8: 181314 | D8: 1 | E8: De Ambelt Onderwijs (OOZ) | F8: Zwolle, 8025 PB, Dr. Spanjaardweg 12 | H8: =D8*75 -> 75
A9: Pickwick Theezakjes 2gr | B9: Doos a 100 stuks | C9: 181331 | D9: 1 | E9: De Ambelt Onderwijs (OOZ) | F9: Zwolle, 8025 PB, Dr. Spanjaardweg 12 | H9: =D9*75 -> 75
A10: Tea of Life Gr. Lemon FT 25x1,5gr | B10: Doos a 4 stuks | C10: 472852 | D10: 1 | E10: De Ambelt Onderwijs (OOZ) | F10: Zwolle, 8025 PB, Dr. Spanjaardweg 12 | H10: =D10*100 -> 100
A11: Totaal Dr. Spanjaardweg 12 | D11: =SUM(D3:D10) -> 13 | G11: =SUM(G5:G10) -> 750 | H11: =SUM(H6:H10) -> 475
A13: Koffie en pakket afname periode 01-01-2023 - 01-12-2023
A14: 1899 Choco mix 1000gr | B14: Stuk | C14: 472341 | D14: 7 | E14: De Ambelt Onderwijs (OOZ) | F14: Zwolle, 8025 AK, Dr. Hengeveldweg 9
A15: Beker karton wit 180ml | B15: Doos a 600 stuks | C15: 473141 | D15: 3 | E15: De Ambelt Onderwijs (OOZ) | F15: Zwolle, 8025 AK, Dr. Hengeveldweg 9
A16: BIO lepel 16cm hout | B16: Doos a 100 stuks | C16: 366687 | D16: 1 | E16: De Ambelt Onderwijs (OOZ) | F16: Zwolle, 8025 AK, Dr. Hengeveldweg 9
A17: DE Cacao Sticks 18,5gr | B17: Doos a 100 stuks | C17: 472598 | D17: 1 | E17: De Ambelt Onderwijs (OOZ) | F17: Zwolle, 8025 AK, Dr. Hengeveldweg 9
A18: DE Strong roast vlb 2 ltr | B18: Tray a 2 stuks | C18: 181904 | D18: 1 | E18: De Ambelt Onderwijs (OOZ) | F18: Zwolle, 8025 AK, Dr. Hengeveldweg 9 | G18: =D18*750 -> 750
A19: Depa Draagtray Zwart 6gaats | B19: Krimp a 2 stuks | C19: 367907 | D19: 2 | E19: De Ambelt Onderwijs (OOZ) | F19: Zwolle, 8025 AK, Dr. Hengeveldweg 9
A20: Houten roerstaafje 110mm dispenserdoos | B20: Doos a 2000 stuks | C20: 367581 | D20: 3 | E20: De Ambelt Onderwijs (OOZ) | F20: Zwolle, 8025 AK, Dr. Hengeveldweg 9
A21: Natrena Zoetjes | B21: Doos a 400 stuks | C21: 124818 | D21: 1 | E21: De Ambelt Onderwijs (OOZ) | F21: Zwolle, 8025 AK, Dr. Hengeveldweg 9
A22: Pickw. Kamille thee x25 | B22: Doos a 3 stuks | C22: 181341 | D22: 1 | E22: De Ambelt Onderwijs (OOZ) | F22: Zwolle, 8025 AK, Dr. Hengeveldweg 9 | H22: =D22*75 -> 75
A23: Pickw. Kaneel thee x25 | B23: Doos a 3 stuks | C23: 181335 | D23: 2 | E23: De Ambelt Onderwijs (OOZ) | F23: Zwolle, 8025 AK, Dr. Hengeveldweg 9 | H23: =D23*75 -> 150
A24: Tea of Life Aardbei FT 25x1,5gr | B24: Doos a 4 stuks | C24: 472862 | D24: 1 | E24: De Ambelt Onderwijs (OOZ) | F24: Zwolle, 8025 AK, Dr. Hengeveldweg 9 | H24: =D24*100 -> 100
A25: Tea of Life Bosvruchten FT 25x1,5gr | B25: Doos a 4 stuks | C25: 472857 | D25: 1 | E25: De Ambelt Onderwijs (OOZ) | F25: Zwolle, 8025 AK, Dr. Hengeveldweg 9 | H25: =D25*100 -> 100
A26: Tea of Life Earl grey FT 25x1,5gr | B26: Doos a 4 stuks | C26: 472856 | D26: 1 | E26: De Ambelt Onderwijs (OOZ) | F26: Zwolle, 8025 AK, Dr. Hengeveldweg 9 | H26: =D26*100 -> 100
A27: Tea of Life Engels FT 25x1,5gr | B27: Doos a 4 stuks | C27: 472858 | D27: 1 | E27: De Ambelt Onderwijs (OOZ) | F27: Zwolle, 8025 AK, Dr. Hengeveldweg 9 | H27: =D27*100 -> 100
A28: Tea of Life Moroc.mint 20x2g | B28: Doos a 4 stuks | C28: 100661 | D28: 2 | E28: De Ambelt Onderwijs (OOZ) | F28: Zwolle, 8025 AK, Dr. Hengeveldweg 9 | H28: =D28*100 -> 200
A29: Tea of Life Relaxing mix FT 25x1,5gr | B29: Doos a 4 stuks | C29: 472859 | D29: 1 | E29: De Ambelt Onderwijs (OOZ) | F29: Zwolle, 8025 AK, Dr. Hengeveldweg 9 | H29: =D29*100 -> 100
A30: Tea of Life Rooibos FT 25x1,25gr | B30: Doos a 4 stuks | C30: 472861 | D30: 1 | E30: De Ambelt Onderwijs (OOZ) | F30: Zwolle, 8025 AK, Dr. Hengeveldweg 9 | H30: =D30*100 -> 100
A31: Totaal Dr. Hengeveldweg 9 | D31: =SUM(D14:D30) -> 30 | G31: =SUM(G18:G30) -> 750 | H31: =SUM(H22:H30) -> 1025
A33: Koffie en pakket afname periode 01-01-2023 - 01-12-2023
A34: 1899 Beker 180ml | B34: Doos a 2500 stuks | C34: 100815 | D34: 9 | E34: De Ambelt Onderwijs (OOZ) | F34: Zwolle, 8026 RC, Herfterlaan 39
A35: 1899 Creamersticks dispenser 2,5 gram | B35: Doos a 500 stuks | C35: 100799 | D35: 16 | E35: De Ambelt Onderwijs (OOZ) | F35: Zwolle, 8026 RC, Herfterlaan 39
A36: 1899 Suikersticks dispenser 4 gram | B36: Doos a 500 stuks | C36: 100798 | D36: 27 | E36: De Ambelt Onderwijs (OOZ) | F36: Zwolle, 8026 RC, Herfterlaan 39
A37: Beker karton wit 180ml | B37: Doos a 600 stuks | C37: 473141 | D37: 2 | E37: De Ambelt Onderwijs (OOZ) | F37: Zwolle, 8026 RC, Herfterlaan 39
A38: Cup a Soup Kerrie | B38: Pak a 21 stuks | C38: 322622 | D38: 1 | E38: De Ambelt Onderwijs (OOZ) | F38: Zwolle, 8026 RC, Herfterlaan 39
A39: DE Cacao Fantasy Blue 1x1000 g | B39: Zak | C39: 182006 | D39: 120 | E39: De Ambelt Onderwijs (OOZ) | F39: Zwolle, 8026 RC, Herfterlaan 39
A40: DE Cafe Milc 6x0.75 liter | B40: Doos a 6 stuks | C40: 133001 | D40: 48 | E40: De Ambelt Onderwijs (OOZ) | F40: Zwolle, 8026 RC, Herfterlaan 39
A41: DE Classic roast vlb 1,25 ltr | B41: Tray a 2 stuks | C41: 181895 | D41: 2 | E41: De Ambelt Onderwijs (OOZ) | F41: Zwolle, 8026 RC, Herfterlaan 39 | G41: =D41*480 -> 960
A42: DE Classic roast vlb 2 ltr | B42: Tray a 2 stuks | C42: 181896 | D42: 25 | E42: De Ambelt Onderwijs (OOZ) | F42: Zwolle, 8026 RC, Herfterlaan 39 | G42: =D42*750 -> 18750
A43: DE Delicate roast vlb 1,25 ltr | B43: Tray a 2 stuks | C43: 181893 | D43: 2 | E43: De Ambelt Onderwijs (OOZ) | F43: Zwolle, 8026 RC, Herfterlaan 39 | G43: =D43*480 -> 960
A44: DE Medium roast vlb 1,25 ltr | B44: Tray a 2 stuks | C44: 181892 | D44: 36 | E44: De Ambelt Onderwijs (OOZ) | F44: Zwolle, 8026 RC, Herfterlaan 39 | G44: =D44*480 -> 17280
A45: DE Melkproduct v.d. koffie 1kg | B45: Zak | C45: 181180 | D45: 40 | E45: De Ambelt Onderwijs (OOZ) | F45: Zwolle, 8026 RC, Herfterlaan 39
A46: DE Smooth roast vlb 1,25 ltr | B46: Doos a 2 stuks | C46: 181903 | D46: 1 | E46: De Ambelt Onderwijs (OOZ) | F46: Zwolle, 8026 RC, Herfterlaan 39 | G46: =D46*480 -> 480
A47: DE Strong roast vlb 2 ltr | B47: Tray a 2 stuks | C47: 181904 | D47: 1 | E47: De Ambelt Onderwijs (OOZ) | F47: Zwolle, 8026 RC, Herfterlaan 39 | G47: =D47*750 -> 750
A48: Dreft afwas original 325ml | B48: Doos a 10 stuks | C48: 320229 | D48: 1 | E48: De Ambelt Onderwijs (OOZ) | F48: Zwolle, 8026 RC, Herfterlaan 39
A49: Glassex Pistool | B49: Fles | C49: 325469 | D49: 4 | E49: De Ambelt Onderwijs (OOZ) | F49: Zwolle, 8026 RC, Herfterlaan 39
A50: Houten roerstaafje 110mm dispenserdoos | B50: Doos a 2000 stuks | C50: 367581 | D50: 6 | E50: De Ambelt Onderwijs (OOZ) | F50: Zwolle, 8026 RC, Herfterlaan 39
A51: Natrena Zoetjes | B51: Doos a 400 stuks | C51: 124818 | D51: 9 | E51: De Ambelt Onderwijs (OOZ) | F51: Zwolle, 8026 RC, Herfterlaan 39
A52: Pickw. Groen pure thee x25 | B52: Doos a 3 stuks | C52: 181324 | D52: 8 | E52: De Ambelt Onderwijs (OOZ) | F52: Zwolle, 8026 RC, Herfterlaan 39 | H52: =D52*75 -> 600
A53: Pickw. Mango thee x25 | B53: Doos a 3 stuks | C53: 181321 | D53: 1 | E53: De Ambelt Onderwijs (OOZ) | F53: Zwolle, 8026 RC, Herfterlaan 39 | H53: =D53*75 -> 75
A54: Pickw. Rooibos honing thee x25 | B54: Doos a 3 stuks | C54: 181318 | D54: 1 | E54: De Ambelt Onderwijs (OOZ) | F54: Zwolle, 8026 RC, Herfterlaan 39 | H54: =D54*75 -> 75
A55: Pickw. Sterrenmunt thee x25 | B55: Doos a 3 stuks | C55: 181317 | D55: 6 | E55: De Ambelt Onderwijs (OOZ) | F55: Zwolle, 8026 RC, Herfterlaan 39 | H55: =D55*75 -> 450
A56: Pickw. Trop.vruchten thee x25 | B56: Doos a 3 stuks | C56: 181316 | D56: 3 | E56: De Ambelt Onderwijs (OOZ) | F56: Zwolle, 8026 RC, Herfterlaan 39 | H56: =D56*75 -> 225
A57: Pickw. Wintergloed thee x25 | B57: Doos a 3 stuks | C57: 181343 | D57: 5 | E57: De Ambelt Onderwijs (OOZ) | F57: Zwolle, 8026 RC, Herfterlaan 39 | H57: =D57*75 -> 375
A58: Royal Cafino mix | B58: Doos a 150 stuks | C58: 179762 | D58: 1 | E58: De Ambelt Onderwijs (OOZ) | F58: Zwolle, 8026 RC, Herfterlaan 39
A59: Soapy Hygiene pomp krimp3 | B59: Krimp a 3 stuks | C59: 270146 | D59: 3 | E59: De Ambelt Onderwijs (OOZ) | F59: Zwolle, 8026 RC, Herfterlaan 39
A60: Sun prof.tablets 188x | B60: Emmer | C60: 460039 | D60: 2 | E60: De Ambelt Onderwijs (OOZ) | F60: Zwolle, 8026 RC, Herfterlaan 39
A61: SUP toeslag 2500 st. eigen merk | B61: Toeslag | C61: 103500 | D61: 6 | E61: De Ambelt Onderwijs (OOZ) | F61: Zwolle, 8026 RC, Herfterlaan 39
A62: Tea of Life Aardbei 20x2gr | B62: Doos a 4 stuks | C62: 100645 | D62: 3 | E62: De Ambelt Onderwijs (OOZ) | F62: Zwolle, 8026 RC, Herfterlaan 39 | H62: =D62*100 -> 300
A63: Tea of Life Aardbei FT 25x1,5gr | B63: Doos a 4 stuks | C63: 472862 | D63: 12 | E63: De Ambelt Onderwijs (OOZ) | F63: Zwolle, 8026 RC, Herfterlaan 39 | H63: =D63*100 -> 1200
A64: Tea of Life Assortibox FT 120x2gr | B64: Doos | C64: 472868 | D64: 9 | E64: De Ambelt Onderwijs (OOZ) | F64: Zwolle, 8026 RC, Herfterlaan 39 | H64: =D64*120 -> 1080
A65: Tea of Life Bosvruchten 20x2g | B65: Doos a 4 stuks | C65: 100650 | D65: 6 | E65: De Ambelt Onderwijs (OOZ) | F65: Zwolle, 8026 RC, Herfterlaan 39 | H65: =D65*80 -> 480
A66: Tea of Life Bosvruchten FT 25x1,5gr | B66: Doos a 4 stuks | C66: 472857 | D66: 20 | E66: De Ambelt Onderwijs (OOZ) | F66: Zwolle, 8026 RC, Herfterlaan 39 | H66: =D66*100 -> 2000
A67: Tea of Life Earl grey 20x2gr | B67: Doos a 4 stuks | C67: 100646 | D67: 2 | E67: De Ambelt Onderwijs (OOZ) | F67: Zwolle, 8026 RC, Herfterlaan 39 | H67: =D67*80 -> 160
A68: Tea of Life Earl grey FT 25x1,5gr | B68: Doos a 4 stuks | C68: 472856 | D68: 21 | E68: De Ambelt Onderwijs (OOZ) | F68: Zwolle, 8026 RC, Herfterlaan 39 | H68: =D68*100 -> 2100
A69: Tea of Life Engels 20x2gr | B69: Doos a 4 stuks | C69: 100647 | D69: 3 | E69: De Ambelt Onderwijs (OOZ) | F69: Zwolle, 8026 RC, Herfterlaan 39 | H69: =D69*80 -> 240
A70: Tea of Life Engels FT 25x1,5gr | B70: Doos a 4 stuks | C70: 472858 | D70: 12 | E70: De Ambelt Onderwijs (OOZ) | F70: Zwolle, 8026 RC, Herfterlaan 39 | H70: =D70*100 -> 1200
A71: Tea of Life Fruitmix 4sm 20x2g | B71: Doos a 4 stuks | C71: 100652 | D71: 8 | E71: De Ambelt Onderwijs (OOZ) | F71: Zwolle, 8026 RC, Herfterlaan 39 | H71: =D71*80 -> 640
A72: Tea of Life Gr. jasmijn 20x2g | B72: Doos a 4 stuks | C72: 100657 | D72: 5 | E72: De Ambelt Onderwijs (OOZ) | F72: Zwolle, 8026 RC, Herfterlaan 39 | H72: =D72*80 -> 400
A73: Tea of Life Gr. lemon 20x2g | B73: Doos a 4 stuks | C73: 100658 | D73: 1 | E73: De Ambelt Onderwijs (OOZ) | F73: Zwolle, 8026 RC, Herfterlaan 39 | H73: =D73*80 -> 80
A74: Tea of Life Gr. Lemon FT 25x1,5gr | B74: Doos a 4 stuks | C74: 472852 | D74: 18 | E74: De Ambelt Onderwijs (OOZ) | F74: Zwolle, 8026 RC, Herfterlaan 39 | H74: =D74*100 -> 1800
A75: Tea of Life Gr.sin/gem 20x1,75 | B75: Doos a 4 stuks | C75: 100653 | D75: 6 | E75: De Ambelt Onderwijs (OOZ) | F75: Zwolle, 8026 RC, Herfterlaan 39 | H75: =D75*80 -> 480
A76: Tea of Life Groene thee 20x2g | B76: Doos a 4 stuks | C76: 100659 | D76: 1 | E76: De Ambelt Onderwijs (OOZ) | F76: Zwolle, 8026 RC, Herfterlaan 39 | H76: =D76*80 -> 80
A77: Tea of Life Moroc.mint 20x2g | B77: Doos a 4 stuks | C77: 100661 | D77: 16 | E77: De Ambelt Onderwijs (OOZ) | F77: Zwolle, 8026 RC, Herfterlaan 39 | H77: =D77*80 -> 1280
A78: Tea of Life Refresh. mix 20x2g | B78: Doos a 4 stuks | C78: 100662 | D78: 10 | E78: De Ambelt Onderwijs (OOZ) | F78: Zwolle, 8026 RC, Herfterlaan 39 | H78: =D78*80 -> 800
A79: Tea of Life Relax mix 20x2g | B79: Doos a 4 stuks | C79: 100663 | D79: 6 | E79: De Ambelt Onderwijs (OOZ) | F79: Zwolle, 8026 RC, Herfterlaan 39 | H79: =D79*80 -> 480
A80: Tea of Life Relaxing mix FT 25x1,5gr | B80: Doos a 4 stuks | C80: 472859 | D80: 8 | E80: De Ambelt Onderwijs (OOZ) | F80: Zwolle, 8026 RC, Herfterlaan 39 | H80: =D80*100 -> 800
A81: Tea of Life Rooibos 20x2g | B81: Doos a 4 stuks | C81: 100664 | D81: 8 | E81: De Ambelt Onderwijs (OOZ) | F81: Zwolle, 8026 RC, Herfterlaan 39 | H81: =D81*80 -> 640
A82: Tea of Life Rooibos FT 25x1,25gr | B82: Doos a 4 stuks | C82: 472861 | D82: 12 | E82: De Ambelt Onderwijs (OOZ) | F82: Zwolle, 8026 RC, Herfterlaan 39 | H82: =D82*100 -> 1200
A83: Tea of Life Sterrenmunt 20x2gr | B83: Doos a 4 stuks | C83: 100665 | D83: 17 | E83: De Ambelt Onderwijs (OOZ) | F83: Zwolle, 8026 RC, Herfterlaan 39 | H83: =D83*80 -> 1360
A84: Tea of Life taste Spring 20x2g | B84: Doos a 4 stuks | C84: 100666 | D84: 2 | E84: De Ambelt Onderwijs (OOZ) | F84: Zwolle, 8026 RC, Herfterlaan 39 | H84: =D84*80 -> 160
A85: Tea of Life Taste spring FT 25x1,5gr | B85: Doos a 4 stuks | C85: 472866 | D85: 12 | E85: De Ambelt Onderwijs (OOZ) | F85: Zwolle, 8026 RC, Herfterlaan 39 | H85: =D85*100 -> 1200
A86: Totaal Herfterlaan 39 | D86: =SUM(D34:D85) -> 604 | G86: =SUM(G39:G50) -> 39180 | H86: =SUM(H62:H85) -> 20160
A89: Totaal De Ambelt - Zwolle | C89: 647 | F89: =G86+G31+G11 -> 40680 | G89: =H86+H31+H11 -> 21660
A91: Machine park
A92: Nr. | B92: Omschrijving | C92: Serienummer | E92: Klantnr. | F92: Verzendcode | G92: Begindatum | H92: Einddatum | I92: Locatie - Vestiging
A93: SARTNR012223 | B93: Excellence Compact Touch Instant | C93: 6218020005830 | D93: Koop | E93: 103830 | F93: HELMH39RC | G93: 44552 | H93: 46377 | I93: Gebouw De Helmhorst Herfterlaan 39
A94: SARTNR011316 | B94: Cafitesse Omni Helmhorst | C94: 4020989 | D94: Koop | E94: 103830 | F94: HERFTE39 | G94: 44219 | H94: 46044 | I94: Gebouw De Helmhorst Herfterlaan 39
A95: SARTNR011315 | B95: Cafitesse Omni Hathuis | C95: 4020995 | D95: Koop | E95: 103830 | F95: HERFTE39 | G95: 44219 | H95: 46044 | I95: Locatie Hathuis Herfterlaan 39
A96: SARTNR011317 | B96: Cafitesse Omni+ozk Centrumgebouw | C96: 4821209 | D96: Koop | E96: 103830 | F96: HERFTE39 | G96: 44219 | H96: 46044 | I96: Locatie Centrumgebouw Herfterlaan 39
A97: SARTNR011650 | B97: Excellence Compact Touch insta | C97: 3218020004050 | D97: Koop | E97: 103830 | F97: HERFTE39 | G97: 44432 | H97: 46257 | I97: Locatie Ambelt Herfte
A98: SARTNR011319 | B98: Excellence Compact Touch insta | C98: 7208020000278 | D98: Koop | E98: 103830 | F98: HERFTE39 | G98: 44219 | H98: 46044 | I98: Locatie Ambelt Herfte
A99: SARTNR011320 | B99: Excellence Compact Touch insta | C99: 7208020000290 | D99: Koop | E99: 103830 | F99: HERFTE39 | G99: 44219 | H99: 46044 | I99: Locatie Ambelt Herfte
A100: SARTNR011322 | B100: Excellence Compact Touch insta | C100: 8208020000542 | D100: Koop | E100: 103830 | F100: HERFTE39 | G100: 44219 | H100: 46044 | I100: Locatie Ambelt Herfte
A101: SARTNR011318 | B101: Excellence Compact Touch insta | C101: 8208020000545 | D101: Koop | E101: 103830 | F101: HERFTE39 | G101: 44219 | H101: 46044 | I101: Locatie Ambelt Herfte
A102: SARTNR011321 | B102: Excellence Compact Touch insta | C102: 8208020000548 | D102: Koop | E102: 103830 | F102: HERFTE39 | G102: 44219 | H102: 46044 | I102: Locatie Ambelt Herfte
A103: SARTNR011241 | B103: Cafitesse Omni | C103: 4020988 | D103: Koop | E103: 103830 | F103: HERFTE39 | G103: 44176 | H103: 46001 | I103: De Oosterenk Dr. Hengeveldweg 9

Sheet Ambelt Hardenberg
A1: Koffie en pakket afname periode 01-01-2023 - 01-12-2023
A2: Omschrijving | B2: Eenheid | C2: Itemnr | D2: Afzet | E2: Klantnaam | F2: Adres | G2: Aantal drinks koffie | H2: Aantal drinks thee
A3: 1899 Beker 180ml | B3: Doos a 2500 stuks | C3: 100815 | D3: 3 | E3: VSO Hardenberg | F3: Hardenberg, 7772 ZJ, Piet Heinstraat 3
A4: 1899 Choco mix 1000gr | B4: Stuk | C4: 472341 | D4: 40 | E4: VSO Hardenberg | F4: Hardenberg, 7772 ZJ, Piet Heinstraat 3
A5: Cup a Soup Goulash | B5: Pak a 21 stuks | C5: 321973 | D5: 1 | E5: VSO Hardenberg | F5: Hardenberg, 7772 ZJ, Piet Heinstraat 3
A6: Cup a Soup Mosterd Creme | B6: Pak a 21 stuks | C6: 322606 | D6: 1 | E6: VSO Hardenberg | F6: Hardenberg, 7772 ZJ, Piet Heinstraat 3
A7: Cup a Soup Prei-Creme | B7: Pak a 21 stuks | C7: 407466 | D7: 1 | E7: VSO Hardenberg | F7: Hardenberg, 7772 ZJ, Piet Heinstraat 3
A8: Cup a Soup Tomaat | B8: Pak a 21 stuks | C8: 407464 | D8: 1 | E8: VSO Hardenberg | F8: Hardenberg, 7772 ZJ, Piet Heinstraat 3
A9: Cup a Soup Tomaten Creme | B9: Pak a 21 stuks | C9: 322578 | D9: 1 | E9: VSO Hardenberg | F9: Hardenberg, 7772 ZJ, Piet Heinstraat 3
A10: DE Classic roast vlb 2 ltr | B10: Tray a 2 stuks | C10: 181896 | D10: 14 | E10: VSO Hardenberg | F10: Hardenberg, 7772 ZJ, Piet Heinstraat 3 | G10: =D10*750 -> 10500
A11: DE Medium roast vlb 2 ltr | B11: Tray a 2 stuks | C11: 181891 | D11: 8 | E11: VSO Hardenberg | F11: Hardenberg, 7772 ZJ, Piet Heinstraat 3 | G11: =D11*750 -> 6000
A12: DE Melkproduct v.d. koffie 1kg | B12: Zak | C12: 181180 | D12: 58 | E12: VSO Hardenberg | F12: Hardenberg, 7772 ZJ, Piet Heinstraat 3
A13: Houten roerstaafje 110mm dispenserdoos | B13: Doos a 2000 stuks | C13: 367581 | D13: 4 | E13: VSO Hardenberg | F13: Hardenberg, 7772 ZJ, Piet Heinstraat 3
A14: Kart Beker Limetta 180cc | B14: Doos a 2500 stuks | C14: 70008 | D14: 1 | E14: VSO Hardenberg | F14: Hardenberg, 7772 ZJ, Piet Heinstraat 3
A15: Pickw Rooibos Thee TFOC | B15: Doos a 100 stuks | C15: 181296 | D15: 3 | E15: VSO Hardenberg | F15: Hardenberg, 7772 ZJ, Piet Heinstraat 3 | H15: =D15*100 -> 300
A16: Pickw Thee Tea For One 2 gr | B16: Doos a 100 stuks | C16: 181328 | D16: 2 | E16: VSO Hardenberg | F16: Hardenberg, 7772 ZJ, Piet Heinstraat 3 | H16: =D16*100 -> 200
A17: Pickw. Aardbei thee x25 | B17: Doos a 3 stuks | C17: 181319 | D17: 1 | E17: VSO Hardenberg | F17: Hardenberg, 7772 ZJ, Piet Heinstraat 3 | H17: =D17*75 -> 75
A18: Pickw. Bosvruchten thee x25 | B18: Doos a 3 stuks | C18: 181315 | D18: 3 | E18: VSO Hardenberg | F18: Hardenberg, 7772 ZJ, Piet Heinstraat 3 | H18: =D18*75 -> 225
A19: Pickw. Groene thee lemon x25 | B19: Doos a 3 stuks | C19: 181313 | D19: 1 | E19: VSO Hardenberg | F19: Hardenberg, 7772 ZJ, Piet Heinstraat 3 | H19: =D19*75 -> 75
A20: Pickw. Kaneel thee x25 | B20: Doos a 3 stuks | C20: 181335 | D20: 2 | E20: VSO Hardenberg | F20: Hardenberg, 7772 ZJ, Piet Heinstraat 3 | H20: =D20*75 -> 150
A21: Pickw. Mango thee x25 | B21: Doos a 3 stuks | C21: 181321 | D21: 7 | E21: VSO Hardenberg | F21: Hardenberg, 7772 ZJ, Piet Heinstraat 3 | H21: =D21*75 -> 525
A22: Pickw. Minty morocco x25 | B22: Doos a 3 stuks | C22: 181336 | D22: 7 | E22: VSO Hardenberg | F22: Hardenberg, 7772 ZJ, Piet Heinstraat 3 | H22: =D22*75 -> 525
A23: Pickw. Rooibos honing thee x25 | B23: Doos a 3 stuks | C23: 181318 | D23: 6 | E23: VSO Hardenberg | F23: Hardenberg, 7772 ZJ, Piet Heinstraat 3 | H23: =D23*75 -> 450
A24: Pickw. Trop.vruchten thee x25 | B24: Doos a 3 stuks | C24: 181316 | D24: 4 | E24: VSO Hardenberg | F24: Hardenberg, 7772 ZJ, Piet Heinstraat 3 | H24: =D24*75 -> 300
A25: Pickw. Wintergloed thee x25 | B25: Doos a 3 stuks | C25: 181343 | D25: 7 | E25: VSO Hardenberg | F25: Hardenberg, 7772 ZJ, Piet Heinstraat 3 | H25: =D25*75 -> 525
A26: Suiker Automaat 1 kg | B26: Pak a 10 stuks | C26: 158824 | D26: 3 | E26: VSO Hardenberg | F26: Hardenberg, 7772 ZJ, Piet Heinstraat 3 | H26: =D26*75 -> 225
A27: Tea of Life Assortibox FT 120x2gr | B27: Doos | C27: 472868 | D27: 4 | E27: VSO Hardenberg | F27: Hardenberg, 7772 ZJ, Piet Heinstraat 3 | H27: =D27*120 -> 480
A28: Tea of Life Bosvruchten 20x2g | B28: Doos a 4 stuks | C28: 100650 | D28: 2 | E28: VSO Hardenberg | F28: Hardenberg, 7772 ZJ, Piet Heinstraat 3 | H28: =D28*80 -> 160
A29: Tea of Life Gr. Lemon FT 25x1,5gr | B29: Doos a 4 stuks | C29: 472852 | D29: 12 | E29: VSO Hardenberg | F29: Hardenberg, 7772 ZJ, Piet Heinstraat 3 | H29: =D29*100 -> 1200
A30: Tea of Life Moroc.mint 20x2g | B30: Doos a 4 stuks | C30: 100661 | D30: 8 | E30: VSO Hardenberg | F30: Hardenberg, 7772 ZJ, Piet Heinstraat 3 | H30: =D30*80 -> 640
A31: Tea of Life Rooibos 20x2g | B31: Doos a 4 stuks | C31: 100664 | D31: 2 | E31: VSO Hardenberg | F31: Hardenberg, 7772 ZJ, Piet Heinstraat 3 | H31: =D31*80 -> 160
A32: Totaal | D32: =SUM(D3:D31) -> 207 | G32: =SUM(G10:G31) -> 16500 | H32: =SUM(H15:H31) -> 6215
A35: Machine park
A36: Nr. | B36: Omschrijving | C36: Serienummer | E36: Klantnr. | F36: Verzendcode | G36: Begindatum | H36: Einddatum
A37: SARTNR010948 | B37: Cafitesse Omni | C37: 4221030 | D37: Koop | E37: 103830 | F37: VSO HARDEN | G37: 44095 | H37: 45920

Sheet OOZ
A1: Koffie en pakket afname periode 01-01-2023 - 01-12-2023
A2: Omschrijving | B2: Eenheid | C2: Itemnr | D2: Afzet | E2: Klanten | F2: Adresnamen | G2: Adres | H2: Aantal drinks koffie | I2: Aantal drinks thee
A3: 1899 Choco mix 1000gr | B3: Stuk | C3: 472341 | D3: 28 | E3: Openbaar Onderwijs Zwolle en Regio | F3: Openbaar Onderwijs Zwolle en Regio | G3: Zwolle, 8032 JX, Dobbe 74
A4: 1899 Creamersticks 2,5 gram | B4: Doos a 1000 stuks | C4: 403457 | D4: 2 | E4: Openbaar Onderwijs Zwolle en Regio | F4: Openbaar Onderwijs Zwolle en Regio | G4: Zwolle, 8032 JX, Dobbe 74
A5: 1899 Espresso Dark Roast FT 1kg | B5: Stuk | C5: 471400 | D5: 38 | E5: Openbaar Onderwijs Zwolle en Regio | F5: Openbaar Onderwijs Zwolle en Regio | G5: Zwolle, 8032 JX, Dobbe 74 | H5: =D5*125 -> 4750
A6: 1899 Espresso Medium Roast FT 1kg | B6: Zak | C6: 471391 | D6: 145 | E6: Openbaar Onderwijs Zwolle en Regio | F6: Openbaar Onderwijs Zwolle en Regio | G6: Zwolle, 8032 JX, Dobbe 74 | H6: =D6*125 -> 18125
A7: 1899 Melktopping 500 gram | B7: Zak | C7: 472440 | D7: 165 | E7: Openbaar Onderwijs Zwolle en Regio | F7: Openbaar Onderwijs Zwolle en Regio | G7: Zwolle, 8032 JX, Dobbe 74
A8: 1899 Snelfilter Traditioneel FT 1kg | B8: Stuk | C8: 471330 | D8: 4 | E8: Openbaar Onderwijs Zwolle en Regio | F8: Openbaar Onderwijs Zwolle en Regio | G8: Zwolle, 8032 JX, Dobbe 74 | H8: =D8*160 -> 640
A9: 1899 Suikersticks 4 gr. | B9: Doos a 1000 stuks | C9: 403458 | D9: 3 | E9: Openbaar Onderwijs Zwolle en Regio | F9: Openbaar Onderwijs Zwolle en Regio | G9: Zwolle, 8032 JX, Dobbe 74
A10: Cup a Soup Asperge | B10: Pak a 21 stuks | C10: 322614 | D10: 1 | E10: Openbaar Onderwijs Zwolle en Regio | F10: Openbaar Onderwijs Zwolle en Regio | G10: Zwolle, 8032 JX, Dobbe 74
A11: Cup a Soup Champig-Ham | B11: Pak a 21 stuks | C11: 322616 | D11: 3 | E11: Openbaar Onderwijs Zwolle en Regio | F11: Openbaar Onderwijs Zwolle en Regio | G11: Zwolle, 8032 JX, Dobbe 74
A12: Cup a Soup Champignon crème | B12: Pak a 21 stuks | C12: 407472 | D12: 6 | E12: Openbaar Onderwijs Zwolle en Regio | F12: Openbaar Onderwijs Zwolle en Regio | G12: Zwolle, 8032 JX, Dobbe 74
A13: Cup a Soup Chinese Kip | B13: Pak a 21 stuks | C13: 321919 | D13: 2 | E13: Openbaar Onderwijs Zwolle en Regio | F13: Openbaar Onderwijs Zwolle en Regio | G13: Zwolle, 8032 JX, Dobbe 74
A14: Cup a Soup Chinese Tomaat | B14: Pak a 21 stuks | C14: 321928 | D14: 3 | E14: Openbaar Onderwijs Zwolle en Regio | F14: Openbaar Onderwijs Zwolle en Regio | G14: Zwolle, 8032 JX, Dobbe 74
A15: Cup a Soup Erwten | B15: Pak a 21 stuks | C15: 407529 | D15: 1 | E15: Openbaar Onderwijs Zwolle en Regio | F15: Openbaar Onderwijs Zwolle en Regio | G15: Zwolle, 8032 JX, Dobbe 74
A16: Cup a Soup Goulash | B16: Pak a 21 stuks | C16: 321973 | D16: 2 | E16: Openbaar Onderwijs Zwolle en Regio | F16: Openbaar Onderwijs Zwolle en Regio | G16: Zwolle, 8032 JX, Dobbe 74
A17: Cup a Soup Groente | B17: Pak a 21 stuks | C17: 407456 | D17: 3 | E17: Openbaar Onderwijs Zwolle en Regio | F17: Openbaar Onderwijs Zwolle en Regio | G17: Zwolle, 8032 JX, Dobbe 74
A18: Cup a Soup Kerrie | B18: Pak a 21 stuks | C18: 322622 | D18: 3 | E18: Openbaar Onderwijs Zwolle en Regio | F18: Openbaar Onderwijs Zwolle en Regio | G18: Zwolle, 8032 JX, Dobbe 74
A19: Cup a Soup Kip | B19: Pak a 21 stuks | C19: 407503 | D19: 5 | E19: Openbaar Onderwijs Zwolle en Regio | F19: Openbaar Onderwijs Zwolle en Regio | G19: Zwolle, 8032 JX, Dobbe 74
A20: Cup a Soup Koninginne | B20: Pak a 21 stuks | C20: 322583 | D20: 2 | E20: Openbaar Onderwijs Zwolle en Regio | F20: Openbaar Onderwijs Zwolle en Regio | G20: Zwolle, 8032 JX, Dobbe 74
... A26: DE Cafe Milc 6x0.75 liter | B26: Doos a 6 stuks | C26: 133001 | D26: 1 | E26: Openbaar Onderwijs Zwolle en Regio | F26: Openbaar Onderwijs Zwolle en Regio | G26: Zwolle, 8032 JX, Dobbe 74
A27: DE classic 300 gr | B27: Zak | C27: 472368 | D27: 5 | E27: Openbaar Onderwijs Zwolle en Regio | F27: Openbaar Onderwijs Zwolle en Regio | G27: Zwolle, 8032 JX, Dobbe 74 | H27: =D27*190 -> 950
A28: DE Classic roast vlb 1,25 ltr | B28: Tray a 2 stuks | C28: 181895 | D28: 2 | E28: Openbaar Onderwijs Zwolle en Regio | F28: Openbaar Onderwijs Zwolle en Regio | G28: Zwolle, 8032 JX, Dobbe 74 | H28: =D28*480 -> 960
A29: DE Freshbrew Trad. 1000 gr | B29: Krimp a 6 stuks | C29: 181910 | D29: 3 | E29: Openbaar Onderwijs Zwolle en Regio | F29: Openbaar Onderwijs Zwolle en Regio | G29: Zwolle, 8032 JX, Dobbe 74 | H29: =D29*750 -> 2250
A30: DE Medium roast vlb 1,25 ltr | B30: Tray a 2 stuks | C30: 181892 | D30: 4 | E30: Openbaar Onderwijs Zwolle en Regio | F30: Openbaar Onderwijs Zwolle en Regio | G30: Zwolle, 8032 JX, Dobbe 74 | H30: =D30*480 -> 1920
A31: DE Melkproduct v.d. koffie 1kg | B31: Zak | C31: 181180 | D31: 12 | E31: Openbaar Onderwijs Zwolle en Regio | F31: Openbaar Onderwijs Zwolle en Regio | G31: Zwolle, 8032 JX, Dobbe 74
A32: DE Suikersticks 4 Gram | B32: Doos a 500 stuks | C32: 181001 | D32: 1 | E32: Openbaar Onderwijs Zwolle en Regio | F32: Openbaar Onderwijs Zwolle en Regio | G32: Zwolle, 8032 JX, Dobbe 74
A33: Knorr Tuinkruiden Drinkb. | B33: Pak a 80 stuks | C33: 167926 | D33: 1 | E33: Openbaar Onderwijs Zwolle en Regio | F33: Openbaar Onderwijs Zwolle en Regio | G33: Zwolle, 8032 JX, Dobbe 74
A34: Pickw Groen lemon Thee TFOC | B34: Doos a 100 stuks | C34: 181295 | D34: 12 | E34: Openbaar Onderwijs Zwolle en Regio | F34: Openbaar Onderwijs Zwolle en Regio | G34: Zwolle, 8032 JX, Dobbe 74 | I34: =D34*100 -> 1200
A35: Pickw Rooibos Thee TFOC | B35: Doos a 100 stuks | C35: 181296 | D35: 12 | E35: Openbaar Onderwijs Zwolle en Regio | F35: Openbaar Onderwijs Zwolle en Regio | G35: Zwolle, 8032 JX, Dobbe 74 | I35: =D35*100 -> 1200
A36: Pickw Thee Ceylon Tfoc 2 gr | B36: Doos a 100 stuks | C36: 181250 | D36: 17 | E36: Openbaar Onderwijs Zwolle en Regio | F36: Openbaar Onderwijs Zwolle en Regio | G36: Zwolle, 8032 JX, Dobbe 74 | I36: =D36*100 -> 1700
A37: Pickw Thee Earl Grey 2gram env | B37: Doos a 100 stuks | C37: 181151 | D37: 4 | E37: Openbaar Onderwijs Zwolle en Regio | F37: Openbaar Onderwijs Zwolle en Regio | G37: Zwolle, 8032 JX, Dobbe 74 | I37: =D37*100 -> 400
A38: Pickw Thee Tea For One 2 gr | B38: Doos a 100 stuks | C38: 181328 | D38: 5 | E38: Openbaar Onderwijs Zwolle en Regio | F38: Openbaar Onderwijs Zwolle en Regio | G38: Zwolle, 8032 JX, Dobbe 74 | I38: =D38*100 -> 500
A39: Pickw. bosvruchten TFOC | B39: Doos a 100 stuks | C39: 181352 | D39: 2 | E39: Openbaar Onderwijs Zwolle en Regio | F39: Openbaar Onderwijs Zwolle en Regio | G39: Zwolle, 8032 JX, Dobbe 74 | I39: =D39*100 -> 200
A40: Pickw. Bosvruchten thee x25 | B40: Doos a 3 stuks | C40: 181315 | D40: 5 | E40: Openbaar Onderwijs Zwolle en Regio | F40: Openbaar Onderwijs Zwolle en Regio | G40: Zwolle, 8032 JX, Dobbe 74 | I40: =D40*75 -> 375
A41: Pickw. Ginger lemon x25 | B41: Doos a 3 stuks | C41: 181354 | D41: 2 | E41: Openbaar Onderwijs Zwolle en Regio | F41: Openbaar Onderwijs Zwolle en Regio | G41: Zwolle, 8032 JX, Dobbe 74 | I41: =D41*75 -> 150
A42: Pickw. Groen cranb. thee x25 | B42: Doos a 3 stuks | C42: 181323 | D42: 2 | E42: Openbaar Onderwijs Zwolle en Regio | F42: Openbaar Onderwijs Zwolle en Regio | G42: Zwolle, 8032 JX, Dobbe 74 | I42: =D42*75 -> 150
A43: Pickw. Groen pure thee x25 | B43: Doos a 3 stuks | C43: 181324 | D43: 1 | E43: Openbaar Onderwijs Zwolle en Regio | F43: Openbaar Onderwijs Zwolle en Regio | G43: Zwolle, 8032 JX, Dobbe 74 | I43: =D43*75 -> 75
A44: Pickw. Kamille thee x25 | B44: Doos a 3 stuks | C44: 181341 | D44: 9 | E44: Openbaar Onderwijs Zwolle en Regio | F44: Openbaar Onderwijs Zwolle en Regio | G44: Zwolle, 8032 JX, Dobbe 74 | I44: =D44*75 -> 675
A45: Pickw. Mint x25 | B45: Doos a 3 stuks | C45: 181342 | D45: 3 | E45: Openbaar Onderwijs Zwolle en Regio | F45: Openbaar Onderwijs Zwolle en Regio | G45: Zwolle, 8032 JX, Dobbe 74 | I45: =D45*75 -> 225
A46: Pickw. Minty morocco x25 | B46: Doos a 3 stuks | C46: 181336 | D46: 2 | E46: Openbaar Onderwijs Zwolle en Regio | F46: Openbaar Onderwijs Zwolle en Regio | G46: Zwolle, 8032 JX, Dobbe 74 | I46: =D46*75 -> 150
A47: Pickw. Rooibos honing thee x25 | B47: Doos a 3 stuks | C47: 181318 | D47: 10 | E47: Openbaar Onderwijs Zwolle en Regio | F47: Openbaar Onderwijs Zwolle en Regio | G47: Zwolle, 8032 JX, Dobbe 74 | I47: =D47*75 -> 750
A48: Pickw. Sinaasappel thee x25 | B48: Doos a 3 stuks | C48: 181339 | D48: 2 | E48: Openbaar Onderwijs Zwolle en Regio | F48: Openbaar Onderwijs Zwolle en Regio | G48: Zwolle, 8032 JX, Dobbe 74 | I48: =D48*75 -> 150
A49: Pickw. Sterrenmunt thee x25 | B49: Doos a 3 stuks | C49: 181317 | D49: 3 | E49: Openbaar Onderwijs Zwolle en Regio | F49: Openbaar Onderwijs Zwolle en Regio | G49: Zwolle, 8032 JX, Dobbe 74 | I49: =D49*75 -> 225
A50: Pickw. Trop.vruchten thee x25 | B50: Doos a 3 stuks | C50: 181316 | D50: 13 | E50: Openbaar Onderwijs Zwolle en Regio | F50: Openbaar Onderwijs Zwolle en Regio | G50: Zwolle, 8032 JX, Dobbe 74 | I50: =D50*75 -> 975
A51: Pickw. Wintergloed thee x25 | B51: Doos a 3 stuks | C51: 181343 | D51: 11 | E51: Openbaar Onderwijs Zwolle en Regio | F51: Openbaar Onderwijs Zwolle en Regio | G51: Zwolle, 8032 JX, Dobbe 74 | I51: =D51*75 -> 825
A52: Pickwick Theezakjes 2gr | B52: Doos a 100 stuks | C52: 181331 | D52: 1 | E52: Openbaar Onderwijs Zwolle en Regio | F52: Openbaar Onderwijs Zwolle en Regio | G52: Zwolle, 8032 JX, Dobbe 74 | I52: =D52*100 -> 100
A53: Royal Premium mix | B53: Doos a 150 stuks | C53: 179764 | D53: 3 | E53: Openbaar Onderwijs Zwolle en Regio | F53: Openbaar Onderwijs Zwolle en Regio | G53: Zwolle, 8032 JX, Dobbe 74
A54: Totaal | D54: =SUM(D3:D53) -> 598 | H54: =SUM(H4:H53) -> 29595 | I54: =SUM(I34:I53) -> 10025
A57: Machine park
A58: Nr. | B58: Omschrijving | C58: Serienummer | E58: Klantnr. | F58: Verzendcode | G58: Begindatum | H58: Einddatum
A59: SARTNR009600 | B59: Optibean 3 touch zw/ 4e verd. | C59: 1GC03741 | D59: Koop | E59: 105334 | F59: DOBBE74 | G59: 43536 | H59: 45362
A60: SARTNR009601 | B60: Animo M100 zwart | C60: 1IC05001 | D60: Koop | E60: 105334 | F60: DOBBE74 | G60: 43536 | H60: 45362

Sheet Sluis
A1: Koffie en pakket afname periode 01-01-2023 - 01-12-2023
A2: Omschrijving | B2: Eenheid | C2: Itemnr | D2: Afzet | E2: Klanten | F2: Adresnamen | G2: Adres | H2: Aantal drinks koffie | I2: Aantal drinks thee
A3: 1899 Cappuccino topping 750gr | B3: Stuk | C3: 472340 | D3: 20 | E3: Openbaar Onderwijs Zwolle en Regio | F3: SBO de Sluis Zwolle | G3: Zwolle, 8017 AZ, Zwarteweg 120
A4: 1899 Espresso Medium Roast FT 1kg | B4: Zak | C4: 471391 | D4: 46 | E4: Openbaar Onderwijs Zwolle en Regio | F4: SBO de Sluis Zwolle | G4: Zwolle, 8017 AZ, Zwarteweg 120 | H4: =D4*125 -> 5750
A5: Suikerklontjes midi 750 gram | B5: Krimp a 8 stuks | C5: 255145 | D5: 1 | E5: Openbaar Onderwijs Zwolle en Regio | F5: SBO de Sluis Zwolle | G5: Zwolle, 8017 AZ, Zwarteweg 120
A6: Tea of Life Bosvruchten FT 25x1,5gr | B6: Doos a 4 stuks | C6: 472857 | D6: 16 | E6: Openbaar Onderwijs Zwolle en Regio | F6: SBO de Sluis Zwolle | G6: Zwolle, 8017 AZ, Zwarteweg 120 | I6: =D6*100 -> 1600
A7: Tea of Life Earl grey FT 25x1,5gr | B7: Doos a 4 stuks | C7: 472856 | D7: 8 | E7: Openbaar Onderwijs Zwolle en Regio | F7: SBO de Sluis Zwolle | G7: Zwolle, 8017 AZ, Zwarteweg 120 | I7: =D7*100 -> 800
A8: Tea of Life Rooibos FT 25x1,25gr | B8: Doos a 4 stuks | C8: 472861 | D8: 10 | E8: Openbaar Onderwijs Zwolle en Regio | F8: SBO de Sluis Zwolle | G8: Zwolle, 8017 AZ, Zwarteweg 120 | I8: =D8*100 -> 1000
A9: DE Cafe Milc 2lt Bag I Box | B9: Pak | C9: 133000 | D9: 20 | E9: Openbaar Onderwijs Zwolle en Regio | F9: SBO de Sluis Zwolle | G9: Zwolle, 8017 AZ, Zwarteweg 120
A10: DE Smooth roast vlb 2 ltr | B10: Doos a 2 stuks | C10: 181902 | D10: 4 | E10: Openbaar Onderwijs Zwolle en Regio | F10: SBO de Sluis Zwolle | G10: Zwolle, 8017 AZ, Zwarteweg 120 | H10: =D10*750 -> 3000
A11: Rinza reinigingstabl. M61 | B11: Pot a 120 stuks | C11: 921245 | D11: 2 | E11: Openbaar Onderwijs Zwolle en Regio | F11: SBO de Sluis Zwolle | G11: Zwolle, 8017 AZ, Zwarteweg 120
A12: Suikerklontjes midi 750 gram | B12: Krimp a 8 stuks | C12: 255145 | D12: 2 | E12: Openbaar Onderwijs Zwolle en Regio | F12: SBO de Sluis Zwolle | G12: Zwolle, 8017 AZ, Zwarteweg 120
A13: 1899 Cappuccino topping 750gr | B13: Stuk | C13: 472340 | D13: 48 | E13: Openbaar Onderwijs Zwolle en Regio | F13: SBO de Sluis Zwolle | G13: Zwolle, 8017 AZ, Zwarteweg 120
A14: 1899 Espresso Medium Roast FT 1kg | B14: Zak | C14: 471391 | D14: 21 | E14: Openbaar Onderwijs Zwolle en Regio | F14: SBO de Sluis Zwolle | G14: Zwolle, 8017 AZ, Zwarteweg 120 | H14: =D14*125 -> 2625
A15: Reinigingstabletten Neodisher CM 100 stuks | B15: Pot | C15: 471276 | D15: 1 | E15: Openbaar Onderwijs Zwolle en Regio | F15: SBO de Sluis Zwolle | G15: Zwolle, 8017 AZ, Zwarteweg 120
A16: Tea of Life Assortibox FT 120x2gr | B16: Doos | C16: 472868 | D16: 1 | E16: Openbaar Onderwijs Zwolle en Regio | F16: SBO de Sluis Zwolle | G16: Zwolle, 8017 AZ, Zwarteweg 120 | I16: =D16*120 -> 120
A17: Tea of Life Bosvruchten FT 25x1,5gr | B17: Doos a 4 stuks | C17: 472857 | D17: 6 | E17: Openbaar Onderwijs Zwolle en Regio | F17: SBO de Sluis Zwolle | G17: Zwolle, 8017 AZ, Zwarteweg 120 | I17: =D17*100 -> 600
A18: Tea of Life Groene thee 25x1,5gr | B18: Doos a 4 stuks | C18: 472863 | D18: 4 | E18: Openbaar Onderwijs Zwolle en Regio | F18: SBO de Sluis Zwolle | G18: Zwolle, 8017 AZ, Zwarteweg 120 | I18: =D18*100 -> 400
A19: Tea of Life Rooibos FT 25x1,25gr | B19: Doos a 4 stuks | C19: 472861 | D19: 8 | E19: Openbaar Onderwijs Zwolle en Regio | F19: SBO de Sluis Zwolle | G19: Zwolle, 8017 AZ, Zwarteweg 120 | I19: =D19*100 -> 800
A20: Totaal | D20: =SUM(D3:D19) -> 218 | H20: =SUM(H4:H18) -> 11375 | I20: =SUM(I4:I19) -> 5320
A22: Machine park
A23: Nr. | B23: Omschrijving | C23: Serienummer | E23: Klantnr. | F23: Verzendcode | G23: Begindatum | H23: Einddatum
A24: SARTNR013568 | B24: Optibean 2 touch zwart | C24: 1KG07356 | D24: Koop | E24: 105334 | F24: RVSLUIS120 | G24: 45054 | H24: 46880

Sheet Parkschool
A1: Koffie en pakket afname periode 01-01-2023 - 01-12-2023
A2: Omschrijving | B2: Eenheid | C2: Itemnr | D2: Afzet | E2: Klanten | F2: Adresnamen | G2: Adres | H2: Aantal drinks koffie | I2: Aantal drinks thee
A3: 1899 Creamersticks dispenser 2,5 gram | B3: Doos a 500 stuks | C3: 100799 | D3: 1 | E3: Openbaar Onderwijs Zwolle en Regio | F3: De Parkschool | G3: Zwolle, 8011 CC, Westerlaan 22
A4: 1899 Suikersticks dispenser 4 gram | B4: Doos a 500 stuks | C4: 100798 | D4: 1 | E4: Openbaar Onderwijs Zwolle en Regio | F4: De Parkschool | G4: Zwolle, 8011 CC, Westerlaan 22
A5: DE Cacao Fantasy Blue 1x1000 g | B5: Zak | C5: 182006 | D5: 48 | E5: Openbaar Onderwijs Zwolle en Regio | F5: De Parkschool | G5: Zwolle, 8011 CC, Westerlaan 22
A6: DE Cafe Milc 6x0.75 liter | B6: Doos a 6 stuks | C6: 133001 | D6: 21 | E6: Openbaar Onderwijs Zwolle en Regio | F6: De Parkschool | G6: Zwolle, 8011 CC, Westerlaan 22
A7: DE Medium roast vlb 1,25 ltr | B7: Tray a 2 stuks | C7: 181892 | D7: 20 | E7: Openbaar Onderwijs Zwolle en Regio | F7: De Parkschool | G7: Zwolle, 8011 CC, Westerlaan 22 | H7: =D7*480 -> 9600
A8: DE Suikersticks 4 Gram | B8: Doos a 500 stuks | C8: 181001 | D8: 1 | E8: Openbaar Onderwijs Zwolle en Regio | F8: De Parkschool | G8: Zwolle, 8011 CC, Westerlaan 22
A9: Houten roerstaafje 110mm dispenserdoos | B9: Doos a 2000 stuks | C9: 367581 | D9: 1 | E9: Openbaar Onderwijs Zwolle en Regio | F9: De Parkschool | G9: Zwolle, 8011 CC, Westerlaan 22
A10: Kart Beker Limetta 180cc | B10: Doos a 2500 stuks | C10: 70008 | D10: 3 | E10: Openbaar Onderwijs Zwolle en Regio | F10: De Parkschool | G10: Zwolle, 8011 CC, Westerlaan 22
A11: Pickw. Minty morocco x25 | B11: Doos a 3 stuks | C11: 181336 | D11: 2 | E11: Openbaar Onderwijs Zwolle en Regio | F11: De Parkschool | G11: Zwolle, 8011 CC, Westerlaan 22 | I11: =D11*75 -> 150
A12: Pickw. sterrenmunt TFOC | B12: Doos a 100 stuks | C12: 181353 | D12: 1 | E12: Openbaar Onderwijs Zwolle en Regio | F12: De Parkschool | G12: Zwolle, 8011 CC, Westerlaan 22 | I12: =D12*100 -> 100
A13: Pickw. Wintergloed thee x25 | B13: Doos a 3 stuks | C13: 181343 | D13: 2 | E13: Openbaar Onderwijs Zwolle en Regio | F13: De Parkschool | G13: Zwolle, 8011 CC, Westerlaan 22 | I13: =D13*75 -> 150
A14: Suikersticks Eco 4gr | B14: Doos a 900 stuks | C14: 181005 | D14: 1 | E14: Openbaar Onderwijs Zwolle en Regio | F14: De Parkschool | G14: Zwolle, 8011 CC, Westerlaan 22
A15: Totaal | D15: =SUM(D3:D14) -> 102 | H15: =SUM(H7:H14) -> 9600 | I15: =SUM(I11:I14) -> 400
A18: Machine park
A19: Nr. | B19: Omschrijving | C19: Serienummer | E19: Klantnr. | F19: Verzendcode | G19: Begindatum | H19: Einddatum
A20: SARTNR012408 | B20: Excellence Compact Touch insta | C20: 4218020004385 | D20: Koop | E20: 105334 | F20: PARKSCHOOL | G20: 44596 | H20: 46421

Sheet Marshof
A1: Koffie en pakket afname periode 01-01-2023 - 01-12-2023
A2: Omschrijving | B2: Eenheid | C2: Itemnr | D2: Afzet | E2: Klanten | F2: Adresnamen | G2: Adres | H2: Aantal drinks koffie | I2: Aantal drinks thee
A3: DE Cafe Milc 6x0.75 liter | B3: Doos a 6 stuks | C3: 133001 | D3: 21 | E3: Openbaar Onderwijs Zwolle en Regio | F3: OBS De Marshof | G3: Zwolle, 8014 LA, Tichelmeesterlaan 45
A4: DE Medium roast vlb 1,25 ltr | B4: Tray a 2 stuks | C4: 181892 | D4: 19 | E4: Openbaar Onderwijs Zwolle en Regio | F4: OBS De Marshof | G4: Zwolle, 8014 LA, Tichelmeesterlaan 45 | H4: =D4*480 -> 9120
A5: Totaal | D5: =SUM(D3:D4) -> 40 | H5: =SUM(H4) -> 9120
A8: Machine park
A9: Nr. | B9: Omschrijving | C9: Serienummer | E9: Klantnr. | F9: Verzendcode | G9: Begindatum | H9: Einddatum
A10: SARTNR008828 | B10: Cafitesse Excellence Compact V | C10: 12171020112212 | D10: Koop | E10: 105334 | F10: MARS45ZWOL | G10: 43256 | H10: 45082

Sheet Het Festival
A1: Koffie en pakket afname periode 01-01-2023 - 01-12-2023
A2: Omschrijving | B2: Eenheid | C2: Itemnr | D2: Afzet | E2: Klanten | F2: Adresnamen | G2: Adres | H2: Aantal drinks koffie | I2: Aantal drinks thee
A3: DE Cafe Milc 6x0.75 liter | B3: Doos a 6 stuks | C3: 133001 | D3: 19 | E3: Openbaar Onderwijs Zwolle en Regio | F3: OBS Het Festival | G3: Zwolle, 8044 GP, Sportlaan 6
A4: DE Medium roast vlb 1,25 ltr | B4: Tray a 2 stuks | C4: 181892 | D4: 19 | E4: Openbaar Onderwijs Zwolle en Regio | F4: OBS Het Festival | G4: Zwolle, 8044 GP, Sportlaan 6 | H4: =D4*480 -> 9120
A5: DE Cafe Milc 6x0.75 liter | B5: Doos a 6 stuks | C5: 133001 | D5: 2 | E5: Openbaar Onderwijs Zwolle en Regio | F5: OBS Het Festival | G5: Zwolle, 8044 GP, Sportlaan 6
A6: DE Medium roast vlb 1,25 ltr | B6: Tray a 2 stuks | C6: 181892 | D6: 2 | E6: Openbaar Onderwijs Zwolle en Regio | F6: OBS Het Festival | G6: Zwolle, 8044 GP, Sportlaan 6 | H6: =D6*480 -> 960
A7: Totaal | D7: =SUM(D3:D6) -> 42 | H7: =SUM(H3:H6) -> 10080
A9: Machine park
A10: Nr. | B10: Omschrijving | C10: Serienummer | E10: Klantnr. | F10: Verzendcode | G10: Begindatum | H10: Einddatum
A11: SARTNR010342 | B11: Excellence Compact Touch stand | C11: 8198010100502 | D11: Koop | E11: 105334 | F11: OBSFESTIV6 | G11: 43808 | H11: 45635

Sheet Avontuur
A1: Koffie en pakket afname periode 01-01-2023 - 01-12-2023
A2: Omschrijving | B2: Eenheid | C2: Itemnr | D2: Afzet | E2: Klanten | F2: Adresnamen | G2: Adres | H2: Aantal drinks koffie | I2: Aantal drinks thee
A3: 1899 Espresso Medium Roast FT 1kg | B3: Zak | C3: 471391 | D3: 60 | E3: Openbaar Onderwijs Zwolle en Regio | F3: Het Avontuur Openbare Basisschool | G3: Dalfsen, 7721 BW, Ruigendoornstraat 23 | H3: =D3*125 -> 7500
A4: DE Melkproduct v.d. koffie 1kg | B4: Zak | C4: 181180 | D4: 18 | E4: Openbaar Onderwijs Zwolle en Regio | F4: Het Avontuur Openbare Basisschool | G4: Dalfsen, 7721 BW, Ruigendoornstraat 23
A5: 1899 Cappuccino topping 750gr | B5: Stuk | C5: 472340 | D5: 15 | E5: Openbaar Onderwijs Zwolle en Regio | F5: Openbaar Onderwijs Zwolle en Regio | G5: Dalfsen, 7721 BW, Ruigendoornstraat 23
A6: 1899 Espresso Dark Roast FT 1kg | B6: Stuk | C6: 471400 | D6: 6 | E6: Openbaar Onderwijs Zwolle en Regio | F6: Openbaar Onderwijs Zwolle en Regio | G6: Dalfsen, 7721 BW, Ruigendoornstraat 23 | H6: =D6*125 -> 750
A7: 1899 Espresso Medium Roast FT 1kg | B7: Zak | C7: 471391 | D7: 6 | E7: Openbaar Onderwijs Zwolle en Regio | F7: Openbaar Onderwijs Zwolle en Regio | G7: Dalfsen, 7721 BW, Ruigendoornstraat 23 | H7: =D7*125 -> 750
A8: 1899 Melktopping 500 gram | B8: Zak | C8: 472440 | D8: 5 | E8: Openbaar Onderwijs Zwolle en Regio | F8: Openbaar Onderwijs Zwolle en Regio | G8: Dalfsen, 7721 BW, Ruigendoornstraat 23
A9: Campina Halfvolle Melk 1ltr | B9: Doos a 12 stuks | C9: 179118 | D9: 2 | E9: Openbaar Onderwijs Zwolle en Regio | F9: Openbaar Onderwijs Zwolle en Regio | G9: Dalfsen, 7721 BW, Ruigendoornstraat 23
A10: Cup a Soup Champignon crème | B10: Pak a 21 stuks | C10: 407472 | D10: 1 | E10: Openbaar Onderwijs Zwolle en Regio | F10: Openbaar Onderwijs Zwolle en Regio | G10: Dalfsen, 7721 BW, Ruigendoornstraat 23
A11: Cup a Soup Kip | B11: Pak a 21 stuks | C11: 407503 | D11: 2 | E11: Openbaar Onderwijs Zwolle en Regio | F11: Openbaar Onderwijs Zwolle en Regio | G11: Dalfsen, 7721 BW, Ruigendoornstraat 23
A12: Cup a Soup Mosterd Creme | B12: Pak a 21 stuks | C12: 322606 | D12: 4 | E12: Openbaar Onderwijs Zwolle en Regio | F12: Openbaar Onderwijs Zwolle en Regio | G12: Dalfsen, 7721 BW, Ruigendoornstraat 23
A13: Cup a Soup Tomaat | B13: Pak a 21 stuks | C13: 407464 | D13: 4 | E13: Openbaar Onderwijs Zwolle en Regio | F13: Openbaar Onderwijs Zwolle en Regio | G13: Dalfsen, 7721 BW, Ruigendoornstraat 23
A14: Cup a Soup Tomaten Creme | B14: Pak a 21 stuks | C14: 322578 | D14: 3 | E14: Openbaar Onderwijs Zwolle en Regio | F14: Openbaar Onderwijs Zwolle en Regio | G14: Dalfsen, 7721 BW, Ruigendoornstraat 23
A15: Totaal | D15: =SUM(D3:D14) -> 126 | H15: =SUM(H3:H8) -> 9000
A17: Machine park
A18: Nr. | B18: Omschrijving | C18: Serienummer | E18: Klantnr. | F18: Verzendcode | G18: Begindatum | H18: Einddatum
A19: SARTNR010266 | B19: Koro 2.0 | C19: 93810254 | D19: Koop | E19: 105334P | F19: 23AVONTUUR | G19: 43783 | H19: 45609

Sheet Octopus
A1: Koffie en pakket afname periode 01-01-2023 - 01-12-2023
A2: Omschrijving | B2: Eenheid | C2: Itemnr | D2: Afzet | E2: Klanten | F2: Adresnamen | G2: Adres | H2: Aantal drinks koffie | I2: Aantal drinks thee
A3: 1899 Creamersticks 2,5 gram | B3: Doos a 1000 stuks | C3: 403457 | D3: 1 | E3: Openbaar Onderwijs Zwolle en Regio | F3: OOZ/ Obs de Octopus | G3: Zwolle, 8016 GB, Provincieroute 143
A4: 1899 Suikersticks 4 gr. | B4: Doos a 1000 stuks | C4: 403458 | D4: 2 | E4: Openbaar Onderwijs Zwolle en Regio | F4: OOZ/ Obs de Octopus | G4: Zwolle, 8016 GB, Provincieroute 143
A5: 1899 Suikersticks dispenser 4 gram | B5: Doos a 500 stuks | C5: 100798 | D5: 1 | E5: Openbaar Onderwijs Zwolle en Regio | F5: OOZ/ Obs de Octopus | G5: Zwolle, 8016 GB, Provincieroute 143
A6: Ajax Fris 1 liter | B6: Fles | C6: 161275 | D6: 4 | E6: Openbaar Onderwijs Zwolle en Regio | F6: OOZ/ Obs de Octopus | G6: Zwolle, 8016 GB, Provincieroute 143
A7: Brise Relaxing zen | B7: Fles | C7: 193818 | D7: 3 | E7: Openbaar Onderwijs Zwolle en Regio | F7: OOZ/ Obs de Octopus | G7: Zwolle, 8016 GB, Provincieroute 143
A8: Enjoy Koffiemelkcups | B8: Doos a 200 stuks | C8: 601999 | D8: 1 | E8: Openbaar Onderwijs Zwolle en Regio | F8: OOZ/ Obs de Octopus | G8: Zwolle, 8016 GB, Provincieroute 143
A9: Glassex Pistool | B9: Fles | C9: 325469 | D9: 4 | E9: Openbaar Onderwijs Zwolle en Regio | F9: OOZ/ Obs de Octopus | G9: Zwolle, 8016 GB, Provincieroute 143
A10: Glorix Toiletbloc Ocean | B10: Doos a 12 stuks | C10: 197903 | D10: 1 | E10: Openbaar Onderwijs Zwolle en Regio | F10: OOZ/ Obs de Octopus | G10: Zwolle, 8016 GB, Provincieroute 143
A11: Hoppe Stroopwafels Mini | B11: Doos a 150 stuks | C11: 179741 | D11: 2 | E11: Openbaar Onderwijs Zwolle en Regio | F11: OOZ/ Obs de Octopus | G11: Zwolle, 8016 GB, Provincieroute 143
A12: Hoppe Variete Mix | B12: Doos a 150 stuks | C12: 179742 | D12: 2 | E12: Openbaar Onderwijs Zwolle en Regio | F12: OOZ/ Obs de Octopus | G12: Zwolle, 8016 GB, Provincieroute 143
A13: Houten roerstaafje 110mm dispenserdoos | B13: Doos a 2000 stuks | C13: 367581 | D13: 2 | E13: Openbaar Onderwijs Zwolle en Regio | F13: OOZ/ Obs de Octopus | G13: Zwolle, 8016 GB, Provincieroute 143
A14: Kaassouffle mini 25 gram | B14: Doos a 60 stuks | C14: 140801 | D14: 1 | E14: Openbaar Onderwijs Zwolle en Regio | F14: OOZ/ Obs de Octopus | G14: Zwolle, 8016 GB, Provincieroute 143
... A29: Sun prof.tablets All in 1 200x | B29: Emmer | C29: 377267 | D29: 2 | E29: Openbaar Onderwijs Zwolle en Regio | F29: OOZ/ Obs de Octopus | G29: Zwolle, 8016 GB, Provincieroute 143
A30: Tea of Life Aardbei FT 25x1,5gr | B30: Doos a 4 stuks | C30: 472862 | D30: 1 | E30: Openbaar Onderwijs Zwolle en Regio | F30: OOZ/ Obs de Octopus | G30: Zwolle, 8016 GB, Provincieroute 143 | I30: =D30*100 -> 100
A31: Tea of Life assorti box 10x2gr | B31: Doos a 12 stuks | C31: 100660 | D31: 2 | E31: Openbaar Onderwijs Zwolle en Regio | F31: OOZ/ Obs de Octopus | G31: Zwolle, 8016 GB, Provincieroute 143 | I31: =D31*120 -> 240
A32: Tea of Life Assortibox FT 120x2gr | B32: Doos | C32: 472868 | D32: 6 | E32: Openbaar Onderwijs Zwolle en Regio | F32: OOZ/ Obs de Octopus | G32: Zwolle, 8016 GB, Provincieroute 143 | I32: =D32*120 -> 720
A33: Tea of Life Bosvruchten FT 25x1,5gr | B33: Doos a 4 stuks | C33: 472857 | D33: 1 | E33: Openbaar Onderwijs Zwolle en Regio | F33: OOZ/ Obs de Octopus | G33: Zwolle, 8016 GB, Provincieroute 143 | I33: =D33*100 -> 100
A34: Tea of Life Earl grey FT 25x1,5gr | B34: Doos a 4 stuks | C34: 472856 | D34: 1 | E34: Openbaar Onderwijs Zwolle en Regio | F34: OOZ/ Obs de Octopus | G34: Zwolle, 8016 GB, Provincieroute 143 | I34: =D34*100 -> 100
A35: Tea of Life Engels FT 25x1,5gr | B35: Doos a 4 stuks | C35: 472858 | D35: 1 | E35: Openbaar Onderwijs Zwolle en Regio | F35: OOZ/ Obs de Octopus | G35: Zwolle, 8016 GB, Provincieroute 143 | I35: =D35*100 -> 100
A36: Tea of Life Gr. Lemon FT 25x1,5gr | B36: Doos a 4 stuks | C36: 472852 | D36: 2 | E36: Openbaar Onderwijs Zwolle en Regio | F36: OOZ/ Obs de Octopus | G36: Zwolle, 8016 GB, Provincieroute 143 | I36: =D36*100 -> 200
A37: Tea of Life Groene thee 25x1,5gr | B37: Doos a 4 stuks | C37: 472863 | D37: 1 | E37: Openbaar Onderwijs Zwolle en Regio | F37: OOZ/ Obs de Octopus | G37: Zwolle, 8016 GB, Provincieroute 143 | I37: =D37*100 -> 100
A38: Tea of Life Moroc.mint 20x2g | B38: Doos a 4 stuks | C38: 100661 | D38: 3 | E38: Openbaar Onderwijs Zwolle en Regio | F38: OOZ/ Obs de Octopus | G38: Zwolle, 8016 GB, Provincieroute 143 | I38: =D38*80 -> 240
A39: Tea of Life Refresh. mix 20x2g | B39: Doos a 4 stuks | C39: 100662 | D39: 1 | E39: Openbaar Onderwijs Zwolle en Regio | F39: OOZ/ Obs de Octopus | G39: Zwolle, 8016 GB, Provincieroute 143 | I39: =D40*80 -> 80
A40: Tea of Life Relax mix 20x2g | B40: Doos a 4 stuks | C40: 100663 | D40: 1 | E40: Openbaar Onderwijs Zwolle en Regio | F40: OOZ/ Obs de Octopus | G40: Zwolle, 8016 GB, Provincieroute 143 | I40: =D41*100 -> 200
A41: Tea of Life Relaxing mix FT 25x1,5gr | B41: Doos a 4 stuks | C41: 472859 | D41: 2 | E41: Openbaar Onderwijs Zwolle en Regio | F41: OOZ/ Obs de Octopus | G41: Zwolle, 8016 GB, Provincieroute 143 | I41: =D41*100 -> 200
A42: Tea of Life Rooibos FT 25x1,25gr | B42: Doos a 4 stuks | C42: 472861 | D42: 4 | E42: Openbaar Onderwijs Zwolle en Regio | F42: OOZ/ Obs de Octopus | G42: Zwolle, 8016 GB, Provincieroute 143 | I42: =D42*100 -> 400
A43: Tea of Life Sterrenmunt 20x2gr | B43: Doos a 4 stuks | C43: 100665 | D43: 1 | E43: Openbaar Onderwijs Zwolle en Regio | F43: OOZ/ Obs de Octopus | G43: Zwolle, 8016 GB, Provincieroute 143 | I43: =D43*80 -> 80
A44: Tea of Life taste Spring 20x2g | B44: Doos a 4 stuks | C44: 100666 | D44: 1 | E44: Openbaar Onderwijs Zwolle en Regio | F44: OOZ/ Obs de Octopus | G44: Zwolle, 8016 GB, Provincieroute 143 | I44: =D44*80 -> 80
A45: Tea of Life Taste spring FT 25x1,5gr | B45: Doos a 4 stuks | C45: 472866 | D45: 1 | E45: Openbaar Onderwijs Zwolle en Regio | F45: OOZ/ Obs de Octopus | G45: Zwolle, 8016 GB, Provincieroute 143 | I45: =D45*100 -> 100
A46: 1899 Espresso Dark Roast FT 1kg | B46: Stuk | C46: 471400 | D46: 18 | E46: Openbaar Onderwijs Zwolle en Regio | F46: OOZ/ Obs de Octopus | G46: Zwolle, 8016 GB, Provincieroute 143 | H46: =D46*125 -> 2250
A47: 1899 Espresso Medium Roast FT 1kg | B47: Zak | C47: 471391 | D47: 36 | E47: Openbaar Onderwijs Zwolle en Regio | F47: OOZ/ Obs de Octopus | G47: Zwolle, 8016 GB, Provincieroute 143 | H47: =D47*125 -> 4500
A48: 1899 Melktopping 500 gram | B48: Zak | C48: 472440 | D48: 58 | E48: Openbaar Onderwijs Zwolle en Regio | F48: OOZ/ Obs de Octopus | G48: Zwolle, 8016 GB, Provincieroute 143
A49: Beker karton wit 180ml | B49: Doos a 600 stuks | C49: 473141 | D49: 2 | E49: Openbaar Onderwijs Zwolle en Regio | F49: OOZ/ Obs de Octopus | G49: Zwolle, 8016 GB, Provincieroute 143
A50: Tea of Life Assortibox FT 120x2gr | B50: Doos | C50: 472868 | D50: 2 | E50: Openbaar Onderwijs Zwolle en Regio | F50: OOZ/ Obs de Octopus | G50: Zwolle, 8016 GB, Provincieroute 143 | I50: =D50*120 -> 240
A51: 1899 Beker 180ml | B51: Doos a 2500 stuks | C51: 100815 | D51: 2 | E51: Openbaar Onderwijs Zwolle en Regio | F51: OOZ/ Obs de Octopus | G51: Zwolle, 8016 GB, Provincieroute 143
A52: 1899 Espresso Dark Roast FT 1kg | B52: Stuk | C52: 471400 | D52: 31 | E52: Openbaar Onderwijs Zwolle en Regio | F52: OOZ/ Obs de Octopus | G52: Zwolle, 8016 GB, Provincieroute 143 | H52: =D52*125 -> 3875
A53: 1899 Melktopping 500 gram | B53: Zak | C53: 472440 | D53: 60 | E53: Openbaar Onderwijs Zwolle en Regio | F53: OOZ/ Obs de Octopus | G53: Zwolle, 8016 GB, Provincieroute 143
A54: Totaal | D54: =SUM(D3:D53) -> 290 | H54: =SUM(H46:H53) -> 10625 | I54: =SUM(I28:I52) -> 3280
A58: Machine park
A59: Nr. | B59: Omschrijving | C59: Serienummer | E59: Klantnr. | F59: Verzendcode | G59: Begindatum | H59: Einddatum
A60: SARTNR013233 | B60: Animo Optibean 2 touch + CO | C60: 2KF48187 | D60: Koop | E60: 105334 | F60: PROVINCIER | G60: 44866 | H60: 46691

Sheet Toonladder
A1: Koffie en pakket afname periode 01-01-2023 - 01-12-2023
A2: Omschrijving | B2: Eenheid | C2: Itemnr | D2: Afzet | E2: Klanten | F2: Adresnamen | G2: Adres | H2: Aantal drinks koffie | I2: Aantal drinks thee
A3: 1899 Beker 180ml | B3: Doos a 2500 stuks | C3: 100815 | D3: 1 | E3: Openbaar Onderwijs Zwolle en Regio | F3: OBS De Toonladder | G3: Zwolle, 8031 HL, Bachlaan 158-162
A4: 1899 Snelfilter Traditioneel FT 1kg | B4: Stuk | C4: 471330 | D4: 65 | E4: Openbaar Onderwijs Zwolle en Regio | F4: OBS De Toonladder | G4: Zwolle, 8031 HL, Bachlaan 158-162 | H4: =D4*160 -> 10400
A5: 1899 Suikersticks 4 gr. | B5: Doos a 1000 stuks | C5: 403458 | D5: 3 | E5: Openbaar Onderwijs Zwolle en Regio | F5: OBS De Toonladder | G5: Zwolle, 8031 HL, Bachlaan 158-162
A6: Cup a Soup Chinese Kip | B6: Pak a 21 stuks | C6: 321919 | D6: 2 | E6: Openbaar Onderwijs Zwolle en Regio | F6: OBS De Toonladder | G6: Zwolle, 8031 HL, Bachlaan 158-162
A7: Cup a Soup Chinese Tomaat | B7: Pak a 21 stuks | C7: 321928 | D7: 6 | E7: Openbaar Onderwijs Zwolle en Regio | F7: OBS De Toonladder | G7: Zwolle, 8031 HL, Bachlaan 158-162
A8: Cup a Soup Goulash | B8: Pak a 21 stuks | C8: 321973 | D8: 2 | E8: Openbaar Onderwijs Zwolle en Regio | F8: OBS De Toonladder | G8: Zwolle, 8031 HL, Bachlaan 158-162
A9: Cup a Soup Groente | B9: Pak a 21 stuks | C9: 407456 | D9: 1 | E9: Openbaar Onderwijs Zwolle en Regio | F9: OBS De Toonladder | G9: Zwolle, 8031 HL, Bachlaan 158-162
A10: Cup a Soup Kip | B10: Pak a 21 stuks | C10: 407503 | D10: 3 | E10: Openbaar Onderwijs Zwolle en Regio | F10: OBS De Toonladder | G10: Zwolle, 8031 HL, Bachlaan 158-162
A11: Cup a Soup Mosterd Creme | B11: Pak a 21 stuks | C11: 322606 | D11: 6 | E11: Openbaar Onderwijs Zwolle en Regio | F11: OBS De Toonladder | G11: Zwolle, 8031 HL, Bachlaan 158-162
A12: Cup a Soup Rundvlees | B12: Pak a 21 stuks | C12: 407511 | D12: 2 | E12: Openbaar Onderwijs Zwolle en Regio | F12: OBS De Toonladder | G12: Zwolle, 8031 HL, Bachlaan 158-162
A13: Cup a Soup Tomaat | B13: Pak a 21 stuks | C13: 407464 | D13: 2 | E13: Openbaar Onderwijs Zwolle en Regio | F13: OBS De Toonladder | G13: Zwolle, 8031 HL, Bachlaan 158-162
A14: Cup a Soup Tomaten Creme | B14: Pak a 21 stuks | C14: 322578 | D14: 2 | E14: Openbaar Onderwijs Zwolle en Regio | F14: OBS De Toonladder | G14: Zwolle, 8031 HL, Bachlaan 158-162
A15: DE Cacao Sticks 18,5gr | B15: Doos a 100 stuks | C15: 472598 | D15: 5 | E15: Openbaar Onderwijs Zwolle en Regio | F15: OBS De Toonladder | G15: Zwolle, 8031 HL, Bachlaan 158-162
A16: Effe soep 1 kop chin.tom. | B16: Pak a 21 stuks | C16: 989006 | D16: 1 | E16: Openbaar Onderwijs Zwolle en Regio | F16: OBS De Toonladder | G16: Zwolle, 8031 HL, Bachlaan 158-162
... A18: Luxe Potpourri Mix 150x | B18: Doos a 150 stuks | C18: 179740 | D18: 1 | E18: Openbaar Onderwijs Zwolle en Regio | F18: OBS De Toonladder | G18: Zwolle, 8031 HL, Bachlaan 158-162
A19: Pickw. Groene thee lemon x25 | B19: Doos a 3 stuks | C19: 181313 | D19: 1 | E19: Openbaar Onderwijs Zwolle en Regio | F19: OBS De Toonladder | G19: Zwolle, 8031 HL, Bachlaan 158-162 | I19: =D19*75 -> 75
A20: Pompthermoskan RVS 2,1ltr | B20: Stuk | C20: 471909 | D20: 5 | E20: Openbaar Onderwijs Zwolle en Regio | F20: OBS De Toonladder | G20: Zwolle, 8031 HL, Bachlaan 158-162
A21: Tea of Life Aardbei FT 25x1,5gr | B21: Doos a 4 stuks | C21: 472862 | D21: 1 | E21: Openbaar Onderwijs Zwolle en Regio | F21: OBS De Toonladder | G21: Zwolle, 8031 HL, Bachlaan 158-162 | I21: =D21*100 -> 100
A22: Tea of Life assorti box 10x2gr | B22: Doos a 12 stuks | C22: 100660 | D22: 1 | E22: Openbaar Onderwijs Zwolle en Regio | F22: OBS De Toonladder | G22: Zwolle, 8031 HL, Bachlaan 158-162 | I22: =D23*120 -> 2040
A23: Tea of Life Assortibox FT 120x2gr | B23: Doos | C23: 472868 | D23: 17 | E23: Openbaar Onderwijs Zwolle en Regio | F23: OBS De Toonladder | G23: Zwolle, 8031 HL, Bachlaan 158-162 | I23: =D24*120 -> 240
A24: Tea of Life Bosvruchten FT 25x1,5gr | B24: Doos a 4 stuks | C24: 472857 | D24: 2 | E24: Openbaar Onderwijs Zwolle en Regio | F24: OBS De Toonladder | G24: Zwolle, 8031 HL, Bachlaan 158-162 | I24: =D24*100 -> 200
A25: Tea of Life Earl grey 20x2gr | B25: Doos a 4 stuks | C25: 100646 | D25: 1 | E25: Openbaar Onderwijs Zwolle en Regio | F25: OBS De Toonladder | G25: Zwolle, 8031 HL, Bachlaan 158-162 | I25: =D25*80 -> 80
A26: Tea of Life Gr. jasmijn 20x2g | B26: Doos a 4 stuks | C26: 100657 | D26: 1 | E26: Openbaar Onderwijs Zwolle en Regio | F26: OBS De Toonladder | G26: Zwolle, 8031 HL, Bachlaan 158-162 | I26: =D26*80 -> 80
A27: Tea of Life Gr. lemon 20x2g | B27: Doos a 4 stuks | C27: 100658 | D27: 1 | E27: Openbaar Onderwijs Zwolle en Regio | F27: OBS De Toonladder | G27: Zwolle, 8031 HL, Bachlaan 158-162 | I27: =D27*80 -> 80
A28: Tea of Life Gr. Lemon FT 25x1,5gr | B28: Doos a 4 stuks | C28: 472852 | D28: 4 | E28: Openbaar Onderwijs Zwolle en Regio | F28: OBS De Toonladder | G28: Zwolle, 8031 HL, Bachlaan 158-162 | I28: =D28*100 -> 400
A29: Tea of Life Gr.sin/gem 20x1,75 | B29: Doos a 4 stuks | C29: 100653 | D29: 1 | E29: Openbaar Onderwijs Zwolle en Regio | F29: OBS De Toonladder | G29: Zwolle, 8031 HL, Bachlaan 158-162 | I29: =D29*80 -> 80
A30: Tea of Life Groene thee 20x2g | B30: Doos a 4 stuks | C30: 100659 | D30: 2 | E30: Openbaar Onderwijs Zwolle en Regio | F30: OBS De Toonladder | G30: Zwolle, 8031 HL, Bachlaan 158-162 | I30: =D30*80 -> 160
A31: Tea of Life Groene thee 25x1,5gr | B31: Doos a 4 stuks | C31: 472863 | D31: 2 | E31: Openbaar Onderwijs Zwolle en Regio | F31: OBS De Toonladder | G31: Zwolle, 8031 HL, Bachlaan 158-162 | I31: =D31*100 -> 200
A32: Tea of Life Moroc.mint 20x2g | B32: Doos a 4 stuks | C32: 100661 | D32: 1 | E32: Openbaar Onderwijs Zwolle en Regio | F32: OBS De Toonladder | G32: Zwolle, 8031 HL, Bachlaan 158-162 | I32: =D32*80 -> 80
A33: Tea of Life Refresh. mix 20x2g | B33: Doos a 4 stuks | C33: 100662 | D33: 1 | E33: Openbaar Onderwijs Zwolle en Regio | F33: OBS De Toonladder | G33: Zwolle, 8031 HL, Bachlaan 158-162 | I33: =D33*80 -> 80
A34: Tea of Life Relax mix 20x2g | B34: Doos a 4 stuks | C34: 100663 | D34: 1 | E34: Openbaar Onderwijs Zwolle en Regio | F34: OBS De Toonladder | G34: Zwolle, 8031 HL, Bachlaan 158-162 | I34: =D34*80 -> 80
A35: Tea of Life Rooibos 20x2g | B35: Doos a 4 stuks | C35: 100664 | D35: 1 | E35: Openbaar Onderwijs Zwolle en Regio | F35: OBS De Toonladder | G35: Zwolle, 8031 HL, Bachlaan 158-162 | I35: =D35*80 -> 80
A36: Tea of Life Rooibos FT 25x1,25gr | B36: Doos a 4 stuks | C36: 472861 | D36: 5 | E36: Openbaar Onderwijs Zwolle en Regio | F36: OBS De Toonladder | G36: Zwolle, 8031 HL, Bachlaan 158-162 | I36: =D36*100 -> 500
A37: Tea of Life Sterrenmunt 20x2gr | B37: Doos a 4 stuks | C37: 100665 | D37: 2 | E37: Openbaar Onderwijs Zwolle en Regio | F37: OBS De Toonladder | G37: Zwolle, 8031 HL, Bachlaan 158-162 | I37: =D37*80 -> 160
A38: Tea of Life taste Spring 20x2g | B38: Doos a 4 stuks | C38: 100666 | D38: 1 | E38: Openbaar Onderwijs Zwolle en Regio | F38: OBS De Toonladder | G38: Zwolle, 8031 HL, Bachlaan 158-162 | I38: =D38*80 -> 80
A39: Zuivelrijck koffiemelkcup | B39: Doos a 200 stuks | C39: 600417 | D39: 5 | E39: Openbaar Onderwijs Zwolle en Regio | F39: OBS De Toonladder | G39: Zwolle, 8031 HL, Bachlaan 158-162
A40: Totaal | D40: =SUM(D3:D39) -> 169 | H40: =SUM(H4:H39) -> 10400 | I40: =SUM(I21:I39) -> 4720
A42: Machine park
A43: Nr. | B43: Omschrijving | C43: Serienummer | E43: Klantnr. | F43: Verzendcode | G43: Begindatum | H43: Einddatum
A44: SARTNR013247 | B44: Animo MT100 zwart | C44: 2JF47901 | D44: Koop | E44: 105334 | F44: OBSTOONLAD | G44: 44873 | H44: 46698
A45: SARTNR013248 | B45: Animo MT100 zwart | C45: 2JF47916 | D45: Koop | E45: 105334 | F45: OBSTOONLAD | G45: 44873 | H45: 46698

Sheet Cappellenborg
A1: Koffie en pakket afname periode 01-01-2023 - 01-12-2023
A2: Omschrijving | B2: Eenheid | C2: Itemnr | D2: Afzet | E2: Klanten | F2: Adresnamen | G2: Adres | H2: Aantal drinks koffie | I2: Aantal drinks thee
A3: 1899 Choco mix 1000gr | B3: Stuk | C3: 472341 | D3: 24 | E3: Openbaar Onderwijs Zwolle en Regio | F3: De Capellenborg | G3: Wijhe, 8131 DP, De Lange Slagen 29a
A4: 1899 Espresso Medium Roast FT 1kg | B4: Zak | C4: 471391 | D4: 130 | E4: Openbaar Onderwijs Zwolle en Regio | F4: De Capellenborg | G4: Wijhe, 8131 DP, De Lange Slagen 29a | H4: =D4*125 -> 16250
A5: 1899 Cappuccino topping 750gr | B5: Stuk | C5: 472340 | D5: 52 | E5: Openbaar Onderwijs Zwolle en Regio | F5: De Capellenborg | G5: Wijhe, 8131 DP, De Lange Slagen 29a
A6: Drinkbeker helder 200cc | B6: Doos a 3000 stuks | C6: 367933 | D6: 1 | E6: Openbaar Onderwijs Zwolle en Regio | F6: De Capellenborg | G6: Wijhe, 8131 DP, De Lange Slagen 29a
A7: Cup a Soup Vend.Champignon 40x | B7: Zak | C7: 321472 | D7: 14 | E7: Openbaar Onderwijs Zwolle en Regio | F7: De Capellenborg | G7: Wijhe, 8131 DP, De Lange Slagen 29a
A8: Cup a Soup Vending Kip 40x | B8: Zak | C8: 321473 | D8: 18 | E8: Openbaar Onderwijs Zwolle en Regio | F8: De Capellenborg | G8: Wijhe, 8131 DP, De Lange Slagen 29a
A9: Cup a Soup Vending Tomaat 40x | B9: Zak | C9: 321468 | D9: 10 | E9: Openbaar Onderwijs Zwolle en Regio | F9: De Capellenborg | G9: Wijhe, 8131 DP, De Lange Slagen 29a
A10: DE Medium roast vlb 1,25 ltr | B10: Tray a 2 stuks | C10: 181892 | D10: 1 | E10: Openbaar Onderwijs Zwolle en Regio | F10: De Capellenborg | G10: Wijhe, 8131 DP, De Lange Slagen 29a | H10: =D10*480 -> 480
A11: 1899 Beker 180ml | B11: Doos a 2500 stuks | C11: 100815 | D11: 2 | E11: Openbaar Onderwijs Zwolle en Regio | F11: De Capellenborg | G11: Wijhe, 8131 DP, De Lange Slagen 29a
A12: Totaal | D12: =SUM(D3:D11) -> 252 | H12: =SUM(H3:H11) -> 16730
A16: Machine park
A17: Nr. | B17: Omschrijving | C17: Serienummer | E17: Klantnr. | F17: Verzendcode | G17: Begindatum | H17: Einddatum
A18: SARTNR012430 | B18: Optibean 4 Touch | C18: 1IF32565 | D18: Koop | E18: 105334 | F18: CAPELLEN | G18: 44613 | H18: 46439

Sheet Montessori
A1: Koffie en pakket afname periode 01-01-2023 - 01-12-2023
A2: Omschrijving | B2: Eenheid | C2: Itemnr | D2: Afzet | E2: Klanten | F2: Adresnamen | G2: Adres | H2: Aantal drinks koffie | I2: Aantal drinks thee
A3: 1899 Choco mix 1000gr | B3: Stuk | C3: 472341 | D3: 18 | E3: Openbaar Onderwijs Zwolle en Regio | F3: Openbare Montessori basisschool | G3: Zwolle, 8017 BE, Energieweg 9
A4: 1899 Creamersticks dispenser 2,5 gram | B4: Doos a 500 stuks | C4: 100799 | D4: 1 | E4: Openbaar Onderwijs Zwolle en Regio | F4: Openbare Montessori basisschool | G4: Zwolle, 8017 BE, Energieweg 9
A5: 1899 Espresso Dark Roast FT 1kg | B5: Stuk | C5: 471400 | D5: 62 | E5: Openbaar Onderwijs Zwolle en Regio | F5: Openbare Montessori basisschool | G5: Zwolle, 8017 BE, Energieweg 9 | H5: =D5*125 -> 7750
A6: 1899 Melktopping 500 gram | B6: Zak | C6: 472440 | D6: 79 | E6: Openbaar Onderwijs Zwolle en Regio | F6: Openbare Montessori basisschool | G6: Zwolle, 8017 BE, Energieweg 9
A7: 1899 Suikersticks 4 gr. | B7: Doos a 1000 stuks | C7: 403458 | D7: 1 | E7: Openbaar Onderwijs Zwolle en Regio | F7: Openbare Montessori basisschool | G7: Zwolle, 8017 BE, Energieweg 9
A8: 1899 Suikersticks dispenser 4 gram | B8: Doos a 500 stuks | C8: 100798 | D8: 2 | E8: Openbaar Onderwijs Zwolle en Regio | F8: Openbare Montessori basisschool | G8: Zwolle, 8017 BE, Energieweg 9
A9: Animo Korffilters 250/90 | B9: Doos a 1000 stuks | C9: 296822 | D9: 1 | E9: Openbaar Onderwijs Zwolle en Regio | F9: Openbare Montessori basisschool | G9: Zwolle, 8017 BE, Energieweg 9
A10: Houten roerstaafje 110mm dispenserdoos | B10: Doos a 2000 stuks | C10: 367581 | D10: 1 | E10: Openbaar Onderwijs Zwolle en Regio | F10: Openbare Montessori basisschool | G10: Zwolle, 8017 BE, Energieweg 9
A11: Totaal | D11: =SUM(D3:D10) -> 165 | H11: =SUM(H5:H10) -> 7750
A13: Machine park
A14: Nr. | B14: Omschrijving | C14: Serienummer | E14: Klantnr. | F14: Verzendcode | G14: Begindatum | H14: Einddatum
A15: SARTNR011247 | B15: Animo Optibean 3 touch zwart | C15: 2SD59661 | D15: Koop | E15: 105334 | F15: OOZE9MONTE | G15: 44201 | H15: 46026

Sheet Markesteen
A1: Koffie en pakket afname periode 01-01-2023 - 01-12-2023
A2: Omschrijving | B2: Eenheid | C2: Itemnr | D2: Afzet | E2: Klanten | F2: Adresnamen | G2: Adres | H2: Aantal drinks koffie | I2: Aantal drinks thee
A3: 1899 Suikersticks dispenser 4 gram | B3: Doos a 500 stuks | C3: 100798 | D3: 2 | E3: Openbaar Onderwijs Zwolle en Regio | F3: De Markesteen | G3: Zwolle, 8016 AX, Gedeputeerdenlaan 49
A4: Brise Relaxing zen | B4: Fles | C4: 193818 | D4: 4 | E4: Openbaar Onderwijs Zwolle en Regio | F4: De Markesteen | G4: Zwolle, 8016 AX, Gedeputeerdenlaan 49
A5: Cup a Soup Champignon crème | B5: Pak a 21 stuks | C5: 407472 | D5: 1 | E5: Openbaar Onderwijs Zwolle en Regio | F5: De Markesteen | G5: Zwolle, 8016 AX, Gedeputeerdenlaan 49
A6: Cup a Soup Chinese Kip | B6: Pak a 21 stuks | C6: 321919 | D6: 1 | E6: Openbaar Onderwijs Zwolle en Regio | F6: De Markesteen | G6: Zwolle, 8016 AX, Gedeputeerdenlaan 49
A7: Cup a Soup Tomaten Creme | B7: Pak a 21 stuks | C7: 322578 | D7: 1 | E7: Openbaar Onderwijs Zwolle en Regio | F7: De Markesteen | G7: Zwolle, 8016 AX, Gedeputeerdenlaan 49
A8: DE Cacao Fantasy Blue 1x1000 g | B8: Zak | C8: 182006 | D8: 23 | E8: Openbaar Onderwijs Zwolle en Regio | F8: De Markesteen | G8: Zwolle, 8016 AX, Gedeputeerdenlaan 49
A9: DE classic 300 gr | B9: Zak | C9: 472368 | D9: 40 | E9: Openbaar Onderwijs Zwolle en Regio | F9: De Markesteen | G9: Zwolle, 8016 AX, Gedeputeerdenlaan 49 | H9: =D9*190 -> 7600
A10: DE Melkproduct v.d. koffie 1kg | B10: Zak | C10: 181180 | D10: 36 | E10: Openbaar Onderwijs Zwolle en Regio | F10: De Markesteen | G10: Zwolle, 8016 AX, Gedeputeerdenlaan 49
A11: Knorr Kip/Tuinkruid.Drinkb.80x | B11: Pak a 80 stuks | C11: 163174 | D11: 3 | E11: Openbaar Onderwijs Zwolle en Regio | F11: De Markesteen | G11: Zwolle, 8016 AX, Gedeputeerdenlaan 49
A12: Knorr Tomatendrinkbouillon | B12: Pak a 80 stuks | C12: 163170 | D12: 3 | E12: Openbaar Onderwijs Zwolle en Regio | F12: De Markesteen | G12: Zwolle, 8016 AX, Gedeputeerdenlaan 49
A13: Knorr Tuinkruiden Drinkb. | B13: Pak a 80 stuks | C13: 167926 | D13: 1 | E13: Openbaar Onderwijs Zwolle en Regio | F13: De Markesteen | G13: Zwolle, 8016 AX, Gedeputeerdenlaan 49
A14: Pickw Groen lemon Thee TFOC | B14: Doos a 100 stuks | C14: 181295 | D14: 1 | E14: Openbaar Onderwijs Zwolle en Regio | F14: De Markesteen | G14: Zwolle, 8016 AX, Gedeputeerdenlaan 49 | I14: =D14*100 -> 100
A15: Pickw Rooibos Thee TFOC | B15: Doos a 100 stuks | C15: 181296 | D15: 7 | E15: Openbaar Onderwijs Zwolle en Regio | F15: De Markesteen | G15: Zwolle, 8016 AX, Gedeputeerdenlaan 49 | I15: =D15*100 -> 700
A16: Pickw. Aardbei thee x25 | B16: Doos a 3 stuks | C16: 181319 | D16: 2 | E16: Openbaar Onderwijs Zwolle en Regio | F16: De Markesteen | G16: Zwolle, 8016 AX, Gedeputeerdenlaan 49 | I16: =D16*75 -> 150
A17: Pickw. bosvruchten TFOC | B17: Doos a 100 stuks | C17: 181352 | D17: 10 | E17: Openbaar Onderwijs Zwolle en Regio | F17: De Markesteen | G17: Zwolle, 8016 AX, Gedeputeerdenlaan 49 | I17: =D17*100 -> 1000
A18: Pickw. Citroen thee x25 | B18: Doos a 3 stuks | C18: 181320 | D18: 1 | E18: Openbaar Onderwijs Zwolle en Regio | F18: De Markesteen | G18: Zwolle, 8016 AX, Gedeputeerdenlaan 49 | I18: =D18*75 -> 75
A19: Pickw. Ginger lemon x25 | B19: Doos a 3 stuks | C19: 181354 | D19: 5 | E19: Openbaar Onderwijs Zwolle en Regio | F19: De Markesteen | G19: Zwolle, 8016 AX, Gedeputeerdenlaan 49 | I19: =D19*75 -> 375
A20: Pickw. Groen cranb. thee x25 | B20: Doos a 3 stuks | C20: 181323 | D20: 6 | E20: Openbaar Onderwijs Zwolle en Regio | F20: De Markesteen | G20: Zwolle, 8016 AX, Gedeputeerdenlaan 49 | I20: =D20*75 -> 450
A21: Pickw. Groen pure thee x25 | B21: Doos a 3 stuks | C21: 181324 | D21: 2 | E21: Openbaar Onderwijs Zwolle en Regio | F21: De Markesteen | G21: Zwolle, 8016 AX, Gedeputeerdenlaan 49 | I21: =D21*75 -> 150
A22: Pickw. Kaneel thee x25 | B22: Doos a 3 stuks | C22: 181335 | D22: 2 | E22: Openbaar Onderwijs Zwolle en Regio | F22: De Markesteen | G22: Zwolle, 8016 AX, Gedeputeerdenlaan 49 | I22: =D22*75 -> 150
A23: Pickw. Mango thee x25 | B23: Doos a 3 stuks | C23: 181321 | D23: 2 | E23: Openbaar Onderwijs Zwolle en Regio | F23: De Markesteen | G23: Zwolle, 8016 AX, Gedeputeerdenlaan 49 | I23: =D23*75 -> 150
A24: Pickw. Minty morocco x25 | B24: Doos a 3 stuks | C24: 181336 | D24: 2 | E24: Openbaar Onderwijs Zwolle en Regio | F24: De Markesteen | G24: Zwolle, 8016 AX, Gedeputeerdenlaan 49 | I24: =D24*75 -> 150
A25: Pickw. Sinaasappel thee x25 | B25: Doos a 3 stuks | C25: 181339 | D25: 5 | E25: Openbaar Onderwijs Zwolle en Regio | F25: De Markesteen | G25: Zwolle, 8016 AX, Gedeputeerdenlaan 49 | I25: =D25*75 -> 375
A26: Pickw. Sterrenmunt thee x25 | B26: Doos a 3 stuks | C26: 181317 | D26: 2 | E26: Openbaar Onderwijs Zwolle en Regio | F26: De Markesteen | G26: Zwolle, 8016 AX, Gedeputeerdenlaan 49 | I26: =D26*75 -> 150
A27: Pickw. Trop.vruchten thee x25 | B27: Doos a 3 stuks | C27: 181316 | D27: 1 | E27: Openbaar Onderwijs Zwolle en Regio | F27: De Markesteen | G27: Zwolle, 8016 AX, Gedeputeerdenlaan 49 | I27: =D27*75 -> 75
A28: Pickw. Wintergloed thee x25 | B28: Doos a 3 stuks | C28: 181343 | D28: 1 | E28: Openbaar Onderwijs Zwolle en Regio | F28: De Markesteen | G28: Zwolle, 8016 AX, Gedeputeerdenlaan 49 | I28: =D28*75 -> 75
A29: Pickw. Zoethout thee x25 | B29: Doos a 3 stuks | C29: 181322 | D29: 1 | E29: Openbaar Onderwijs Zwolle en Regio | F29: De Markesteen | G29: Zwolle, 8016 AX, Gedeputeerdenlaan 49 | I29: =D29*75 -> 75
A30: Pickwick Theezakjes 2gr | B30: Doos a 100 stuks | C30: 181331 | D30: 1 | E30: Openbaar Onderwijs Zwolle en Regio | F30: De Markesteen | G30: Zwolle, 8016 AX, Gedeputeerdenlaan 49 | I30: =D30*100 -> 100
A31: Totaal | D31: =SUM(D3:D30) -> 166 | H31: =SUM(H9:H30) -> 7600 | I31: =SUM(I14:I30) -> 4300
A33: Machine park
A34: Nr. | B34: Omschrijving | C34: Serienummer | E34: Klantnr. | F34: Verzendcode | G34: Begindatum | H34: Einddatum
A35: SARTNR011242 | B35: Animo Optivend 32s NG zw/gr | C35: 2WD61766 | D35: Koop | E35: 105334 | F35: MARKESTEEN | G35: 44200 | H35: 46025

Sheet Palet Ommen
A1: Koffie en pakket afname periode 01-01-2023 - 01-12-2023
A2: Omschrijving | B2: Eenheid | C2: Itemnr | D2: Afzet | E2: Klanten | F2: Adresnamen | G2: Adres | H2: Aantal drinks koffie | I2: Aantal drinks thee
A3: Cup a Soup Champignon crème | B3: Pak a 21 stuks | C3: 407472 | D3: 4 | E3: Openbaar Onderwijs Zwolle en Regio | F3: OBS Het Palet Ommen | G3: Ommen, 7731 HJ, Haarsweg 91
A4: Cup a Soup Chinese Tomaat | B4: Pak a 21 stuks | C4: 321928 | D4: 4 | E4: Openbaar Onderwijs Zwolle en Regio | F4: OBS Het Palet Ommen | G4: Ommen, 7731 HJ, Haarsweg 91
A5: Cup a Soup Groente | B5: Pak a 21 stuks | C5: 407456 | D5: 4 | E5: Openbaar Onderwijs Zwolle en Regio | F5: OBS Het Palet Ommen | G5: Ommen, 7731 HJ, Haarsweg 91
A6: Cup a Soup Kip | B6: Pak a 21 stuks | C6: 407503 | D6: 4 | E6: Openbaar Onderwijs Zwolle en Regio | F6: OBS Het Palet Ommen | G6: Ommen, 7731 HJ, Haarsweg 91
A7: Cup a Soup Mosterd Creme | B7: Pak a 21 stuks | C7: 322606 | D7: 4 | E7: Openbaar Onderwijs Zwolle en Regio | F7: OBS Het Palet Ommen | G7: Ommen, 7731 HJ, Haarsweg 91
A8: Cup a Soup Tomaat | B8: Pak a 21 stuks | C8: 407464 | D8: 4 | E8: Openbaar Onderwijs Zwolle en Regio | F8: OBS Het Palet Ommen | G8: Ommen, 7731 HJ, Haarsweg 91
A9: DE Aroma Rood SF 250 gr | B9: Krimp a 24 stuks | C9: 180313 | D9: 2 | E9: Openbaar Onderwijs Zwolle en Regio | F9: OBS Het Palet Ommen | G9: Ommen, 7731 HJ, Haarsweg 91 | H9: =D9*900 -> 1800
A10: DE Cacao Fantasy Blue 1x1000 g | B10: Zak | C10: 182006 | D10: 19 | E10: Openbaar Onderwijs Zwolle en Regio | F10: OBS Het Palet Ommen | G10: Ommen, 7731 HJ, Haarsweg 91
A11: DE Cafe Milc 6x0.75 liter | B11: Doos a 6 stuks | C11: 133001 | D11: 15 | E11: Openbaar Onderwijs Zwolle en Regio | F11: OBS Het Palet Ommen | G11: Ommen, 7731 HJ, Haarsweg 91
A12: DE Medium roast vlb 1,25 ltr | B12: Tray a 2 stuks | C12: 181892 | D12: 7 | E12: Openbaar Onderwijs Zwolle en Regio | F12: OBS Het Palet Ommen | G12: Ommen, 7731 HJ, Haarsweg 91 | H12: =D12*480 -> 3360
A13: Pickw Groen lemon Thee TFOC | B13: Doos a 100 stuks | C13: 181295 | D13: 7 | E13: Openbaar Onderwijs Zwolle en Regio | F13: OBS Het Palet Ommen | G13: Ommen, 7731 HJ, Haarsweg 91 | I13: =D13*100 -> 700
A14: Pickw Rooibos Thee TFOC | B14: Doos a 100 stuks | C14: 181296 | D14: 2 | E14: Openbaar Onderwijs Zwolle en Regio | F14: OBS Het Palet Ommen | G14: Ommen, 7731 HJ, Haarsweg 91 | I14: =D14*100 -> 200
A15: Pickw Thee Earl Grey 2gram env | B15: Doos a 100 stuks | C15: 181151 | D15: 4 | E15: Openbaar Onderwijs Zwolle en Regio | F15: OBS Het Palet Ommen | G15: Ommen, 7731 HJ, Haarsweg 91 | I15: =D15*100 -> 400
A16: Pickw. Aardbei thee x25 | B16: Doos a 3 stuks | C16: 181319 | D16: 7 | E16: Openbaar Onderwijs Zwolle en Regio | F16: OBS Het Palet Ommen | G16: Ommen, 7731 HJ, Haarsweg 91 | I16: =D16*75 -> 525
A17: Pickw. bosvruchten TFOC | B17: Doos a 100 stuks | C17: 181352 | D17: 1 | E17: Openbaar Onderwijs Zwolle en Regio | F17: OBS Het Palet Ommen | G17: Ommen, 7731 HJ, Haarsweg 91 | I17: =D17*100 -> 100
A18: Pickw. Bosvruchten thee x25 | B18: Doos a 3 stuks | C18: 181315 | D18: 8 | E18: Openbaar Onderwijs Zwolle en Regio | F18: OBS Het Palet Ommen | G18: Ommen, 7731 HJ, Haarsweg 91 | I18: =D18*75 -> 600
A19: Pickw. Earl grey thee x25 | B19: Doos a 3 stuks | C19: 181337 | D19: 1 | E19: Openbaar Onderwijs Zwolle en Regio | F19: OBS Het Palet Ommen | G19: Ommen, 7731 HJ, Haarsweg 91 | I19: =D19*75 -> 75
A20: Pickw. Groen cranb. thee x25 | B20: Doos a 3 stuks | C20: 181323 | D20: 4 | E20: Openbaar Onderwijs Zwolle en Regio | F20: OBS Het Palet Ommen | G20: Ommen, 7731 HJ, Haarsweg 91 | I20: =D20*75 -> 300
A21: Pickw. Groen pure thee x25 | B21: Doos a 3 stuks | C21: 181324 | D21: 4 | E21: Openbaar Onderwijs Zwolle en Regio | F21: OBS Het Palet Ommen | G21: Ommen, 7731 HJ, Haarsweg 91 | I21: =D21*75 -> 300
A22: Pickw. Mango thee x25 | B22: Doos a 3 stuks | C22: 181321 | D22: 3 | E22: Openbaar Onderwijs Zwolle en Regio | F22: OBS Het Palet Ommen | G22: Ommen, 7731 HJ, Haarsweg 91 | I22: =D22*75 -> 225
A23: Pickw. Rooibos thee x25 | B23: Doos a 3 stuks | C23: 181314 | D23: 5 | E23: Openbaar Onderwijs Zwolle en Regio | F23: OBS Het Palet Ommen | G23: Ommen, 7731 HJ, Haarsweg 91 | I23: =D23*75 -> 375
A24: Pickw. Sterrenmunt thee x25 | B24: Doos a 3 stuks | C24: 181317 | D24: 4 | E24: Openbaar Onderwijs Zwolle en Regio | F24: OBS Het Palet Ommen | G24: Ommen, 7731 HJ, Haarsweg 91 | I24: =D24*75 -> 300
A25: Suikertabletten 1 kg | B25: Krimp a 8 stuks | C25: 255144 | D25: 3 | E25: Openbaar Onderwijs Zwolle en Regio | F25: OBS Het Palet Ommen | G25: Ommen, 7731 HJ, Haarsweg 91
A26: Tea of Life English env 100s | B26: Doos | C26: 100648 | D26: 2 | E26: Openbaar Onderwijs Zwolle en Regio | F26: OBS Het Palet Ommen | G26: Ommen, 7731 HJ, Haarsweg 91
A27: Totaal | D27: =SUM(D3:D26) -> 122 | H27: =SUM(H12:H26) -> 3360 | I27: =SUM(I13:I26) -> 4100
A29: Machine park
A30: Nr. | B30: Omschrijving | C30: Serienummer | E30: Klantnr. | F30: Verzendcode | G30: Begindatum | H30: Einddatum
A31: SARTNR010111 | B31: Excellence Compact Touch insta | C31: 6198020100859 | D31: Koop | E31: 105334 | F31: PALETOMMEN | G31: 43724 | H31: 45550

Sheet Van Kinsbergen
A1: Koffie en pakket afname periode 01-01-2023 - 01-12-2023
A2: Omschrijving | B2: Eenheid | C2: Itemnr | D2: Afzet | E2: Klanten | F2: Adresnamen | G2: Adres | H2: Aantal drinks koffie | I2: Aantal drinks thee
A3: 1899 Suikersticks 4 gr. | B3: Doos a 1000 stuks | C3: 403458 | D3: 2 | E3: Van Kinsbergen college / OOZ | F3: Van Kinsbergen college / OOZ | G3: Elburg, 8081 TA, Paterijstraat 17
A4: DE Cacao Sticks 18,5gr | B4: Doos a 100 stuks | C4: 472598 | D4: 2 | E4: Van Kinsbergen college / OOZ | F4: Van Kinsbergen college / OOZ | G4: Elburg, 8081 TA, Paterijstraat 17
A5: DE Cafe Milc 2lt Bag I Box | B5: Pak | C5: 133000 | D5: 17 | E5: Van Kinsbergen college / OOZ | F5: Van Kinsbergen college / OOZ | G5: Elburg, 8081 TA, Paterijstraat 17
A6: DE Intense roast vlb 2 ltr | B6: Tray a 2 stuks | C6: 181897 | D6: 10 | E6: Van Kinsbergen college / OOZ | F6: Van Kinsbergen college / OOZ | G6: Elburg, 8081 TA, Paterijstraat 17 | H6: =D6*480 -> 4800
A7: Pickw Thee Tea For One 2 gr | B7: Doos a 100 stuks | C7: 181328 | D7: 1 | E7: Van Kinsbergen college / OOZ | F7: Van Kinsbergen college / OOZ | G7: Elburg, 8081 TA, Paterijstraat 17 | I7: =D7*100 -> 100
A8: Pickw. Minty morocco x25 | B8: Doos a 3 stuks | C8: 181336 | D8: 2 | E8: Van Kinsbergen college / OOZ | F8: Van Kinsbergen college / OOZ | G8: Elburg, 8081 TA, Paterijstraat 17 | I8: =D8*75 -> 150
A9: Pickw. Rooibos honing thee x25 | B9: Doos a 3 stuks | C9: 181318 | D9: 1 | E9: Van Kinsbergen college / OOZ | F9: Van Kinsbergen college / OOZ | G9: Elburg, 8081 TA, Paterijstraat 17 | I9: =D9*75 -> 75
A10: Pickw. Sterrenmunt thee x25 | B10: Doos a 3 stuks | C10: 181317 | D10: 1 | E10: Van Kinsbergen college / OOZ | F10: Van Kinsbergen college / OOZ | G10: Elburg, 8081 TA, Paterijstraat 17 | I10: =D10*75 -> 75
A11: Total | D11: =SUM(D3:D10) -> 36 | H11: =SUM(H6:H10) -> 4800 | I11: =SUM(I7:I10) -> 400
A14: Machine park
A15: Nr. | B15: Omschrijving | C15: Serienummer | E15: Klantnr. | F15: Verzendcode | G15: Begindatum | H15: Einddatum
A16: SARTNR011073 | B16: Cafitesse Excellence Touch 600 | C16: 64101502 | D16: Koop | E16: 107896 | F16: OOZKINSBEL | G16: 44097 | H16: 45922

Sheet Oosterenk
A1: Koffie en pakket afname periode 01-01-2023 - 01-12-2023
A2: Omschrijving | B2: Eenheid | C2: Itemnr | D2: Afzet | E2: Klanten | F2: Adresnamen | G2: Adres | H2: Aantal drinks koffie | I2: Aantal drinks thee
A3: 1899 Beker 180ml | B3: Doos a 2500 stuks | C3: 100815 | D3: 1 | E3: Openbaar Onderwijs Zwolle en Regio | F3: Oosterenk OOZ | G3: Zwolle, 8023 DJ, Herfterweg 1
A4: 1899 Cappuccino topping 750gr | B4: Stuk | C4: 472340 | D4: 46 | E4: Openbaar Onderwijs Zwolle en Regio | F4: Oosterenk OOZ | G4: Zwolle, 8023 DJ, Herfterweg 1
A5: 1899 Choco mix 1000gr | B5: Stuk | C5: 472341 | D5: 30 | E5: Openbaar Onderwijs Zwolle en Regio | F5: Oosterenk OOZ | G5: Zwolle, 8023 DJ, Herfterweg 1
A6: 1899 Creamersticks 2,5 gram | B6: Doos a 1000 stuks | C6: 403457 | D6: 1 | E6: Openbaar Onderwijs Zwolle en Regio | F6: Oosterenk OOZ | G6: Zwolle, 8023 DJ, Herfterweg 1
A7: 1899 Creamersticks dispenser 2,5 gram | B7: Doos a 500 stuks | C7: 100799 | D7: 1 | E7: Openbaar Onderwijs Zwolle en Regio | F7: Oosterenk OOZ | G7: Zwolle, 8023 DJ, Herfterweg 1
A8: 1899 Espresso Medium Roast FT 1kg | B8: Zak | C8: 471391 | D8: 50 | E8: Openbaar Onderwijs Zwolle en Regio | F8: Oosterenk OOZ | G8: Zwolle, 8023 DJ, Herfterweg 1 | H8: =D8*125 -> 6250
A9: 1899 Suikersticks 4 gr. | B9: Doos a 1000 stuks | C9: 403458 | D9: 1 | E9: Openbaar Onderwijs Zwolle en Regio | F9: Oosterenk OOZ | G9: Zwolle, 8023 DJ, Herfterweg 1
A10: Totaal | D10: =SUM(D3:D9) -> 130 | H10: =SUM(H8:H9) -> 6250
A12: Machine park
A13: Nr. | B13: Omschrijving | C13: Serienummer | E13: Klantnr. | F13: Verzendcode | G13: Begindatum | H13: Einddatum
A14: SARTNR011165 | B14: Sego 12 230V | C14: 20002169782 | D14: Koop | E14: 105334 | F14: OOSTERENK | G14: 44173 | H14: 45998

Sheet Werkschuit
A1: Koffie en pakket afname periode 01-01-2023 - 01-12-2023
A2: Omschrijving | B2: Eenheid | C2: Itemnr | D2: Afzet | E2: Klanten | F2: Adresnamen | G2: Adres | H2: Aantal drinks koffie | I2: Aantal drinks thee
A3: 1899 Cappuccino topping 750gr | B3: Stuk | C3: 472340 | D3: 50 | E3: Openbaar Onderwijs Zwolle en Regio | F3: IK De Werkschuit | G3: Zwolle, 8032 TK, Rijnlaan 200
A4: 1899 Choco mix 1000gr | B4: Stuk | C4: 472341 | D4: 33 | E4: Openbaar Onderwijs Zwolle en Regio | F4: IK De Werkschuit | G4: Zwolle, 8032 TK, Rijnlaan 200
A5: 1899 Espresso Dark Roast FT 1kg | B5: Stuk | C5: 471400 | D5: 5 | E5: Openbaar Onderwijs Zwolle en Regio | F5: IK De Werkschuit | G5: Zwolle, 8032 TK, Rijnlaan 200 | H5: =D5*125 -> 625
A6: 1899 Espresso Medium Roast FT 1kg | B6: Zak | C6: 471391 | D6: 25 | E6: Openbaar Onderwijs Zwolle en Regio | F6: IK De Werkschuit | G6: Zwolle, 8032 TK, Rijnlaan 200 | H6: =D6*125 -> 3125
A7: Suma café tabs C2.2 120pc | B7: Doos a 2 stuks | C7: 377007 | D7: 1 | E7: Openbaar Onderwijs Zwolle en Regio | F7: IK De Werkschuit | G7: Zwolle, 8032 TK, Rijnlaan 200
A8: Totaal | D8: =SUM(D3:D7) -> 114 | H8: =SUM(H5:H7) -> 3750
A10: Machine park
A11: Nr. | B11: Omschrijving | C11: Serienummer | E11: Klantnr. | F11: Verzendcode | G11: Begindatum | H11: Einddatum
A12: SARTNR009516 | B12: Sego 12 230V | C12: 20002005943 | D12: Koop | E12: 105334 | F12: WERKSCHUIT | G12: 44130 | H12: 45955

Sheet Tweemaster
A1: Koffie en pakket afname periode 01-01-2023 - 01-12-2023
A2: Omschrijving | B2: Eenheid | C2: Itemnr | D2: Afzet | E2: Klanten | F2: Adresnamen | G2: Adres | H2: Aantal drinks koffie | I2: Aantal drinks thee
A3: 1899 Cappuccino topping 750gr | B3: Doos a 10 stuks | C3: 472340 | D3: 41 | E3: OBS de Tweemaster | F3: OBS de Tweemaster | G3: Nieuwleusen, 7711 KK, Kon. Julianalaan 36
A4: 1899 Choco mix 1000gr | B4: Doos a 10 stuks | C4: 472341 | D4: 21 | E4: OBS de Tweemaster | F4: OBS de Tweemaster | G4: Nieuwleusen, 7711 KK, Kon. Julianalaan 36
A5: 1899 Espresso Medium Roast FT 1kg | B5: Doos a 6 stuks | C5: 471391 | D5: 19 | E5: OBS de Tweemaster | F5: OBS de Tweemaster | G5: Nieuwleusen, 7711 KK, Kon. Julianalaan 36 | H5: =D5*125 -> 2375
A6: Reinigingstabletten Neodisher CM 100 stuks | B6: Pot | C6: 471276 | D6: 1 | E6: OBS de Tweemaster | F6: OBS de Tweemaster | G6: Nieuwleusen, 7711 KK, Kon. Julianalaan 36
A7: Tea of Life Assortibox FT 120x2gr | B7: Doos | C7: 472868 | D7: 21 | E7: OBS de Tweemaster | F7: OBS de Tweemaster | G7: Nieuwleusen, 7711 KK, Kon. Julianalaan 36 | I7: =D7*120 -> 2520
A8: Tea of Life Fruitmix 4sm 20x2g | B8: Doos a 4 stuks | C8: 100652 | D8: 2 | E8: OBS de Tweemaster | F8: OBS de Tweemaster | G8: Nieuwleusen, 7711 KK, Kon. Julianalaan 36 | I8: =D8*80 -> 160
A9: Tea of Life Gr.teamix 20x1,75g | B9: Doos a 4 stuks | C9: 100654 | D9: 2 | E9: OBS de Tweemaster | F9: OBS de Tweemaster | G9: Nieuwleusen, 7711 KK, Kon. Julianalaan 36 | I9: =D9*80 -> 160
A10: Total | D10: =SUM(D3:D9) -> 107 | H10: =SUM(H5:H9) -> 2375 | I10: =SUM(I7:I9) -> 2840
A13: Machine park
A14: Nr. | B14: Omschrijving | C14: Serienummer | E14: Klantnr. | F14: Verzendcode | G14: Begindatum | H14: Einddatum
A15: SARTNR011542 | B15: Animo Optime 12 | C15: 1OE07271 | D15: Koop | E15: 107807 | F15: TWEEM36NL | G15: 44389 | H15: 46214

Sheet Campherbeek
A1: Koffie en pakket afname periode 01-01-2023 - 01-12-2023
A2: Omschrijving | B2: Eenheid | C2: Itemnr | D2: Afzet | E2: Klanten | F2: Adresnamen | G2: Adres | H2: Aantal drinks koffie | I2: Aantal drinks thee
A3: 1899 Beker 180ml | B3: Doos a 2500 stuks | C3: 100815 | D3: 2 | E3: Openbaar Onderwijs Zwolle en Regio | F3: De Campherbeek | G3: Zwolle, 8024 XM, Grotiuslaan 33
A4: 1899 Cappuccino topping 750gr | B4: Stuk | C4: 472340 | D4: 10 | E4: Openbaar Onderwijs Zwolle en Regio | F4: De Campherbeek | G4: Zwolle, 8024 XM, Grotiuslaan 33
A5: Cup a Soep Held.Kr.Kip 175 ml | B5: Pak a 26 stuks | C5: 321482 | D5: 1 | E5: Openbaar Onderwijs Zwolle en Regio | F5: De Campherbeek | G5: Zwolle, 8024 XM, Grotiuslaan 33
A6: Cup a Soup Tomaat | B6: Pak a 21 stuks | C6: 407464 | D6: 1 | E6: Openbaar Onderwijs Zwolle en Regio | F6: De Campherbeek | G6: Zwolle, 8024 XM, Grotiuslaan 33
A7: DE Cacao Fantasy Blue 1x1000 g | B7: Zak | C7: 182006 | D7: 10 | E7: Openbaar Onderwijs Zwolle en Regio | F7: De Campherbeek | G7: Zwolle, 8024 XM, Grotiuslaan 33
A8: DE classic 300 gr | B8: Zak | C8: 472368 | D8: 10 | E8: Openbaar Onderwijs Zwolle en Regio | F8: De Campherbeek | G8: Zwolle, 8024 XM, Grotiuslaan 33 | H8: =D8*190 -> 1900
A9: DE Melkproduct v.d. koffie 1kg | B9: Zak | C9: 181180 | D9: 10 | E9: Openbaar Onderwijs Zwolle en Regio | F9: De Campherbeek | G9: Zwolle, 8024 XM, Grotiuslaan 33
A10: Dreft afwas original 325ml | B10: Doos a 10 stuks | C10: 320229 | D10: 1 | E10: Openbaar Onderwijs Zwolle en Regio | F10: De Campherbeek | G10: Zwolle, 8024 XM, Grotiuslaan 33
A11: Fv Goudband Cups 7 ml | B11: Doos a 200 stuks | C11: 604150 | D11: 2 | E11: Openbaar Onderwijs Zwolle en Regio | F11: De Campherbeek | G11: Zwolle, 8024 XM, Grotiuslaan 33
A12: Houten roerstaafje 110mm dispenserdoos | B12: Doos a 2000 stuks | C12: 367581 | D12: 1 | E12: Openbaar Onderwijs Zwolle en Regio | F12: De Campherbeek | G12: Zwolle, 8024 XM, Grotiuslaan 33
A13: Pickw Rooibos Thee TFOC | B13: Doos a 100 stuks | C13: 181296 | D13: 2 | E13: Openbaar Onderwijs Zwolle en Regio | F13: De Campherbeek | G13: Zwolle, 8024 XM, Grotiuslaan 33
A14: 1899 Choco mix 1000gr | B14: Stuk | C14: 472341 | D14: 10 | E14: Openbaar Onderwijs Zwolle en Regio | F14: De Campherbeek | G14: Zwolle, 8024 XM, Grotiuslaan 33
A15: 1899 Espresso Ambachtelijk Med.Roast 1kg | B15: Zak | C15: 472197 | D15: 6 | E15: Openbaar Onderwijs Zwolle en Regio | F15: De Campherbeek | G15: Zwolle, 8024 XM, Grotiuslaan 33 | H15: =D15*125 -> 750
A16: 1899 Espresso Dark Roast FT 1kg | B16: Stuk | C16: 471400 | D16: 10 | E16: Openbaar Onderwijs Zwolle en Regio | F16: De Campherbeek | G16: Zwolle, 8024 XM, Grotiuslaan 33 | H16: =D16*125 -> 1250
A17: 1899 Melktopping 500 gram | B17: Zak | C17: 472440 | D17: 10 | E17: Openbaar Onderwijs Zwolle en Regio | F17: De Campherbeek | G17: Zwolle, 8024 XM, Grotiuslaan 33
A18: 1899 Snelfiltermaling Ambachtelijk 1kg | B18: Doos a 6 stuks | C18: 472847 | D18: 1 | E18: Openbaar Onderwijs Zwolle en Regio | F18: De Campherbeek | G18: Zwolle, 8024 XM, Grotiuslaan 33 | H18: =D18*900 -> 900
A19: Animo Korffilters 250/90 | B19: Doos a 1000 stuks | C19: 296822 | D19: 1 | E19: Openbaar Onderwijs Zwolle en Regio | F19: De Campherbeek | G19: Zwolle, 8024 XM, Grotiuslaan 33
A20: Cup a Soup Champignon crème | B20: Pak a 21 stuks | C20: 407472 | D20: 1 | E20: Openbaar Onderwijs Zwolle en Regio | F20: De Campherbeek | G20: Zwolle, 8024 XM, Grotiuslaan 33
A21: Cup a Soup Chinese Kip | B21: Pak a 21 stuks | C21: 321919 | D21: 1 | E21: Openbaar Onderwijs Zwolle en Regio | F21: De Campherbeek | G21: Zwolle, 8024 XM, Grotiuslaan 33
A22: Cup a Soup Kip | B22: Pak a 21 stuks | C22: 407503 | D22: 1 | E22: Openbaar Onderwijs Zwolle en Regio | F22: De Campherbeek | G22: Zwolle, 8024 XM, Grotiuslaan 33
A23: Cup a Soup Rundvlees | B23: Pak a 21 stuks | C23: 407511 | D23: 1 | E23: Openbaar Onderwijs Zwolle en Regio | F23: De Campherbeek | G23: Zwolle, 8024 XM, Grotiuslaan 33
A24: Cup a Soup Tomaten Creme | B24: Pak a 21 stuks | C24: 322578 | D24: 1 | E24: Openbaar Onderwijs Zwolle en Regio | F24: De Campherbeek | G24: Zwolle, 8024 XM, Grotiuslaan 33
A25: Koffieaansl.Opl.Mid.Animo 1 Kg | B25: BUS | C25: 131571 | D25: 1 | E25: Openbaar Onderwijs Zwolle en Regio | F25: De Campherbeek | G25: Zwolle, 8024 XM, Grotiuslaan 33
A26: Pickw Groen lemon Thee TFOC | B26: Doos a 100 stuks | C26: 181295 | D26: 2 | E26: Openbaar Onderwijs Zwolle en Regio | F26: De Campherbeek | G26: Zwolle, 8024 XM, Grotiuslaan 33 | I26: =D26*100 -> 200
A27: Pickw Rooibos Thee TFOC | B27: Doos a 100 stuks | C27: 181296 | D27: 3 | E27: Openbaar Onderwijs Zwolle en Regio | F27: De Campherbeek | G27: Zwolle, 8024 XM, Grotiuslaan 33 | I27: =D27*100 -> 300
A28: Pickw Thee Earl Grey 2gram env | B28: Doos a 100 stuks | C28: 181151 | D28: 4 | E28: Openbaar Onderwijs Zwolle en Regio | F28: De Campherbeek | G28: Zwolle, 8024 XM, Grotiuslaan 33 | I28: =D28*100 -> 400
A29: Pickw. bosvruchten TFOC | B29: Doos a 100 stuks | C29: 181352 | D29: 3 | E29: Openbaar Onderwijs Zwolle en Regio | F29: De Campherbeek | G29: Zwolle, 8024 XM, Grotiuslaan 33 | I29: =D29*100 -> 300
A30: Pickw. Ginger lemon x25 | B30: Doos a 3 stuks | C30: 181354 | D30: 3 | E30: Openbaar Onderwijs Zwolle en Regio | F30: De Campherbeek | G30: Zwolle, 8024 XM, Grotiuslaan 33 | I30: =D30*75 -> 225
A31: Pickw. Wintergloed thee x25 | B31: Doos a 3 stuks | C31: 181343 | D31: 1 | E31: Openbaar Onderwijs Zwolle en Regio | F31: De Campherbeek | G31: Zwolle, 8024 XM, Grotiuslaan 33 | I31: =D31*75 -> 75
A32: Reinigingstabletten Neodisher CM 100 stuks | B32: Pot | C32: 471276 | D32: 1 | E32: Openbaar Onderwijs Zwolle en Regio | F32: De Campherbeek | G32: Zwolle, 8024 XM, Grotiuslaan 33
A33: Sun prof.tablets All in 1 200x | B33: Emmer | C33: 377267 | D33: 1 | E33: Openbaar Onderwijs Zwolle en Regio | F33: De Campherbeek | G33: Zwolle, 8024 XM, Grotiuslaan 33
A34: Totaal | D34: =SUM(D3:D33) -> 112 | H34: =SUM(H7:H19) -> 4800 | I34: =SUM(I3:I33) -> 1500
A36: Machine park
A37: Nr. | B37: Omschrijving | C37: Serienummer | E37: Klantnr. | F37: Verzendcode | G37: Begindatum | H37: Einddatum
A38: SARTNR014055 | B38: Espresso Sego 12 | C38: 20002416885 | D38: Koop | E38: 112911 | F38: DE CAMPHER | G38: 45229 | H38: 47055
B39: OptiBean X 12 TS ( geplande plaatsing) | D39: Koop | E39: 112911 | F39: DE CAMPHER

Sheet Vlonder
A1: Koffie en pakket afname periode 01-01-2023 - 01-12-2023
A2: Omschrijving | B2: Eenheid | C2: Itemnr | D2: Afzet | E2: Klanten | F2: Adresnamen | G2: Adres | H2: Aantal drinks koffie | I2: Aantal drinks thee
A3: DE Cacao Fantasy Blue 1x1000 g | B3: Zak | C3: 182006 | D3: 16 | E3: Openbaar Onderwijs Zwolle en Regio | F3: OBS de Vlonder | G3: Hattem, 8051 KV, De Meenthe 26
A4: DE Cafe Milc 6x0.75 liter | B4: Doos a 6 stuks | C4: 133001 | D4: 10 | E4: Openbaar Onderwijs Zwolle en Regio | F4: OBS de Vlonder | G4: Hattem, 8051 KV, De Meenthe 26
A5: DE Medium roast vlb 1,25 ltr | B5: Tray a 2 stuks | C5: 181892 | D5: 11 | E5: Openbaar Onderwijs Zwolle en Regio | F5: OBS de Vlonder | G5: Hattem, 8051 KV, De Meenthe 26 | H5: =D5*480 -> 5280
A6: Totaal | D6: =SUM(D3:D5) -> 37 | H6: =SUM(H5:H5) -> 5280
A9: Machine park
A10: Nr. | B10: Omschrijving | C10: Serienummer | E10: Klantnr. | F10: Verzendcode | G10: Begindatum | H10: Einddatum
A11: SARTNR010871 | B11: Excellence Compact Touch insta | C11: 2208020101842 | D11: Koop | E11: 105334 | F11: VLONDER | G11: 44027 | H11: 45852

Sheet Nieuwebrug
A1: Koffie en pakket afname periode 01-01-2023 - 01-12-2023
A2: Omschrijving | B2: Eenheid | C2: Itemnr | D2: Afzet | E2: Klanten | F2: Adresnamen | G2: Adres | H2: Aantal drinks koffie | I2: Aantal drinks thee
A3: Cup a Soup Tomaat | B3: Pak a 21 stuks | C3: 407464 | D3: 3 | E3: Openbaar Onderwijs Zwolle en Regio | F3: OBS Nieuwebrug | G3: Ommen, 7731 PS, Barkeweg 3
A4: DE Cacao Fantasy Blue 1x1000 g | B4: Zak | C4: 182006 | D4: 2 | E4: Openbaar Onderwijs Zwolle en Regio | F4: OBS Nieuwebrug | G4: Ommen, 7731 PS, Barkeweg 3
A5: DE Cafe Milc 6x0.75 liter | B5: Doos a 6 stuks | C5: 133001 | D5: 7 | E5: Openbaar Onderwijs Zwolle en Regio | F5: OBS Nieuwebrug | G5: Ommen, 7731 PS, Barkeweg 3
A6: DE Medium roast vlb 1,25 ltr | B6: Tray a 2 stuks | C6: 181892 | D6: 7 | E6: Openbaar Onderwijs Zwolle en Regio | F6: OBS Nieuwebrug | G6: Ommen, 7731 PS, Barkeweg 3 | H6: =D6*480 -> 3360
A7: Knorr Kip/Tuinkruid.Drinkb.80x | B7: Pak a 80 stuks | C7: 163174 | D7: 1 | E7: Openbaar Onderwijs Zwolle en Regio | F7: OBS Nieuwebrug | G7: Ommen, 7731 PS, Barkeweg 3
A8: Knorr Tuinkruiden Drinkb. | B8: Pak a 80 stuks | C8: 167926 | D8: 2 | E8: Openbaar Onderwijs Zwolle en Regio | F8: OBS Nieuwebrug | G8: Ommen, 7731 PS, Barkeweg 3
A9: Natrena Zoetjes | B9: Doos a 400 stuks | C9: 124818 | D9: 1 | E9: Openbaar Onderwijs Zwolle en Regio | F9: OBS Nieuwebrug | G9: Ommen, 7731 PS, Barkeweg 3
A10: Pickw Rooibos Thee TFOC | B10: Doos a 100 stuks | C10: 181296 | D10: 1 | E10: Openbaar Onderwijs Zwolle en Regio | F10: OBS Nieuwebrug | G10: Ommen, 7731 PS, Barkeweg 3 | I10: =D10*100 -> 100
A11: Pickw Thee Earl Grey 2gram env | B11: Doos a 100 stuks | C11: 181151 | D11: 6 | E11: Openbaar Onderwijs Zwolle en Regio | F11: OBS Nieuwebrug | G11: Ommen, 7731 PS, Barkeweg 3 | I11: =D11*100 -> 600
A12: Pickw. Aardbei thee x25 | B12: Doos a 3 stuks | C12: 181319 | D12: 2 | E12: Openbaar Onderwijs Zwolle en Regio | F12: OBS Nieuwebrug | G12: Ommen, 7731 PS, Barkeweg 3 | I12: =D12*75 -> 150
A13: Pickw. bosvruchten TFOC | B13: Doos a 100 stuks | C13: 181352 | D13: 2 | E13: Openbaar Onderwijs Zwolle en Regio | F13: OBS Nieuwebrug | G13: Ommen, 7731 PS, Barkeweg 3 | I13: =D13*75 -> 150
A14: Pickw. Ginger lemon x25 | B14: Doos a 3 stuks | C14: 181354 | D14: 2 | E14: Openbaar Onderwijs Zwolle en Regio | F14: OBS Nieuwebrug | G14: Ommen, 7731 PS, Barkeweg 3 | I14: =D14*75 -> 150
A15: Pickw. Groen pure thee x25 | B15: Doos a 3 stuks | C15: 181324 | D15: 1 | E15: Openbaar Onderwijs Zwolle en Regio | F15: OBS Nieuwebrug | G15: Ommen, 7731 PS, Barkeweg 3 | I15: =D15*75 -> 75
A16: Pickw. Mango thee x25 | B16: Doos a 3 stuks | C16: 181321 | D16: 3 | E16: Openbaar Onderwijs Zwolle en Regio | F16: OBS Nieuwebrug | G16: Ommen, 7731 PS, Barkeweg 3 | I16: =D16*75 -> 225
A17: Pickw. Rooibos honing thee x25 | B17: Doos a 3 stuks | C17: 181318 | D17: 3 | E17: Openbaar Onderwijs Zwolle en Regio | F17: OBS Nieuwebrug | G17: Ommen, 7731 PS, Barkeweg 3 | I17: =D17*75 -> 225
A18: Suikertabletten 1 kg | B18: Krimp a 8 stuks | C18: 255144 | D18: 1 | E18: Openbaar Onderwijs Zwolle en Regio | F18: OBS Nieuwebrug | G18: Ommen, 7731 PS, Barkeweg 3
A19: Tea of Life English env 100s | B19: Doos | C19: 100648 | D19: 1 | E19: Openbaar Onderwijs Zwolle en Regio | F19: OBS Nieuwebrug | G19: Ommen, 7731 PS, Barkeweg 3
A20: Totaal | D20: =SUM(D3:D19) -> 45 | H20: =SUM(H6:H19) -> 3360 | I20: =SUM(I10:I19) -> 1675
A22: Machine park
A23: Nr. | B23: Omschrijving | C23: Serienummer | E23: Klantnr. | F23: Verzendcode | G23: Begindatum | H23: Einddatum
A24: SARTNR009557 | B24: Caf Excellence Comp V/ Keuken | C24: 11181020113781 | D24: Koop | E24: 105334 | F24: BARKEWEG | G24: 43535 | H24: 45332

Sheet Wieden
A1: Koffie en pakket afname periode 01-01-2023 - 01-12-2023
A2: Omschrijving | B2: Eenheid | C2: Itemnr | D2: Afzet | E2: Klanten | F2: Adresnamen | G2: Adres | H2: Aantal drinks koffie | I2: Aantal drinks thee
A3: 1899 Cappuccino topping 750gr | B3: Stuk | C3: 472340 | D3: 40 | E3: Openbaar Onderwijs Zwolle en Regio | F3: IKC De Wieden | G3: Zwolle, 8033 CS, Beulakerwiede 4
A4: 1899 Choco mix 1000gr | B4: Stuk | C4: 472341 | D4: 10 | E4: Openbaar Onderwijs Zwolle en Regio | F4: IKC De Wieden | G4: Zwolle, 8033 CS, Beulakerwiede 4
A5: 1899 Espresso Medium Roast FT 1kg | B5: Zak | C5: 471391 | D5: 18 | E5: Openbaar Onderwijs Zwolle en Regio | F5: IKC De Wieden | G5: Zwolle, 8033 CS, Beulakerwiede 4 | H5: =D5*125 -> 2250
A6: Suma café tabs C2.2 120pc | B6: Doos a 2 stuks | C6: 377007 | D6: 2 | E6: Openbaar Onderwijs Zwolle en Regio | F6: IKC De Wieden | G6: Zwolle, 8033 CS, Beulakerwiede 4
A7: Totaal | D7: =SUM(D3:D6) -> 70 | H7: =SUM(H5:H6) -> 2250
A10: Machine park
A11: Nr. | B11: Omschrijving | C11: Serienummer | E11: Klantnr. | F11: Verzendcode | G11: Begindatum | H11: Einddatum
A12: SARTNR010287 | B12: Sego 12 230V | C12: 20001932183 | D12: Koop | E12: 105334 | F12: WIEDEN | G12: 43789 | H12: 45615

Sheet IJsselhof
A1: Koffie en pakket afname periode 01-01-2023 - 01-12-2023
A2: Omschrijving | B2: Eenheid | C2: Itemnr | D2: Afzet | E2: Klanten | F2: Adresnamen | G2: Adres | H2: Aantal drinks koffie | I2: Aantal drinks thee
A3: DE Cacao Fantasy Blue 1x1000 g | B3: Zak | C3: 182006 | D3: 12 | E3: Openbaar Onderwijs Zwolle en Regio | F3: De Ijsselhof | G3: Zwolle, 8015 BX, Staatssecretarislaan 10
A4: DE Mel.Rood Filter 1000 gr | B4: Krimp a 6 stuks | C4: 181572 | D4: 2 | E4: Openbaar Onderwijs Zwolle en Regio | F4: De Ijsselhof | G4: Zwolle, 8015 BX, Staatssecretarislaan 10 | H4: =D4*750 -> 1500
A5: DE Melkproduct v.d. koffie 1kg | B5: Zak | C5: 181180 | D5: 24 | E5: Openbaar Onderwijs Zwolle en Regio | F5: De Ijsselhof | G5: Zwolle, 8015 BX, Staatssecretarislaan 10
A6: Pickw Groen lemon Thee TFOC | B6: Doos a 100 stuks | C6: 181295 | D6: 2 | E6: Openbaar Onderwijs Zwolle en Regio | F6: De Ijsselhof | G6: Zwolle, 8015 BX, Staatssecretarislaan 10 | I6: =D6*100 -> 200
A7: Pickw Rooibos Thee TFOC | B7: Doos a 100 stuks | C7: 181296 | D7: 5 | E7: Openbaar Onderwijs Zwolle en Regio | F7: De Ijsselhof | G7: Zwolle, 8015 BX, Staatssecretarislaan 10 | I7: =D7*100 -> 500
A8: Pickw. bosvruchten TFOC | B8: Doos a 100 stuks | C8: 181352 | D8: 2 | E8: Openbaar Onderwijs Zwolle en Regio | F8: De Ijsselhof | G8: Zwolle, 8015 BX, Staatssecretarislaan 10 | I8: =D8*100 -> 200
A9: Pickw. Bosvruchten thee x25 | B9: Doos a 3 stuks | C9: 181315 | D9: 2 | E9: Openbaar Onderwijs Zwolle en Regio | F9: De Ijsselhof | G9: Zwolle, 8015 BX, Staatssecretarislaan 10 | I9: =D8*75 -> 150
A10: Pickw. Citroen thee x25 | B10: Doos a 3 stuks | C10: 181320 | D10: 2 | E10: Openbaar Onderwijs Zwolle en Regio | F10: De Ijsselhof | G10: Zwolle, 8015 BX, Staatssecretarislaan 10 | I10: =D9*75 -> 150
A11: Pickw. Trop.vruchten thee x25 | B11: Doos a 3 stuks | C11: 181316 | D11: 6 | E11: Openbaar Onderwijs Zwolle en Regio | F11: De Ijsselhof | G11: Zwolle, 8015 BX, Staatssecretarislaan 10 | I11: =D10*75 -> 150
A12: Pickw. Wintergloed thee x25 | B12: Doos a 3 stuks | C12: 181343 | D12: 6 | E12: Openbaar Onderwijs Zwolle en Regio | F12: De Ijsselhof | G12: Zwolle, 8015 BX, Staatssecretarislaan 10 | I12: =D11*75 -> 450
A13: Pickwick Theezakje 4 gr | B13: Doos a 100 stuks | C13: 181351 | D13: 5 | E13: Openbaar Onderwijs Zwolle en Regio | F13: De Ijsselhof | G13: Zwolle, 8015 BX, Staatssecretarislaan 10 | I13: =D13*100 -> 500
A14: Pickwick Theezakjes 2gr | B14: Doos a 100 stuks | C14: 181331 | D14: 4 | E14: Openbaar Onderwijs Zwolle en Regio | F14: De Ijsselhof | G14: Zwolle, 8015 BX, Staatssecretarislaan 10 | I14: =D14*100 -> 400
A15: Totaal | D15: =SUM(D3:D14) -> 72 | H15: =SUM(H4:H14) -> 1500 | I15: =SUM(I6:I14) -> 2700
A18: Machine park
A19: Nr. | B19: Omschrijving | C19: Serienummer | E19: Klantnr. | F19: Verzendcode | G19: Begindatum | H19: Einddatum
A20: SARTNR004042 | B20: Gallery 220 | C20: 42511285 | D20: Koop | E20: 105334 | F20: IJSSELHOF | G20: 21-03-20014 | H20: 43544

Sheet Scholen niet Feyen
A2: Locaties VO | C2: Type koffieapparaat | D2: datum investering | E2: service afpraak en levering | F2: Huur | G2: Verbruik vergelijken met
A3: Lassus Campus | B3: Lassuslaan 232 | C3: EP Jura koffieautomaat overname 10-14 | D3: 42947 | E3: n.v.t | F3: n.v.t. | G3: 120 FTe
A4: Lassus Campus | B4: Lassuslaan 232 | C4: Selecta Ferrara koffiemachine | D4: 43551 | E4: 27-3-2025, ozt 3 mnd | F4: n.v.t. | G4: 120 FTe
A5: Lassus Campus | B5: Lassuslaan 232 | C5: Selecta Ferrara koffiemachine | D5: 43551 | E5: 27-3-2025, ozt 3 mnd | F5: n.v.t | G5: 120 FTe
A6: Lassus Campus | B6: Lassuslaan 232 | C6: Kali koffiemachine | D6: 43983 | E6: 4-6-2025, ozt 3 mnd | F6: n.v.t | G6: 120 FTe
A7: Zeven Linden College | B7: Langewijk 166 Dedemsvaart | C7: CF 3145 HB Double T | D7: n.v.t. | E7: x | F7: 31-12-2024 vlgs alg voorw ozt 1 maand steeds verlenging 1 jaar. | G7: 54 FTe
A8: Celeanum locatie de Zoom | B8: De Zoom 37 Zwolle | C8: Espresso Omni 9100 | D8: n.v.t. | E8: x | F8: x | G8: 59 FTe
A9: Celeanum dependance locatie Westerlaan 40 | B9: Westerlaan 40 Zwolle | C9: Barista One instant via Douwe Egberts | D9: n.v.t. | E9: x | F9: x | G9: 59 FTe
A12: Locaties PO | C12: Type koffieapparaat | D12: datum investering | E12: service afpraak en levering | F12: Huur | G12: Verbruik vergelijken met
A13: Florens Radewijnsschool | B13: Geert Grooteweg 23-25 Windesheim | C13: Filtermaling | D13: niet meer te reproduceren | E13: n.v.t. | F13: n.v.t. | G13: 4 FTe
A14: Heidepark | B14: Dr. Vogelaarstraat 22 Lemerveld | C14: Passio S 3-K via Fortune coffee | D14: 43491 | E14: n.v.t | F14: geen huur ovk. Apparaat is gekocht. | G14: 8 FTe
A15: Palet Hattem | B15: Dorpsweg 33 Hattem | C15: Excellence compact Touch | D15: 44105 | E15: geen leveringsgegevens bekend | F15: n.v.t. | G15: 17 FTe
A16: Schatkamer, de | B16: Wildwalstraat 38 Zwolle | C16: Filtermaling | D16: niet bekend | E16: n.v.t. | F16: n.v.t. | G16: 16 FTe
A17: Springplank, de | B17: Beukenstraat 83 Zwolle | C17: Filtermaling | D17: niet bekend | E17: n.v.t. | F17: n.v.t. | G17: 13 FTe
A18: TrioMundo | B18: Muurmeesterstraat 27 Zwolle | C18: Jura | D18: niet bekend | E18: n.v.t vulling schaft de school zelf aan | F18: n.v.t. | G18: 8 FTe
