Workbook

Sheet Bestandoverzicht samengevoegd
B3: Bestandsgegevens 31 oktober 2024
B5: Gemeenten Bunnik, De Bilt, Utrechtse Heuvelrug, Wijk bij Duurstede en Zeist - Medipoint
B8: Categorie | D8: Uitstaand bij klanten | F8: Leveringen vanaf 1 november 2023 t/m 31 oktober 2024 | H8: Innames vanaf 1 november 2023 t/m 31 oktober 2024
D9: 45230 | E9: 45596 | F9: Nieuw | G9: Herverstrekking | H9: Inname
B10: Categorie 1 | C10: Handbewogen rolstoelen Incidenteel gebruik | E10: ='Bestandsoverzicht partij 1'!E9+'Bestandsoverzicht partij 2'!E10 -> 334 | F10: ='Bestandsoverzicht partij 1'!F9+'Bestandsoverzicht partij 2'!F10 -> 40 | G10: ='Bestandsoverzicht partij 1'!G9+'Bestandsoverzicht partij 2'!G10 -> 52 | H10: ='Bestandsoverzicht partij 1'!H9+'Bestandsoverzicht partij 2'!H10 -> 80
B11: Categorie 2 | C11: Handbewogen rolstoelen voor permanent en/of passief gebruik met kantelverstelling | E11: ='Bestandsoverzicht partij 1'!E10+'Bestandsoverzicht partij 2'!E11 -> 87 | F11: ='Bestandsoverzicht partij 1'!F10+'Bestandsoverzicht partij 2'!F11 -> 16 | G11: ='Bestandsoverzicht partij 1'!G10+'Bestandsoverzicht partij 2'!G11 -> 30 | H11: ='Bestandsoverzicht partij 1'!H10+'Bestandsoverzicht partij 2'!H11 -> 51
B12: Categorie 3 | C12: Handbewogen rolstoelen voor semi- permanent gebruik of actief gebruik | E12: ='Bestandsoverzicht partij 1'!E11+'Bestandsoverzicht partij 2'!E12 -> 477 | F12: ='Bestandsoverzicht partij 1'!F11+'Bestandsoverzicht partij 2'!F12 -> 45 | G12: ='Bestandsoverzicht partij 1'!G11+'Bestandsoverzicht partij 2'!G12 -> 75 | H12: ='Bestandsoverzicht partij 1'!H11+'Bestandsoverzicht partij 2'!H12 -> 123
B13: Categorie 4 | C13: Handbewogen rolstoelen actief gebruik / vastframe | E13: ='Bestandsoverzicht partij 1'!E12+'Bestandsoverzicht partij 2'!E13 -> 154 | F13: ='Bestandsoverzicht partij 1'!F12+'Bestandsoverzicht partij 2'!F13 -> 16 | G13: ='Bestandsoverzicht partij 1'!G12+'Bestandsoverzicht partij 2'!G13 -> 17 | H13: ='Bestandsoverzicht partij 1'!H12+'Bestandsoverzicht partij 2'!H13 -> 21
B14: Categorie 5 | C14: Elektrische rolstoelen, modellen eenvoudig | E14: ='Bestandsoverzicht partij 1'!E13+'Bestandsoverzicht partij 2'!E14 -> 53 | F14: ='Bestandsoverzicht partij 1'!F13+'Bestandsoverzicht partij 2'!F14 -> 4 | G14: ='Bestandsoverzicht partij 1'!G13+'Bestandsoverzicht partij 2'!G14 -> 7 | H14: ='Bestandsoverzicht partij 1'!H13+'Bestandsoverzicht partij 2'!H14 -> 14
B15: Categorie 6 | C15: Elektrische rolstoelen, modellen complex | E15: ='Bestandsoverzicht partij 1'!E14+'Bestandsoverzicht partij 2'!E15 -> 66 | F15: ='Bestandsoverzicht partij 1'!F14+'Bestandsoverzicht partij 2'!F15 -> 10 | G15: ='Bestandsoverzicht partij 1'!G14+'Bestandsoverzicht partij 2'!G15 -> 20 | H15: ='Bestandsoverzicht partij 1'!H14+'Bestandsoverzicht partij 2'!H15 -> 11
B16: Categorie 7 | C16: Elektrische aandrijfunits hoepelondersteuning | E16: ='Bestandsoverzicht partij 1'!E15+'Bestandsoverzicht partij 2'!E16 -> 105 | F16: ='Bestandsoverzicht partij 1'!F15+'Bestandsoverzicht partij 2'!F16 -> 4 | G16: ='Bestandsoverzicht partij 1'!G15+'Bestandsoverzicht partij 2'!G16 -> 5 | H16: ='Bestandsoverzicht partij 1'!H15+'Bestandsoverzicht partij 2'!H16 -> 11
B17: Categorie 8 | C17: Elektrische aandrijfunits duwondersteuning | E17: ='Bestandsoverzicht partij 1'!E16+'Bestandsoverzicht partij 2'!E17 -> 35 | F17: ='Bestandsoverzicht partij 1'!F16+'Bestandsoverzicht partij 2'!F17 -> 9 | G17: ='Bestandsoverzicht partij 1'!G16+'Bestandsoverzicht partij 2'!G17 -> 12 | H17: ='Bestandsoverzicht partij 1'!H16+'Bestandsoverzicht partij 2'!H17 -> 21
B18: Categorie 9 | C18: Handbikes | E18: ='Bestandsoverzicht partij 1'!E17+'Bestandsoverzicht partij 2'!E18 -> 20 | F18: ='Bestandsoverzicht partij 1'!F17+'Bestandsoverzicht partij 2'!F18 -> 0 | G18: ='Bestandsoverzicht partij 1'!G17+'Bestandsoverzicht partij 2'!G18 -> 0 | H18: ='Bestandsoverzicht partij 1'!H17+'Bestandsoverzicht partij 2'!H18 -> 4
B19: Categorie 10 | C19: Handbikes met elektrische ondersteuning | E19: ='Bestandsoverzicht partij 1'!E18+'Bestandsoverzicht partij 2'!E19 -> 44 | F19: ='Bestandsoverzicht partij 1'!F18+'Bestandsoverzicht partij 2'!F19 -> 5 | G19: ='Bestandsoverzicht partij 1'!G18+'Bestandsoverzicht partij 2'!G19 -> 4 | H19: ='Bestandsoverzicht partij 1'!H18+'Bestandsoverzicht partij 2'!H19 -> 9
B20: Categorie 11 | C20: Buggy’s | E20: ='Bestandsoverzicht partij 1'!E19+'Bestandsoverzicht partij 2'!E20 -> 28 | F20: ='Bestandsoverzicht partij 1'!F19+'Bestandsoverzicht partij 2'!F20 -> 5 | G20: ='Bestandsoverzicht partij 1'!G19+'Bestandsoverzicht partij 2'!G20 -> 6 | H20: ='Bestandsoverzicht partij 1'!H19+'Bestandsoverzicht partij 2'!H20 -> 9
B21: Categorie 12 | C21: Kinderduw wandelwagens | E21: ='Bestandsoverzicht partij 1'!E20+'Bestandsoverzicht partij 2'!E21 -> 16 | F21: ='Bestandsoverzicht partij 1'!F20+'Bestandsoverzicht partij 2'!F21 -> 2 | G21: ='Bestandsoverzicht partij 1'!G20+'Bestandsoverzicht partij 2'!G21 -> 2 | H21: ='Bestandsoverzicht partij 1'!H20+'Bestandsoverzicht partij 2'!H21 -> 6
... B42: Categorie 33 | C42: Douchebrancards | E42: ='Bestandsoverzicht partij 1'!E41+'Bestandsoverzicht partij 2'!E42 -> 0 | F42: ='Bestandsoverzicht partij 1'!F41+'Bestandsoverzicht partij 2'!F42 -> 0 | G42: ='Bestandsoverzicht partij 1'!G41+'Bestandsoverzicht partij 2'!G42 -> 0 | H42: ='Bestandsoverzicht partij 1'!H41+'Bestandsoverzicht partij 2'!H42 -> 0
B43: Totaal | E43: =SUM(E10:E42) -> 3218 | F43: =SUM(F10:F42) -> 405 | G43: =SUM(G10:G42) -> 509 | H43: =SUM(H10:H42) -> 829

Sheet Datails bestand partij 1
H1: 45597
B2: Voorziening nummer | C2: Merk en type hulpmidel | D2: Gemeente | E2: Ingangsdatum Mobiliteit- en omruilgarantie | F2: Huidig categorie-nummer | G2: Categorienummer aangepast naar nieuwe categorie-indeling t.b.v ophanden aanbesteding | H2: Jaar eerste levering ooit | I2: Leeftijd hulpmiddel in maanden op 31 oktober 2024 | J2: (Nieuw)leveringen in de periode 1-11-2023 t/m 31-10-2024 | K2: Herverstrekkingen in de periode 1-11-2023 t/m 31-10-2024 | L2: Datum laatste servicebeurt | M2: Huidig categorie-nummer | N2: Categorie omschrijving (iWmo productcode)
B3: VOORZ21041344 | C3: Stuklijst - Pride Zolar 3-wiel scooter | D3: Gemeente De Bilt | E3: 44470 | F3: 12K02 | G3: 24 | H3: 42552 | I3: =+($H$1-H3)/30.42 -> 100.09862 | L3: 45393 | M3: 8 | N3: Scootmobiel standaard - koop
B4: VOORZ21041503 | C4: Stuklijst - Breezy BasiX2 | D4: Gemeente De Bilt | E4: 44440 | F4: 11K01 | G4: 1 | H4: 43314 | I4: =+($H$1-H4)/30.42 -> 75.04931 | L4: 44931 | M4: 1 | N4: Handbewogen rolstoel incidenteel gebruik - koop
B5: VOORZ21041505 | C5: Stuklijst - Orion PRO 3-wiel | D5: Gemeente De Bilt | E5: 44435 | F5: 12K02 | G5: 24 | H5: 43732 | I5: =+($H$1-H5)/30.42 -> 61.30835 | L5: 45589 | M5: 8 | N5: Scootmobiel standaard - koop
B6: VOORZ21042316 | C6: Stuklijst - Easy 22" met traponderst, 7VTT cr wit | D6: Gemeente De Bilt | E6: 43617 | F6: 12K13 | G6: 20 | H6: 44378 | I6: =+($H$1-H6)/30.42 -> 40.072321 | L6: 45386 | M6: 10 | N6: Driewielfiets - koop
B7: VOORZ21043686 | C7: Stuklijst - Proval custom made ADL rolstoel | D7: Gemeente De Bilt | E7: 44459 | F7: 12K22 | G7: 10 | H7: 44470 | I7: =+($H$1-H7)/30.42 -> 37.047995 | L7: 45315 | M7: 6B | N7: Univer. aankoppelb. handbike (elektr.) - koop
B8: VOORZ21047016 | C8: Stuklijst - Quickie HeliX2 | D8: Gemeente De Bilt | E8: 43617 | F8: 11K02 | G8: 3 | H8: 40480 | I8: =+($H$1-H8)/30.42 -> 168.2117 | L8: 45113 | M8: 3 | N8: Handbew. rolstoel actief/permanent gebruik - koop
B9: VOORZ21049340 | C9: Stuklijst - Luna Pride scootmobiel | D9: Gemeente De Bilt | E9: 44466 | F9: 12K02 | G9: 24 | H9: 42491 | I9: =+($H$1-H9)/30.42 -> 102.10388 | L9: 45597 | M9: 8 | N9: Scootmobiel standaard - koop
B10: VOORZ21049411 | C10: Stuklijst - SWIFT douchekruk (incl.armsteun) grijs | D10: Gemeente De Bilt | E10: 44466 | F10: 13K11 | G10: 31 | H10: 40926 | I10: =+($H$1-H10)/30.42 -> 153.5503 | L10: 44525 | M10: 14 | N10: Douche-/toilet voorziening eenvoudig - koop
B11: VOORZ21053039 | C11: Stuklijst - Luna Pride Victory | D11: Gemeente De Bilt | E11: 43617 | F11: 12K02 | G11: 24 | H11: 42374 | I11: =+($H$1-H11)/30.42 -> 105.95003 | L11: 45615 | M11: 8 | N11: Scootmobiel standaard - koop
B12: VOORZ21056332 | C12: Stuklijst - Quickie Puma 20 | D12: Gemeente De Bilt | E12: 44403 | F12: 11K10 | G12: 5 | H12: 43586 | I12: =+($H$1-H12)/30.42 -> 66.107824 | L12: 45567 | M12: 7 | N12: Elektrische rolstoel - koop
B13: VOORZ22003286 | C13: Stuklijst - Sterling Elite2 XS | D13: Gemeente De Bilt | E13: 44545 | F13: 12K02 | G13: 24 | H13: 43405 | I13: =+($H$1-H13)/30.42 -> 72.057857 | L13: 45114 | M13: 8 | N13: Scootmobiel standaard - koop
B14: VOORZ22014592 | C14: Stuklijst - Breezy BasiX2 | D14: Gemeente De Bilt | E14: 44545 | F14: 11K01 | G14: 1 | H14: 43348 | I14: =+($H$1-H14)/30.42 -> 73.931624 | L14: 44581 | M14: 1 | N14: Handbewogen rolstoel incidenteel gebruik - koop
B15: VOORZ22021620 | C15: Stuklijst - Copilot 26, grijs | D15: Gemeente De Bilt | E15: 44483 | F15: 12K30 | G15: 23 | H15: 44622 | I15: =+($H$1-H15)/30.42 -> 32.051282 | L15: 45364 | M15: 12 | N15: Duofiets - koop (2-wiel tandem)
B16: VOORZ22021622 | C16: Stuklijst - Carrot autostoel, maat XL. | D16: Gemeente De Bilt | E16: 44543 | F16: 12K50 | G16: 28 | H16: 44643 | I16: =+($H$1-H16)/30.42 -> 31.360947 | L16: 44643 | M16: 19 | N16: Speciaal autozitje - koop
B17: VOORZ22025274 | C17: Stuklijst - Breezy BasiX2 | D17: Gemeente De Bilt | E17: 43617 | F17: 11K01 | G17: 1 | H17: 41796 | I17: =+($H$1-H17)/30.42 -> 124.95069 | L17: 45414 | M17: 1 | N17: Handbewogen rolstoel incidenteel gebruik - koop
B18: VOORZ22028917 | C18: Stuklijst - Raisa II (130 kg), Actieve lift | D18: Gemeente De Bilt | E18: 44682 | F18: 13K02 | G18: 29 | H18: 42186 | I18: =+($H$1-H18)/30.42 -> 112.13018 | L18: 45419 | M18: 18 | N18: Tillift passief - koop
B19: VOORZ22028919 | C19: Stuklijst - Wendy 3 | D19: Gemeente De Bilt | E19: 44682 | F19: 13K01 | G19: 30 | H19: 42186 | I19: =+($H$1-H19)/30.42 -> 112.13018 | L19: 45482 | M19: 17 | N19: Tillift actief - koop
... B62: VOORZ23028438 | C62: Stuklijst - Sterling Trophy 6 | D62: Gemeente De Bilt | E62: 45041 | F62: 12K04 | G62: 26 | H62: 43699 | I62: =+($H$1-H62)/30.42 -> 62.393162 | L62: 45587 | M62: 9 | N62: Scootmobiel extra geveerd - koop
B63: VOORZ23028725 | C63: Stuklijst - Batec | D63: Gemeente De Bilt | E63: 45036 | F63: 12K22 | G63: 10 | H63: 44832 | I63: =+($H$1-H63)/30.42 -> 25.147929 | L63: 45517 | M63: 6B | N63: Univer. aankoppelb. handbike (elektr.) - koop
B64: VOORZ23036080 | C64: Stuklijst - Sterling Elite2 XS (blauw) | D64: Gemeente De Bilt | E64: 43850 | F64: 12K02 | G64: 24 | H64: 42186 | I64: =+($H$1-H64)/30.42 -> 112.13018 | L64: 45061 | M64: 8 | N64: Scootmobiel standaard - koop
B65: VOORZ23036166 | C65: Stuklijst - Excel Galaxy 2, 3W, lightning blue | D65: Gemeente De Bilt | E65: 43871 | F65: 12K02 | G65: 24 | H65: 45077 | I65: =+($H$1-H65)/30.42 -> 17.094017 | L65: 45582 | M65: 8 | N65: Scootmobiel standaard - koop
B66: VOORZ23036409 | C66: Stuklijst - Stricker Handbike City 7 | D66: Gemeente De Bilt | E66: 44958 | F66: 12K22 | G66: 10 | H66: 42186 | I66: =+($H$1-H66)/30.42 -> 112.13018 | L66: 45541 | M66: 6B | N66: Univer. aankoppelb. handbike (elektr.) - koop
B67: VOORZ23036411 | C67: Stuklijst - Quickie Helium | D67: Gemeente De Bilt | E67: 44958 | F67: 11K02 | G67: 3 | H67: 43916 | I67: =+($H$1-H67)/30.42 -> 55.259698 | L67: 45555 | M67: 3 | N67: Handbew. rolstoel actief/permanent gebruik - koop
B68: VOORZ23036659 | C68: Stuklijst - Zippie Salsa M2 | D68: Gemeente De Bilt | E68: 44795 | F68: 11K10 | G68: 5 | H68: 42678 | I68: =+($H$1-H68)/30.42 -> 95.956607 | L68: 45569 | M68: 7 | N68: Elektrische rolstoel - koop
B69: VOORZ23039402 | C69: Stuklijst - Swift Mobile 24", samengesteld | D69: Gemeente De Bilt | E69: 45041 | F69: 13K12 | G69: 31 | H69: 43525 | I69: =+($H$1-H69)/30.42 -> 68.113083 | L69: 45092 | M69: 15 | N69: Douche-/toiletvoorziening zelfrijder - koop
B70: VOORZ23041211 | C70: Stuklijst - Excel Galaxy 2, 3W, lightning blue | D70: Gemeente De Bilt | E70: 45154 | F70: 12K02 | G70: 24 | H70: 45096 | I70: =+($H$1-H70)/30.42 -> 16.469428 | L70: 45615 | M70: 8 | N70: Scootmobiel standaard - koop
B71: VOORZ23041295 | C71: Stuklijst - Quickie Nitrum | D71: Gemeente De Bilt | E71: 43617 | F71: 11K02 | G71: 4 | H71: 45056 | I71: =+($H$1-H71)/30.42 -> 17.784352 | L71: 45056 | M71: 3 | N71: Handbew. rolstoel actief/permanent gebruik - koop
B72: VOORZ23041881 | C72: Stuklijst - Excel Galaxy 2, 3W, lightning blue | D72: Gemeente De Bilt | E72: 45154 | F72: 12K02 | G72: 24 | H72: 45107 | I72: =+($H$1-H72)/30.42 -> 16.107824 | L72: 45467 | M72: 8 | N72: Scootmobiel standaard - koop
B73: VOORZ23043627 | C73: Stuklijst - actieve tillift, elek h/l elek pootver | D73: Gemeente De Bilt | E73: 45231 | F73: 13K01 | G73: 30 | H73: 43532 | I73: =+($H$1-H73)/30.42 -> 67.882972 | L73: 45489 | M73: 17 | N73: Tillift actief - koop
B74: VOORZ23045181 | C74: Stuklijst - Bonn 2 DOTO stoel, 5" geremde wieltjes | D74: Gemeente De Bilt | E74: 45054 | F74: 13K12 | G74: 31 | H74: 43891 | I74: =+($H$1-H74)/30.42 -> 56.081525 | L74: 45118 | M74: 15 | N74: Douche-/toiletvoorziening zelfrijder - koop
B75: VOORZ23046201 | C75: Stuklijst - 3W MAXI 2 basis incl. verlichting | D75: Gemeente De Bilt | E75: 45096 | F75: 12K13 | G75: 14 | H75: 44236 | I75: =+($H$1-H75)/30.42 -> 44.740302 | L75: 45132 | M75: 10 | N75: Driewielfiets - koop
B76: VOORZ23050048 | C76: Stuklijst - Quickie Life T | D76: Gemeente De Bilt | E76: 44574 | F76: 11K02 | G76: 4 | H76: 42649 | I76: =+($H$1-H76)/30.42 -> 96.909928 | L76: 45166 | M76: 3 | N76: Handbew. rolstoel actief/permanent gebruik - koop
B77: VOORZ23051089 | C77: Stuklijst - Diamond E-drive antr. 7v-fw | D77: Gemeente De Bilt | E77: 45124 | F77: 12K13 | G77: 18 | H77: 43647 | I77: =+($H$1-H77)/30.42 -> 64.102564 | L77: 45611 | M77: 10 | N77: Driewielfiets - koop
B78: VOORZ23055166 | C78: Stuklijst - Easy Rider 3 incl verlichting, slot | D78: Gemeente De Bilt | E78: 43279 | F78: 12K13 | G78: 20 | H78: 44476 | I78: =+($H$1-H78)/30.42 -> 36.850756 | L78: 45146 | M78: 10 | N78: Driewielfiets - koop
... B142: VOORZ24026626 | C142: Stuklijst - Wolturnus rolstoel type W5 original | D142: Gemeente De Bilt | E142: 44459 | F142: 11K06 | G142: 2 | H142: 45406 | I142: =+($H$1-H142)/30.42 -> 6.278764 | L142: 45566 | M142: 2 | N142: Handbewogen rolstoel permanent gebruik - koop
B143: VOORZ24026646 | C143: Stuklijst - Stricker Smart Lipo 16" wiel | D143: Gemeente De Bilt | E143: 44896 | F143: 12K22 | G143: 10 | H143: 45176 | I143: =+($H$1-H143)/30.42 -> 13.839579 | L143: 45176 | M143: 6B | N143: Univer. aankoppelb. handbike (elektr.) - koop
B144: VOORZ24027155 | C144: Stuklijst - Excel Galaxy 2, 3W, lightning blue | D144: Gemeente De Bilt | E144: 45390 | F144: 12K02 | G144: 24 | H144: 45412 | I144: =+($H$1-H144)/30.42 -> 6.0815253 | L144: 45412 | M144: 8 | N144: Scootmobiel standaard - koop
B145: VOORZ24027310 | C145: Stuklijst - Easy Sport basis | D145: Gemeente De Bilt | E145: 43564 | F145: 12K17 | G145: 16 | H145: 43891 | I145: =+($H$1-H145)/30.42 -> 56.081525 | L145: 45114 | M145: 11 | N145: Driewielfiets kind - koop
B146: VOORZ24027311 | C146: Stuklijst - Douche/Toiletstoel Flexo | D146: Gemeente De Bilt | E146: 45397 | F146: 13K13 | G146: 32 | H146: 45085 | I146: =+($H$1-H146)/30.42 -> 16.831032 | L146: 45412 | M146: 16 | N146: Douche-/toiletvoorziening complex - koop
B147: VOORZ24027313 | C147: Stuklijst - Orion Pro 15 km/u uitvoering 3-wiel | D147: Gemeente De Bilt | E147: 45413 | F147: 12K02 | G147: 24 | H147: 43382 | I147: =+($H$1-H147)/30.42 -> 72.813938 | L147: 45560 | M147: 8 | N147: Scootmobiel standaard - koop
B148: VOORZ24029020 | C148: Stuklijst - Quickie Nitrum | D148: Gemeente De Bilt | E148: 45359 | F148: 11K02 | G148: 4 | H148: 45434 | I148: =+($H$1-H148)/30.42 -> 5.3583169 | L148: 45434 | M148: 3 | N148: Handbew. rolstoel actief/permanent gebruik - koop
B149: VOORZ24030310 | C149: Stuklijst - Quickie Neon2 | D149: Gemeente De Bilt | E149: 45355 | F149: 11K02 | G149: 3 | H149: 43081 | I149: =+($H$1-H149)/30.42 -> 82.708744 | L149: 45562 | M149: 3 | N149: Handbew. rolstoel actief/permanent gebruik - koop
B150: VOORZ24030424 | C150: Stuklijst - Mercado Real 6100 electr.binnenrolst | D150: Gemeente De Bilt | E150: 43617 | F150: 11K10 | G150: 5 | H150: 45420 | I150: =+($H$1-H150)/30.42 -> 5.8185404 | L150: 45420 | M150: 7 | N150: Elektrische rolstoel - koop
B151: VOORZ24030835 | C151: Stuklijst - Sterling Elite² Mini | D151: Gemeente De Bilt | E151: 45446 | F151: 12K02 | G151: 24 | H151: 45454 | I151: =+($H$1-H151)/30.42 -> 4.7008547 | L151: 45454 | M151: 8 | N151: Scootmobiel standaard - koop
B152: VOORZ24031410 | C152: Stuklijst - Nando E-drive blauw 7v-fw | D152: Gemeente De Bilt | E152: 45320 | F152: 12K30 | G152: 23 | H152: 43769 | I152: =+($H$1-H152)/30.42 -> 60.092045 | L152: 45555 | M152: 12 | N152: Duofiets - koop (2-wiel tandem)
B153: VOORZ24031492 | C153: Stuklijst - Quickie HeliX2 | D153: Gemeente De Bilt | E153: 45349 | F153: 11K02 | G153: 3 | H153: 43348 | I153: =+($H$1-H153)/30.42 -> 73.931624 | L153: 45433 | M153: 3 | N153: Handbew. rolstoel actief/permanent gebruik - koop
B154: VOORZ24031519 | C154: Stuklijst - Singly Air-E 7v-fw | D154: Gemeente De Bilt | E154: 45425 | F154: 12K13 | G154: 20 | H154: 45233 | I154: =+($H$1-H154)/30.42 -> 11.965812 | L154: 45589 | M154: 10 | N154: Driewielfiets - koop
B155: VOORZ24031851 | C155: Stuklijst - Luna Pride Victory | D155: Gemeente De Bilt | E155: 43011 | F155: 12K02 | G155: 24 | H155: 43452 | I155: =+($H$1-H155)/30.42 -> 70.512821 | L155: 45461 | M155: 8 | N155: Scootmobiel standaard - koop
... B166: VOORZ24034287 | C166: Stuklijst - Sterling Elite 2 Plus (matzwart) | D166: Gemeente De Bilt | E166: 45468 | F166: 12K04 | G166: 26 | H166: 45489 | I166: =+($H$1-H166)/30.42 -> 3.5502959 | L166: 45489 | M166: 9 | N166: Scootmobiel extra geveerd - koop
B167: VOORZ24035718 | C167: Stuklijst - Stricker Smart Lipo 20" , wiel | D167: Gemeente De Bilt | E167: 45358 | F167: 12K22 | G167: 10 | H167: 45335 | I167: =+($H$1-H167)/30.42 -> 8.6127548 | L167: 45545 | M167: 6B | N167: Univer. aankoppelb. handbike (elektr.) - koop
B168: VOORZ24036980 | C168: Stuklijst - Basismodel Action 3 NG | D168: Gemeente De Bilt | E168: 45349 | F168: 11K01 | G168: 1 | H168: 43663 | I168: =+($H$1-H168)/30.42 -> 63.576594 | L168: 45415 | M168: 1 | N168: Handbewogen rolstoel incidenteel gebruik - koop
B169: VOORZ24036981 | C169: Stuklijst - Excel Click & Go Lite | D169: Gemeente De Bilt | E169: 45349 | F169: 11K20 | G169: 8 | H169: 41820 | I169: =+($H$1-H169)/30.42 -> 124.16174 | L169: 45415 | M169: 5 | N169: Universele elektrische hulpaandrijving - koop
B170: VOORZ24037281 | C170: Stuklijst - Quickie HeliX2 | D170: Gemeente De Bilt | E170: 45460 | F170: 11K02 | G170: 3 | H170: 43174 | I170: =+($H$1-H170)/30.42 -> 79.651545 | L170: 45143 | M170: 3 | N170: Handbew. rolstoel actief/permanent gebruik - koop
B171: VOORZ24037282 | C171: Stuklijst - Excel Click & Go Lite | D171: Gemeente De Bilt | E171: 45460 | F171: AANPASSING | G171: 8 | H171: 43229 | I171: =+($H$1-H171)/30.42 -> 77.843524 | L171: 45143 | M171: 5 | N171: Aanpassing
B172: VOORZ24037289 | C172: Stuklijst - Sterling Elite² Mini | D172: Gemeente De Bilt | E172: 45510 | F172: 12K02 | G172: 24 | H172: 45527 | I172: =+($H$1-H172)/30.42 -> 2.3011177 | L172: 45554 | M172: 8 | N172: Scootmobiel standaard - koop
B173: VOORZ24038242 | C173: Stuklijst - Ibis XA uitvoering | D173: Gemeente De Bilt | E173: 45107 | F173: 11K06 | G173: 2 | H173: 41456 | I173: =+($H$1-H173)/30.42 -> 136.12755 | L173: 45534 | M173: 2 | N173: Onbekend
B174: VOORZ24038579 | C174: Stuklijst - Breezy IBIS | D174: Gemeente De Bilt | E174: 45383 | F174: 11K06 | G174: 2 | H174: 42857 | I174: =+($H$1-H174)/30.42 -> 90.072321 | L174: 45383 | M174: 2 | N174: Handbewogen rolstoel permanent gebruik - koop
B175: VOORZ24038711 | C175: Stuklijst - Wendy 130 kg incl 1 accu, lader, hb | D175: Gemeente De Bilt | E175: 45428 | F175: 13K02 | G175: 29 | H175: 42393 | I175: =+($H$1-H175)/30.42 -> 105.32544 | L175: 45503 | M175: 18 | N175: Tillift passief - koop
B176: VOORZ24038886 | C176: Stuklijst - 2W Tandem KIVO std, 8V, verl, vrijl., | D176: Gemeente De Bilt | E176: 44706 | F176: 12K31 | G176: 22 | H176: 42625 | I176: =+($H$1-H176)/30.42 -> 97.698882 | L176: 45428 | M176: 12 | N176: Duofiets - koop (3-wiel tandem)
B177: VOORZ24038912 | C177: Stuklijst - Zitdriewielfiets Z3, Bafang power ass | D177: Gemeente De Bilt | E177: 45475 | F177: 12K13 | G177: 20 | H177: 45545 | I177: =+($H$1-H177)/30.42 -> 1.7094017 | L177: 45590 | M177: 10 | N177: Driewielfiets - koop
B178: VOORZ24038976 | C178: Stuklijst - Copilot 24", kleine uitvoering | D178: Gemeente De Bilt | E178: 45439 | F178: 12K30 | G178: 23 | H178: 40513 | I178: =+($H$1-H178)/30.42 -> 167.12689 | L178: 45541 | M178: 12 | N178: Duofiets - koop (2-wiel tandem)
B179: VOORZ24038979 | C179: Stuklijst - Concerto douchewagen,1600mm | D179: Gemeente De Bilt | E179: 44552 | F179: 13K13 | G179: 32 | H179: 45510 | I179: =+($H$1-H179)/30.42 -> 2.8599606 | L179: 45510 | M179: 16 | N179: Douche-/toiletvoorziening complex - koop
... B185: VOORZ24040374 | C185: Stuklijst - Sterling Elite 2 Plus (matzwart) | D185: Gemeente De Bilt | E185: 45261 | F185: 12K04 | G185: 26 | H185: 38058 | I185: =+($H$1-H185)/30.42 -> 247.83037 | L185: 45561 | M185: 9 | N185: Scootmobiel extra geveerd - koop
B186: VOORZ24040994 | C186: Stuklijst - Excel Galaxy Plus, 3W, lightning blue | D186: Gemeente De Bilt | E186: 45499 | F186: 12K04 | G186: 26 | H186: 41821 | I186: =+($H$1-H186)/30.42 -> 124.12886 | L186: #N/A | M186: 9 | N186: Scootmobiel extra geveerd - koop
B187: VOORZ24041241 | C187: Stuklijst - Fortress Calypso basisuitvoering | D187: Gemeente De Bilt | E187: 45537 | F187: 12K02 | G187: 24 | H187: 42917 | I187: =+($H$1-H187)/30.42 -> 88.099934 | L187: 45596 | M187: 8 | N187: Scootmobiel standaard - koop
B188: VOORZ24041658 | C188: Stuklijst - Breezy BasiX2 | D188: Gemeente De Bilt | E188: 45566 | F188: 11K01 | G188: 1 | H188: 42917 | I188: =+($H$1-H188)/30.42 -> 88.099934 | L188: 45572 | M188: 1 | N188: Handbewogen rolstoel incidenteel gebruik - koop
B189: VOORZ24042750 | C189: Stuklijst - Sterling Elite 2 Plus (matzwart) | D189: Gemeente De Bilt | E189: 45581 | F189: 12K04 | G189: 26 | H189: 45583 | I189: =+($H$1-H189)/30.42 -> 0.46022354 | L189: 45583 | M189: 9 | N189: Scootmobiel extra geveerd - koop
B190: VOORZ24042791 | C190: Stuklijst - 3W Cortes met Bafang power assist | D190: Gemeente De Bilt | E190: 45531 | F190: 12K13 | G190: 20 | H190: 44713 | I190: =+($H$1-H190)/30.42 -> 29.059829 | L190: 45580 | M190: 10 | N190: Driewielfiets - koop
B191: VOORZ24043380 | C191: Stuklijst - Easy Rider | D191: Gemeente De Bilt | E191: 44545 | F191: 12K13 | G191: 16 | H191: 42917 | I191: =+($H$1-H191)/30.42 -> 88.099934 | L191: 45551 | M191: 10 | N191: Driewielfiets - koop
B192: VOORZ24044913 | C192: Stuklijst - Zippie Youngster 3 | D192: Gemeente De Bilt | E192: 45511 | F192: 11K02 | G192: 4 | H192: 40960 | I192: =+($H$1-H192)/30.42 -> 152.43261 | L192: 45600 | M192: 3 | N192: Handbew. rolstoel actief/permanent gebruik - koop
B193: WMO09-125926 | C193: Stuklijst - Excel G4 'modulair uitvoering' | D193: Gemeente De Bilt | E193: 43617 | F193: 11K02 | G193: 3 | H193: 41821 | I193: =+($H$1-H193)/30.42 -> 124.12886 | L193: 43999 | M193: 3 | N193: Handbew. rolstoel actief/permanent gebruik - koop
B194: WMO09-127076 | C194: Stuklijst - Wendy 130 kg incl 2 accu's, lader, hb | D194: Gemeente De Bilt | E194: 43374 | F194: 13K02 | G194: 29 | H194: 38565 | I194: =+($H$1-H194)/30.42 -> 231.16371 | L194: 44264 | M194: 18 | N194: Tillift passief - koop
B195: WMO09-142055 | C195: Stuklijst - Excel G3 zelfvoortbeweger | D195: Gemeente De Bilt | E195: 43617 | F195: 11K02 | G195: 3 | H195: 40725 | I195: =+($H$1-H195)/30.42 -> 160.15779 | L195: 44000 | M195: 3 | N195: Handbew. rolstoel actief/permanent gebruik - koop
B196: WMO09-148516 | C196: Stuklijst - Raisa | D196: Gemeente De Bilt | E196: 44204 | F196: 13K01 | G196: 30 | H196: 42111 | I196: =+($H$1-H196)/30.42 -> 114.59566 | L196: 45471 | M196: 17 | N196: Tillift actief - koop
B197: WMO09-167542 | C197: Stuklijst - Solo4 | D197: Gemeente De Bilt | E197: 43617 | F197: 12K02 | G197: 24 | H197: 43678 | I197: =+($H$1-H197)/30.42 -> 63.083498 | L197: 45392 | M197: 8 | N197: Scootmobiel standaard - koop
B198: WMO09-169564 | C198: Stuklijst - Sterling Trophy | D198: Gemeente De Bilt | E198: 43831 | F198: 12K02 | G198: 24 | H198: 42418 | I198: =+($H$1-H198)/30.42 -> 104.50362 | L198: 45105 | M198: 8 | N198: Scootmobiel standaard - koop
... B202: WMO09-187674 | C202: Stuklijst - Sunny Diamond | D202: Gemeente De Bilt | E202: 43617 | F202: 12K13 | G202: 14 | H202: 40927 | I202: =+($H$1-H202)/30.42 -> 153.51742 | L202: 45608 | M202: 10 | N202: Driewielfiets - koop
B203: WMO09-187857 | C203: Stuklijst - Speedy B26 aankoppel sporthandbike | D203: Gemeente De Bilt | E203: 43617 | F203: 12K21 | G203: 9 | H203: 40402 | I203: =+($H$1-H203)/30.42 -> 170.77581 | L203: 44119 | M203: 6A | N203: Univer. aankoppelb. handbike (niet elektr.) - koop
B204: WMO09-187863 | C204: Stuklijst - Quickie HeliX2 | D204: Gemeente De Bilt | E204: 43617 | F204: 11K02 | G204: 3 | H204: 40955 | I204: =+($H$1-H204)/30.42 -> 152.59698 | L204: 45085 | M204: 3 | N204: Handbew. rolstoel actief/permanent gebruik - koop
B205: WMO09-187871 | C205: Stuklijst - Breezy RubiX2 | D205: Gemeente De Bilt | E205: 44249 | F205: 11K02 | G205: 3 | H205: 40913 | I205: =+($H$1-H205)/30.42 -> 153.97765 | L205: 45602 | M205: 3 | N205: Handbew. rolstoel actief/permanent gebruik - koop
B206: WMO09-187873 | C206: Stuklijst - Quickie HeliX2 | D206: Gemeente De Bilt | E206: 43617 | F206: 11K02 | G206: 3 | H206: 40913 | I206: =+($H$1-H206)/30.42 -> 153.97765 | L206: 45114 | M206: 3 | N206: Handbew. rolstoel actief/permanent gebruik - koop
B207: WMO09-187875 | C207: Stuklijst - Meyra 2.310 | D207: Gemeente De Bilt | E207: 43617 | F207: 11K02 | G207: 3 | H207: 40913 | I207: =+($H$1-H207)/30.42 -> 153.97765 | L207: 43906 | M207: 3 | N207: Handbew. rolstoel actief/permanent gebruik - koop
B208: WMO09-187876 | C208: Stuklijst - Quickie 2 Classic | D208: Gemeente De Bilt | E208: 43617 | F208: 11K02 | G208: 3 | H208: 40981 | I208: =+($H$1-H208)/30.42 -> 151.74227 | L208: 45089 | M208: 3 | N208: Handbew. rolstoel actief/permanent gebruik - koop
B209: WMO09-187881 | C209: Stuklijst - Quickie Neon2 | D209: Gemeente De Bilt | E209: 43617 | F209: 11K02 | G209: 3 | H209: 41099 | I209: =+($H$1-H209)/30.42 -> 147.86325 | L209: 43906 | M209: 3 | N209: Handbew. rolstoel actief/permanent gebruik - koop
B210: WMO09-187882 | C210: Stuklijst - Quickie 2 Classic | D210: Gemeente De Bilt | E210: 43617 | F210: 11K02 | G210: 3 | H210: 41134 | I210: =+($H$1-H210)/30.42 -> 146.71269 | L210: 45089 | M210: 3 | N210: Handbew. rolstoel actief/permanent gebruik - koop
B211: WMO09-187887 | C211: Stuklijst - Quickie 2 Millennium SA | D211: Gemeente De Bilt | E211: 43617 | F211: 11K02 | G211: 3 | H211: 40931 | I211: =+($H$1-H211)/30.42 -> 153.38593 | L211: 45105 | M211: 3 | N211: Handbew. rolstoel actief/permanent gebruik - koop
B212: WMO09-187897 | C212: Stuklijst - Quickie 2 Classic | D212: Gemeente De Bilt | E212: 43617 | F212: 11K02 | G212: 3 | H212: 40931 | I212: =+($H$1-H212)/30.42 -> 153.38593 | L212: 45125 | M212: 3 | N212: Handbew. rolstoel actief/permanent gebruik - koop
B213: WMO09-187900 | C213: Stuklijst - Quickie 2 Classic | D213: Gemeente De Bilt | E213: 43617 | F213: 11K02 | G213: 3 | H213: 40931 | I213: =+($H$1-H213)/30.42 -> 153.38593 | L213: 45575 | M213: 3 | N213: Handbew. rolstoel actief/permanent gebruik - koop
B214: WMO09-187907 | C214: Stuklijst - Quickie 2 Classic | D214: Gemeente De Bilt | E214: 43617 | F214: 11K02 | G214: 3 | H214: 40931 | I214: =+($H$1-H214)/30.42 -> 153.38593 | L214: 45105 | M214: 3 | N214: Handbew. rolstoel actief/permanent gebruik - koop
B215: WMO09-187918 | C215: Stuklijst - Model Quickie Neon SA met HEMI FRAME | D215: Gemeente De Bilt | E215: 43617 | F215: 11K02 | G215: 4 | H215: 40931 | I215: =+($H$1-H215)/30.42 -> 153.38593 | L215: 45537 | M215: 3 | N215: Handbew. rolstoel actief/permanent gebruik - koop
... B253: WMO09-188424 | C253: Stuklijst - Pride Lunetta | D253: Gemeente De Bilt | E253: 43857 | F253: 12K02 | G253: 24 | H253: 41571 | I253: =+($H$1-H253)/30.42 -> 132.34714 | L253: 43878 | M253: 8 | N253: Scootmobiel standaard - koop
B254: WMO09-188440 | C254: Stuklijst - Ortocar 315 SP II | D254: Gemeente De Bilt | E254: 41127 | F254: 12K02 | G254: 24 | H254: 40913 | I254: =+($H$1-H254)/30.42 -> 153.97765 | L254: #N/A | M254: 8 | N254: Scootmobiel standaard - koop
B255: WMO09-188457 | C255: Stuklijst - Sterling Trophy | D255: Gemeente De Bilt | E255: 43617 | F255: 12K02 | G255: 24 | H255: 40913 | I255: =+($H$1-H255)/30.42 -> 153.97765 | L255: 45160 | M255: 8 | N255: Scootmobiel standaard - koop
B256: WMO09-188474 | C256: Stuklijst - Sterling Trophy | D256: Gemeente De Bilt | E256: 43617 | F256: 12K02 | G256: 24 | H256: 41134 | I256: =+($H$1-H256)/30.42 -> 146.71269 | L256: 45345 | M256: 8 | N256: Scootmobiel standaard - koop
B257: WMO09-188494 | C257: Stuklijst - Model Sterling Elite XS 3 wiel | D257: Gemeente De Bilt | E257: 43831 | F257: 12K02 | G257: 24 | H257: 40931 | I257: =+($H$1-H257)/30.42 -> 153.38593 | L257: 45293 | M257: 8 | N257: Scootmobiel standaard - koop
B258: WMO09-188495 | C258: Stuklijst - Luna Pride Victory | D258: Gemeente De Bilt | E258: 43831 | F258: 12K02 | G258: 24 | H258: 40931 | I258: =+($H$1-H258)/30.42 -> 153.38593 | L258: 44819 | M258: 8 | N258: Scootmobiel standaard - koop
B259: WMO09-188569 | C259: Stuklijst - Copilot 26" | D259: Gemeente De Bilt | E259: 43617 | F259: 12K30 | G259: 22 | H259: 40913 | I259: =+($H$1-H259)/30.42 -> 153.97765 | L259: 45378 | M259: 12 | N259: Duofiets - koop (2-wiel tandem)
B260: WMO09-188581 | C260: Stuklijst - Tavara Balance | D260: Gemeente De Bilt | E260: 43617 | F260: 12K13 | G260: 18 | H260: 41803 | I260: =+($H$1-H260)/30.42 -> 124.72058 | L260: 45499 | M260: 10 | N260: Driewielfiets - koop
...

Sheet Bestandsoverzicht partij 1
B3: Bestandsgegevens 31 oktober 2024
B5: Gemeenten De Bilt, Utrechtse Heuvelrug en Zeist - Kersten
B7: Categorie | D7: Uitstaand bij klanten | F7: Leveringen vanaf 1 november 2023 t/m 31 oktober 2024 | H7: Innames vanaf 1 november 2023 t/m 31 oktober 2024
D8: 45230 | E8: 45596 | F8: Nieuw | G8: Herverstrekking | H8: Inname
B9: Categorie 1 | C9: Handbewogen rolstoelen Incidenteel gebruik | E9: 140 | F9: 30 | G9: 16 | H9: 33
B10: Categorie 2 | C10: Handbewogen rolstoelen voor permanent en/of passief gebruik met kantelverstelling | E10: 44 | F10: 11 | G10: 6 | H10: 22
B11: Categorie 3 | C11: Handbewogen rolstoelen voor semi- permanent gebruik of actief gebruik | E11: 153 | F11: 23 | G11: 17 | H11: 26
B12: Categorie 4 | C12: Handbewogen rolstoelen actief gebruik / vastframe | E12: 64 | F12: 10 | G12: 8 | H12: 12
B13: Categorie 5 | C13: Elektrische rolstoelen, modellen eenvoudig | E13: 35 | F13: 4 | G13: 6 | H13: 8
B14: Categorie 6 | C14: Elektrische rolstoelen, modellen complex | E14: 15 | F14: 2 | G14: 4 | H14: 4
B15: Categorie 7 | C15: Elektrische aandrijfunits hoepelondersteuning | E15: 57 | F15: 2 | G15: 2 | H15: 2
B16: Categorie 8 | C16: Elektrische aandrijfunits duwondersteuning | E16: 16 | F16: 6 | G16: 2 | H16: 1
B17: Categorie 9 | C17: Handbikes | E17: 7 | F17: 0 | G17: 0 | H17: 2
B18: Categorie 10 | C18: Handbikes met elektrische ondersteuning | E18: 21 | F18: 2 | G18: 4 | H18: 6
B19: Categorie 11 | C19: Buggy’s | E19: 6 | F19: 2 | G19: 3 | H19: 5
B20: Categorie 12 | C20: Kinderduw wandelwagens | E20: 5 | F20: 1 | G20: 2 | H20: 4
... B41: Categorie 33 | C41: Douchebrancards | E41: 0 | F41: 0 | G41: 0 | H41: 0
B42: Totaal | D42: =SUM(D9:D41) -> 0 | E42: =SUM(E9:E41) -> 1316 | F42: =SUM(F9:F41) -> 229 | G42: =SUM(G9:G41) -> 172 | H42: =SUM(H9:H41) -> 339

Sheet Details bestand partij 2 
A1: Uitstaand per 31 oktober 2024
A3: Voorziening nummer | B3: Merk en type hulpmidel | C3: Gemeente | D3: Ingangsdatum Mobiliteit- en omwisselgarantie | E3: Huidig categorie-nummer | F3: Categorienummer aangepast naar nieuwe categorie-indeling t.b.v ophanden aanbesteding | G3: Jaar eerste levering ooit | H3: Leeftijd hulpmiddel in maanden op 31 oktober 2024 | I3: (Nieuw)leveringen in de periode 1-11-2023 t/m 31-10-2024 | J3: Herverstrekkingen in de periode 1-11-2023 t/m 31-10-2024 | K3: Datum laatste servicebeurt | L3: Bruto catalogus waarde hulpmiddel (incl. opties en individuele aanpassingen) datum 1ste verstrekking
A4: 14824454 | B4: Excel G-Lite | C4: Gemeente Bunnik | D4: 44657 | E4: 01 - Handbewogen rolstoel voor incidenteel gebruik | F4: Categorie 1 | G4: 43196 | H4: 78.9
A5: 351204398 | B5: Quickie Breezy Rubix | C5: Gemeente Bunnik | D5: 43647 | E5: 01 - Handbewogen rolstoel voor incidenteel gebruik | F5: Categorie 3 | G5: 40765 | H5: 158.8 | K5: 43921
A6: 201008736 | B6: Excel 200 S UL | C6: Gemeente Bunnik | D6: 43465 | E6: 01 - Handbewogen rolstoel voor incidenteel gebruik | F6: Categorie 1 | G6: 40912 | H6: 154 | K6: 43921
A7: 15599524 | B7: Excel G3 Eco | C7: Gemeente Bunnik | D7: 45498 | E7: 01 - Handbewogen rolstoel voor incidenteel gebruik | F7: Categorie 1 | G7: 43384 | H7: 72.7
A8: 23673218 | B8: Excel G-Eco | C8: Gemeente Bunnik | D8: 45372 | E8: 01 - Handbewogen rolstoel voor incidenteel gebruik | F8: Categorie 1 | G8: 45316 | H8: 9.2
A9: 24546086 | B9: Excel G-Entry | C9: Gemeente Bunnik | D9: 45518 | E9: 01 - Handbewogen rolstoel voor incidenteel gebruik | F9: Categorie 1 | G9: 44562 | H9: 31.91358
A10: 13331728 | B10: Excel G3 Eco | C10: Gemeente Bunnik | D10: 44686 | E10: 01 - Handbewogen rolstoel voor incidenteel gebruik | F10: Categorie 1 | G10: 43101 | H10: 82.1 | K10: 45349
A11: 14979213 | B11: Excel G-Lite | C11: Gemeente Bunnik | D11: 43593 | E11: 01 - Handbewogen rolstoel voor incidenteel gebruik | F11: Categorie 1 | G11: 43234 | H11: 77.7 | K11: 45350
A12: 20635480 | B12: Quickie Breezy Basix 2 | C12: Gemeente Bunnik | D12: 44915 | E12: 01 - Handbewogen rolstoel voor incidenteel gebruik | F12: Categorie 1 | G12: 44552 | H12: 34.4
A13: 22496276 | B13: Quickie Breezy Basix 2 | C13: Gemeente Bunnik | D13: 45022 | E13: 01 - Handbewogen rolstoel voor incidenteel gebruik | F13: Categorie 1 | G13: 45019 | H13: 19
A14: 16949774 | B14: Excel G-Lightweight | C14: Gemeente Bunnik | D14: 44783 | E14: 01 - Handbewogen rolstoel voor incidenteel gebruik | F14: Categorie 1 | G14: 43677 | H14: 63.1 | K14: 45350
A15: 16949802 | B15: Excel G-Lightweight | C15: Gemeente Bunnik | D15: 45498 | E15: 01 - Handbewogen rolstoel voor incidenteel gebruik | F15: Categorie 1 | G15: 43677 | H15: 63.1
A16: 201008737 | B16: Excel G5 | C16: Gemeente Bunnik | D16: 43465 | E16: 01 - Handbewogen rolstoel voor incidenteel gebruik | F16: Categorie 3 | G16: 40912 | H16: 154
A17: 24322963 | B17: Quickie Breezy Basix | C17: Gemeente Bunnik | D17: 45440 | E17: 01 - Handbewogen rolstoel voor incidenteel gebruik | F17: Categorie 1 | G17: 44197 | H17: 46
A18: 23673246 | B18: Excel G-Eco + | C18: Gemeente Bunnik | D18: 45348 | E18: 01 - Handbewogen rolstoel voor incidenteel gebruik | F18: Categorie 1 | G18: 45316 | H18: 9.2
A19: 13330568 | B19: Excel G3 Eco | C19: Gemeente Bunnik | D19: 44909 | E19: 01 - Handbewogen rolstoel voor incidenteel gebruik | F19: Categorie 1 | G19: 43594 | H19: 65.8
A20: 22809049 | B20: Excel G-Eco | C20: Gemeente Bunnik | D20: 45428 | E20: 01 - Handbewogen rolstoel voor incidenteel gebruik | F20: Categorie 1 | G20: 43206 | H20: 78.6
A21: 201008805 | B21: Quickie Breezy Basix | C21: Gemeente Bunnik | D21: 43465 | E21: 01 - Handbewogen rolstoel voor incidenteel gebruik | F21: Categorie 1 | G21: 40179 | H21: 178.1
A22: 201008767 | B22: Excel G5 | C22: Gemeente Bunnik | D22: 43465 | E22: 01 - Handbewogen rolstoel voor incidenteel gebruik | F22: Categorie 3 | G22: 41363 | H22: 139.2 | K22: 44300
A23: 201008768 | B23: Meyra Eurochair Vario | C23: Gemeente Bunnik | D23: 43465 | E23: 01 - Handbewogen rolstoel voor incidenteel gebruik | F23: Categorie 1 | G23: 40926 | H23: 153.6 | K23: 43794
A24: 17216024 | B24: Excel G-Lightweight | C24: Gemeente Bunnik | D24: 44809 | E24: 01 - Handbewogen rolstoel voor incidenteel gebruik | F24: Categorie 1 | G24: 43741 | H24: 61 | K24: 43950
A25: 201008799 | B25: Quickie Breezy Basix | C25: Gemeente Bunnik | D25: 43465 | E25: 01 - Handbewogen rolstoel voor incidenteel gebruik | F25: Categorie 1 | G25: 41764 | H25: 126
A26: 201008747 | B26: Meyra Eurochair 1.850 | C26: Gemeente Bunnik | D26: 43465 | E26: 01 - Handbewogen rolstoel voor incidenteel gebruik | F26: Categorie 3 | G26: 35796 | H26: 322.2
A27: 201008763 | B27: Meyra Eurochair Vario | C27: Gemeente Bunnik | D27: 43465 | E27: 01 - Handbewogen rolstoel voor incidenteel gebruik | F27: Categorie 1 | G27: 40179 | H27: 178.1
A28: 19012555 | B28: Excel G-Lightweight | C28: Gemeente Bunnik | D28: 44652 | E28: 01 - Handbewogen rolstoel voor incidenteel gebruik | F28: Categorie 1 | G28: 44158 | H28: 47.3 | K28: 45349
A29: 15385453 | B29: Excel G-Lightweight | C29: Gemeente Bunnik | D29: 44732 | E29: 01 - Handbewogen rolstoel voor incidenteel gebruik | F29: Categorie 1 | G29: 43321 | H29: 74.8
A30: 201008812 | B30: Quickie Breezy Basix | C30: Gemeente Bunnik | D30: 43465 | E30: 01 - Handbewogen rolstoel voor incidenteel gebruik | F30: Categorie 1 | G30: 37622 | H30: 262.2 | K30: 43847
A31: 17041199 | B31: Ibis | C31: Gemeente Bunnik | D31: 45044 | E31: 02 - Handbewogen (comfort)rolstoel permanent/passief gebruik | F31: Categorie 2 | G31: 43699 | H31: 62.4
A32: 23867717 | B32: Kidevo Adapt | C32: Gemeente Bunnik | D32: 45435 | E32: 02 - Handbewogen (comfort)rolstoel permanent/passief gebruik | F32: Categorie 2 | G32: 45427 | H32: 5.6
A33: 201008793 | B33: Quickie 2 Millenium SA | C33: Gemeente Bunnik | D33: 43465 | E33: 03 - Handbewogen rolstoel actief of (semi) permanent gebruik | F33: Categorie 3 | G33: 37257 | H33: 274.2 | K33: 44652
A34: 22507366 | B34: Quickie Argon 2 | C34: Gemeente Bunnik | D34: 45050 | E34: 03 - Handbewogen rolstoel actief of (semi) permanent gebruik | F34: Categorie 4 | G34: 45037 | H34: 18.4
A35: 13260010 | B35: Quickie 2 Helix 2 Comfort | C35: Gemeente Bunnik | D35: 45111 | E35: 03 - Handbewogen rolstoel actief of (semi) permanent gebruik | F35: Categorie 3 | G35: 42836 | H35: 90.8 | K35: 44341
A36: 201008787 | B36: Quickie 2 Helix 2 | C36: Gemeente Bunnik | D36: 45419 | E36: 03 - Handbewogen rolstoel actief of (semi) permanent gebruik | F36: Categorie 3 | G36: 43202 | H36: 78.7 | K36: 44957
A37: 10649477 | B37: Quickie Life R | C37: Gemeente Bunnik | D37: 43528 | E37: 03 - Handbewogen rolstoel actief of (semi) permanent gebruik | F37: Categorie 4 | G37: 42208 | H37: 111.4 | K37: 43921
A38: 17358170 | B38: Excel G3 Eco | C38: Gemeente Bunnik | D38: 43794 | E38: 03 - Handbewogen rolstoel actief of (semi) permanent gebruik | F38: Categorie 1 | G38: 41972 | H38: 119.2 | K38: 45545
A39: 19720963 | B39: Quickie 2 | C39: Gemeente Bunnik | D39: 44433 | E39: 03 - Handbewogen rolstoel actief of (semi) permanent gebruik | F39: Categorie 3 | G39: 44344 | H39: 41.2
A40: 17069836 | B40: Excel G-Modular | C40: Gemeente Bunnik | D40: 44151 | E40: 03 - Handbewogen rolstoel actief of (semi) permanent gebruik | F40: Categorie 3 | G40: 43706 | H40: 62.2 | K40: 44371
A41: 23429889 | B41: Etac Cross 5 | C41: Gemeente Bunnik | D41: 45391 | E41: 03 - Handbewogen rolstoel actief of (semi) permanent gebruik | F41: Categorie 3 | G41: 45257 | H41: 11.2
A42: 307000022 | B42: Excel G5 Modulair | C42: Gemeente Bunnik | D42: 44579 | E42: 03 - Handbewogen rolstoel actief of (semi) permanent gebruik | F42: Categorie 3 | G42: 42031 | H42: 117.2
A43: 201008781 | B43: Quickie 2 Helix | C43: Gemeente Bunnik | D43: 43465 | E43: 03 - Handbewogen rolstoel actief of (semi) permanent gebruik | F43: Categorie 3 | G43: 40912 | H43: 154
A44: 201008797 | B44: Quickie Argon 2 | C44: Gemeente Bunnik | D44: 43465 | E44: 03 - Handbewogen rolstoel actief of (semi) permanent gebruik | F44: Categorie 4 | G44: 43221 | H44: 78.1
A45: 201008744 | B45: Kid-do | C45: Gemeente Bunnik | D45: 43465 | E45: 03 - Handbewogen rolstoel actief of (semi) permanent gebruik | F45: Categorie 4 | G45: 43413 | H45: 71.8 | K45: 44210
A46: 201008796 | B46: Quickie Argon | C46: Gemeente Bunnik | D46: 43465 | E46: 03 - Handbewogen rolstoel actief of (semi) permanent gebruik | F46: Categorie 4 | G46: 41761 | H46: 126.1
A47: 18104707 | B47: Quickie 2 Helix 2 | C47: Gemeente Bunnik | D47: 44690 | E47: 03 - Handbewogen rolstoel actief of (semi) permanent gebruik | F47: Categorie 3 | G47: 42850 | H47: 90.3
A48: 201008789 | B48: Quickie 2 Helix Comfort | C48: Gemeente Bunnik | D48: 43465 | E48: 03 - Handbewogen rolstoel actief of (semi) permanent gebruik | F48: Categorie 3 | G48: 41586 | H48: 131.9 | K48: 44652
A49: 17870927 | B49: Quickie 2 Helix 2 | C49: Gemeente Bunnik | D49: 44894 | E49: 03 - Handbewogen rolstoel actief of (semi) permanent gebruik | F49: Categorie 3 | G49: 43899 | H49: 55.8 | K49: 44573
A50: 201008890 | B50: RGK | C50: Gemeente Bunnik | D50: 43465 | E50: 03 - Handbewogen rolstoel actief of (semi) permanent gebruik | F50: Categorie 3 | G50: 40912 | H50: 154
A51: 201008825 | B51: Quickie Neon SA | C51: Gemeente Bunnik | D51: 43465 | E51: 03 - Handbewogen rolstoel actief of (semi) permanent gebruik | F51: Categorie 3 | G51: 38718 | H51: 226.1
A52: 201008831 | B52: Spinner 3000 Swing | C52: Gemeente Bunnik | D52: 43465 | E52: 03 - Handbewogen rolstoel actief of (semi) permanent gebruik | F52: Categorie 3 | G52: 42005 | H52: 118.1 | K52: 44770
A53: 201008778 | B53: Quickie 2 Helix | C53: Gemeente Bunnik | D53: 43465 | E53: 03 - Handbewogen rolstoel actief of (semi) permanent gebruik | F53: Categorie 3 | G53: 40912 | H53: 154
A54: 14719462 | B54: Excel G-Modular | C54: Gemeente Bunnik | D54: 44397 | E54: 03 - Handbewogen rolstoel actief of (semi) permanent gebruik | F54: Categorie 3 | G54: 43172 | H54: 79.7 | K54: 44950
A55: 201008828 | B55: Rea 703 LX | C55: Gemeente Bunnik | D55: 43465 | E55: 03 - Handbewogen rolstoel actief of (semi) permanent gebruik | F55: Categorie 3 | G55: 40927 | H55: 153.5 | K55: 43854
A56: 19013817 | B56: Quickie 2 Helix 2 | C56: Gemeente Bunnik | D56: 45009 | E56: 03 - Handbewogen rolstoel actief of (semi) permanent gebruik | F56: Categorie 3 | G56: 44165 | H56: 47.1
A57: 23821617 | B57: Etac Cross 6 Comfort | C57: Gemeente Bunnik | D57: 45398 | E57: 03 - Handbewogen rolstoel actief of (semi) permanent gebruik | F57: Categorie 3 | G57: 45369 | H57: 7.5
A58: 22748971 | B58: RGK Octane | C58: Gemeente Bunnik | D58: 45342 | E58: 03 - Handbewogen rolstoel actief of (semi) permanent gebruik | F58: Categorie 3 | G58: 45342 | H58: 8.4
A59: 16179058 | B59: Quickie Helium | C59: Gemeente Bunnik | D59: 43535 | E59: 03 - Handbewogen rolstoel actief of (semi) permanent gebruik | F59: Categorie 4 | G59: 43525 | H59: 68.1 | K59: 44215
A60: 201008745 | B60: Kuschall | C60: Gemeente Bunnik | D60: 43465 | E60: 03 - Handbewogen rolstoel actief of (semi) permanent gebruik | F60: Categorie 4 | G60: 41025 | H60: 150.3 | K60: 44945
A61: 22571274 | B61: Quickie 2 Helix 2 | C61: Gemeente Bunnik | D61: 45154 | E61: 03 - Handbewogen rolstoel actief of (semi) permanent gebruik | F61: Categorie 3 | G61: 45051 | H61: 17.9
A62: 15823549 | B62: Excel G-Modular | C62: Gemeente Bunnik | D62: 44881 | E62: 03 - Handbewogen rolstoel actief of (semi) permanent gebruik | F62: Categorie 3 | G62: 43425 | H62: 71.4
A63: 16229797 | B63: Zippie Youngster 3 | C63: Gemeente Bunnik | D63: 45371 | E63: 03 - Handbewogen rolstoel actief of (semi) permanent gebruik | F63: Categorie 3 | G63: 43522 | H63: 68.2
A64: 17370308 | B64: Quickie 2 Helix 2 | C64: Gemeente Bunnik | D64: 45420 | E64: 03 - Handbewogen rolstoel actief of (semi) permanent gebruik | F64: Categorie 3 | G64: 43447 | H64: 70.7 | K64: 43914
A65: 14156539 | B65: Quickie 2 Helix Comfort | C65: Gemeente Bunnik | D65: 44489 | E65: 03 - Handbewogen rolstoel actief of (semi) permanent gebruik | F65: Categorie 3 | G65: 43054 | H65: 83.6
A66: 9402632 | B66: Quickie Argon 2 | C66: Gemeente Bunnik | D66: 44277 | E66: 03 - Handbewogen rolstoel actief of (semi) permanent gebruik | F66: Categorie 4 | G66: 41863 | H66: 122.7
A67: 201008792 | B67: Quickie 2 Millenium SA | C67: Gemeente Bunnik | D67: 43465 | E67: 03 - Handbewogen rolstoel actief of (semi) permanent gebruik | F67: Categorie 3 | G67: 40912 | H67: 154 | K67: 43747
A68: 20710861 | B68: Zippie Youngster 3 | C68: Gemeente Bunnik | D68: 44644 | E68: 03 - Handbewogen rolstoel actief of (semi) permanent gebruik | F68: Categorie 3 | G68: 44608 | H68: 32.5 | K68: 45558
A69: 22650693 | B69: Etac Cross 6 Comfort | C69: Gemeente Bunnik | D69: 45091 | E69: 03 - Handbewogen rolstoel actief of (semi) permanent gebruik | F69: Categorie 3 | G69: 45079 | H69: 17
A70: 16952156 | B70: Quickie 2 Helix 2 | C70: Gemeente Bunnik | D70: 45126 | E70: 03 - Handbewogen rolstoel actief of (semi) permanent gebruik | F70: Categorie 3 | G70: 43685 | H70: 62.9
A71: 16852575 | B71: excello | C71: Gemeente Bunnik | D71: 43838 | E71: 03 - Handbewogen rolstoel actief of (semi) permanent gebruik | F71: Categorie 3 | G71: 43810 | H71: 55.123457 | K71: 45352
A72: 14039955 | B72: Zippie type A02 | C72: Gemeente Bunnik | D72: 43623 | E72: 04 - Buggy's/kinder duwwandelwagen | F72: Categorie 11 | G72: 43021 | H72: 84.7
A73: 21743456 | B73: Rodeo RD16EU, Black Caster Lock | C73: Gemeente Bunnik | D73: 44903 | E73: 04 - Buggy's/kinder duwwandelwagen | F73: Categorie 12 | G73: 44893 | H73: 23.1
A74: 22728229 | B74: R82 Stingray | C74: Gemeente Bunnik | D74: 45125 | E74: 04 - Buggy's/kinder duwwandelwagen | F74: Categorie 28 | G74: 45079 | H74: 17
A75: 16367480 | B75: Zippie type A01 Buggy | C75: Gemeente Bunnik | D75: 44462 | E75: 04 - Buggy's/kinder duwwandelwagen | F75: Categorie 11 | G75: 43553 | H75: 67.2 | K75: 45348
A76: 19801576 | B76: Alber E-Motion | C76: Gemeente Bunnik | D76: 45111 | E76: 05 - Universele "losse" elektrische hulpaandrijving voor gebruiker, dan wel begeleider | F76: Categorie 7 | G76: 44393 | H76: 39.6
A77: 17458573 | B77: Mobility Prod E- Drive | C77: Gemeente Bunnik | D77: 43844 | E77: 05 - Universele "losse" elektrische hulpaandrijving voor gebruiker, dan wel begeleider | F77: Categorie 7 | G77: 43822 | H77: 58.3 | K77: 45349
A78: 13670739 | B78: Quickie Lightdrive | C78: Gemeente Bunnik | D78: 44433 | E78: 05 - Universele "losse" elektrische hulpaandrijving voor gebruiker, dan wel begeleider | F78: Categorie 7 | G78: 42863 | H78: 89.9 | K78: 43564
A79: 21245595 | B79: Excel Click & Go | C79: Gemeente Bunnik | D79: 44971 | E79: 05 - Universele "losse" elektrische hulpaandrijving voor gebruiker, dan wel begeleider | F79: Categorie 8 | G79: 44697 | H79: 29.6 | K79: 45356
A80: 22590935 | B80: AAT Solo | C80: Gemeente Bunnik | D80: 45210 | E80: 05 - Universele "losse" elektrische hulpaandrijving voor gebruiker, dan wel begeleider | F80: Categorie 7 | G80: 45086 | H80: 15.740741
A81: 19096365 | B81: Excel Click & Go | C81: Gemeente Bunnik | D81: 45230 | E81: 05 - Universele "losse" elektrische hulpaandrijving voor gebruiker, dan wel begeleider | F81: Categorie 8 | G81: 44179 | H81: 46.6 | K81: 44672
A82: 9766578 | B82: Excel Click & Go | C82: Gemeente Bunnik | D82: 44783 | E82: 05 - Universele "losse" elektrische hulpaandrijving voor gebruiker, dan wel begeleider | F82: Categorie 8 | G82: 41878 | H82: 122.3 | K82: 44141
A83: 21933613 | B83: E-drive | C83: Gemeente Bunnik | D83: 44911 | E83: 05 - Universele "losse" elektrische hulpaandrijving voor gebruiker, dan wel begeleider | F83: Categorie 7 | G83: 44874 | H83: 23.8 | K83: 45323
A84: 16653255 | B84: AAT Solo | C84: Gemeente Bunnik | D84: 44894 | E84: 05 - Universele "losse" elektrische hulpaandrijving voor gebruiker, dan wel begeleider | F84: Categorie 7 | G84: 43622 | H84: 64.9 | K84: 44309
A85: 17595172 | B85: Mobility Prod E- Drive | C85: Gemeente Bunnik | D85: 44896 | E85: 05 - Universele "losse" elektrische hulpaandrijving voor gebruiker, dan wel begeleider | F85: Categorie 7 | G85: 43872 | H85: 56.7 | K85: 44235
A86: 201008658 | B86: wheeldrive 24" | C86: Gemeente Bunnik | D86: 43465 | E86: 05 - Universele "losse" elektrische hulpaandrijving voor gebruiker, dan wel begeleider | F86: Categorie 7 | G86: 42736 | H86: 94 | K86: 43794
A87: 201008712 | B87: Tracker | C87: Gemeente Bunnik | D87: 43465 | E87: 06a - Universeel aankoppelbaar fietsdeel/handbike niet elektrisch | F87: Categorie 9 | G87: 41075 | H87: 148.7
A88: 201008713 | B88: Tracker | C88: Gemeente Bunnik | D88: 43465 | E88: 06b - Universeel aankoppelbaar fietsdeel/handbike elektrisch | F88: Categorie 10 | G88: 43405 | H88: 72.1 | K88: 43964
A89: 16179327 | B89: Quickie Attitude Junior | C89: Gemeente Bunnik | D89: 45369 | E89: 06b - Universeel aankoppelbaar fietsdeel/handbike elektrisch | F89: Categorie 10 | G89: 43528 | H89: 68 | K89: 43859
A90: 9926253 | B90: Puma 40 | C90: Gemeente Bunnik | D90: 43598 | E90: 07 - Elektrische rolstoel | F90: Categorie 6 | G90: 42010 | H90: 117.9 | K90: 42423
A91: 15346188 | B91: Permobil M5 | C91: Gemeente Bunnik | D91: 45352 | E91: 07 - Elektrische rolstoel | F91: Categorie 6 | G91: 43353 | H91: 73.8 | K91: 44099
A92: 17292980 | B92: Mercado Real Mobil 6100 | C92: Gemeente Bunnik | D92: 43831 | E92: 07 - Elektrische rolstoel | F92: Categorie 5 | G92: 43775 | H92: 59.9 | K92: 43958
A93: 23749145 | B93: Dietz Sango Advanced MWD | C93: Gemeente Bunnik | D93: 45419 | E93: 07 - Elektrische rolstoel | F93: Categorie 6 | G93: 45393 | H93: 6.7
A94: 23772640 | B94: Dietz Sango Advanced RWD | C94: Gemeente Bunnik | D94: 45436 | E94: 07 - Elektrische rolstoel | F94: Categorie 6 | G94: 45384 | H94: 7
A95: 22029057 | B95: Q 500 RWD | C95: Gemeente Bunnik | D95: 44979 | E95: 07 - Elektrische rolstoel | F95: Categorie 6 | G95: 44924 | H95: 22.1 | K95: 45589
A96: 22129594 | B96: Dietz Sango Advanced MWD | C96: Gemeente Bunnik | D96: 44960 | E96: 07 - Elektrische rolstoel | F96: Categorie 6 | G96: 44938 | H96: 21.7 | K96: 45348
A97: 23440512 | B97: Dietz Sango Advanced RWD | C97: Gemeente Bunnik | D97: 45327 | E97: 07 - Elektrische rolstoel | F97: Categorie 6 | G97: 45307 | H97: 9.5
A98: 22375913 | B98: Excel Galaxy II | C98: Gemeente Bunnik | D98: 45139 | E98: 08 - Scootmobiel standaard | F98: Categorie 24 | G98: 45012 | H98: 19.2
A99: 18250452 | B99: Excel Galaxy II | C99: Gemeente Bunnik | D99: 45210 | E99: 08 - Scootmobiel standaard | F99: Categorie 24 | G99: 43990 | H99: 52.8 | K99: 44242
A100: 22268189 | B100: Sterling Elite 2 Mini | C100: Gemeente Bunnik | D100: 45167 | E100: 08 - Scootmobiel standaard | F100: Categorie 24 | G100: 45054 | H100: 17.9
A101: 22375791 | B101: Sterling Elite 2 XS | C101: Gemeente Bunnik | D101: 45012 | E101: 08 - Scootmobiel standaard | F101: Categorie 24 | G101: 45002 | H101: 19.6
...

Sheet Bestandsoverzicht partij 2
B3: Bestandsgegevens 31 oktober 2024
B5: Gemeenten Bunnik, De Bilt, Utrechtse Heuvelrug, Wijk bij Duurstede en Zeist - Medipoint
B8: Categorie | D8: Uitstaand bij klanten | F8: Leveringen vanaf 1 november 2023 t/m 31 oktober 2024 | H8: Innames vanaf 1 november 2023 t/m 31 oktober 2024
D9: 45230 | E9: 45596 | F9: Nieuw | G9: Herverstrekking | H9: Inname
B10: Categorie 1 | C10: Handbewogen rolstoelen Incidenteel gebruik | D10: 265 | E10: 194 | F10: 10 | G10: 36 | H10: 47
B11: Categorie 2 | C11: Handbewogen rolstoelen voor permanent en/of passief gebruik met kantelverstelling | D11: 46 | E11: 43 | F11: 5 | G11: 24 | H11: 29
B12: Categorie 3 | C12: Handbewogen rolstoelen voor semi- permanent gebruik of actief gebruik | D12: 310 | E12: 324 | F12: 22 | G12: 58 | H12: 97
B13: Categorie 4 | C13: Handbewogen rolstoelen actief gebruik / vastframe | D13: 85 | E13: 90 | F13: 6 | G13: 9 | H13: 9
B14: Categorie 5 | C14: Elektrische rolstoelen, modellen eenvoudig | D14: 17 | E14: 18 | F14: 0 | G14: 1 | H14: 6
B15: Categorie 6 | C15: Elektrische rolstoelen, modellen complex | D15: 23 | E15: 51 | F15: 8 | G15: 16 | H15: 7
B16: Categorie 7 | C16: Elektrische aandrijfunits hoepelondersteuning | D16: 44 | E16: 48 | F16: 2 | G16: 3 | H16: 9
B17: Categorie 8 | C17: Elektrische aandrijfunits duwondersteuning | D17: 23 | E17: 19 | F17: 3 | G17: 10 | H17: 20
B18: Categorie 9 | C18: Handbikes | D18: 13 | E18: 13 | F18: 0 | G18: 0 | H18: 2
B19: Categorie 10 | C19: Handbikes met elektrische ondersteuning | D19: 19 | E19: 23 | F19: 3 | G19: 0 | H19: 3
B20: Categorie 11 | C20: Buggy’s | D20: 18 | E20: 22 | F20: 3 | G20: 3 | H20: 4
B21: Categorie 12 | C21: Kinderduw wandelwagens | D21: 11 | E21: 11 | F21: 1 | G21: 0 | H21: 2
... B42: Categorie 33 | C42: Douchebrancards | D42: 0 | E42: 0 | F42: 0 | G42: 0 | H42: 0
B43: Totaal | D43: 1891 | E43: =SUM(E10:E42) -> 1902 | F43: 179 | G43: 340 | H43: 493
