Workbook

Sheet Bestandoverzicht samengevoegd
B3: Bestandsgegevens 31 oktober 2024
B5: Gemeenten Bunnik, De Bilt, Utrechtse Heuvelrug, Wijk bij Duurstede en Zeist - Medipoint
B8: Categorie | D8: Uitstaand bij klanten | F8: Leveringen vanaf 1 november 2023 t/m 31 oktober 2024 | H8: Innames vanaf 1 november 2023 t/m 31 oktober 2024
D9: 45230 | E9: 45596 | F9: Nieuw | G9: Herverstrekking | H9: Inname
B10: Categorie 1 | C10: Handbewogen rolstoelen Incidenteel gebruik | E10: ='Bestandsoverzicht partij 1'!E9+'Bestandsoverzicht partij 2'!E10 -> 334 | F10: ='Bestandsoverzicht partij 1'!F9+'Bestandsoverzicht partij 2'!F10 -> 40 | G10: ='Bestandsoverzicht partij 1'!G9+'Bestandsoverzicht partij 2'!G10 -> 52 | H10: ='Bestandsoverzicht partij 1'!H9+'Bestandsoverzicht partij 2'!H10 -> 80
B11: Categorie 2 | C11: Handbewogen rolstoelen voor permanent en/of passief gebruik met kantelverstelling | E11: ='Bestandsoverzicht partij 1'!E10+'Bestandsoverzicht partij 2'!E11 -> 87 | F11: ='Bestandsoverzicht partij 1'!F10+'Bestandsoverzicht partij 2'!F11 -> 16 | G11: ='Bestandsoverzicht partij 1'!G10+'Bestandsoverzicht partij 2'!G11 -> 30 | H11: ='Bestandsoverzicht partij 1'!H10+'Bestandsoverzicht partij 2'!H11 -> 51
B12: Categorie 3 | C12: Handbewogen rolstoelen voor semi- permanent gebruik of actief gebruik | E12: ='Bestandsoverzicht partij 1'!E11+'Bestandsoverzicht partij 2'!E12 -> 477 | F12: ='Bestandsoverzicht partij 1'!F11+'Bestandsoverzicht partij 2'!F12 -> 45 | G12: ='Bestandsoverzicht partij 1'!G11+'Bestandsoverzicht partij 2'!G12 -> 75 | H12: ='Bestandsoverzicht partij 1'!H11+'Bestandsoverzicht partij 2'!H12 -> 123
B13: Categorie 4 | C13: Handbewogen rolstoelen actief gebruik / vastframe | E13: ='Bestandsoverzicht partij 1'!E12+'Bestandsoverzicht partij 2'!E13 -> 154 | F13: ='Bestandsoverzicht partij 1'!F12+'Bestandsoverzicht partij 2'!F13 -> 16 | G13: ='Bestandsoverzicht partij 1'!G12+'Bestandsoverzicht partij 2'!G13 -> 17 | H13: ='Bestandsoverzicht partij 1'!H12+'Bestandsoverzicht partij 2'!H13 -> 21
B14: Categorie 5 | C14: Elektrische rolstoelen, modellen eenvoudig | E14: ='Bestandsoverzicht partij 1'!E13+'Bestandsoverzicht partij 2'!E14 -> 53 | F14: ='Bestandsoverzicht partij 1'!F13+'Bestandsoverzicht partij 2'!F14 -> 4 | G14: ='Bestandsoverzicht partij 1'!G13+'Bestandsoverzicht partij 2'!G14 -> 7 | H14: ='Bestandsoverzicht partij 1'!H13+'Bestandsoverzicht partij 2'!H14 -> 14
B15: Categorie 6 | C15: Elektrische rolstoelen, modellen complex | E15: ='Bestandsoverzicht partij 1'!E14+'Bestandsoverzicht partij 2'!E15 -> 66 | F15: ='Bestandsoverzicht partij 1'!F14+'Bestandsoverzicht partij 2'!F15 -> 10 | G15: ='Bestandsoverzicht partij 1'!G14+'Bestandsoverzicht partij 2'!G15 -> 20 | H15: ='Bestandsoverzicht partij 1'!H14+'Bestandsoverzicht partij 2'!H15 -> 11
B16: Categorie 7 | C16: Elektrische aandrijfunits hoepelondersteuning | E16: ='Bestandsoverzicht partij 1'!E15+'Bestandsoverzicht partij 2'!E16 -> 105 | F16: ='Bestandsoverzicht partij 1'!F15+'Bestandsoverzicht partij 2'!F16 -> 4 | G16: ='Bestandsoverzicht partij 1'!G15+'Bestandsoverzicht partij 2'!G16 -> 5 | H16: ='Bestandsoverzicht partij 1'!H15+'Bestandsoverzicht partij 2'!H16 -> 11
B17: Categorie 8 | C17: Elektrische aandrijfunits duwondersteuning | E17: ='Bestandsoverzicht partij 1'!E16+'Bestandsoverzicht partij 2'!E17 -> 35 | F17: ='Bestandsoverzicht partij 1'!F16+'Bestandsoverzicht partij 2'!F17 -> 9 | G17: ='Bestandsoverzicht partij 1'!G16+'Bestandsoverzicht partij 2'!G17 -> 12 | H17: ='Bestandsoverzicht partij 1'!H16+'Bestandsoverzicht partij 2'!H17 -> 21
B18: Categorie 9 | C18: Handbikes | E18: ='Bestandsoverzicht partij 1'!E17+'Bestandsoverzicht partij 2'!E18 -> 20 | F18: ='Bestandsoverzicht partij 1'!F17+'Bestandsoverzicht partij 2'!F18 -> 0 | G18: ='Bestandsoverzicht partij 1'!G17+'Bestandsoverzicht partij 2'!G18 -> 0 | H18: ='Bestandsoverzicht partij 1'!H17+'Bestandsoverzicht partij 2'!H18 -> 4
B19: Categorie 10 | C19: Handbikes met elektrische ondersteuning | E19: ='Bestandsoverzicht partij 1'!E18+'Bestandsoverzicht partij 2'!E19 -> 44 | F19: ='Bestandsoverzicht partij 1'!F18+'Bestandsoverzicht partij 2'!F19 -> 5 | G19: ='Bestandsoverzicht partij 1'!G18+'Bestandsoverzicht partij 2'!G19 -> 4 | H19: ='Bestandsoverzicht partij 1'!H18+'Bestandsoverzicht partij 2'!H19 -> 9
B20: Categorie 11 | C20: Buggy’s | E20: ='Bestandsoverzicht partij 1'!E19+'Bestandsoverzicht partij 2'!E20 -> 28 | F20: ='Bestandsoverzicht partij 1'!F19+'Bestandsoverzicht partij 2'!F20 -> 5 | G20: ='Bestandsoverzicht partij 1'!G19+'Bestandsoverzicht partij 2'!G20 -> 6 | H20: ='Bestandsoverzicht partij 1'!H19+'Bestandsoverzicht partij 2'!H20 -> 9
B21: Categorie 12 | C21: Kinderduw wandelwagens | E21: ='Bestandsoverzicht partij 1'!E20+'Bestandsoverzicht partij 2'!E21 -> 16 | F21: ='Bestandsoverzicht partij 1'!F20+'Bestandsoverzicht partij 2'!F21 -> 2 | G21: ='Bestandsoverzicht partij 1'!G20+'Bestandsoverzicht partij 2'!G21 -> 2 | H21: ='Bestandsoverzicht partij 1'!H20+'Bestandsoverzicht partij 2'!H21 -> 6
... B42: Categorie 33 | C42: Douchebrancards | E42: ='Bestandsoverzicht partij 1'!E41+'Bestandsoverzicht partij 2'!E42 -> 0 | F42: ='Bestandsoverzicht partij 1'!F41+'Bestandsoverzicht partij 2'!F42 -> 0 | G42: ='Bestandsoverzicht partij 1'!G41+'Bestandsoverzicht partij 2'!G42 -> 0 | H42: ='Bestandsoverzicht partij 1'!H41+'Bestandsoverzicht partij 2'!H42 -> 0
B43: Totaal | E43: =SUM(E10:E42) -> 3218 | F43: =SUM(F10:F42) -> 405 | G43: =SUM(G10:G42) -> 509 | H43: =SUM(H10:H42) -> 829

Sheet Datails bestand partij 1
H1: 45597
B2: Voorziening nummer | C2: Merk en type hulpmidel | D2: Gemeente | E2: Ingangsdatum Mobiliteit- en omruilgarantie | F2: Huidig categorie-nummer | G2: Categorienummer aangepast naar nieuwe categorie-indeling t.b.v ophanden aanbesteding | H2: Jaar eerste levering ooit | I2: Leeftijd hulpmiddel in maanden op 31 oktober 2024 | J2: (Nieuw)leveringen in de periode 1-11-2023 t/m 31-10-2024 | K2: Herverstrekkingen in de periode 1-11-2023 t/m 31-10-2024 | L2: Datum laatste servicebeurt | M2: Huidig categorie-nummer | N2: Categorie omschrijving (iWmo productcode)
B3: VOORZ21041344 | C3: Stuklijst - Pride Zolar 3-wiel scooter | D3: Gemeente De Bilt | E3: 44470 | F3: 12K02 | G3: 24 | H3: 42552 | I3: =+($H$1-H3)/30.42 -> 100.09862 | L3: 45393 | M3: 8 | N3: Scootmobiel standaard - koop
B4: VOORZ21041503 | C4: Stuklijst - Breezy BasiX2 | D4: Gemeente De Bilt | E4: 44440 | F4: 11K01 | G4: 1 | H4: 43314 | I4: =+($H$1-H4)/30.42 -> 75.04931 | L4: 44931 | M4: 1 | N4: Handbewogen rolstoel incidenteel gebruik - koop
B5: VOORZ21041505 | C5: Stuklijst - Orion PRO 3-wiel | D5: Gemeente De Bilt | E5: 44435 | F5: 12K02 | G5: 24 | H5: 43732 | I5: =+($H$1-H5)/30.42 -> 61.30835 | L5: 45589 | M5: 8 | N5: Scootmobiel standaard - koop
B6: VOORZ21042316 | C6: Stuklijst - Easy 22" met traponderst, 7VTT cr wit | D6: Gemeente De Bilt | E6: 43617 | F6: 12K13 | G6: 20 | H6: 44378 | I6: =+($H$1-H6)/30.42 -> 40.072321 | L6: 45386 | M6: 10 | N6: Driewielfiets - koop
B7: VOORZ21043686 | C7: Stuklijst - Proval custom made ADL rolstoel | D7: Gemeente De Bilt | E7: 44459 | F7: 12K22 | G7: 10 | H7: 44470 | I7: =+($H$1-H7)/30.42 -> 37.047995 | L7: 45315 | M7: 6B | N7: Univer. aankoppelb. handbike (elektr.) - koop
B8: VOORZ21047016 | C8: Stuklijst - Quickie HeliX2 | D8: Gemeente De Bilt | E8: 43617 | F8: 11K02 | G8: 3 | H8: 40480 | I8: =+($H$1-H8)/30.42 -> 168.2117 | L8: 45113 | M8: 3 | N8: Handbew. rolstoel actief/permanent gebruik - koop
B9: VOORZ21049340 | C9: Stuklijst - Luna Pride scootmobiel | D9: Gemeente De Bilt | E9: 44466 | F9: 12K02 | G9: 24 | H9: 42491 | I9: =+($H$1-H9)/30.42 -> 102.10388 | L9: 45597 | M9: 8 | N9: Scootmobiel standaard - koop
B10: VOORZ21049411 | C10: Stuklijst - SWIFT douchekruk (incl.armsteun) grijs | D10: Gemeente De Bilt | E10: 44466 | F10: 13K11 | G10: 31 | H10: 40926 | I10: =+($H$1-H10)/30.42 -> 153.5503 | L10: 44525 | M10: 14 | N10: Douche-/toilet voorziening eenvoudig - koop
B11: VOORZ21053039 | C11: Stuklijst - Luna Pride Victory | D11: Gemeente De Bilt | E11: 43617 | F11: 12K02 | G11: 24 | H11: 42374 | I11: =+($H$1-H11)/30.42 -> 105.95003 | L11: 45615 | M11: 8 | N11: Scootmobiel standaard - koop
B12: VOORZ21056332 | C12: Stuklijst - Quickie Puma 20 | D12: Gemeente De Bilt | E12: 44403 | F12: 11K10 | G12: 5 | H12: 43586 | I12: =+($H$1-H12)/30.42 -> 66.107824 | L12: 45567 | M12: 7 | N12: Elektrische rolstoel - koop
B13: VOORZ22003286 | C13: Stuklijst - Sterling Elite2 XS | D13: Gemeente De Bilt | E13: 44545 | F13: 12K02 | G13: 24 | H13: 43405 | I13: =+($H$1-H13)/30.42 -> 72.057857 | L13: 45114 | M13: 8 | N13: Scootmobiel standaard - koop
B14: VOORZ22014592 | C14: Stuklijst - Breezy BasiX2 | D14: Gemeente De Bilt | E14: 44545 | F14: 11K01 | G14: 1 | H14: 43348 | I14: =+($H$1-H14)/30.42 -> 73.931624 | L14: 44581 | M14: 1 | N14: Handbewogen rolstoel incidenteel gebruik - koop
B15: VOORZ22021620 | C15: Stuklijst - Copilot 26, grijs | D15: Gemeente De Bilt | E15: 44483 | F15: 12K30 | G15: 23 | H15: 44622 | I15: =+($H$1-H15)/30.42 -> 32.051282 | L15: 45364 | M15: 12 | N15: Duofiets - koop (2-wiel tandem)
B16: VOORZ22021622 | C16: Stuklijst - Carrot autostoel, maat XL. | D16: Gemeente De Bilt | E16: 44543 | F16: 12K50 | G16: 28 | H16: 44643 | I16: =+($H$1-H16)/30.42 -> 31.360947 | L16: 44643 | M16: 19 | N16: Speciaal autozitje - koop
B17: VOORZ22025274 | C17: Stuklijst - Breezy BasiX2 | D17: Gemeente De Bilt | E17: 43617 | F17: 11K01 | G17: 1 | H17: 41796 | I17: =+($H$1-H17)/30.42 -> 124.95069 | L17: 45414 | M17: 1 | N17: Handbewogen rolstoel incidenteel gebruik - koop
B18: VOORZ22028917 | C18: Stuklijst - Raisa II (130 kg), Actieve lift | D18: Gemeente De Bilt | E18: 44682 | F18: 13K02 | G18: 29 | H18: 42186 | I18: =+($H$1-H18)/30.42 -> 112.13018 | L18: 45419 | M18: 18 | N18: Tillift passief - koop
B19: VOORZ22028919 | C19: Stuklijst - Wendy 3 | D19: Gemeente De Bilt | E19: 44682 | F19: 13K01 | G19: 30 | H19: 42186 | I19: =+($H$1-H19)/30.42 -> 112.13018 | L19: 45482 | M19: 17 | N19: Tillift actief - koop
... B62: VOORZ23028438 | C62: Stuklijst - Sterling Trophy 6 | D62: Gemeente De Bilt | E62: 45041 | F62: 12K04 | G62: 26 | H62: 43699 | I62: =+($H$1-H62)/30.42 -> 62.393162 | L62: 45587 | M62: 9 | N62: Scootmobiel extra geveerd - koop
B63: VOORZ23028725 | C63: Stuklijst - Batec | D63: Gemeente De Bilt | E63: 45036 | F63: 12K22 | G63: 10 | H63: 44832 | I63: =+($H$1-H63)/30.42 -> 25.147929 | L63: 45517 | M63: 6B | N63: Univer. aankoppelb. handbike (elektr.) - koop
B64: VOORZ23036080 | C64: Stuklijst - Sterling Elite2 XS (blauw) | D64: Gemeente De Bilt | E64: 43850 | F64: 12K02 | G64: 24 | H64: 42186 | I64: =+($H$1-H64)/30.42 -> 112.13018 | L64: 45061 | M64: 8 | N64: Scootmobiel standaard - koop
B65: VOORZ23036166 | C65: Stuklijst - Excel Galaxy 2, 3W, lightning blue | D65: Gemeente De Bilt | E65: 43871 | F65: 12K02 | G65: 24 | H65: 45077 | I65: =+($H$1-H65)/30.42 -> 17.094017 | L65: 45582 | M65: 8 | N65: Scootmobiel standaard - koop
B66: VOORZ23036409 | C66: Stuklijst - Stricker Handbike City 7 | D66: Gemeente De Bilt | E66: 44958 | F66: 12K22 | G66: 10 | H66: 42186 | I66: =+($H$1-H66)/30.42 -> 112.13018 | L66: 45541 | M66: 6B | N66: Univer. aankoppelb. handbike (elektr.) - koop
B67: VOORZ23036411 | C67: Stuklijst - Quickie Helium | D67: Gemeente De Bilt | E67: 44958 | F67: 11K02 | G67: 3 | H67: 43916 | I67: =+($H$1-H67)/30.42 -> 55.259698 | L67: 45555 | M67: 3 | N67: Handbew. rolstoel actief/permanent gebruik - koop
B68: VOORZ23036659 | C68: Stuklijst - Zippie Salsa M2 | D68: Gemeente De Bilt | E68: 44795 | F68: 11K10 | G68: 5 | H68: 42678 | I68: =+($H$1-H68)/30.42 -> 95.956607 | L68: 45569 | M68: 7 | N68: Elektrische rolstoel - koop
B69: VOORZ23039402 | C69: Stuklijst - Swift Mobile 24", samengesteld | D69: Gemeente De Bilt | E69: 45041 | F69: 13K12 | G69: 31 | H69: 43525 | I69: =+($H$1-H69)/30.42 -> 68.113083 | L69: 45092 | M69: 15 | N69: Douche-/toiletvoorziening zelfrijder - koop
B70: VOORZ23041211 | C70: Stuklijst - Excel Galaxy 2, 3W, lightning blue | D70: Gemeente De Bilt | E70: 45154 | F70: 12K02 | G70: 24 | H70: 45096 | I70: =+($H$1-H70)/30.42 -> 16.469428 | L70: 45615 | M70: 8 | N70: Scootmobiel standaard - koop
B71: VOORZ23041295 | C71: Stuklijst - Quickie Nitrum | D71: Gemeente De Bilt | E71: 43617 | F71: 11K02 | G71: 4 | H71: 45056 | I71: =+($H$1-H71)/30.42 -> 17.784352 | L71: 45056 | M71: 3 | N71: Handbew. rolstoel actief/permanent gebruik - koop
B72: VOORZ23041881 | C72: Stuklijst - Excel Galaxy 2, 3W, lightning blue | D72: Gemeente De Bilt | E72: 45154 | F72: 12K02 | G72: 24 | H72: 45107 | I72: =+($H$1-H72)/30.42 -> 16.107824 | L72: 45467 | M72: 8 | N72: Scootmobiel standaard - koop
B73: VOORZ23043627 | C73: Stuklijst - actieve tillift, elek h/l elek pootver | D73: Gemeente De Bilt | E73: 45231 | F73: 13K01 | G73: 30 | H73: 43532 | I73: =+($H$1-H73)/30.42 -> 67.882972 | L73: 45489 | M73: 17 | N73: Tillift actief - koop
B74: VOORZ23045181 | C74: Stuklijst - Bonn 2 DOTO stoel, 5" geremde wieltjes | D74: Gemeente De Bilt | E74: 45054 | F74: 13K12 | G74: 31 | H74: 43891 | I74: =+($H$1-H74)/30.42 -> 56.081525 | L74: 45118 | M74: 15 | N74: Douche-/toiletvoorziening zelfrijder - koop
B75: VOORZ23046201 | C75: Stuklijst - 3W MAXI 2 basis incl. verlichting | D75: Gemeente De Bilt | E75: 45096 | F75: 12K13 | G75: 14 | H75: 44236 | I75: =+($H$1-H75)/30.42 -> 44.740302 | L75: 45132 | M75: 10 | N75: Driewielfiets - koop
B76: VOORZ23050048 | C76: Stuklijst - Quickie Life T | D76: Gemeente De Bilt | E76: 44574 | F76: 11K02 | G76: 4 | H76: 42649 | I76: =+($H$1-H76)/30.42 -> 96.909928 | L76: 45166 | M76: 3 | N76: Handbew. rolstoel actief/permanent gebruik - koop
B77: VOORZ23051089 | C77: Stuklijst - Diamond E-drive antr. 7v-fw | D77: Gemeente De Bilt | E77: 45124 | F77: 12K13 | G77: 18 | H77: 43647 | I77: =+($H$1-H77)/30.42 -> 64.102564 | L77: 45611 | M77: 10 | N77: Driewielfiets - koop
B78: VOORZ23055166 | C78: Stuklijst - Easy Rider 3 incl verlichting, slot | D78: Gemeente De Bilt | E78: 43279 | F78: 12K13 | G78: 20 | H78: 44476 | I78: =+($H$1-H78)/30.42 -> 36.850756 | L78: 45146 | M78: 10 | N78: Driewielfiets - koop
... B142: VOORZ24026626 | C142: Stuklijst - Wolturnus rolstoel type W5 original | D142: Gemeente De Bilt | E142: 44459 | F142: 11K06 | G142: 2 | H142: 45406 | I142: =+($H$1-H142)/30.42 -> 6.278764 | L142: 45566 | M142: 2 | N142: Handbewogen rolstoel permanent gebruik - koop
B143: VOORZ24026646 | C143: Stuklijst - Stricker Smart Lipo 16" wiel | D143: Gemeente De Bilt | E143: 44896 | F143: 12K22 | G143: 10 | H143: 45176 | I143: =+($H$1-H143)/30.42 -> 13.839579 | L143: 45176 | M143: 6B | N143: Univer. aankoppelb. handbike (elektr.) - koop
B144: VOORZ24027155 | C144: Stuklijst - Excel Galaxy 2, 3W, lightning blue | D144: Gemeente De Bilt | E144: 45390 | F144: 12K02 | G144: 24 | H144: 45412 | I144: =+($H$1-H144)/30.42 -> 6.0815253 | L144: 45412 | M144: 8 | N144: Scootmobiel standaard - koop
B145: VOORZ24027310 | C145: Stuklijst - Easy Sport basis | D145: Gemeente De Bilt | E145: 43564 | F145: 12K17 | G145: 16 | H145: 43891 | I145: =+($H$1-H145)/30.42 -> 56.081525 | L145: 45114 | M145: 11 | N145: Driewielfiets kind - koop
...

Sheet Bestandsoverzicht partij 1
B3: Bestandsgegevens 31 oktober 2024
B5: Gemeenten De Bilt, Utrechtse Heuvelrug en Zeist - Kersten
B7: Categorie | D7: Uitstaand bij klanten | F7: Leveringen vanaf 1 november 2023 t/m 31 oktober 2024 | H7: Innames vanaf 1 november 2023 t/m 31 oktober 2024
D8: 45230 | E8: 45596 | F8: Nieuw | G8: Herverstrekking | H8: Inname
B9: Categorie 1 | C9: Handbewogen rolstoelen Incidenteel gebruik | E9: 140 | F9: 30 | G9: 16 | H9: 33
B10: Categorie 2 | C10: Handbewogen rolstoelen voor permanent en/of passief gebruik met kantelverstelling | E10: 44 | F10: 11 | G10: 6 | H10: 22
B11: Categorie 3 | C11: Handbewogen rolstoelen voor semi- permanent gebruik of actief gebruik | E11: 153 | F11: 23 | G11: 17 | H11: 26
B12: Categorie 4 | C12: Handbewogen rolstoelen actief gebruik / vastframe | E12: 64 | F12: 10 | G12: 8 | H12: 12
B13: Categorie 5 | C13: Elektrische rolstoelen, modellen eenvoudig | E13: 35 | F13: 4 | G13: 6 | H13: 8
B14: Categorie 6 | C14: Elektrische rolstoelen, modellen complex | E14: 15 | F14: 2 | G14: 4 | H14: 4
B15: Categorie 7 | C15: Elektrische aandrijfunits hoepelondersteuning | E15: 57 | F15: 2 | G15: 2 | H15: 2
B16: Categorie 8 | C16: Elektrische aandrijfunits duwondersteuning | E16: 16 | F16: 6 | G16: 2 | H16: 1
B17: Categorie 9 | C17: Handbikes | E17: 7 | F17: 0 | G17: 0 | H17: 2
B18: Categorie 10 | C18: Handbikes met elektrische ondersteuning | E18: 21 | F18: 2 | G18: 4 | H18: 6
B19: Categorie 11 | C19: Buggy’s | E19: 6 | F19: 2 | G19: 3 | H19: 5
B20: Categorie 12 | C20: Kinderduw wandelwagens | E20: 5 | F20: 1 | G20: 2 | H20: 4
... B41: Categorie 33 | C41: Douchebrancards | E41: 0 | F41: 0 | G41: 0 | H41: 0
B42: Totaal | D42: =SUM(D9:D41) -> 0 | E42: =SUM(E9:E41) -> 1316 | F42: =SUM(F9:F41) -> 229 | G42: =SUM(G9:G41) -> 172 | H42: =SUM(H9:H41) -> 339

Sheet Details bestand partij 2 
A1: Uitstaand per 31 oktober 2024
A3: Voorziening nummer | B3: Merk en type hulpmidel | C3: Gemeente | D3: Ingangsdatum Mobiliteit- en omwisselgarantie | E3: Huidig categorie-nummer | F3: Categorienummer aangepast naar nieuwe categorie-indeling t.b.v ophanden aanbesteding | G3: Jaar eerste levering ooit | H3: Leeftijd hulpmiddel in maanden op 31 oktober 2024 | I3: (Nieuw)leveringen in de periode 1-11-2023 t/m 31-10-2024 | J3: Herverstrekkingen in de periode 1-11-2023 t/m 31-10-2024 | K3: Datum laatste servicebeurt | L3: Bruto catalogus waarde hulpmiddel (incl. opties en individuele aanpassingen) datum 1ste verstrekking
A4: 14824454 | B4: Excel G-Lite | C4: Gemeente Bunnik | D4: 44657 | E4: 01 - Handbewogen rolstoel voor incidenteel gebruik | F4: Categorie 1 | G4: 43196 | H4: 78.9
A5: 351204398 | B5: Quickie Breezy Rubix | C5: Gemeente Bunnik | D5: 43647 | E5: 01 - Handbewogen rolstoel voor incidenteel gebruik | F5: Categorie 3 | G5: 40765 | H5: 158.8 | K5: 43921
A6: 201008736 | B6: Excel 200 S UL | C6: Gemeente Bunnik | D6: 43465 | E6: 01 - Handbewogen rolstoel voor incidenteel gebruik | F6: Categorie 1 | G6: 40912 | H6: 154 | K6: 43921
A7: 15599524 | B7: Excel G3 Eco | C7: Gemeente Bunnik | D7: 45498 | E7: 01 - Handbewogen rolstoel voor incidenteel gebruik | F7: Categorie 1 | G7: 43384 | H7: 72.7
A8: 23673218 | B8: Excel G-Eco | C8: Gemeente Bunnik | D8: 45372 | E8: 01 - Handbewogen rolstoel voor incidenteel gebruik | F8: Categorie 1 | G8: 45316 | H8: 9.2
A9: 24546086 | B9: Excel G-Entry | C9: Gemeente Bunnik | D9: 45518 | E9: 01 - Handbewogen rolstoel voor incidenteel gebruik | F9: Categorie 1 | G9: 44562 | H9: 31.91358
A10: 13331728 | B10: Excel G3 Eco | C10: Gemeente Bunnik | D10: 44686 | E10: 01 - Handbewogen rolstoel voor incidenteel gebruik | F10: Categorie 1 | G10: 43101 | H10: 82.1 | K10: 45349
A11: 14979213 | B11: Excel G-Lite | C11: Gemeente Bunnik | D11: 43593 | E11: 01 - Handbewogen rolstoel voor incidenteel gebruik | F11: Categorie 1 | G11: 43234 | H11: 77.7 | K11: 45350
A12: 20635480 | B12: Quickie Breezy Basix 2 | C12: Gemeente Bunnik | D12: 44915 | E12: 01 - Handbewogen rolstoel voor incidenteel gebruik | F12: Categorie 1 | G12: 44552 | H12: 34.4
A13: 22496276 | B13: Quickie Breezy Basix 2 | C13: Gemeente Bunnik | D13: 45022 | E13: 01 - Handbewogen rolstoel voor incidenteel gebruik | F13: Categorie 1 | G13: 45019 | H13: 19
A14: 16949774 | B14: Excel G-Lightweight | C14: Gemeente Bunnik | D14: 44783 | E14: 01 - Handbewogen rolstoel voor incidenteel gebruik | F14: Categorie 1 | G14: 43677 | H14: 63.1 | K14: 45350
A15: 16949802 | B15: Excel G-Lightweight | C15: Gemeente Bunnik | D15: 45498 | E15: 01 - Handbewogen rolstoel voor incidenteel gebruik | F15: Categorie 1 | G15: 43677 | H15: 63.1
A16: 201008737 | B16: Excel G5 | C16: Gemeente Bunnik | D16: 43465 | E16: 01 - Handbewogen rolstoel voor incidenteel gebruik | F16: Categorie 3 | G16: 40912 | H16: 154
A17: 24322963 | B17: Quickie Breezy Basix | C17: Gemeente Bunnik | D17: 45440 | E17: 01 - Handbewogen rolstoel voor incidenteel gebruik | F17: Categorie 1 | G17: 44197 | H17: 46
A18: 23673246 | B18: Excel G-Eco + | C18: Gemeente Bunnik | D18: 45348 | E18: 01 - Handbewogen rolstoel voor incidenteel gebruik | F18: Categorie 1 | G18: 45316 | H18: 9.2
A19: 13330568 | B19: Excel G3 Eco | C19: Gemeente Bunnik | D19: 44909 | E19: 01 - Handbewogen rolstoel voor incidenteel gebruik | F19: Categorie 1 | G19: 43594 | H19: 65.8
A20: 22809049 | B20: Excel G-Eco | C20: Gemeente Bunnik | D20: 45428 | E20: 01 - Handbewogen rolstoel voor incidenteel gebruik | F20: Categorie 1 | G20: 43206 | H20: 78.6
A21: 201008805 | B21: Quickie Breezy Basix | C21: Gemeente Bunnik | D21: 43465 | E21: 01 - Handbewogen rolstoel voor incidenteel gebruik | F21: Categorie 1 | G21: 40179 | H21: 178.1
A22: 201008767 | B22: Excel G5 | C22: Gemeente Bunnik | D22: 43465 | E22: 01 - Handbewogen rolstoel voor incidenteel gebruik | F22: Categorie 3 | G22: 41363 | H22: 139.2 | K22: 44300
A23: 201008768 | B23: Meyra Eurochair Vario | C23: Gemeente Bunnik | D23: 43465 | E23: 01 - Handbewogen rolstoel voor incidenteel gebruik | F23: Categorie 1 | G23: 40926 | H23: 153.6 | K23: 43794
A24: 17216024 | B24: Excel G-Lightweight | C24: Gemeente Bunnik | D24: 44809 | E24: 01 - Handbewogen rolstoel voor incidenteel gebruik | F24: Categorie 1 | G24: 43741 | H24: 61 | K24: 43950
A25: 201008799 | B25: Quickie Breezy Basix | C25: Gemeente Bunnik | D25: 43465 | E25: 01 - Handbewogen rolstoel voor incidenteel gebruik | F25: Categorie 1 | G25: 41764 | H25: 126
A26: 201008747 | B26: Meyra Eurochair 1.850 | C26: Gemeente Bunnik | D26: 43465 | E26: 01 - Handbewogen rolstoel voor incidenteel gebruik | F26: Categorie 3 | G26: 35796 | H26: 322.2
A27: 201008763 | B27: Meyra Eurochair Vario | C27: Gemeente Bunnik | D27: 43465 | E27: 01 - Handbewogen rolstoel voor incidenteel gebruik | F27: Categorie 1 | G27: 40179 | H27: 178.1
A28: 19012555 | B28: Excel G-Lightweight | C28: Gemeente Bunnik | D28: 44652 | E28: 01 - Handbewogen rolstoel voor incidenteel gebruik | F28: Categorie 1 | G28: 44158 | H28: 47.3 | K28: 45349
A29: 15385453 | B29: Excel G-Lightweight | C29: Gemeente Bunnik | D29: 44732 | E29: 01 - Handbewogen rolstoel voor incidenteel gebruik | F29: Categorie 1 | G29: 43321 | H29: 74.8
A30: 201008812 | B30: Quickie Breezy Basix | C30: Gemeente Bunnik | D30: 43465 | E30: 01 - Handbewogen rolstoel voor incidenteel gebruik | F30: Categorie 1 | G30: 37622 | H30: 262.2 | K30: 43847
A31: 17041199 | B31: Ibis | C31: Gemeente Bunnik | D31: 45044 | E31: 02 - Handbewogen (comfort)rolstoel permanent/passief gebruik | F31: Categorie 2 | G31: 43699 | H31: 62.4
A32: 23867717 | B32: Kidevo Adapt | C32: Gemeente Bunnik | D32: 45435 | E32: 02 - Handbewogen (comfort)rolstoel permanent/passief gebruik | F32: Categorie 2 | G32: 45427 | H32: 5.6
A33: 201008793 | B33: Quickie 2 Millenium SA | C33: Gemeente Bunnik | D33: 43465 | E33: 03 - Handbewogen rolstoel actief of (semi) permanent gebruik | F33: Categorie 3 | G33: 37257 | H33: 274.2 | K33: 44652
A34: 22507366 | B34: Quickie Argon 2 | C34: Gemeente Bunnik | D34: 45050 | E34: 03 - Handbewogen rolstoel actief of (semi) permanent gebruik | F34: Categorie 4 | G34: 45037 | H34: 18.4
A35: 13260010 | B35: Quickie 2 Helix 2 Comfort | C35: Gemeente Bunnik | D35: 45111 | E35: 03 - Handbewogen rolstoel actief of (semi) permanent gebruik | F35: Categorie 3 | G35: 42836 | H35: 90.8 | K35: 44341
A36: 201008787 | B36: Quickie 2 Helix 2 | C36: Gemeente Bunnik | D36: 45419 | E36: 03 - Handbewogen rolstoel actief of (semi) permanent gebruik | F36: Categorie 3 | G36: 43202 | H36: 78.7 | K36: 44957
A37: 10649477 | B37: Quickie Life R | C37: Gemeente Bunnik | D37: 43528 | E37: 03 - Handbewogen rolstoel actief of (semi) permanent gebruik | F37: Categorie 4 | G37: 42208 | H37: 111.4 | K37: 43921
A38: 17358170 | B38: Excel G3 Eco | C38: Gemeente Bunnik | D38: 43794 | E38: 03 - Handbewogen rolstoel actief of (semi) permanent gebruik | F38: Categorie 1 | G38: 41972 | H38: 119.2 | K38: 45545
A39: 19720963 | B39: Quickie 2 | C39: Gemeente Bunnik | D39: 44433 | E39: 03 - Handbewogen rolstoel actief of (semi) permanent gebruik | F39: Categorie 3 | G39: 44344 | H39: 41.2
A40: 17069836 | B40: Excel G-Modular | C40: Gemeente Bunnik | D40: 44151 | E40: 03 - Handbewogen rolstoel actief of (semi) permanent gebruik | F40: Categorie 3 | G40: 43706 | H40: 62.2 | K40: 44371
A41: 23429889 | B41: Etac Cross 5 | C41: Gemeente Bunnik | D41: 45391 | E41: 03 - Handbewogen rolstoel actief of (semi) permanent gebruik | F41: Categorie 3 | G41: 45257 | H41: 11.2
...

Sheet Bestandsoverzicht partij 2
B3: Bestandsgegevens 31 oktober 2024
B5: Gemeenten Bunnik, De Bilt, Utrechtse Heuvelrug, Wijk bij Duurstede en Zeist - Medipoint
B8: Categorie | D8: Uitstaand bij klanten | F8: Leveringen vanaf 1 november 2023 t/m 31 oktober 2024 | H8: Innames vanaf 1 november 2023 t/m 31 oktober 2024
D9: 45230 | E9: 45596 | F9: Nieuw | G9: Herverstrekking | H9: Inname
B10: Categorie 1 | C10: Handbewogen rolstoelen Incidenteel gebruik | D10: 265 | E10: 194 | F10: 10 | G10: 36 | H10: 47
B11: Categorie 2 | C11: Handbewogen rolstoelen voor permanent en/of passief gebruik met kantelverstelling | D11: 46 | E11: 43 | F11: 5 | G11: 24 | H11: 29
B12: Categorie 3 | C12: Handbewogen rolstoelen voor semi- permanent gebruik of actief gebruik | D12: 310 | E12: 324 | F12: 22 | G12: 58 | H12: 97
B13: Categorie 4 | C13: Handbewogen rolstoelen actief gebruik / vastframe | D13: 85 | E13: 90 | F13: 6 | G13: 9 | H13: 9
B14: Categorie 5 | C14: Elektrische rolstoelen, modellen eenvoudig | D14: 17 | E14: 18 | F14: 0 | G14: 1 | H14: 6
B15: Categorie 6 | C15: Elektrische rolstoelen, modellen complex | D15: 23 | E15: 51 | F15: 8 | G15: 16 | H15: 7
B16: Categorie 7 | C16: Elektrische aandrijfunits hoepelondersteuning | D16: 44 | E16: 48 | F16: 2 | G16: 3 | H16: 9
B17: Categorie 8 | C17: Elektrische aandrijfunits duwondersteuning | D17: 23 | E17: 19 | F17: 3 | G17: 10 | H17: 20
B18: Categorie 9 | C18: Handbikes | D18: 13 | E18: 13 | F18: 0 | G18: 0 | H18: 2
B19: Categorie 10 | C19: Handbikes met elektrische ondersteuning | D19: 19 | E19: 23 | F19: 3 | G19: 0 | H19: 3
B20: Categorie 11 | C20: Buggy’s | D20: 18 | E20: 22 | F20: 3 | G20: 3 | H20: 4
B21: Categorie 12 | C21: Kinderduw wandelwagens | D21: 11 | E21: 11 | F21: 1 | G21: 0 | H21: 2
... B42: Categorie 33 | C42: Douchebrancards | D42: 0 | E42: 0 | F42: 0 | G42: 0 | H42: 0
B43: Totaal | D43: 1891 | E43: =SUM(E10:E42) -> 1902 | F43: 179 | G43: 340 | H43: 493
