Workbook
Name SCORE: 'OPEN VRAGEN '!$A$23:$A$28

Sheet OPEN VRAGEN 
A1: BEANTWOORDING VAN DE OPEN VRAGEN
A2: Naast de gestelde eisen uit de onderhavige aanbesteding is de Aanbestedende dienst op zoek naar een Opdrachtnemer die haar gedurende de periode van de raamovereenkomst kan voorzien van veel toegevoegde waarde. Hoe meer toegevoegde waarde een Inschrijver biedt, hoe hoger zij op dit onderdeel kwaliteit scoort. De maximaal te behalen waarden per item en per onderdeel treft Inschrijver aan in bijlage 9.
A3: Vraag 1: Duurzaamheid en circulaire economie
A4: Zie bijlage 8 'kwaliteit'.
A5: Vraag 2: Borging kwaliteit permanente signing
A6: Zie bijlage 8 'kwaliteit'.
A7: Vraag 3: Bestelproces
A8: Zie bijlage 8 'kwaliteit'.
A9: Vraag 4: Waarborging veiligheid
A10: Zie bijlage 8 'kwaliteit'.
A11: Vraag 5: Casus a. Inventarisatie Volledigheid en leesbaarheid inventarisatie
A12: Zie bijlage 8 'kwaliteit'.
... A28: Onvoldoende

Sheet Beoordelaar 1
A1: Beoordelaar 1: | D1: Inschrijver 1 | G1: Inschrijver 2 | J1: Inschrijver 3
A2: ='OPEN VRAGEN '!A1:A1 -> BEANTWOORDING VAN DE OPEN VRAGEN | D2: Score: | G2: Score: | J2: Score:
A3: ='OPEN VRAGEN '!A3 -> Vraag 1: Duurzaamheid en circulaire economie | D3: SCORE | G3: SCORE | J3: SCORE
A4: ='OPEN VRAGEN '!A4 -> Zie bijlage 8 'kwaliteit'. | D4: <MOTIVATIE> | G4: <MOTIVATIE> | J4: <MOTIVATIE>
A5: ='OPEN VRAGEN '!A5 -> Vraag 2: Borging kwaliteit permanente signing | D5: SCORE | G5: SCORE | J5: SCORE
A6: ='OPEN VRAGEN '!A6 -> Zie bijlage 8 'kwaliteit'. | D6: <MOTIVATIE> | G6: <MOTIVATIE> | J6: <MOTIVATIE>
A7: ='OPEN VRAGEN '!A7 -> Vraag 3: Bestelproces | D7: SCORE | G7: SCORE | J7: SCORE
A8: ='OPEN VRAGEN '!A8 -> Zie bijlage 8 'kwaliteit'. | D8: <MOTIVATIE> | G8: <MOTIVATIE> | J8: <MOTIVATIE>
A9: ='OPEN VRAGEN '!A9 -> Vraag 4: Waarborging veiligheid | D9: SCORE | G9: SCORE | J9: SCORE
A10: ='OPEN VRAGEN '!A10 -> Zie bijlage 8 'kwaliteit'. | D10: <MOTIVATIE> | G10: <MOTIVATIE> | J10: <MOTIVATIE>
A11: ='OPEN VRAGEN '!A11 -> Vraag 5: Casus a. Inventarisatie Volledigheid en leesbaarheid inventarisatie | D11: SCORE | G11: SCORE | J11: SCORE
A12: ='OPEN VRAGEN '!A12 -> Zie bijlage 8 'kwaliteit'. | D12: <MOTIVATIE> | G12: <MOTIVATIE> | J12: <MOTIVATIE>
A13: ='OPEN VRAGEN '!A13 -> Vraag 5: Casus a. Inventarisatie Advieskwaliteit | D13: SCORE | G13: SCORE | J13: SCORE
A14: ='OPEN VRAGEN '!A14 -> Zie bijlage 8 'kwaliteit'. | D14: <MOTIVATIE> | G14: <MOTIVATIE> | J14: <MOTIVATIE>
... A22: ='OPEN VRAGEN '!A22 -> Zie bijlage 8 'kwaliteit'. | D22: <MOTIVATIE> | G22: <MOTIVATIE> | J22: <MOTIVATIE>

Sheet Beoordelaar 2
A1: Beoordelaar 2: | D1: ='Beoordelaar 1'!D1 -> Inschrijver 1 | G1: ='Beoordelaar 1'!G1 -> Inschrijver 2 | J1: ='Beoordelaar 1'!J1 -> Inschrijver 3
A2: ='OPEN VRAGEN '!A1:A1 -> BEANTWOORDING VAN DE OPEN VRAGEN | D2: Score: | G2: Score: | J2: Score:
A3: ='OPEN VRAGEN '!A3 -> Vraag 1: Duurzaamheid en circulaire economie | D3: SCORE | G3: SCORE | J3: SCORE
A4: ='OPEN VRAGEN '!A4 -> Zie bijlage 8 'kwaliteit'. | D4: <MOTIVATIE> | G4: <MOTIVATIE> | J4: <MOTIVATIE>
A5: ='OPEN VRAGEN '!A5 -> Vraag 2: Borging kwaliteit permanente signing | D5: SCORE | G5: SCORE | J5: SCORE
A6: ='OPEN VRAGEN '!A6 -> Zie bijlage 8 'kwaliteit'. | D6: <MOTIVATIE> | G6: <MOTIVATIE> | J6: <MOTIVATIE>
A7: ='OPEN VRAGEN '!A7 -> Vraag 3: Bestelproces | D7: SCORE | G7: SCORE | J7: SCORE
A8: ='OPEN VRAGEN '!A8 -> Zie bijlage 8 'kwaliteit'. | D8: <MOTIVATIE> | G8: <MOTIVATIE> | J8: <MOTIVATIE>
A9: ='OPEN VRAGEN '!A9 -> Vraag 4: Waarborging veiligheid | D9: SCORE | G9: SCORE | J9: SCORE
A10: ='OPEN VRAGEN '!A10 -> Zie bijlage 8 'kwaliteit'. | D10: <MOTIVATIE> | G10: <MOTIVATIE> | J10: <MOTIVATIE>
A11: ='OPEN VRAGEN '!A11 -> Vraag 5: Casus a. Inventarisatie Volledigheid en leesbaarheid inventarisatie | D11: SCORE | G11: SCORE | J11: SCORE
A12: ='OPEN VRAGEN '!A12 -> Zie bijlage 8 'kwaliteit'. | D12: <MOTIVATIE> | G12: <MOTIVATIE> | J12: <MOTIVATIE>
A13: ='OPEN VRAGEN '!A13 -> Vraag 5: Casus a. Inventarisatie Advieskwaliteit | D13: SCORE | G13: SCORE | J13: SCORE
A14: ='OPEN VRAGEN '!A14 -> Zie bijlage 8 'kwaliteit'. | D14: <MOTIVATIE> | G14: <MOTIVATIE> | J14: <MOTIVATIE>
... A22: ='OPEN VRAGEN '!A22 -> Zie bijlage 8 'kwaliteit'. | D22: <MOTIVATIE> | G22: <MOTIVATIE> | J22: <MOTIVATIE>

Sheet Beoordelaar 3
A1: Beoordelaar 1: | D1: ='Beoordelaar 1'!D1 -> Inschrijver 1 | G1: ='Beoordelaar 1'!G1 -> Inschrijver 2 | J1: ='Beoordelaar 1'!J1 -> Inschrijver 3
A2: ='OPEN VRAGEN '!A1:A1 -> BEANTWOORDING VAN DE OPEN VRAGEN | D2: Score: | G2: Score: | J2: Score:
A3: ='OPEN VRAGEN '!A3 -> Vraag 1: Duurzaamheid en circulaire economie | D3: SCORE | G3: SCORE | J3: SCORE
A4: ='OPEN VRAGEN '!A4 -> Zie bijlage 8 'kwaliteit'. | D4: <MOTIVATIE> | G4: <MOTIVATIE> | J4: <MOTIVATIE>
A5: ='OPEN VRAGEN '!A5 -> Vraag 2: Borging kwaliteit permanente signing | D5: SCORE | G5: SCORE | J5: SCORE
A6: ='OPEN VRAGEN '!A6 -> Zie bijlage 8 'kwaliteit'. | D6: <MOTIVATIE> | G6: <MOTIVATIE> | J6: <MOTIVATIE>
A7: ='OPEN VRAGEN '!A7 -> Vraag 3: Bestelproces | D7: SCORE | G7: SCORE | J7: SCORE
A8: ='OPEN VRAGEN '!A8 -> Zie bijlage 8 'kwaliteit'. | D8: <MOTIVATIE> | G8: <MOTIVATIE> | J8: <MOTIVATIE>
A9: ='OPEN VRAGEN '!A9 -> Vraag 4: Waarborging veiligheid | D9: SCORE | G9: SCORE | J9: SCORE
A10: ='OPEN VRAGEN '!A10 -> Zie bijlage 8 'kwaliteit'. | D10: <MOTIVATIE> | G10: <MOTIVATIE> | J10: <MOTIVATIE>
A11: ='OPEN VRAGEN '!A11 -> Vraag 5: Casus a. Inventarisatie Volledigheid en leesbaarheid inventarisatie | D11: SCORE | G11: SCORE | J11: SCORE
A12: ='OPEN VRAGEN '!A12 -> Zie bijlage 8 'kwaliteit'. | D12: <MOTIVATIE> | G12: <MOTIVATIE> | J12: <MOTIVATIE>
A13: ='OPEN VRAGEN '!A13 -> Vraag 5: Casus a. Inventarisatie Advieskwaliteit | D13: SCORE | G13: SCORE | J13: SCORE
A14: ='OPEN VRAGEN '!A14 -> Zie bijlage 8 'kwaliteit'. | D14: <MOTIVATIE> | G14: <MOTIVATIE> | J14: <MOTIVATIE>
... A22: ='OPEN VRAGEN '!A22 -> Zie bijlage 8 'kwaliteit'. | D22: <MOTIVATIE> | G22: <MOTIVATIE> | J22: <MOTIVATIE>

Sheet Consensus
A1: Totaalwaardes | D1: ='Beoordelaar 1'!D1 -> Inschrijver 1 | G1: ='Beoordelaar 1'!G1 -> Inschrijver 2 | J1: ='Beoordelaar 1'!J1 -> Inschrijver 3
A2: Totaalwaardes | E2: Motivatie consensus: | H2: Motivatie consensus: | K2: Motivatie consensus:
A3: ='OPEN VRAGEN '!A3 -> Vraag 1: Duurzaamheid en circulaire economie | B3: ='Beoordelaar 1'!A1 -> Beoordelaar 1: | D3: ='Beoordelaar 1'!D3 -> SCORE | E3: <MOTIVATIE> | G3: ='Beoordelaar 1'!G3 -> SCORE | H3: <MOTIVATIE> | J3: ='Beoordelaar 1'!J3 -> SCORE | K3: <MOTIVATIE>
B4: ='Beoordelaar 2'!A1 -> Beoordelaar 2: | D4: ='Beoordelaar 2'!D3 -> SCORE | G4: ='Beoordelaar 2'!G3 -> SCORE | J4: ='Beoordelaar 2'!J3 -> SCORE
B5: ='Beoordelaar 3'!A1 -> Beoordelaar 1: | D5: ='Beoordelaar 3'!D3 -> SCORE | G5: ='Beoordelaar 3'!G3 -> SCORE | J5: ='Beoordelaar 3'!J3 -> SCORE
A6: Consensus | D6: Score: | G6: Score: | J6: Score:
D7: =IF(D6="Uitmuntend","€ 11.250",IF(D6="Goed","€ 9.000",IF(D6="Voldoende","€ 0",IF(D6="Matig","- € 9.000",IF(D6="Onvoldoende","- € 33.750"," "))))) | G7: =IF(G6="Uitmuntend","€ 11.250",IF(G6="Goed","€ 9.000",IF(G6="Voldoende","€ 0",IF(G6="Matig","- € 9.000",IF(G6="Onvoldoende","- € 33.750"," "))))) | J7: =IF(J6="Uitmuntend","€ 11.250",IF(J6="Goed","€ 9.000",IF(J6="Voldoende","€ 0",IF(J6="Matig","- € 9.000",IF(J6="Onvoldoende","- € 33.750"," ")))))
A8: ='OPEN VRAGEN '!A5 -> Vraag 2: Borging kwaliteit permanente signing | B8: =B3 -> Beoordelaar 1: | D8: ='Beoordelaar 1'!D5 -> SCORE | E8: <MOTIVATIE> | G8: ='Beoordelaar 1'!G5 -> SCORE | H8: <MOTIVATIE> | J8: ='Beoordelaar 1'!J5 -> SCORE | K8: <MOTIVATIE>
B9: =B4 -> Beoordelaar 2: | D9: ='Beoordelaar 2'!D5 -> SCORE | G9: ='Beoordelaar 2'!G5 -> SCORE | J9: ='Beoordelaar 2'!J5 -> SCORE
B10: =B5 -> Beoordelaar 1: | D10: ='Beoordelaar 3'!D5 -> SCORE | G10: ='Beoordelaar 3'!G5 -> SCORE | J10: ='Beoordelaar 3'!J5 -> SCORE
A11: Consensus | D11: Score: | G11: Score: | J11: Score:
D12: =IF(D11="Uitmuntend","€ 18.750",IF(D11="Goed","€ 15.000",IF(D11="Voldoende","€ 0",IF(D11="Matig","- € 15.000",IF(D11="Onvoldoende","- € 56.250"," "))))) | G12: =IF(G11="Uitmuntend","€ 18.750",IF(G11="Goed","€ 15.000",IF(G11="Voldoende","€ 0",IF(G11="Matig","- € 15.000",IF(G11="Onvoldoende","- € 56.250"," "))))) | J12: =IF(J11="Uitmuntend","€ 18.750",IF(J11="Goed","€ 15.000",IF(J11="Voldoende","€ 0",IF(J11="Matig","- € 15.000",IF(J11="Onvoldoende","- € 56.250"," ")))))
A13: ='OPEN VRAGEN '!A7 -> Vraag 3: Bestelproces | B13: =B3 -> Beoordelaar 1: | D13: ='Beoordelaar 1'!D7 -> SCORE | E13: <MOTIVATIE> | G13: ='Beoordelaar 2'!G7 -> SCORE | H13: <MOTIVATIE> | J13: ='Beoordelaar 1'!J7 -> SCORE | K13: <MOTIVATIE>
B14: =B4 -> Beoordelaar 2: | D14: ='Beoordelaar 2'!D7 -> SCORE | G14: ='Beoordelaar 2'!G7 -> SCORE | J14: ='Beoordelaar 2'!J7 -> SCORE
B15: =B5 -> Beoordelaar 1: | D15: ='Beoordelaar 3'!D7 -> SCORE | G15: ='Beoordelaar 3'!G7 -> SCORE | J15: ='Beoordelaar 3'!J7 -> SCORE
A16: Consensus | D16: Score: | G16: Score: | J16: Score:
D17: =IF(D16="Uitmuntend","€ 7.500",IF(D16="Goed","€ 6.000",IF(D16="Voldoende","€ 0",IF(D16="Matig","- € 22.500",IF(D16="Onvoldoende","- € 37.500"," "))))) | E17: <MOTIVATIE> | G17: =IF(G16="Uitmuntend","€ 7.500",IF(G16="Goed","€ 6.000",IF(G16="Voldoende","€ 0",IF(G16="Matig","- € 22.500",IF(G16="Onvoldoende","- € 37.500"," "))))) | H17: <MOTIVATIE> | J17: =IF(J16="Uitmuntend","€ 7.500",IF(J16="Goed","€ 6.000",IF(J16="Voldoende","€ 0",IF(J16="Matig","- € 22.500",IF(J16="Onvoldoende","- € 37.500"," "))))) | K17: <MOTIVATIE>
A18: ='OPEN VRAGEN '!A9 -> Vraag 4: Waarborging veiligheid | B18: =B3 -> Beoordelaar 1: | D18: ='Beoordelaar 1'!D9 -> SCORE | E18: <MOTIVATIE> | G18: ='Beoordelaar 1'!G9 -> SCORE | H18: <MOTIVATIE> | J18: ='Beoordelaar 1'!J9 -> SCORE | K18: <MOTIVATIE>
A19: ='OPEN VRAGEN '!#REF! -> #REF! | B19: =B4 -> Beoordelaar 2: | D19: ='Beoordelaar 2'!D9 -> SCORE | G19: ='Beoordelaar 2'!G9 -> SCORE | J19: ='Beoordelaar 2'!J9 -> SCORE
B20: =B5 -> Beoordelaar 1: | D20: ='Beoordelaar 3'!D9 -> SCORE | G20: ='Beoordelaar 3'!G9 -> SCORE | J20: ='Beoordelaar 3'!J9 -> SCORE
A21: Consensus | D21: Score: | G21: Score: | J21: Score:
D22: =IF(D21="Uitmuntend","€ 7.500",IF(D21="Goed","€ 6.000",IF(D21="Voldoende","€ 0",IF(D21="Matig","- € 22.500",IF(D21="Onvoldoende","- € 37.500"," "))))) | E22: <MOTIVATIE> | G22: =IF(G21="Uitmuntend","€ 7.500",IF(G21="Goed","€ 6.000",IF(G21="Voldoende","€ 0",IF(G21="Matig","- € 22.500",IF(G21="Onvoldoende","- € 37.500"," "))))) | H22: <MOTIVATIE> | J22: =IF(J21="Uitmuntend","€ 7.500",IF(J21="Goed","€ 6.000",IF(J21="Voldoende","€ 0",IF(J21="Matig","- € 22.500",IF(J21="Onvoldoende","- € 37.500"," "))))) | K22: <MOTIVATIE>
A23: ='OPEN VRAGEN '!A11 -> Vraag 5: Casus a. Inventarisatie Volledigheid en leesbaarheid inventarisatie | B23: Beoordelaar 1 | D23: ='Beoordelaar 1'!D11 -> SCORE | E23: <MOTIVATIE> | G23: ='Beoordelaar 1'!G11 -> SCORE | H23: <MOTIVATIE> | J23: ='Beoordelaar 1'!J11 -> SCORE | K23: <MOTIVATIE>
B24: Beoordelaar 2 | D24: ='Beoordelaar 2'!D11 -> SCORE | G24: ='Beoordelaar 2'!G11 -> SCORE | J24: ='Beoordelaar 2'!J11 -> SCORE
B25: Beoordelaar 3 | D25: ='Beoordelaar 3'!D11 -> SCORE | G25: ='Beoordelaar 3'!G11 -> SCORE | J25: ='Beoordelaar 3'!J11 -> SCORE
A26: Consensus | D26: Score: | G26: Score: | J26: Score:
D27: =IF(D26="Uitmuntend","€ 5.625",IF(D26="Goed","€ 4.500",IF(D26="Voldoende","€ 0",IF(D26="Matig","- € 9.000",IF(D26="Onvoldoende","KNOCK OUT"," "))))) | G27: =IF(G26="Uitmuntend","€ 5.625",IF(G26="Goed","€ 4.500",IF(G26="Voldoende","€ 0",IF(G26="Matig","- € 9.000",IF(G26="Onvoldoende","KNOCK OUT"," "))))) | J27: =IF(J26="Uitmuntend","€ 5.625",IF(J26="Goed","€ 4.500",IF(J26="Voldoende","€ 0",IF(J26="Matig","- € 9.000",IF(J26="Onvoldoende","KNOCK OUT"," ")))))
A28: ='OPEN VRAGEN '!A13 -> Vraag 5: Casus a. Inventarisatie Advieskwaliteit | B28: =B23 -> Beoordelaar 1 | D28: ='Beoordelaar 1'!D13 -> SCORE | E28: <MOTIVATIE> | G28: ='Beoordelaar 1'!G13 -> SCORE | H28: <MOTIVATIE> | J28: ='Beoordelaar 1'!J13 -> SCORE | K28: <MOTIVATIE>
B29: =B24 -> Beoordelaar 2 | D29: ='Beoordelaar 2'!D13 -> SCORE | G29: ='Beoordelaar 2'!G13 -> SCORE | J29: ='Beoordelaar 2'!J13 -> SCORE
B30: =B25 -> Beoordelaar 3 | D30: ='Beoordelaar 3'!D13 -> SCORE | G30: ='Beoordelaar 3'!G13 -> SCORE | J30: ='Beoordelaar 3'!J13 -> SCORE
A31: Consensus | D31: Score: | G31: Score: | J31: Score:
D32: =IF(D31="Uitmuntend","€ 5.625",IF(D31="Goed","€ 4.500",IF(D31="Voldoende","€ 0",IF(D31="Matig","- € 9.000",IF(D31="Onvoldoende","KNOCK OUT"," "))))) | G32: =IF(G31="Uitmuntend","€ 5.625",IF(G31="Goed","€ 4.500",IF(G31="Voldoende","€ 0",IF(G31="Matig","- € 9.000",IF(G31="Onvoldoende","KNOCK OUT"," "))))) | J32: =IF(J31="Uitmuntend","€ 5.625",IF(J31="Goed","€ 4.500",IF(J31="Voldoende","€ 0",IF(J31="Matig","- € 9.000",IF(J31="Onvoldoende","KNOCK OUT"," ")))))
A33: ='OPEN VRAGEN '!A15 -> Vraag 5: Casus b. Werktekening Mate van duidelijkheid en specificatie werktekening | B33: =B23 -> Beoordelaar 1 | D33: ='Beoordelaar 1'!D15 -> SCORE | E33: <MOTIVATIE> | G33: ='Beoordelaar 1'!G15 -> SCORE | H33: <MOTIVATIE> | J33: ='Beoordelaar 1'!J15 -> SCORE | K33: <MOTIVATIE>
B34: =B24 -> Beoordelaar 2 | D34: ='Beoordelaar 2'!D15 -> SCORE | G34: ='Beoordelaar 2'!G15 -> SCORE | J34: ='Beoordelaar 2'!J15 -> SCORE
B35: =B25 -> Beoordelaar 3 | D35: ='Beoordelaar 3'!D15 -> SCORE | G35: ='Beoordelaar 3'!G15 -> SCORE | J35: ='Beoordelaar 3'!J15 -> SCORE
A36: Consensus | D36: Score: | G36: Score: | J36: Score:
D37: =IF(D36="Uitmuntend","€ 3.750",IF(D36="Goed","€ 3.000",IF(D36="Voldoende","€ 0",IF(D36="Matig","- € 6.000",IF(D36="Onvoldoende","KNOCK OUT"," "))))) | E37: <MOTIVATIE> | G37: =IF(G36="Uitmuntend","€ 3.750",IF(G36="Goed","€ 3.000",IF(G36="Voldoende","€ 0",IF(G36="Matig","- € 6.000",IF(G36="Onvoldoende","KNOCK OUT"," "))))) | H37: <MOTIVATIE> | J37: =IF(J36="Uitmuntend","€ 3.750",IF(J36="Goed","€ 3.000",IF(J36="Voldoende","€ 0",IF(J36="Matig","- € 6.000",IF(J36="Onvoldoende","KNOCK OUT"," "))))) | K37: <MOTIVATIE>
A38: ='OPEN VRAGEN '!A17 -> Vraag 5: Casus b. Werktekening Plaatsing logo, maximaal gebruik gemaakt van de ruimte | B38: =B23 -> Beoordelaar 1 | D38: ='Beoordelaar 1'!D17 -> SCORE | E38: <MOTIVATIE> | G38: ='Beoordelaar 1'!G17 -> SCORE | H38: <MOTIVATIE> | J38: ='Beoordelaar 1'!J17 -> SCORE | K38: <MOTIVATIE>
A39: ='OPEN VRAGEN '!#REF! -> #REF! | B39: =B24 -> Beoordelaar 2 | D39: ='Beoordelaar 2'!D17 -> SCORE | G39: ='Beoordelaar 2'!G17 -> SCORE | J39: ='Beoordelaar 2'!J17 -> SCORE
B40: =B25 -> Beoordelaar 3 | D40: ='Beoordelaar 3'!D17 -> SCORE | G40: ='Beoordelaar 3'!G17 -> SCORE | J40: ='Beoordelaar 3'!J17 -> SCORE
A41: Consensus | D41: Score: | G41: Score: | J41: Score:
D42: =IF(D41="Uitmuntend","€ 3.750",IF(D41="Goed","€ 3.000",IF(D41="Voldoende","€ 0",IF(D41="Matig","- € 6.000",IF(D41="Onvoldoende","KNOCK OUT"," "))))) | E42: <MOTIVATIE> | G42: =IF(G41="Uitmuntend","€ 3.750",IF(G41="Goed","€ 3.000",IF(G41="Voldoende","€ 0",IF(G41="Matig","- € 6.000",IF(G41="Onvoldoende","KNOCK OUT"," "))))) | H42: <MOTIVATIE> | J42: =IF(J41="Uitmuntend","€ 3.750",IF(J41="Goed","€ 3.000",IF(J41="Voldoende","€ 0",IF(J41="Matig","- € 6.000",IF(J41="Onvoldoende","KNOCK OUT"," "))))) | K42: <MOTIVATIE>
A43: ='OPEN VRAGEN '!A19 -> Vraag 5: Casus c. Tijdspad Volledigheid tijdspad en mate van realistisch tijdspad | B43: =B33 -> Beoordelaar 1 | D43: ='Beoordelaar 1'!D19 -> SCORE | E43: <MOTIVATIE> | G43: ='Beoordelaar 1'!G19 -> SCORE | H43: <MOTIVATIE> | J43: ='Beoordelaar 1'!J19 -> SCORE | K43: <MOTIVATIE>
B44: =B34 -> Beoordelaar 2 | D44: ='Beoordelaar 2'!D19 -> SCORE | G44: ='Beoordelaar 2'!G19 -> SCORE | J44: ='Beoordelaar 2'!J19 -> SCORE
B45: =B35 -> Beoordelaar 3 | D45: ='Beoordelaar 3'!D19 -> SCORE | G45: ='Beoordelaar 3'!G19 -> SCORE | J45: ='Beoordelaar 3'!J19 -> SCORE
A46: Consensus | D46: Score: | G46: Score: | J46: Score:
D47: =IF(D46="Uitmuntend","€ 5.625",IF(D46="Goed","€ 4.500",IF(D46="Voldoende","€ 0",IF(D46="Matig","- € 9.000",IF(D46="Onvoldoende","KNOCK OUT"," "))))) | E47: <MOTIVATIE> | G47: =IF(G46="Uitmuntend","€ 5.625",IF(G46="Goed","€ 4.500",IF(G46="Voldoende","€ 0",IF(G46="Matig","- € 9.000",IF(G46="Onvoldoende","KNOCK OUT"," "))))) | H47: <MOTIVATIE> | J47: =IF(J46="Uitmuntend","€ 5.625",IF(J46="Goed","€ 4.500",IF(J46="Voldoende","€ 0",IF(J46="Matig","- € 9.000",IF(J46="Onvoldoende","KNOCK OUT"," "))))) | K47: <MOTIVATIE>
A48: ='OPEN VRAGEN '!A21 -> Vraag 5: Casus c. Tijdspad Informatievoorziening en overige aandachtspunten | B48: =B33 -> Beoordelaar 1 | D48: ='Beoordelaar 1'!D21 -> SCORE | E48: <MOTIVATIE> | G48: ='Beoordelaar 1'!G21 -> SCORE | H48: <MOTIVATIE> | J48: ='Beoordelaar 1'!J21 -> SCORE | K48: <MOTIVATIE>
A49: ='OPEN VRAGEN '!#REF! -> #REF! | B49: =B34 -> Beoordelaar 2 | D49: ='Beoordelaar 2'!D21 -> SCORE | G49: ='Beoordelaar 2'!G21 -> SCORE | J49: ='Beoordelaar 2'!J21 -> SCORE
B50: =B35 -> Beoordelaar 3 | D50: ='Beoordelaar 3'!D21 -> SCORE | G50: ='Beoordelaar 3'!G21 -> SCORE | J50: ='Beoordelaar 3'!J21 -> SCORE
A51: Consensus | D51: Score: | G51: Score: | J51: Score:
D52: =IF(D51="Uitmuntend","€ 5.625",IF(D51="Goed","€ 4.500",IF(D51="Voldoende","€ 0",IF(D51="Matig","- € 9.000",IF(D51="Onvoldoende","KNOCK OUT"," "))))) | E52: <MOTIVATIE> | G52: =IF(G51="Uitmuntend","€ 5.625",IF(G51="Goed","€ 4.500",IF(G51="Voldoende","€ 0",IF(G51="Matig","- € 9.000",IF(G51="Onvoldoende","KNOCK OUT"," "))))) | H52: <MOTIVATIE> | J52: =IF(J51="Uitmuntend","€ 5.625",IF(J51="Goed","€ 4.500",IF(J51="Voldoende","€ 0",IF(J51="Matig","- € 9.000",IF(J51="Onvoldoende","KNOCK OUT"," "))))) | K52: <MOTIVATIE>
A54: TOTAAL | D54: =SUM(D22+D17+D12+D7+D27+D32+D37+D42+D47+D52) -> #VALUE! | G54: =SUM(G22+G17+G12+G7+G27+G32+G37+G42+G47+G52) -> #VALUE! | J54: =SUM(J22+J17+J12+J7+J27+J32+J37+J42+J47+J52) -> #VALUE!
