Workbook

Sheet  Toelichting EHP
B1: Bijlage F bij Aanbestedingsleidraad ROK DOOR: Eenheidsprijzen en Tarievenlijst ROK DOOR | versie 1.0 | 31-01-2025 | zaaknummer 31198527
B3: Nr. | C3: Toelichting op spreadsheet voor Eenheidsprijzen en Tarievenlijst ROK DOOR
B4: 1 | C4: Dit spreadsheet bevat de invulvelden voor eenheidsprijzen van het referentiewerkpakket voor de inschrijving op de aanbesteding van de opdracht met zaaknummer 31198527 voor de raamovereenkomst van DVM- en OV-systemen, Ontwerp & Realisatie (DOOR). De gevraagde eenheidsprijzen op de tabbladen EHP Objecttype, EHP Activiteiten en Tarieven dienen door de Inschrijver te worden ingevuld door het invullen van de witte cellen in de kolommen N [Plaatsen], O [Vervangen], Q [Handhaven] en R [Saneren] op het tabblad EHP Objecttype, kolom M op het tabblad EHP Activiteiten en kolom G op tabblad Tarieven en dient als hulpmiddel voor het berekenen van de Inschrijfsom van dit perceel. De grijze velden zijn van te voren door de aanbesteder ingevuld en vormen een referentiewerkpakket waarvan de hoeveelheden en aantallen indicatief zijn. De lichtgroene velden bevatten door het spreadsheet berekende waarden. Op tabblad Inschrijfsom is een optelling gemaakt (per objecttype, per activiteit en van de tarieven) van de aantallen x eenheidsprijzen waarbij het totaal daarvan de Inschrijfsom is. Als een grijs veld niet is ingevuld of getalswaarde 0 heeft dan wordt het veld van de eenheidsprijs automatisch rood. De aanbesteder dient deze rode velden niet in te vullen. Er zijn enkele velden dondergroen gemarkeerd. Hierin staan vaste bedragen of vaste percentages aangegeven die gehanteerd moeten worden en mogen niet worden gewijzigd. Het spreadsheet rekent automatisch aan de hand van de opgegeven prijzen de aanbieding van de inschrijver door per referentiewerkpakket. Dit is slechts een hulpmiddel en heeft geen formele waarde. Het is en blijft de verantwoordelijkheid van de Inschrijver zelf om de aanbieding per referentiewerkpakket door te rekenen en zijn Inschrijfsom te bepalen. De formele feitelijke inschrijving vindt plaats via het inschrijvingsbiljet waarop de inschrijver aangeeft op welk Perceel wordt ingeschreven. Per Perceel waarop wordt ingeschreven, dient een ondertekende afdruk van het spreadsheet ingediend te worden.
B5: 2 | C5: Het toepassen van afprijsbare elementen in de aanbesteding heeft ten doel om op transparante wijze eenheidstarieven voor de ROK DOOR in concurrentie tot stand te laten komen teneinde aan te tonen dat deze tarieven betrouwbaar en marktconform zijn. Het betreft generieke, voorspelbare, duidelijk identificeerbare eenheden in relatie tot de opgave van ROK DOOR. Hiermee wordt een sobere en doelmatige financiële beheersing van de opgave nagestreefd. Over deze tarieven zijn gedurende de contractfase geen discussies of onduidelijkheden.
B6: 3 | C6: De Opdrachtgever heeft er voor gekozen om niet voor alle objecttypen en/of componenten een eenheidsprijs uit te vragen t.b.v. de Raamovereenkomst DOOR. Na gunning van de Raamovereenkomst DOOR kunnen alsnog aanvullende eenheidsprijzen worden uitgevraagd indien de Opdrachtgever dat wenselijk acht. De decomposities van de objecttypen zijn vastgesteld en gedefinieerd als volledig m.u.v. het objecttype wegkantsysteem omdat het vervangen van wegkantstations door intelligente wegkantstations geen onderdeel is van de scope van deze raamovereenkomst. Als een volledig systeem wordt vervangen kunnen geen aanvullende onderdelen worden toegevoegd aan de decomposities om die vervolgens separaat af te prijzen. Het referentiepakket en de daarin opgenomen aantallen en hoeveelheden is samengesteld op basis van een inschatting van een deel van de programmering voor ROK DOOR. Deze programmering is flexibel en kan er in de praktijk toe leiden dat hiervan wordt afgeweken. Ook kunnen de aangeboden eenheidsprijzen mede sturend kunnen zijn voor de definitieve programmering. De eenheidsprijzen en tarieven dienen niet gebaseerd te worden op de geprognosticeerde indicatie per perceel, omdat deze indicatie geen omzetgarantie weergeeft en aan deze indicatie geen rechten kunnen worden ontleend. Het aantal vermelde uren is indicatief en alleen t.b.v. het kunnen bepalen van het tarief van de betreffende functionaris. Ook hier kunnen de werkelijke aantallen sterk afwijken. "strategisch inschrijven" is, zoals beschreven in paragraaf 1.10 van de Aanbestedingsleidraad ROK DOOR niet toegestaan en wordt - indien toegepast - gezien als een risico voor de opdrachtnemer.
B7: 4 | C7: Inschrijver dient aan te geven op welke perceel hij aanbiedt door in de geel gemarkeerde cellen zijn perceelkeuze kenbaar te maken d.m.v. het aangeven van "Perceel Noord" of "Perceel Zuid". De Inschrijver dient voor het perceel waarop wordt ingeschreven voor elk item op de eenheidsprijzenlijst een prijs op te geven (witte velden). De Inschrijver mag op perceel Noord en perceel Zuid aanbieden waarbij de eenheidsprijzen per perceel mogen verschillen. Het is niet toegestaan deels op een perceel aan te bieden. Als op een perceel wordt aangeboden, dienen alle witte velden ingevuld te worden (dient voor elk item een prijs c.q. waarde te worden opgegeven) anders is sprake van een ongeldige aanbieding.
B8: 5 | C8: De kolom 'Indexering' geeft het percentage (en bij het item behorende 'GWW-index') aan waarmee de eenheidsprijs voor het betreffende item zal worden geïndexeerd (100% is een volledige indexering, een lager percentage is een beperkte indexering gebaseerd op dat lagere percentage). De GWW-index van tabblad "Tarieven" bedraagt 50% van Groep 00. Groep 00 = Loon Groep 19 = Staal
B9: 6 | C9: Alle, door inschrijver in te vullen, bedragen/eenheidsprijzen/tarieven zijn inclusief de flatrate AK,W&R conform eis NO090 in de VSP en zijn exclusief BTW, en zijn gebaseerd op het prijspeil 1 april 2025.
B10: 7 | C10: Er zijn invulvelden weergegeven op tabblad EHP Objecttype voor de kosten per eenheid voor "Plaatsen" , "Vervangen" , "Handhaven" en "Saneren" van diverse componenten van een objecttype. (N.B. soms vormen meerdere componenten een eenheidsprijs). Invulveld "Plaatsen" moet worden toegepast indien op een nieuwe locatie een nieuw component wordt gerealiseerd. Denk hierbij aan een nieuwe portaallocatie (x,y), een nieuwe locatie (x,y) voor een signaalgever, een nieuwe mastlocatie (x,y) voor een camera, een nieuwe locatie (x,y) voor een lichtmast etc. Invulveld "Vervangen" moet worden toegepast indien op de locatie een bestaand component vervangen moet worden door een nieuw (verbeterd) component. De werkzaamheden bestaan dan uit het al dan niet gefaseerd aanbrengen van het nieuwe component en het verwijderen van het oude component. Denk hierbij aan het vervangen van oude signaalgevers en achtergrondschilden door nieuwe signaalgevers en achtergrondschilden op hetzelfde portaal, het vervangen van een oude camera door een nieuwe camera op dezelfde mast of VDC, het vervangen van een oud armatuur door een nieuw armatuur waarbij de lichtmast blijft gehandhaafd. Het vervangen van oude kabels door nieuwe kabels in hetzelfde kabeltracé valt hier ook onder. Invulveld "Handhaven" moet worden toegepast als een bestaand component ook onderdeel blijft van het nieuwe systeem en daar ook expliciet eisen aan zijn gesteld. Denk hierbij aan lichtmasten die gehandhaafd blijven (restlevensduur bepalen en/of rechtzetten), kabels die gehandhaafd blijven (doormeten), bestaande ongebruikte glasvezelkabels (testen). De kosten bestaan voornamelijk uit testen en metingen om te bezien of het bestaande onderdeel correct functioneert en/of voldoende restlevensduur heeft zodat besloten kan worden of een component gehandhaafd kan blijven. Het kan ook zijn dat er geen eisen worden gesteld aan bestaande componenten. In dat geval kunnen geen kosten worden opgevoerd in dit invulveld. De kosten om een nieuwe component te verbinden met een te handhaven component dient onderdeel te zijn van de eenheidsprijs van het nieuwe component. Invulveld "Saneren" moet worden toegepast indien op de locatie van een te verwijderen component geen nieuw component wordt aangebracht en de locatie (of database, software etc.) netjes en veilig wordt achtergelaten. Denk hierbij aan het verwijderen van een lichtmast waar geen nieuwe lichtmast op die locatie wordt teruggebracht. In dat geval dient het gat te worden gedicht zodat de berm weer netjes en veilig toegankelijk is. In de software, databases, applicaties en overige digitale systemen dienen verwijderde objecten/componenten niet meer aanwezig te zijn.
B11: 8 | C11: Er zijn invulvelden weergegeven op tabblad EHP Activiteiten voor de kosten per eenheid voor een aantal Activiteiten die geen onderdeel uitmaken van de decompositie van een objecttype. Het betreffen een aantal vaak voorkomende Activiteiten die nodig zijn om een objecttype te realiseren in zijn omgeving.
B13: Nr. | C13: Generieke toelichting op Eenheidsprijzen en Tarievenlijst ROK DOOR (EHP Objecttype en EHP Activiteiten)
B14: 9 | C14: Componenten waarvan eenheidsprijzen zijn uitgevraagd, zijn gebaseerd op een door de Opdrachtgever vastgestelde decompositie van onderdelen of de verbinding/raakvlak met een contextobject. De delen waaruit een component bestaat, zijn niet nader uitgewerkt maar behoren wel tot dat component. Ook de fysieke verbindingen, communicatie- en energie verbindingen tussen de componenten onderling behoren tot het component. Alle toegepaste (plaatsen, vervangen en handhaven) componenten dienen te leiden tot een werkend systeem conform de eisen van de Vraagspecificatie. Nadere Overeenkomst: er zijn geen aanvullende kosten toegestaan op de EHP Objecttype en EHP Activiteiten als een compleet OV c.q. DVM systeem wordt vervangen of delen daarvan. Dat is de bedoeling van deze opzet en dient als zodanig geinterpreteerd te worden. Uitgezonderd de kosten zoals genoemd in punt 13.
B15: 10 | C15: Voor enkele kosten vooruitlopend op de Aanvraag voor een Nadere Overeenkomst (met als resultaat een VO, zie VSP B-NO010, B-NO020 en B-NO030) mogen kosten separaat worden opgevoerd. Dat geldt voor: 1. Kosten voor schouwwerkzaamheden ("EHP Activiteiten - Schouw/Inspectie uitvoeren op locatie" toepassen indien dit wordt gevraagd) en eventueel de daarvoor benodigde verkeersmaatregelen indien de schouwlocatie niet bereikbaar is via onderliggend wegennet. 2. Overige onderzoeken of variantafwegingen. 3. De overige kosten t.g.v. overleggen met bijv. regionale afdelingen, met CIV, input leveren voor projectopdracht etc. De kosten van een VO en opstellen offerte mogen alleen worden opgevoerd als er geen eenheidsprijzen zijn uitgevraagd voor het desbetreffende objecttype. Als er wel eenheidsprijzen zijn uitgevraagd dan zijn alle overige kosten onderdeel van de eenheidsprijzen m.u.v. het gestelde onder punt 13.
B16: 11 | C16: Uitgangspunt voor alle eenheidsprijzen is dat de uitvoeringswerkzaamheden in de WBU, die jaarlijks opnieuw wordt vastgesteld, plaatsvinden. Indien het wordt toegestaan om werkzaamheden uit te voeren buiten de WBU (meer overdag of meer afsluitingen) dan heeft dat geen invloed op de eenheidsprijzen die zijn vastgesteld. Dag (06:00 - 18:00) Nacht (18:00 - 06:00) Weekend (vrij 18:00 - ma 06:00) Uitgangspunt voor alle eenheidsprijzen en tarieven is dat er geen onderscheid wordt gemaakt tussen dag, nacht en weekend tenzij dit expliciet is vermeld bij de eenheidsprijzen en tarieven, zoals bijvoorbeeld bij punt 17. Alle eenheidsprijzen en tarieven zijn inclusief alle toeslagen. Aanvullende kosten bovenop de eenheidsprijzen en tarieven zijn niet toegestaan.
B17: 12 | C17: De onderhavige opsomming van kostenposten/activiteiten zijn onderdeel van alle eenheidsprijzen (EHP) Objecttype en alle eenheidsprijzen (EHP) Activiteiten: - kosten t.b.v. opstellen offerte van een Nadere Overeenkomst waaronder ook indien van toepassing voedingskabelberekeningen en voor OV ook lichtberekeningen (indien de kosten hiervan zijn opgevoerd in de scope en VO fase dan dienen deze kosten als negatieve post bij de offerte van een Nadere Overeenkomst te zijn opgenomen om te voorkomen dat deze dubbel worden gerekend) EIS VSP IS LEIDEND. SCHOUW IN EHP. - kosten t.b.v. overleggen, PSU, PFU, VGR e.d. - kosten afstemming met interne stakeholders van RWS en met voorgeschreven ZHP en netbeheerders na opdrachtverlening van een Nadere Overeenkomst. - kosten afstemming met derden: kabel- en leidingeigenaren, netbeheerder, vergunning verleners - kosten van opslagen t.g.v. beperkingen van het areaal t.a.v. moeilijke bereikbaarheid, smalle bermen, aanwezige geleiderail, bermen met begroeiingen etc. - kosten t.b.v. onderzoeken t.b.v. bureauonderzoek archeologie, milieukundige bodemonderzoek (vooronderzoek en verkennend onderzoek op locatie buiten), bureauonderzoek CE indien nodig en bureauonderzoek Gedragscode flora&fauna - kosten t.g.v. voldoen aan aangeboden BPKV maatregelen, proces eisen en technische eisen en annexen conform contract en alle overige eisen van gerefereerde documenten en bijlagen. - kosten t.g.v. het volgen van het ontwerpproces en uitvoeren alle ontwerpactiviteiten waaronder o.a. inventarisatie, vergelijking van geleverde gegevens versus door ON uitgevoerde inventarisaties/schouw, analyse, berekeningen, tekeneningen, ontwerpdocumenten etc. e.e.a. conform SE methodiek) - engineeringskosten zoals gedefinieerd binnen de systematiek van SSK (projectmanagement, ontwerp, omgeving) - kosten van administratie en overige inkoopactiviteiten van objecten en componenten - kosten van levering (aankoop) van benodigde objecten en componenten en kosten t.b.v. tijdelijke opslag hiervan - alle bouwkosten - indirecte kosten zoals die worden gehanteerd binnen de systematiek van SSK t.b.v. ramingen en aanbiedingen. Denk hierbij (niet limitatief) aan: eenmalige kosten, aan- en afvoer materieel (inclusief brandstof, huur etc.), overige eenmalige kosten, financiele zaken, uitvoeringskosten, (gebruik) projectkantoor/keet, bouwplaatsvoorzieningen (o.a. tijdelijke sanitair voorzieningen, catering e.d.), veiligheidsvoorzieningen, overige uitvoeringskosten, algemene kosten, winst en risico en bijdragen. etc. - kosten inzet van materieel en tijdelijke verlichting t.b.v. het werk (machines, werkvoertuigen, werkvakverlichting (waaronder mobylights, cubes, bouwlampen etc.) inclusief aan- en afvoerkosten, brandstofkosten. - kosten inzet tijdelijke voorzieningen en/of beschermingsmaatregelen om beschadigingen aan bestaande assets (denk o.a. een bestaande kabels en leidingen) te voorkomen - kosten menskrachten inclusief kosten van reistijd woon-werk, transport en gereedschappen - kosten van alle uitvoeringsactiviteiten en klein materiaal (montage, aansluiten, koppelen en verbinden, lassen, blazen etc.) - kosten van alle overige niet nader genoemde activiteiten om een werkend systeem/keten te realiseren zoals o.a. lokaliseren en identificeren systeemdelen waarop aangesloten moet worden. - alle kosten met betrekking tot vrijkomende materialen (inclusief onderzoekskosten t.bv. verontreiningingen bodem, chroom-6 etc.) en alle afvoer- en verwerkingskosten - alle kosten t.g.v. systeemintegratie-, overige integratie- configuratie- en verificatie producten, uitvoering testen en activiteiten. Tevens de bijbehorende rapportages/aanpassingen in databases. - alle kosten t.g.v. oplever- en overdracht producten en activiteiten. Onder systeemintegratie wordt verstaan het koppelen van systeemonderdelen intern het systeem en extern met de contextobjecten zowel fysiek als functioneel zodanig dat een werkend systeem wordt opgeleverd binnen een keten. N.B. In het tabblad EHP Objecttype en EHP Activiteiten is per specifiek EHP soms ook een meer concrete aanvullende toelichting gegeven. Deze generieke toelichting op de eenheidsprijzen plus de aanvullende toelichting op de eenheidsprijzen zijn van toepassing voor iedere EHP.
B18: 13 | C18: Uitzonderingen op toelichting punt 12 zijn: - de eenheidsprijzen per Keten zijn exclusief de kosten voor werkzaamheden van ZHP. Die werkzaamheden worden per Nadere Overeenkomst bepaald en betaald conform hetgeen in de VSP daarover is opgenomen. - de eenheidsprijzen per Keten/Object zijn exclusief de kosten aan de netbeheerder/energiemaatschappij voor een eventueel benodigd nieuw energie-inkooppunt of werkzaamheden in bestaand inkooppunt door de netbeheerder - de eenheidsprijzen per Keten/Object zijn exclusief de kosten van leges zoals in de VSP is opgenomen. - kosten t.g.v. aanvullend F&F veldonderzoek (vereist vanuit de Gedragscode) - kosten van overleggen t.b.v. voortraject voorafgaand aan Nadere Overeenkomst (zie bepaling B-NO010, B-NO020 en B-NO030) - kosten t.g.v. herstellen van onjuiste areaalgegevens van te handhaven systeemonderdelen. - kosten van verkeersmaatregelen voor niet rijkswegen (wegen die niet in het beheersgebied van het rijk zijn) - kosten t.b.v. publiekscommunicatie en bouwcommunicatie
B19: 14 | C19: Voor alle EHP inzake Vervangen en Saneren geldt het volgende: - alle componenten die geen functie meer hebben in het nieuwe/aangepaste systeem zijn verwijderd en afgevoerd - inclusief kosten onderzoek van chroom-6 verdachte materialen - na het verwijderen van ondergrondse of deels in de bodem aangebrachte componenten dient het gat/gaten/sleuven aangevuld te zijn met grond en te zijn verdicht. - na het verwijderen van componenten dienen de daardoor onderbroken verbindingen hersteld te zijn indien dat nodig is voor het functioneren van het systeem en aanpalende systemen. - na het verwijderen van componenten dienen ook eventuele bijbehorende bevestigingsconstructies verwijderd te zijn indien deze functieloos zijn geworden. - na het verwijderen van componenten dienen de opleverdocumenten, databases, applicaties, configuraties, software opgeschoond te worden van de componenten die zijn verwijderd. - functieloze voedingskabels worden afgedopt en gemarkeerd als functieloos indien op die locatie geen nieuwe kabel wordt aangebracht tenzij hierover andere afspraken worden gemaakt met de Opdrachtgever. - inclusief alle stortingskosten, verwijderingsbijdragen en opzeggingen/beeindigingen van abonnementen.
B20: 15 | C20: Voor alle EHP van verkeersmaatregelen (voorbereiding en uitvoering) geldt dat deze zijn gebaseerd op: - Eisen VSP en bijlage "Verkeersmanagement voor rijkswegen" m.u.v. beschrijving - CROW WIU 96a-2020 “Standaardmaatregelen op autosnelwegen”, - CROW WIU 96a-2020 “Werken op autosnelwegen”, - CROW WIU 96b-2020 "Standaard maatregelen op niet-autosnelwegen" - CROW WIU 96b-2020 "Werken op niet-autosnelwegen - CROW WIU 96b-2020 "CROW WIU 96a/96b "Specificaties voor materiaal en materieel" - CROW WIU 96a/96b – 2020 "Beleid en proces". - CROW-publicatie 976 “Omleidingen en tijdelijke bewegwijzering” - aanvullende bepalingen uit de VSP en Governance Code in de Bouw/Beleid reductie aanrijdgevaar (o.a. creëren van afstand (extra ruimte ca. 3,0 - 3,5 meter) tussen rijdende voertuigen/machines en personen en voldoende werkvakverlichting in de afzetting. Dag ma - di - wo -don - vrij (06:00 - 18:00) Nacht ma/di - di/wo - wo/don - don/vrij - (18:00 - 6:00) Weekend (vrij 18:00 - zon 06:00) Uitgangspunt is de jaarlijkse vastgestelde WBU. Daar mag in de uitvoering van worden afgeweken mits Opdrachtgever daarmee akkoord gaat.
B21: 16 | C21: De uurtarieven van functionarissen en materieel zijn all-in en bevatten alle mogelijke opslagen en kosten voor overhead en/of stafkosten. De uurtarieven van materieel is ook inclusief bediening. De posten van de Tarievenlijst inzake functionarissen en materieel mogen alleen worden opgevoerd voor: 1. Objecttypen Filemeldsysteem en weight in motion waar geen eisen aan zijn gesteld en waarvan geen EHP zijn uitgevraagd. 2. Componenten waarvan geen EHP zijn uitgevraagd (de cellen van de eenheidsprijzen die rood zijn weergegeven) 3. Werkzaamheden die vallen onder punt 13.
B22: 17 | C22: De tarieven van functionarissen gelden van maandag tot en met vrijdag tussen 06.00 en 18.00 uur. Voor de overige uren van vrijdag (18.00 t/m 00.00) geldt over deze uurtarieven een toeslag van 35%. Voor zaterdagen geldt over deze uurtarieven een toeslag van 45% en voor zondagen en landelijke erkende feestdagen geldt een toeslag van 60%.
B23: 18 | C23: Bij de functies waarvoor eenheidstarieven worden gevraagd, is door Aanbesteder geen onderscheid gemaakt tussen junior, medior, senior. Inschrijver wordt in de gelegenheid gesteld om naar eigen inzicht én in relatie tot de opgave binnen de ROK DOOR een samenstelling op maat te bepalen van in te zetten functionarissen voor de ROK DOOR. Deze functionarissen dienen ook daadwerkelijk ingezet te worden voor de opgave. Voor deze specifieke samenstelling op maat worden de eenheidstarieven opgegeven door Inschrijver.
B24: 19 | C24: De bij aanbesteding ingediende eenheidstarieven worden onderdeel van het prijzenboek van de desbetreffende Inschrijver - na gunning thans Opdrachtnemer - en worden gebruikt voor de Aanbiedingen voor Nadere Overeenkomsten. Deze tarieven zijn niet voor wijziging vatbaar gedurende de contractfase - behoudens de indexatie conform Annex VI. De eenheidstarieven worden eveneens gebruikt ingeval van Wijzigingen.
B25: 20 | C25: De uurtarieven van functionarissen betreffen eenheidstarieven voor functionarissen die generiek van toepassing zijn voor werkzaamheden onder de ROK DOOR en daarmee ook zonder de inhoud van het Nadere Overeenkomsten te kennen ingediend kunnen worden als onderdeel van de aanbesteding.
B26: 21 | C26: De op te geven eenheidstarieven mogen niet abnormaal laag of ireeël zijn. Bij twijfel zal Aanbesteder informatie inwinnen bij de betreffende Inschrijver voor een toelichting op deze lage of ireeële prijs. Indien Inschrijver niet in staat is de prijs te onderbouwen, behoudt Aanbesteder zich het recht voor de inschrijving gemotiveerd af te wijzen.

Sheet EHP Objecttype
B2: Nr. | C2: Inschrijver | D2: … | O2: Perceel [….......] | V2: Perceel [….......]
C3: Items | K3: Indexering | O3: Eenheidsprijzen (EHP) | V3: Referentiewerkpakket (aantallen)
C5: Keten/Systeem | D5: Objecttype | E5: Decompositie van onderdelen | F5: Contextobjecten die geen onderdeel zijn van de keten | G5: Component | H5: In deze kolom is de rekeneenheid t.b.v. de eenheidsprijs weergegeven. Daarnaast staan hierin soms enkele aanvullingen op de generieke toelichting die behoren tot de EHP. Deze aanvullingen hebben betrekking op "Plaatsen" en "Vervangen" tenzij anders is weergegeven. Deze aanvullingen zijn bedoeld als een specifiekere toelichting aanvullend op de generieke toelichting. Het is dus geen vervanging van de generieke toelichting. | K5: Deel van indexering | L5: GWW index | O5: Plaatsen | P5: Vervangen | R5: Handhaven | S5: Saneren | V5: Plaatsen | W5: Vervangen | Y5: Handhaven | Z5: Saneren | AB5: Kosten totaal (euro) (eenheidsprijs x aantal)
O8: =O182 -> Plaatsen | P8: =P182 -> Vervangen | R8: =R182 -> Handhaven | S8: =S182 -> Saneren | V8: =V65 -> Plaatsen | W8: =W65 -> Vervangen | Y8: =Y65 -> Handhaven | Z8: =Z65 -> Saneren
O9: =O183 -> (EHP) | P9: =P183 -> (EHP) | R9: =R183 -> (EHP) | S9: =S183 -> (EHP) | V9: =V66 -> aantal | W9: =W66 -> aantal | Y9: =Y66 -> aantal | Z9: =Z66 -> aantal
C10: Keten Informatiepaneel | D10: Dynamisch Route Informatie Paneel (DRIP) | E10: Informatiepaneel | G10: bermDRIP Type 1B (192x128) | H10: Per bermDRIP. Inclusief montage, inclusief bevestigings(constructie) aan VDC, inclusief voedingskabels en communicatiekabels (= netwerkkabels) en aansluiting op apparatuurkast (dripkast) voor energievoorziening en VICnet, systeemintegratie en configuratie. [Vervangen]: Inclusief controleberekening constructieve draagconstructie bij hoger gewicht nieuw paneel t.o.v. te verwijderen paneel [Saneren]: Inclusief verwijderen constructie en fundatie. | K10: 0.4 | L10: 00 | V10: 3 | W10: 22 | Z10: 20 | AB10: =(V10*O10+W10*P10+Y10*R10+Z10*S10) -> 0
G11: bermDRIP Type 2B (144x96) | K11: 0.4 | L11: 00 | V11: 3 | W11: 22 | Z11: 15 | AB11: =(V11*O11+W11*P11+Y11*R11+Z11*S11) -> 0
G12: bermDRIP Type 3C (112x80) | K12: 0.4 | L12: 00 | V12: 3 | W12: 12 | Z12: 10 | AB12: =(V12*O12+W12*P12+Y12*R12+Z12*S12) -> 0
G13: bermDRIP Type 3D (80x80) | K13: 0.4 | L13: 00 | V13: 1 | W13: 2 | Z13: 2 | AB13: =(V13*O13+W13*P13+Y13*R13+Z13*S13) -> 0
K14: 0.4 | L14: 00 | AB14: =(V14*O14+W14*P14+Y14*R14+Z14*S14) -> 0
K15: 0.4 | L15: 00 | AB15: =(V15*O15+W15*P15+Y15*R15+Z15*S15) -> 0
E16: Informatiepaneel | G16: StadsDRIP | K16: 0.4 | L16: 00 | AB16: =(V16*O16+W16*P16+Y16*R16+Z16*S16) -> 0
E17: Informatiepaneel (full color) | G17: Rijbaanbrede DRIP+ Type 1 (breed) | H17: Per rijbaanbrede DRIP+. Inclusief montage, inclusief bevestigings(constructie) aan VDC, In geval van vervangen/verwijderen wordt uitgegaan van het fysiek vervangen/verwijderen van (klassieke) rijbaanbrede DRIPs. Tevens het softwarematig vervangen/verwijderen en de bediening en beeldplaatjes daarop aanpassen. | K17: 0.4 | L17: 00 | W17: 3 | Z17: 1 | AB17: =(V17*O17+W17*P17+Y17*R17+Z17*S17) -> 0
G18: Rijbaanbrede DRIP+ Type 2 (smal) | K18: 0.4 | L18: 00 | W18: 3 | Z18: 1 | AB18: =(V18*O18+W18*P18+Y18*R18+Z18*S18) -> 0
G19: Bordes | H19: Per bordes. Inclusief berekening, montage, bordes in lengterichting paneel en naar beide toegansdeuren paneel. Breedte ca. 18 meter | K19: 1 | L19: 19 | W19: 3 | AB19: =(V19*O19+W19*P19+Y19*R19+Z19*S19) -> 0
G20: Trap | H20: Per stuk. Inclusief berekening, montage, bevestings(constructie) aan bordes. | K20: 1 | L20: 19 | V20: 3 | W20: 3 | AB20: =(V20*O20+W20*P20+Y20*R20+Z20*S20) -> 0
E21: Apparatuurkast (dripkast) | G21: Apparatuurkast (dripkast) | H21: Per stuk. Inclusief behuizing, slot, fundatie en bestrating, inclusief besturingscomponenten in de kast, kastpakketten, energievoorziening in de kast, voedingskabels en aansluiting op voeding en netwerkkabels en aansluiting op VICnet [Handhaven]: zorgen dat aan de eisen wordt voldaan (aarding, bestrating etc.) | K21: 0.4 | L21: 00 | W21: 30 | Y21: 20 | AB21: =(V21*O21+W21*P21+Y21*R21+Z21*S21) -> 0
E22: Additionele kosten draadloos t.o.v. glas | G22: Modem draadloos | H22: Per stuk. Installeren en verbinden met draadloos netwerk. Exclusief kosten PDC en ZHP - CB | K22: 0.4 | L22: 00 | AB22: =(V22*O22+W22*P22+Y22*R22+Z22*S22) -> 0
F23: Wegkantsysteem | G23: DRIP aansluiting in Wegkantstation t.b.v. voeding en communicatie | H23: Per wegkantstation waarop DRIP wordt aangesloten. [Vervangen] : wegkantswitch waarop wordt aangesloten vervangen. Configuratie, netwerkadressen, CDMS/Dynac etc. aanpassen. | K23: 0.4 | L23: 00 | W23: 20 | AB23: =(V23*O23+W23*P23+Y23*R23+Z23*S23) -> 0
F24: VDC | G24: mast + fundatie (type 1B) | H24: Per VDC (mast). [Plaatsen] en [Vervangen] Inclusief fundatie, ophangconstructie en bevestiging van DRIP. [Handhaven] Inclusief coating, aarding etc. | K24: 1 | L24: 19 | W24: 4 | Y24: 25 | AB24: =(V24*O24+W24*P24+Y24*R24+Z24*S24) -> 0
F25: VDC | G25: mast + fundatie (type 2B) | H25: Per VDC (mast). [Plaatsen] en [Vervangen] Inclusief fundatie, ophangconstructie en bevestiging van DRIP. [Handhaven] Inclusief coating, aarding etc. | K25: 1 | L25: 19 | W25: 4 | Y25: 20 | AB25: =(V25*O25+W25*P25+Y25*R25+Z25*S25) -> 0
F26: VDC | G26: mast + fundatie of dripframe of anders (type 3C en 3D) | H26: Per VDC. [Plaatsen] en [Vervangen] Inclusief fundatie, ophangconstructie en bevestiging van DRIP. [Handhaven] Inclusief coating, aarding etc. | K26: 1 | L26: 19 | W26: 4 | Y26: 12 | AB26: =(V26*O26+W26*P26+Y26*R26+Z26*S26) -> 0
D27: NNV/VICnet - Netwerk aansluitingen | E27: PDC items | G27: Diversen | H27: Aansluiting op het NNV/VICnet door gebruik te maken van PDC items van de outsourcingspartner PDC netwerken. E.e.a. conform ZHP Gecoördineerde Levering PDC Netwerken door CIV/KPN | AD27: =SUM(AB10:AB22) -> 0
D28: Management VC | E28: Besturing en Bedienapplicatie | G28: Dynac | H28: ZHP - Inschakelen zelfstandige hulppersoon Verkeerskundig Configuratie Beheer (CB) Aanpassen besturing en bediening en applicatie aan nieuwe situatie (oude vervallen onderdelen verwijderen, opschonen software etc.)
O31: =O182 -> Plaatsen | P31: =P182 -> Vervangen | R31: =R182 -> Handhaven | S31: =S182 -> Saneren | V31: =V65 -> Plaatsen | W31: =W65 -> Vervangen | Y31: =Y65 -> Handhaven | Z31: =Z65 -> Saneren
O32: =O183 -> (EHP) | P32: =P183 -> (EHP) | R32: =R183 -> (EHP) | S32: =S183 -> (EHP) | V32: =V66 -> aantal | W32: =W66 -> aantal | Y32: =Y66 -> aantal | Z32: =Z66 -> aantal
C33: Videoketen - Incident Management | D33: Video Inwin Systeem - IM | E33: Camera | G33: IP-Camera inclusief pan-tilt-zoom unit | H33: Per stuk. Inclusief alle componenten behalve de mast. Levering, montage inclusief bevestigingsconstructie aan bestaande te handhaven of nieuwe mast, systeemintegratie, configuratie (+ aanleveren gegevens t.b.v. configuratie op HOM server door derde partij) en testen (zichtmeting en blokkentest) Bij [Vervangen] ook beeldenboek opstellen. | K33: 0.4 | L33: 00 | V33: 6 | W33: 34 | Z33: 4 | AB33: =(V33*O33+W33*P33+Y33*R33+Z33*S33) -> 0 | AE33: Referentie: - 6 nieuwe camera locaties, 34 camera locaties (10 aan vaste mast, 10 aan kantebare mast, 14 aan VDC) blijven gehandhaafd waarbij de camera wordt vervangen - 2 nieuwe camera locaties aan een vaste mast, 2 nieuwe camera locaties aan een kantelbare mast, 2 nieuwe camera locatie aan een VDC - 12 nieuwe apparatuurkasten nodig i.v.m. de afstand, 8 daarvan vervangen een bestaande apparatuurkast, 4 zijn nieuw i.v.m. de nieuwe camera locaties
F34: VDC | G34: Constructie op/aan VDC | H34: Per constructie voor een camera aan een VDC. Alleen als een nieuwe camera niet kan worden bevestigd aan de bestaande constructie. | K34: 0.4 | L34: 00 | V34: 2 | W34: 14 | Z34: 2 | AB34: =(V34*O34+W34*P34+Y34*R34+Z34*S34) -> 0
E35: Camaramast | G35: Vaste mast hoogte tot en met 6 meter | H35: Per mast. Exclusief bevestigingsconstructie camera. Levering en plaatsing mast en bodem verdichten conform plaatsingsvoorschriften. | K35: 1 | L35: 19 | V35: 2 | W35: 10 | Z35: 2 | AB35: =(V35*O35+W35*P35+Y35*R35+Z35*S35) -> 0
G36: Kantelbare mast hoogte tot en met 6 meter | H36: Per mast. Exclusief bevestigingsconstructie camera. Levering en plaatsing masten bodem verdichten conform plaatsingsvoorschriften. | K36: 1 | L36: 19 | V36: 2 | W36: 10 | Z36: 2 | AB36: =(V36*O36+W36*P36+Y36*R36+Z36*S36) -> 0
E37: Gecombineerde communicatie en voedingkabel | G37: Kabel UTP/POE | H37: Per meter kabel. Inclusief connectoren, montage, bevestiging | K37: 0.4 | L37: 00 | V37: 400 | W37: 3000 | Z37: 400 | AB37: =(V37*O37+W37*P37+Y37*R37+Z37*S37) -> 0
E38: Apparatuurkast (= camera-overgangskast in SSS VIS) | G38: Kast | H38: Per apparatuurkast. Behuizing, fundatie, slot, besturingsonderdelen, overig binnenwerk t.b.v. voeding en overige voorzieningen. | K38: 0.4 | L38: 00 | V38: 4 | W38: 8 | Z38: 2 | AB38: =(V38*O38+W38*P38+Y38*R38+Z38*S38) -> 0
G39: Data communicatieapparatuur voor de VICnet aansluiting | H39: Per apparatuurkast. Behuizing, fundatie, slot, besturingsonderdelen, overig binnenwerk t.b.v. voeding en overige voorzieningen. | K39: 0.4 | L39: 00 | V39: 4 | W39: 8 | Z39: 2 | AB39: =(V39*O39+W39*P39+Y39*R39+Z39*S39) -> 0
G40: Mediaconverter + SFP | H40: Per combinatie van mediaconverter en SFP. | K40: 0.4 | L40: 00 | V40: 4 | W40: 8 | Z40: 2 | AB40: =(V40*O40+W40*P40+Y40*R40+Z40*S40) -> 0
F41: Wegkantsysteem | G41: VIS onderdelen in bestaand Wegkantstation | H41: Per wegkantstation waarin VIS onderdelen worden geplaatst. Monteren en aansluiten VIS onderdeel in een bestaand wegkantstation [Vervangen] is oude VIS onderdelen verwijderen en nieuwe aanbrengen [Plaatsen] is nieuwe VIS onderdelen plaatsen in wegkantstation] Let op: het gaat hier dus om een nieuw camerasysteem dat in plaats komt van een oud systeem of helemaal nieuw is. Het wegkantstation blijft gehandhaafd. | K41: 0.4 | L41: 00 | V41: 20 | W41: 20 | AB41: =(V41*O41+W41*P41+Y41*R41+Z41*S41) -> 0
D42: NNV/VICnet - Netwerkaansluitingen | E42: PDC items | G42: Diversen | H42: Aansluiting op het NNV/VICnet door gebruik te maken van PDC items van de outsourcingspartner PDC netwerken. E.e.a. conform ZHP Gecoördineerde Levering PDC Netwerken door CIV/KPN | AD42: =SUM(AB33:AB41) -> 0
D43: Management VC | E43: Besturing en Bedienapplicatie | G43: Videomanager (PTZ service) | H43: ZHP - Inschakelen zelfstandige hulppersoon Verkeerskundig Configuratie Beheer (CB) t.b.v. PTZ router en converter
G44: Dynac (camera besturingsapplicatie) | H44: ZHP - Inschakelen zelfstandige hulppersoon Verkeerskundig Configuratie Beheer (CB)
G45: UWW (Universele Werkplek Wegverkeersleider) | H45: ZHP - Inschakelen zelfstandige hulppersoon Verkeerskundig Configuratie Beheer (CB)
O48: =O182 -> Plaatsen | P48: =P182 -> Vervangen | R48: =R182 -> Handhaven | S48: =S182 -> Saneren | V48: =V65 -> Plaatsen | W48: =W65 -> Vervangen | Y48: =Y65 -> Handhaven | Z48: =Z65 -> Saneren
...

Sheet  EHP Activiteiten
M2: Perceel [….......] | Q2: Perceel [….......]
B3: Inschrijver: … | I3: Indexering | M3: Eenheidsprijzen | Q3: Referentiewerkpakket
B5: NR. | C5: Activiteit | D5: Locatie | E5: Specifiek | F5: Eenheid/Opmerking | I5: Deel van indexering | J5: GWW index | M5: Kosten (euro) | Q5: Aantal | T5: Kosten totaal (euro) (aantal x eenheidsprijs)
C9: Voorbereiding verkeersmanagement
B10: 1A | C10: Voorbereiding verkeersmanagement | E10: Hindercategorie A | F10: Per Nadere Overeenkomst Alle werkzaamheden en producten zoals beschreven in VSP - Bijlage H Verkeersmanagement voor Rijkswegen voorafgaand aan de uitvoering en de CROW 96A en B WIU | I10: 0.7 | J10: 00 | Q10: 10 | T10: =(Q10*M10) -> 0
B11: 1B | C11: Voorbereiding verkeersmanagement | E11: Hindercategorie B | F11: Per Nadere Overeenkomst Alle werkzaamheden en producten zoals beschreven in VSP - Bijlage H Verkeersmanagement voor Rijkswegen voorafgaand aan de uitvoering en de CROW 96A en B WIU | I11: 0.7 | J11: 00 | Q11: 20 | T11: =(Q11*M11) -> 0
B12: 1C | C12: Voorbereiding verkeersmanagement | E12: Hindercategorie C | F12: Per Nadere Overeenkomst Alle werkzaamheden en producten zoals beschreven in VSP - Bijlage H Verkeersmanagement voor Rijkswegen voorafgaand aan de uitvoering en de CROW 96A en B WIU | I12: 0.7 | J12: 00 | Q12: 30 | T12: =(Q12*M12) -> 0
B13: 1D | C13: Voorbereiding Verkeersmanagement | E13: Hindercategorie D | F13: Per Nadere Overeenkomst Alle werkzaamheden en producten zoals beschreven in VSP - Bijlage H Verkeersmanagement voor Rijkswegen voorafgaand aan de uitvoering en de CROW 96A en B WIU | I13: 0.7 | J13: 00 | Q13: 100 | T13: =(Q13*M13) -> 0
V15: =SUM(T10:T13) -> 0
C17: Uitvoeren Omleidingen en Afsluitingen
B18: 2 | C18: Uitvoeren omleidingen en afsluitingen met bebording op omleidingsroute | D18: Omleiding afrit en/of toerit (beginpunt waar afgeweken wordt van regulier traject totdat weer wordt gereden op het reguliere traject) | E18: Omleiding tot 7,5 km | F18: Per omleidingstraject (vanaf splitsingspunt vanaf oorspronkelijk trace tot samenvoegingspunt met oorspronkelijk trace). Afstemming met Verkeersloket en overige wegbeheerders, opnemen omleiding in plannen conform VSP, aanvraag in SPIN en Melvin, plaatsen en verwijderen tijdelijke bewegwijzering/bebording omleiding en afschermen bestaande bewegwijzering en bebording indien nodig + overige verkeersmaatregelen t.b.v. de omleiding en afsluiting. Indien dezelfde omleiding bijvoorbeeld vaker dan 1x nodig blijkt te zijn dan wordt de EHP vermenigvuldigd met een factor van 0,9 per herhaling. | I18: 0.7 | J18: 00 | Q18: 40 | T18: =(Q18*M18) -> 0
E19: Omleiding van 7,5 tot 15 km | I19: 0.7 | J19: 00 | Q19: 30 | T19: =(Q19*M19) -> 0
E20: Omleiding langer dan 15 km | I20: 0.7 | J20: 00 | Q20: 20 | T20: =(Q20*M20) -> 0
V21: =SUM(T14:T20) -> 0
C24: Uitvoering Verkeersmaatregelen
B25: 3A | C25: Plaatsen verkeersmaatregelen autosnelweg (afzetting vluchtstrook en indien nodig ook afrit/toerit) | D25: Binnen invloedsfeer van de weg en/of een afrit/toerit afsluiting N.B. Voor Figuur 110 van de CROW 96A en voor werkzaamheden in de berm buiten de invloedsfeer van de weg, zijn geen afzettingen nodig. Wel een melding bij het Verkeersloket. Deze figuren hebben op basis van de arbeidshygienische strategie de voorkeur en dienen zoveel mogelijk te worden toegepast daar waar het kan. | E25: Voertuigen met chauffeurs + wegafzettingsploeg + alle benodigde materialen zoals o.a. verkeerskegels, geleidebakens, borden, waarschuwingshekken etc. conform CROW96 | F25: Per doordeweekse dag. (nacht 25% toeslag, weekend 40% toeslag) Afstemming met verkeersloket, opbouwen verkeersmaatregelen, verplaatsen verkeersmaatregelen gedurende de werkzaamheden en afbreken verkeersmaatregelen. Actiewagens en verdrijfwagens zijn onderdeel van deze post. De informatiewagen en botsabsorber zijn geen onderdeel van deze post. | I25: 0.7 | J25: 00 | Q25: 1500 | T25: =(Q25*M25) -> 0
B26: 3B | C26: Plaatsen verkeersmaatregelen autosnelweg (afzetting vluchtstrook, rechter rijstrook en indien nodig ook afrit/toerit) | E26: Voertuigen met chauffeurs + wegafzettingsploeg + alle benodigde materialen zoals o.a. verkeerskegels, geleidebakens, borden, waarschuwingshekken etc. conform CROW96 | F26: Per doordeweekse dag. (nacht 25% toeslag, weekend 40% toeslag) Afstemming met verkeersloket, opbouwen verkeersmaatregelen, verplaatsen verkeersmaatregelen gedurende de werkzaamheden en afbreken verkeersmaatregelen. Actiewagens en verdrijfwagens zijn onderdeel van deze post. De informatiewagen en botsabsorber zijn geen onderdeel van deze post. | I26: 0.7 | J26: 00 | Q26: 1000 | T26: =(Q26*M26) -> 0
B27: 3C | C27: Plaatsen verkeersmaatregelen autosnelweg (afzetting vluchtstrook, meerdere rijstroken en indien nodig ook afrit/toerit) | E27: Voertuigen met chauffeurs + wegafzettingsploeg + alle benodigde materialen zoals o.a. verkeerskegels, geleidebakens, borden, waarschuwingshekken etc. conform CROW96 | F27: Per doordeweekse dag. (nacht 25% toeslag, weekend 40% toeslag) Afstemming met verkeersloket, aanvraag in SPIN, opbouwen verkeersmaatregelen, verplaatsen verkeersmaatregelen gedurende de werkzaamheden en afbreken verkeersmaatregelen. Actiewagens en verdrijfwagens zijn onderdeel van deze post. De informatiewagen en botsabsorber zijn geen onderdeel van deze post. | I27: 0.7 | J27: 00 | Q27: 500 | T27: =(Q27*M27) -> 0
B28: 3D | C28: Plaatsen verkeersmaatregelen autosnelweg (afzetting linkerrijstrook t.b.v. werkzaamheden middenberm + schaduwbaaan afzetting linkerrijstrook) | E28: Voertuigen met chauffeurs + wegafzettingsploeg + alle benodigde materialen zoals o.a. verkeerskegels, geleidebakens, borden, waarschuwingshekken etc. conform CROW96 | F28: Per doordeweekse dag. (nacht 25% toeslag, weekend 40% toeslag) Afstemming met verkeersloket, opbouwen verkeersmaatregelen, verplaatsen verkeersmaatregelen gedurende de werkzaamheden en afbreken verkeersmaatregelen. Actiewagens en verdrijfwagens zijn onderdeel van deze post. De informatiewagen en botsabsorber zijn geen onderdeel van deze post. | I28: 0.7 | J28: 00 | Q28: 400 | T28: =(Q28*M28) -> 0
B29: 3E | C29: Plaatsen verkeersmaatregelen niet-autosnelweg | E29: Voertuigen met chauffeurs + wegafzettingsploeg + alle benodigde materialen zoals o.a. verkeerskegels, geleidebakens, borden, waarschuwingshekken etc. conform CROW96 | F29: Per doordeweekse dag. (nacht 25% toeslag, weekend 40% toeslag) Afstemming met verkeersloket, opbouwen verkeersmaatregelen, verplaatsen verkeersmaatregelen gedurende de werkzaamheden en afbreken verkeersmaatregelen. Actiewagens en verdrijfwagens zijn onderdeel van deze post. De informatiewagen en botsabsorber zijn geen onderdeel van deze post. | I29: 0.7 | J29: 00 | Q29: 200 | T29: =(Q29*M29) -> 0
B30: 3F | C30: Inzetten tijdelijke rijstrook signaalgever wagen (MRS - mobiele rijstrook signalering) | E30: Voertuig met bediening/chauffeur (minimaal uitgevoerd met 3 signaalgevers) | F30: Per voertuig per doordeweekse dag. (nacht 25% toeslag, weekend 40% toeslag) Plaatsen voertuig, afstemming met verkeersloket, gedurende werkzaamheden verplaatsen indien nodig, verwijderen voertuig, bediening | I30: 0.7 | J30: 00 | Q30: 100 | T30: =(Q30*M30) -> 0
B31: 3G | C31: Inzetten actiewagen | E31: Inzetten actiewagen + bediening | F31: Per actiewagen per doordeweekse dag. (nacht 25% toeslag, weekend 40% toeslag) Plaatsen en verplaatsen voertuig, afstemming met verkeersloket, gedurende werkzaamheden verplaatsen indien nodig, verwijderen voertuig. | I31: 0.7 | J31: 00 | Q31: 1400 | T31: =(Q31*M31) -> 0
B32: 3H | C32: Inzetten botsabsorber | E32: Inzetten botsabsorber inclusief botskussen en frame (in totaal ten minste 10000 kg, met 4 puntsgordel in cabine) | F32: Per botsabsorber per doordeweekse dag. (nacht 25% toeslag, weekend 40% toeslag) Plaatsen voertuig, afstemming met verkeersloket, gedurende werkzaamheden verplaatsen indien nodig, verwijderen voertuig | I32: 0.7 | J32: 00 | Q32: 1000 | T32: =(Q32*M32) -> 0
B33: 3I | C33: Inzetten informatiewagen (groot full color) | E33: Inzetten informatiewagen + bediening | F33: Per informatiewagen per doordeweekse dag. (nacht 25% toeslag, weekend 40% toeslag) Afstemming met RWS, aanvragen in SPIN, aanvoeren en plaatsen voertuig en borden, teksten (+ figuren moet ook kunnen). Inregelen/programmeren en gedurende werkzaamheden dit aanpassen indien nodig, verwijderen voertuig. | I33: 0.7 | J33: 00 | Q33: 400 | T33: =(Q33*M33) -> 0
B34: 3J | C34: Inzetten mobiele rijbaanverlichting (gem plaatsafstand h.o.h. 50 meter op wegvakken zonder lichtmasten) | D34: Rijbaan verlichting t.b.v. verkeer | E34: Stationaire lichtmast. | F34: Per stuk en per nacht Stationaire lichtmast (ook wel LED-cubes, Ligth-cubes, Quick-cubes genoemd) inclusief aan- en afvoer, huur en brandstof. Inclusief plaatsen, verplaatsen en verwijderen van deze lichtunits | I34: 0.7 | J34: 00 | Q34: 2000 | T34: =(Q34*M34) -> 0
B35: 3K | C35: Inzetten mobiele rijbaanverlichting (plaatsafstand h.o.h. 50 meter op wegvakken zonder lichtmasten) | D35: Rijbaan verlichting t.b.v. verkeer | E35: Mobiele lichtmast (met wielen) | F35: Per stuk en per nacht Mobiele lichtmast inclusief aan- en afvoer, huur en brandstof. Inclusief plaatsen, verplaatsen en verwijderen van deze lichtunits. | I35: 0.7 | J35: 00 | Q35: 2000 | T35: =(Q35*M35) -> 0
B36: 3L | C36: Inzetten mobiele rijbaanverlichting (plaatsafstand h.o.h. 50 meter op wegvakken zonder lichtmasten) | D36: Rijbaan verlichting t.b.v. verkeer | E36: Verlichting op langsafzetting (baken) | F36: Per stuk op baken/kegel en per nacht Baken met verlichting inclusief aan- en afvoer, huur en brandstof. Inclusief plaatsen, verplaatsen en verwijderen. | I36: 0.7 | J36: 00 | Q36: 4000 | T36: =(Q36*M36) -> 0
V37: =SUM(T25:T36) -> 0
B42: 4 | C42: Graven en dichten sleuf | D42: Zijberm (achter voertuigkering indien aanwezig) | E42: Graven t.b.v. aanbrengen voedingskabels en/of communicatiekabels, mantelbuizen en overige. | F42: Per meter graafllengte. In deze eenheidsprijs en in de overige eenheidsprijzen waarbij de bodem wordt geroerd, dienen ook de kosten te zijn opgenomen van inventarisatie van bestaande kabels en leidingen (proefsleuven of middels grondradar) en het verrichten van alle overige benodigde onderzoeken die nodig zijn voordat gegraven mag worden. Dit zijn: archeologisch onderzoek, flora en fauna onderzoek (Gedragscode), milieukundig bodemonderzoek (vooronderzoek (bureaustudie) en verkennend onderzoek (buiten op locatie) en indien nodig ook een nader onderzoek op locatie). Voor CE wordt protocol "Onverwachts aantreffen" gehanteerd. Ook de kosten van het werken conform BRL 6000, 7000 en de CROW 400, indien dat op basis van milieukundig bodemonderzoek noodzakelijk is, dient de opdrachtnemer in de EHP van grondroerende werkzaamheden op te nemen. Ook het verkrijgen van toestemmingen, vergunningen, ontheffingen, meldingen aan Bevoegd Gezag dient onderdeel te zijn van de prijs inzake bodemonderzoeken. De opdrachtnemer bepaalt zelf op basis van zijn ervaring hoe groot die kans is en draagt daarvoor het risico en dient dit als risico-opslag te verwerken in de EHP. | I42: 0.7 | J42: 00 | Q42: 100000 | T42: =M42*Q42 -> 0
D45: Middenberm (tussen voertuigkering indien aanwezig) | E45: Graven t.b.v. aanbrengen voedingskabels en/of communicatiekabels, mantelbuizen en overige. | I45: 0.7 | J45: 00 | Q45: 20000 | T45: =M45*Q45 -> 0
V48: =SUM(T42:T47) -> 0
B53: 5 | C53: Gestuurde boring uitvoeren + aanbrengen mantelbuis + kabels(s) inbrengen | D53: Onder wegen, watergangen en rivieren | E53: Mantelbuis diameter <=110 mm (boorgat is dus groter) | F53: Per meter. Horizontaal gemeten, werkelijke lengte zal groter zijn i.v.m. kromming maar de EHP dient gebaseerd te zijn op de lengte in het horizontale vlak. Inclusief voorbereiding (o.a. schouw) en opstellen (en laten toetsen) van boorplan. Inclusief ontgravingen t.b.v. intrede- en uittredepunt op max. 10 meter vanaf randverharding (bij een weg), maken boorgat en aanbrengen mantelbuis inclusief aanbrengen kabel(s) in mantelbuis. | I53: 0.4 | J53: 00 | Q53: 2000 | T53: =(Q53*M53) -> 0
E54: Mantelbuis diameter > 111 - 200 mm (boorgat is dus groter) | F54: Per meter. Horizontaal gemeten, werkelijke lengte zal groter zijn i.v.m. kromming maar de EHP dient gebaseerd te zijn op de lengte in het horizontale vlak. Inclusief voorbereiding (o.a. schouw) en opstellen (en laten toetsen) van boorplan. Inclusief ontgravingen t.b.v. intrede- en uittredepunt op max. 10 meter vanaf randverharding (bij een weg), maken boorgat en aanbrengen mantelbuis inclusief aanbrengen kabel(s) in mantelbuis. | I54: 0.4 | J54: 00 | Q54: 1000 | T54: =(Q54*M54) -> 0
E55: Toeslag gestuurde boring | F55: Deze toeslag is een vast bedrag per gestuurde boring met een intrede- en uittredepunt inclusief voorbereiding en boorplan. | I55: 0.4 | J55: 00 | M55: 5500 | Q55: 0 | T55: =(Q55*M55) -> 0
C56: Kabels inbrengen in bestaande mantelbuis | E56: Bestaande mantelbuis | F56: Per mantelbuis per kabel Opzoeken mantelbuis, schoonmaken, kabel(s) doorvoeren en evt. oude kabel(s) verwijderen. | I56: 0.4 | J56: 00 | Q56: 100 | T56: =(Q56*M56) -> 0
C57: Kabels inbrengen in bestaande doorvoeren (KW) | E57: Doorvoer in KW | F57: Per doorvoer in KW per kabel Opzoeken mantelbuis, schoonmaken, kabel(s) doorvoeren en evt. oude kabel(s) verwijderen. | I57: 0.4 | J57: 00 | Q57: 50 | T57: =(Q57*M57) -> 0
V58: =SUM(T53:T57) -> 0
B63: 6 | C63: Schouw/Inspectie uitvoeren | D63: Op locatie buiten conform Voorschrift | E63: Handhaven Buitenopstellingskast (NEN3140) | F63: Per Buitenopstellingskast. NEN3140 inspectie t.b.v. te handhaven buitenopstellingskasten Rapportage conform NEN3140 | I63: 0.7 | J63: 00 | Q63: 20 | T63: =(Q63*M63) -> 0
C64: Schouw/Inspectie uitvoeren | E64: WKS, DS en NS | F64: Per Wegkantstation, Detectiestation, Noodstroomstation Schouw en rapportage conform voorschrift | I64: 0.7 | J64: 00 | Q64: 75 | T64: =(Q64*M64) -> 0
E65: Voedingskast (buitenopstellingskast) OV kast/compartiment en inkooppunt kast/compartiment | F65: Per kast (dus niet per compartiment) Schouw en rapportage conform voorschrift | I65: 0.7 | J65: 00 | Q65: 250 | T65: =(Q65*M65) -> 0
...

Sheet Tarieven
B1: Inschrijver: …
C3: P1. Deel A Tarievenlijst ROK DOOR Procesdocumenten
B5: Volgnr. | C5: Omschrijving | G5: Kosten (euro) procesdocument | M5: Kosten totaal (euro)
C6: Generieke procesdocumenten voor ROK DOOR conform Annex III | G6: De opgevoerde kosten voor de procesdocumenten betreffen een vaste prijs, exclusief btw en inclusief de van toepassing zijnde flatrate voor AK, W&R, voor het betreffende product inclusief revisies aan de hand van de toetsreactie van Opdrachtgever op het ter ingediende acceptatiedocument
B9: P1 | C9: Projectmanagementplan conform het kwaliteitsborgingssysteem van Inschrijver en met inachtneming van de specificaties in de VSP ROK DOOR, waarin eveneens wordt ingegaan op alle disciplines in het IPM-model, de wijze van samenwerking met inachtneming van het kwalitatieve plan Partnerschap& productie (K2), financiële en risicobeheersing met inachtneming van de kwalitatieve plannen Financieel plan (K1) en Risico-aanpak (K3). | M9: =G9 -> 0
B10: P2 | C10: Veiligheidsmanagementplan | M10: =G10 -> 0
B11: P3 | C11: Verkeersmanagementplan | M11: =G11 -> 0
B12: P4 | C12: Beschrijving V&V strategie voor alle onder de ROK DOOR uit te voeren Nadere Overeenkomsten | M12: =G12 -> 0
B13: P5 | C13: Cybersecurity plan | M13: =G13 -> 0
O14: =SUM(M9:M13) -> 0
C16: P1. Deel B Tarievenlijst ROK DOOR Functionarissen
B18: Volgnr. | C18: Omschrijving | D18: Eenheid | G18: Tarief (euro) | J18: Aantal uren * | M18: Kosten totaal (euro)
C19: Functionaris | D19: uur | J19: * het aantal vermelde uren is indicatief en alleen t.b.v. het kunnen bepalen van het tarief van de betreffende functionaris
B22: 1 | C22: Contractbeheerder Raamovereenkomst (de persoon die zorgdraagt voor het beheer, uitvoerig en nakoming van de ROK, en de contacten met de klant onderhoudt) | D22: uur | J22: 750 | M22: =G22*J22 -> 0
B23: 2 | C23: Projectmanager | D23: uur | J23: 500 | M23: =G23*J23 -> 0
B24: 3 | C24: Administratief medewerker/Documentalist/projectsecretaris | D24: uur | J24: 1000 | M24: =G24*J24 -> 0
B25: 4 | C25: Contractmanager Nadere Overeenkomst | D25: uur | J25: 750 | M25: =G25*J25 -> 0
B26: 5 | C26: Kwaliteitsmanager/procesmanager | D26: uur | J26: 750 | M26: =G26*J26 -> 0
B27: 6 | C27: Manager Omgeving | D27: uur | J27: 500 | M27: =G27*J27 -> 0
B28: 7 | C28: Omgevingsadviseur | D28: uur | J28: 750 | M28: =G28*J28 -> 0
B29: 8 | C29: Adviseur onderzoeken (milieukundig, conditionering, K&L en/of areaaldata) | D29: uur | J29: 600 | M29: =G29*J29 -> 0
B30: 9 | C30: Ecoloog | D30: uur | J30: 500 | M30: =G30*J30 -> 0
B31: 10 | C31: Manager Projectbeheersing | D31: uur | J31: 600 | M31: =G31*J31 -> 0
B32: 11 | C32: Risicospecialist (t.b.v. risicomanagement) | D32: uur | J32: 600 | M32: =G32*J32 -> 0
B33: 12 | C33: Planner | D33: uur | J33: 750 | M33: =G33*J33 -> 0
... B61: 40 | C61: Stagair | D61: uur | J61: 500 | M61: =G61*J61 -> 0
O62: =SUM(M22:M61) -> 0
B64: P1. | C64: Deel C Tarievenlijst ROK DOOR Materieel
B66: DAG | C66: Materieel inclusief bediening (Dag 06.00 - 18.00, maandag tot en met vrijdag) | D66: Eenheid | G66: Tarief (euro) | J66: Aantal uren | M66: Kosten
B69: 41 | C69: Vrachtauto met kraan inclusief bediening | D69: uur | J69: 400 | M69: =G69*J69 -> 0
B70: 42 | C70: Vrachtauto knijper incl bediening | D70: uur | J70: 400 | M70: =G70*J70 -> 0
B71: 43 | C71: Hydraulische graafmachine incl bediening en hulpmiddelen 1000 ltr | D71: uur | J71: 400 | M71: =G71*J71 -> 0
B72: 44 | C72: Minigraver 2,5 ton inclusief bediening | D72: uur | J72: 400 | M72: =G72*J72 -> 0
B73: 45 | C73: Hoogwerker reikwijdte >= 10 m en werkhoogte >= 15 m inclusief bediening | D73: uur | J73: 400 | M73: =G73*J73 -> 0
B74: 46 | C74: Hoogwerker reikwijdte tot 10 m en werkhoogte tot 15 m inclusief bediening | D74: uur | J74: 400 | M74: =G74*J74 -> 0
O75: =SUM(M69:M74) -> 0 | P75: Kosten totaal (euro)
B78: NACHT | C78: Materieel inclusief bediening (Nacht 18.00 - 06.00, maandag tot en met vrijdag) | D78: Eenheid | G78: Tarief (euro) | J78: Aantal uren | M78: Kosten
B81: 41 | C81: Vrachtauto met kraan inclusief bediening | D81: uur | J81: 500 | M81: =G81*J81 -> 0
B82: 42 | C82: Vrachtauto knijper incl bediening | D82: uur | J82: 500 | M82: =G82*J82 -> 0
B83: 43 | C83: Hydraulische graafmachine incl bediening en hulpmiddelen 1000 ltr | D83: uur | J83: 500 | M83: =G83*J83 -> 0
...

Sheet Inschrijfsom
B2: Objecttype | E2: Perceel [….......]
B6: ='EHP Objecttype'!$D$10 -> Dynamisch Route Informatie Paneel (DRIP) | E6: ='EHP Objecttype'!AD27 -> 0
B10: ='EHP Objecttype'!$D$33 -> Video Inwin Systeem - IM | E10: ='EHP Objecttype'!AD42 -> 0
B14: ='EHP Objecttype'!$D$50 -> Video Inwin Systeem - SPS | E14: ='EHP Objecttype'!AD59 -> 0
B18: ='EHP Objecttype'!$D$67 -> Wegkantsysteem | E18: ='EHP Objecttype'!AD83 -> 0
B22: ='EHP Objecttype'!$D$89 -> Toerit Doseer Installatie (TDI) | E22: ='EHP Objecttype'!AD100 -> 0
B26: ='EHP Objecttype'!C107 -> Keten Verkeersregeling | E26: ='EHP Objecttype'!AD143 -> 0
B30: ='EHP Objecttype'!C151 -> Keten voertuigdetectie vluchthaven | E30: ='EHP Objecttype'!AD154 -> 0
B34: ='EHP Objecttype'!$D$161 -> NNV/VICnet | E34: ='EHP Objecttype'!AD180 -> 0
B38: ='EHP Objecttype'!$D$184 -> Elektrische Installatie - Laagspanningsinstallatie OV en DVM | E38: ='EHP Objecttype'!AD208 -> 0
B42: ='EHP Objecttype'!$D$216 -> Openbare Verlichting | E42: ='EHP Objecttype'!AD271 -> 0
B46: Geleiderail/Mantelbuis/Overstapconstructie | E46: ='EHP Objecttype'!$AD$280 -> 0
B50: Doorsteekvoorziening/Serviceplaats | E50: ='EHP Objecttype'!$AD$286 -> 0
H52: =SUM(E6:E50) -> 0
B54: Activiteiten | E54: =E2 -> Perceel [….......]
B58: =' EHP Activiteiten'!C10 -> Voorbereiding verkeersmanagement | E58: =' EHP Activiteiten'!V15 -> 0
B62: =' EHP Activiteiten'!$C$17 -> Uitvoeren Omleidingen en Afsluitingen | E62: =' EHP Activiteiten'!V21 -> 0
B66: =' EHP Activiteiten'!C24 -> Uitvoering Verkeersmaatregelen | E66: =' EHP Activiteiten'!V37 -> 0
B70: =' EHP Activiteiten'!$C$42 -> Graven en dichten sleuf | E70: =' EHP Activiteiten'!V48 -> 0
B74: =' EHP Activiteiten'!$C$53 -> Gestuurde boring uitvoeren + aanbrengen mantelbuis + kabels(s) inbrengen | E74: =' EHP Activiteiten'!V58 -> 0
B78: =' EHP Activiteiten'!$C$63 -> Schouw/Inspectie uitvoeren | E78: =' EHP Activiteiten'!V69 -> 0
H80: =SUM(E58:E78) -> 0
B82: Tarieven | E82: =E2 -> Perceel [….......]
B86: Totaal aan Tarieven (onderdelen A, B en C van tabblad Tarieven) | E86: =Tarieven!O101 -> 0
H88: =E86 -> 0
B90: Inschrijfsom (alle, door inschrijver in te vullen, bedragen/eenheidsprijzen/tarieven zijn inclusief de flatrate AK, W&R conform eis NO090 in de VSP en zijn exclusief BTW, en zijn gebaseerd op het prijspeil 1 april 2025) | E90: =E6+E10+E14+E18+E22+E26+E30+E34+E38+E42+E46+E50+E58+E62+E66+E70+E74+E78+E86 -> 0 | H90: =H52+H80+H88 -> 0
E97: Ondertekenaar
E101: Handtekening
