Workbook

Sheet Invulinstructie
C2: PRIJZENBLAD - Landelijk - Bloemen en personeelsattenties
B6: Algemene invulinstructie
B7: • Inschrijver dient bij inschrijving deze Aanbiedingsbegroting in de vorm van dit prijzenblad in te dienen. De Aanbiedingsbegroting dient ingediend te worden in TenderNed. • Alle kosten, prijzen en tarieven dienen opgegeven te worden in euro's, all-in en exclusief BTW te zijn. • De kosten, prijzen en tarieven dienen op het prijspeil van 1 april 2025 te zijn. Indexatie vindt plaats conform het Programma van Eisen "Landelijk - Bloemen & Personeelsattenties". • Alle kosten, prijzen en tarieven dienen gebaseerd te worden op de uitvraag "Landelijk - Bloemen & Personeelsattenties", zie specifiek (maar niet uitsluitend) het Programma van Eisen. Inschrijver dient enkel de gele en lichtrode cellen in te vullen. Als de lichtrode cellen groen kleuren zijn ze binnen de bandbreedte ingevuld. • Inschrijver brengt geen wijzigingen aan buiten de gele en lichtrode cellen. • Het indienen van negatieve getallen is niet toegestaan. • Per product is een bandbreedte van toepassing. De prijs voor de producten dient binnen de aangegeven bandbreedte te vallen. A • Tevens geldt voor de totale inschrijfprijs een bandbreedte. De inschrijfprijs dient binnen deze bandbreedte te vallen. Het indienen van een inschrijfprijs die niet binnen de gestelde bandbreedte valt leidt tot uitsluiting van de procedure. De bandbreedte is tot stand gekomen op basis van wat ProRail als realistische inschrijfprijs hanteert. • Alleen de kosten die in de Aanbiedingsbegroting zijn opgenomen komen in aanmerking voor vergoeding. Alle overige kosten (administratieve kosten, reiskosten, huisvesting, ICT-middelen, etc.) dienen in de prijs per eenheid verwerkt te worden. • De totale Inschrijfprijs is gebaseerd op de door de Inschrijver ingediende bedragen en het indicatieve volume van deze diensten zoals door ProRail bepaald. Deze aantallen betreffen nadrukkelijk geen afname garantie. Er kunnen geen rechten aan worden ontleend. • De handtekening dient te geplaatst te worden in het geel gearceerde veld voor “rechtsgeldige ondertekening”. Let op! Uw assortimentslijst voor de beantwoording van gunningscriterium 3 (in te vullen in Format Beantwoording GC 3 - Assortimentslijst) dient overeen te komen met het assortiment dat u aanbiedt in deze Aanbiedingsbegroting. Let op! Indien uw tarief niet past binnen de bandbreedte kleurt de cel rood. Inschrijver is en blijft verantwoordelijk voor de juistheid van de formules binnen het prijzenblad. Indien er onjuistheden in voorkomen, dient de inschrijver dit bij ProRail kenbaar te maken. U kunt hiervoor de Nota van Inlichtingen gebruiken. Dit geldt óók voor de vergrendelde cellen.

Sheet Totaal en ondertekening
A1: PRIJZENBLAD - Landelijk - Bloemen en personeelsattenties
A2: Totaal en ondertekening
B6: Berekening geschatte prijs per type geschenk per jaar
B7: Type geschenk | C7: Geschatte afname per jaar | D7: Gemiddelde prijs | E7: Gemiddelde prijs per type geschenk x geschatte afname per jaar | F7: Prijs 8 jaar
B8: Klein geschenk | C8: 1650 | D8: ='Klein geschenk'!E31 -> 0 | E8: =C8*D8 -> 0 | F8: =E8*8 -> 0
B9: Middel geschenk | C9: 2800 | D9: ='Middel geschenk'!E71 -> 0 | E9: =C9*D9 -> 0 | F9: =E9*8 -> 0
B10: Groot geschenk | C10: 300 | D10: ='Groot geschenk'!E44 -> 0 | E10: =C10*D10 -> 0 | F10: =E10*8 -> 0
B11: Totaal | F11: =SUM(F8:F10) -> 0
B15: Inschrijfprijs
B16: Eenmalige kosten | C16: Prijs 8 jaar
B17: Implementatiekosten webshop | C17: =Overigen!D8 -> 0
B18: Berekening contractloop 8 jaar | C18: Prijs 8 jaar
B19: Licentie webshop | C19: =Overigen!D10 -> 0
B20: Berekening geschatte prijs per type geschenk per jaar | C20: =F11 -> 0
B21: Bezorgkosten en handlingskosten | C21: =Overigen!F19 -> 123080 | D21: Bandbreedte inschrijfprijs
B22: Maatwerk rouw | C22: =Overigen!F26 -> 18000 | D22: Minimale inschrijfprijs | E22: Maximale inschrijfprijs
B23: Inschrijfprijs 8 jaar | C23: =SUM(C17,C19,C20,C21,C22) -> 141080 | D23: 830000 | E23: 1025000
B28: Rechtsgeldige ondertekening*:
B30: Naam:
B32: Functie:
B34: Datum:
B36: *Door het indienen van de aanbiedingsbegroting verklaart Inschijver dat deze zich volledig conformeert aan de aanbestedingsleidraad inclusief bijlagen. Tevens accepteert Inschrijver eventuele wijzigingen/aanvullingen, zoals opgenomen in de nota(‘s) van inlichtingen en gaat ermee akkoord dat de hierin opgenomen wijzigingen/aanvullingen prevaleren boven hetgeen bepaald in eerder genoemde aanbestedingsleidraad inclusief bijlagen. Door het indienen van de aanbiedingsbegroting verklaart Inschijver tevens dat de Inschrijving volledig is gebaseerd op en voldoet aan de bepalingen in de eerder genoemde aanbestedingsleidraad, vraagspecificatie, de nota(‘s) van inlichting en de eigen beantwoording van de gunningscriteria. Alle kosten gerelateerd aan de uitvoering van de beantwoording van de gunningscriteria worden geacht in de aangeboden prijzen te zijn verdisconteerd, tenzij dit in de beantwoording nadrukkelijk anders is aangegeven. Inschrijving verklaart met het indienen van de aanbiedingsbegroting dat de door hem geoffreerde prijzen zonder voorbehoud zijn. Er kan derhalve nooit sprake zijn van meer- danwel minderwerk, zonder uitdrukkelijke toestemming van de opdrachtgever.

Sheet Klein geschenk
A1: PRIJZENBLAD - Landelijk - Bloemen en personeelsattenties
A2: Kleine geschenken
B6: Type geschenk | C6: Product nr. | D6: Omschrijving assortiment - product | E6: Prijs per product | F6: Productcategorie | G6: Bandbreedte excl. BTW
B7: Klein geschenk inclusief handlingskosten + kaartje | C7: 1 | D7: De inschrijver moet hier een product toevoegen | F7: Pasen | G7: 5 tot 10 euro
C8: 2 | D8: De inschrijver moet hier een product toevoegen
C9: 3 | D9: De inschrijver moet hier een product toevoegen
C10: 4 | D10: De inschrijver moet hier een product toevoegen
C11: 5 | D11: De inschrijver moet hier een product toevoegen | F11: Sinterklaas
C12: 6 | D12: De inschrijver moet hier een product toevoegen
C13: 7 | D13: De inschrijver moet hier een product toevoegen
C14: 8 | D14: De inschrijver moet hier een product toevoegen
C15: 9 | D15: De inschrijver moet hier een product toevoegen | F15: Internationaal sport evenement
C16: 10 | D16: De inschrijver moet hier een product toevoegen
C17: 11 | D17: De inschrijver moet hier een product toevoegen
C18: 12 | D18: De inschrijver moet hier een product toevoegen
C19: 13 | D19: De inschrijver moet hier een product toevoegen | F19: Pasen | G19: 10,01 tot 15 euro
C20: 14 | D20: De inschrijver moet hier een product toevoegen
C21: 15 | D21: De inschrijver moet hier een product toevoegen
C22: 16 | D22: De inschrijver moet hier een product toevoegen
C23: 17 | D23: De inschrijver moet hier een product toevoegen | F23: Sinterklaas
C24: 18 | D24: De inschrijver moet hier een product toevoegen
C25: 19 | D25: De inschrijver moet hier een product toevoegen
C26: 20 | D26: De inschrijver moet hier een product toevoegen
C27: 21 | D27: De inschrijver moet hier een product toevoegen | F27: Internationaal sport evenement
C28: 22 | D28: De inschrijver moet hier een product toevoegen
C29: 23 | D29: De inschrijver moet hier een product toevoegen
C30: 24 | D30: De inschrijver moet hier een product toevoegen
B31: Gemiddelde prijs klein geschenk | E31: =SUM(E7:E30)/24 -> 0

Sheet Middel geschenk
A1: PRIJZENBLAD - Landelijk - Bloemen en personeelsattenties
A2: Middel geschenken
B6: Type geschenk | C6: Product nr. | D6: Omschrijving assortiment - product | E6: Prijs per product | F6: Productcategorie | G6: Bandbreedte excl. BTW
B7: Middel geschenk inclusief handlingskosten + kaartje | C7: 1 | D7: Seizoensboeket/plukboeket | F7: Bloemboeket | G7: 15,01 tot 19 euro
C8: 2 | D8: Keuze van de bloemist
C9: 3 | D9: De inschrijver moet hier een product toevoegen | F9: Geboorte/adoptie
C10: 4 | D10: De inschrijver moet hier een product toevoegen
C11: 5 | D11: De inschrijver moet hier een product toevoegen
C12: 6 | D12: De inschrijver moet hier een product toevoegen
C13: 7 | D13: De inschrijver moet hier een product toevoegen
C14: 8 | D14: De inschrijver moet hier een product toevoegen | F14: Huwelijk / geregistreerd partnerschap / samenlevingsovereenkomst
C15: 9 | D15: De inschrijver moet hier een product toevoegen
C16: 10 | D16: De inschrijver moet hier een product toevoegen
C17: 11 | D17: De inschrijver moet hier een product toevoegen
C18: 12 | D18: De inschrijver moet hier een product toevoegen
C19: 13 | D19: De inschrijver moet hier een product toevoegen | F19: Afscheid bij interne doorstroom andere afdeling
C20: 14 | D20: De inschrijver moet hier een product toevoegen
C21: 15 | D21: De inschrijver moet hier een product toevoegen
C22: 16 | D22: De inschrijver moet hier een product toevoegen
C23: 17 | D23: De inschrijver moet hier een product toevoegen
C24: 18 | D24: De inschrijver moet hier een product toevoegen | F24: Afscheid bij verlaten organisatie <10 jaar
C25: 19 | D25: De inschrijver moet hier een product toevoegen
C26: 20 | D26: De inschrijver moet hier een product toevoegen
C27: 21 | D27: De inschrijver moet hier een product toevoegen
C28: 22 | D28: De inschrijver moet hier een product toevoegen
C29: 23 | D29: De inschrijver moet hier een product toevoegen | F29: Ambtsjubileum 12,5 jaar
C30: 24 | D30: De inschrijver moet hier een product toevoegen
C31: 25 | D31: De inschrijver moet hier een product toevoegen
C32: 26 | D32: De inschrijver moet hier een product toevoegen
C33: 27 | D33: De inschrijver moet hier een product toevoegen
C34: 28 | D34: De inschrijver moet hier een product toevoegen | F34: In dienst treding
C35: 29 | D35: De inschrijver moet hier een product toevoegen
C36: 30 | D36: De inschrijver moet hier een product toevoegen
C37: 31 | D37: De inschrijver moet hier een product toevoegen
C38: 32 | D38: De inschrijver moet hier een product toevoegen
C39: 33 | D39: Seizoensboeket/plukboeket | F39: Bloemboeket | G39: 19,01 tot 22,93
C40: 34 | D40: Keuze van de bloemist
C41: 35 | D41: De inschrijver moet hier een product toevoegen | F41: Geboorte/adoptie
C42: 36 | D42: De inschrijver moet hier een product toevoegen
C43: 37 | D43: De inschrijver moet hier een product toevoegen
C44: 38 | D44: De inschrijver moet hier een product toevoegen
C45: 39 | D45: De inschrijver moet hier een product toevoegen
C46: 40 | D46: De inschrijver moet hier een product toevoegen | F46: Huwelijk / geregistreerd partnerschap / samenlevingsovereenkomst
C47: 41 | D47: De inschrijver moet hier een product toevoegen
C48: 42 | D48: De inschrijver moet hier een product toevoegen
C49: 43 | D49: De inschrijver moet hier een product toevoegen
C50: 44 | D50: De inschrijver moet hier een product toevoegen
C51: 45 | D51: De inschrijver moet hier een product toevoegen | F51: Afscheid bij interne doorstroom andere afdeling
C52: 46 | D52: De inschrijver moet hier een product toevoegen
C53: 47 | D53: De inschrijver moet hier een product toevoegen
C54: 48 | D54: De inschrijver moet hier een product toevoegen
C55: 49 | D55: De inschrijver moet hier een product toevoegen
C56: 50 | D56: De inschrijver moet hier een product toevoegen | F56: Afscheid bij verlaten organisatie <10 jaar
C57: 51 | D57: De inschrijver moet hier een product toevoegen
C58: 52 | D58: De inschrijver moet hier een product toevoegen
C59: 53 | D59: De inschrijver moet hier een product toevoegen
C60: 54 | D60: De inschrijver moet hier een product toevoegen
C61: 55 | D61: De inschrijver moet hier een product toevoegen | F61: Ambtsjubileum 12,5 jaar
C62: 56 | D62: De inschrijver moet hier een product toevoegen
C63: 57 | D63: De inschrijver moet hier een product toevoegen
C64: 58 | D64: De inschrijver moet hier een product toevoegen
C65: 59 | D65: De inschrijver moet hier een product toevoegen
C66: 60 | D66: De inschrijver moet hier een product toevoegen | F66: In dienst treding
C67: 61 | D67: De inschrijver moet hier een product toevoegen
C68: 62 | D68: De inschrijver moet hier een product toevoegen
C69: 63 | D69: De inschrijver moet hier een product toevoegen
C70: 64 | D70: De inschrijver moet hier een product toevoegen
B71: Gemiddelde prijs middel geschenk | E71: =SUM(E7:E70)/64 -> 0

Sheet Groot geschenk
A1: PRIJZENBLAD - Landelijk - Bloemen en personeelsattenties
A2: Grote geschenken
B6: Type geschenk | C6: Product nr. | D6: Omschrijving assortiment - product | E6: Prijs per product | F6: Productcategorie | G6: Bandbreedte excl. BTW
B7: Groot geschenk inclusief handlingkosten + kaartje | C7: 1 | D7: Seizoensboeket/plukboeket | F7: Bloemboeket | G7: 22,94 euro tot 42 euro
C8: 2 | D8: Keuze van de bloemist
C9: 3 | D9: De inschrijver moet hier een product toevoegen | F9: Ambtsjubileum
C10: 4 | D10: De inschrijver moet hier een product toevoegen
C11: 5 | D11: De inschrijver moet hier een product toevoegen
C12: 6 | D12: De inschrijver moet hier een product toevoegen | F12: Afscheid ProRail
C13: 7 | D13: De inschrijver moet hier een product toevoegen
C14: 8 | D14: De inschrijver moet hier een product toevoegen
C15: 9 | D15: De inschrijver moet hier een product toevoegen | F15: Pensioen
C16: 10 | D16: De inschrijver moet hier een product toevoegen
C17: 11 | D17: De inschrijver moet hier een product toevoegen
C18: 12 | D18: De inschrijver moet hier een product toevoegen | F18: Ziek
C19: 13 | D19: De inschrijver moet hier een product toevoegen
C20: 14 | D20: De inschrijver moet hier een product toevoegen
C21: 15 | D21: Seizoensboeket/plukboeket | F21: Bloemboeket | G21: 42,01 tot 61 euro
C22: 16 | D22: Keuze van de bloemist
C23: 17 | D23: De inschrijver moet hier een product toevoegen | F23: Ambtsjubileum
C24: 18 | D24: De inschrijver moet hier een product toevoegen
C25: 19 | D25: De inschrijver moet hier een product toevoegen
C26: 20 | D26: De inschrijver moet hier een product toevoegen | F26: Afscheid ProRail
C27: 21 | D27: De inschrijver moet hier een product toevoegen
C28: 22 | D28: De inschrijver moet hier een product toevoegen
C29: 23 | D29: De inschrijver moet hier een product toevoegen | F29: Pensioen
C30: 24 | D30: De inschrijver moet hier een product toevoegen
C31: 25 | D31: De inschrijver moet hier een product toevoegen
C32: 26 | D32: De inschrijver moet hier een product toevoegen | F32: Ambtsjubileum | G32: 61,01 tot 80
C33: 27 | D33: De inschrijver moet hier een product toevoegen
C34: 28 | D34: De inschrijver moet hier een product toevoegen | F34: Afscheid ProRail
C35: 29 | D35: De inschrijver moet hier een product toevoegen
C36: 30 | D36: De inschrijver moet hier een product toevoegen | F36: Pensioen
C37: 31 | D37: De inschrijver moet hier een product toevoegen
C38: 32 | D38: De inschrijver moet hier een product toevoegen | F38: Ambtsjubileum | G38: 80,01 tot 100
C39: 33 | D39: De inschrijver moet hier een product toevoegen
C40: 34 | D40: De inschrijver moet hier een product toevoegen | F40: Afscheid ProRail
C41: 35 | D41: De inschrijver moet hier een product toevoegen
C42: 36 | D42: De inschrijver moet hier een product toevoegen | F42: Pensioen
C43: 37 | D43: De inschrijver moet hier een product toevoegen
B44: Gemiddelde prijs groot geschenk | E44: =SUM(E7:E43)/37 -> 0

Sheet Overigen
A1: PRIJZENBLAD - Landelijk - Bloemen en personeelsattenties
A2: Overigen
B6: Webshop en licentie
B7: Omschrijving activiteit | C7: Eenmalige prijs | D7: Totaalbedrag 8 jaar (excl BTW)
B8: Éénmalige implementatiekosten ontwikkeling webshop | C8: 0 | D8: =C8 -> 0
B9: Omschrijving activiteit | C9: Totaalprijs per jaar | D9: Totaalbedrag 8 jaar (excl BTW)
B10: Licentie webshop (inclusief alle bijbehorende werkzaamheden, bijv. wijzigen assortiment, updates etc.) | C10: 0 | D10: =C10*8 -> 0
C11: Totaal | D11: =D8+D10 -> 0
B14: Bezorgkosten + handlingskosten
B15: Type geschenk | C15: Geschat aantal per jaar | D15: Tarief per bezorging | E15: Totaal per jaar | F15: Totaalbedrag 8 jaar
B16: Handlingskosten per stuk | C16: 4750 | E16: =C16*D16 -> 0 | F16: =E16*8 -> 0
B17: Bezorging brievenbus per stuk* | C17: 400 | D17: 4.25 | E17: =C17*D17 -> 1700 | F17: =E17*8 -> 13600
B18: Bezorging per stuk* | C18: 2300 | D18: 5.95 | E18: =C18*D18 -> 13685 | F18: =E18*8 -> 109480
B19: Totaal | E19: =SUM(E16:E18) -> 15385 | F19: =SUM(F16:F18) -> 123080
B20: Zie eis 38a in het PvE: de daadwerkelijke kosten voor bezorging zoals overeengekomen met de bezorgdienst dienen 1 op 1 doorberekend te worden aan ProRail. Het is Opdrachtnemer niet toegestaan om hierover een marge te berekenen. De tarieven zoals weergeven in deze Aanbiedingsbegroting zijn ter indicatie voor het berekenen van de Inschrijfprijs en kunnen afwijken van de werkelijkheid.
B22: Maatwerk rouw
B23: Maatwerk | C23: Geschat aantal per jaar | D23: Tarief (geschat) | E23: Totaal per jaar | F23: Totaal 8 jaar
B24: Rouwboeket | C24: 25 | D24: 75 | E24: =C24*D24 -> 1875 | F24: =E24*8 -> 15000
B25: Rouwlint | C25: 25 | D25: 15 | E25: =C25*D25 -> 375 | F25: =E25*8 -> 3000
B26: Totaal | E26: =SUM(E24:E25) -> 2250 | F26: =F24+F25 -> 18000
