Workbook
Name Invullen: Prijzenblad!$A$125:$C$125

Sheet Werkblad A
A1: OMVANG VAN LEVERING | F1: Werkelijk verbruik
F2: Periode | G2: Zwart-wit | H2: Full color
F3: Nov-22 t/m jan-23 | G3: 469858 | H3: 214595
B4: Type 1: Full color MFP A4/A3 minimaal 55 PPM | C4: Type 2: Zwart-wit MFP A4/A3 minimaal 45 PPM | D4: Type 3: Zwart-wit MFP A4/A3 minimaal 55 PPM | F4: Feb-23 t/m apr-23 | G4: 644209 | H4: 307954
A5: Lumion | B5: 1 | C5: 4 | D5: 0 | F5: Mei-23 t/m jul-23 | G5: 336654 | H5: 197735
A6: Caland | B6: 1 | C6: 2 | D6: 1 | F6: Aug-23 t/m okt-23 | G6: 294415 | H6: 174832
A7: Bestuursbureau | B7: 1 | C7: 0 | D7: 0 | F7: Nov-23 t/m jan-24 | G7: 479273 | H7: 290407
F8: Gemiddeld per jaar | G8: {=SUM((G3:G7)/15)*12} -> 1779527.2 | H8: {=SUM((H3:H7)/15)*12} -> 948418.4
A9: Totaal | B9: =SUM(B5:B7) -> 3 | C9: =SUM(C5:C7) -> 6 | D9: =SUM(D5:D7) -> 1
F10: Disclaimer: De aantallen kunnen door allerlei omstandigheden de komende jaren anders uitvallen.
D11: Totaal:
A12: Volume zwart-wit per jaar | D12: =G8 -> 1779527.2
A13: Volume FC per jaar | D13: =H8 -> 948418.4
D14: =SUM(D12:D13) -> 2727945.6

Sheet Prijzenblad
A1: Prijzenblad - Alle lichtgroene cellen en de roze cellen dient Inschrijver in te vullen!
A2: Eerste 60 maanden
A3: Omschrijving | C3: Aangeboden type/model: | D3: ='Werkblad A'!B4 -> Type 1: Full color MFP A4/A3 minimaal 55 PPM | E3: ='Werkblad A'!C4 -> Type 2: Zwart-wit MFP A4/A3 minimaal 45 PPM | F3: ='Werkblad A'!D4 -> Type 3: Zwart-wit MFP A4/A3 minimaal 55 PPM
A4: Aangeboden type: | D4: <<>> | E4: <<>> | F4: <<>>
A5: HUURPRIJS per type per maand | D5: 0 | E5: 0 | F5: 0
A6: BEHEERSOFTWARE per type per maand | D6: 0 | E6: 0 | F6: 0
A7: Eis 119: PRINTMANAGEMENT machinegerelateerde kosten | D7: 0 | E7: 0 | F7: 0
A9: OPTIES | C9: <<>> | D9: 0 | F9: 0
A10: Nietoptie | B10: Prijs per machine | C10: <<>> | D10: 0 | E10: 0 | F10: 0
A11: Inline boekjesmaker | B11: Prijs per machine | C11: <<>> | D11: 0 | E11: N.V.T. | F11: N.V.T.
A12: Totaal per type machine | D12: =SUM(D5:D11) -> 0 | E12: =SUM(E5:E11) -> 0 | F12: =SUM(F5:F11) -> 0
A14: Totaal aantal machines | D14: ='Werkblad A'!B9 -> 3 | E14: ='Werkblad A'!C9 -> 6 | F14: ='Werkblad A'!D9 -> 1
A16: Totaalkosten huur/ software/opties | D16: =D3 -> Type 1: Full color MFP A4/A3 minimaal 55 PPM | E16: =E3 -> Type 2: Zwart-wit MFP A4/A3 minimaal 45 PPM | F16: =F3 -> Type 3: Zwart-wit MFP A4/A3 minimaal 55 PPM
A17: TOTAALKOSTEN PER TYPE MACHINE | D17: =D14*D12 -> 0 | E17: =E14*E12 -> 0 | F17: =F14*F12 -> 0
A18: TOTAALKOSTEN PER TYPE MACHINE PER JAAR | D18: =D17*12 -> 0 | E18: =E17*12 -> 0 | F18: =F17*12 -> 0
A19: TOTAALKOSTEN PER TYPE MACHINE 60 maanden | D19: =SUM(D18:F18)*5 -> 0
A21: Totaalkosten | C21: Opgave prijs per maand | D21: Totaal 60 maanden
A22: Eis 43: Cloud-server | C22: 0 | D22: =C22*60 -> 0
A23: Eis 119: Printmanagementsoftware (ongeacht het aantal machines) | C23: 0 | D23: =C23*60 -> 0
A24: Eis 120: Printen vanaf mobile devices | C24: 0 | D24: =C24*60 -> 0
D25: =SUM(D22:D24) -> 0
A27: Invullen te hanteren prijsindex AFDRUKKEN (INDIEN INSCHRIJVER EEN PRIJSINDEX HANTEERT), maximaal 10% conform prijsvoorwaarden aanbestedingsdocument | C27: 0 | D27: =(C27/100)+1 -> 1
A29: Omschrijving | C29: Aantal eenheden | D29: Opgave prijs per eenheid/tik | E29: Totaal per jaar
A30: Zwart afdrukken | B30: Prijs per tik | C30: ='Werkblad A'!D12 -> 1779527.2 | D30: 0 | E30: =C30*D30 -> 0
A31: Full color afdrukken | B31: prijs per tik | C31: ='Werkblad A'!D13 -> 948418.4 | D31: 0 | E31: =C31*D31 -> 0
A33: Omschrijving | C33: Aantal eenheden | D33: Opgave prijs per eenheid/tik | E33: Totaal per jaar
A34: Zwart afdrukken | B34: Prijs per tik | C34: =C30 -> 1779527.2 | D34: =D27*D30 -> 0 | E34: =C34*D34 -> 0
A35: Full color afdrukken | B35: prijs per tik | C35: =C31 -> 948418.4 | D35: =D31*D27 -> 0 | E35: =C35*D35 -> 0
A37: Omschrijving | C37: Aantal eenheden | D37: Opgave prijs per eenheid/tik | E37: Totaal per jaar
A38: Zwart afdrukken | B38: Prijs per tik | C38: =C30 -> 1779527.2 | D38: =D34*D27 -> 0 | E38: =C38*D38 -> 0
A39: Full color afdrukken | B39: prijs per tik | C39: =C31 -> 948418.4 | D39: =D27*D35 -> 0 | E39: =C39*D39 -> 0
A41: Omschrijving | C41: Aantal eenheden | D41: Opgave prijs per eenheid/tik | E41: Totaal per jaar
A42: Zwart afdrukken | B42: Prijs per tik | C42: =C34 -> 1779527.2 | D42: =D38*D27 -> 0 | E42: =C42*D42 -> 0
A43: Full color afdrukken | B43: prijs per tik | C43: =C35 -> 948418.4 | D43: =D27*D39 -> 0 | E43: =C43*D43 -> 0
A45: Omschrijving | C45: Aantal eenheden | D45: Opgave prijs per eenheid/tik | E45: Totaal per jaar
A46: Zwart afdrukken | B46: Prijs per tik | C46: =C38 -> 1779527.2 | D46: =D42*D27 -> 0 | E46: =C46*D46 -> 0
A47: Full color afdrukken | B47: prijs per tik | C47: =C39 -> 948418.4 | D47: =D27*D43 -> 0 | E47: =C47*D47 -> 0
A49: TOTAALKOSTEN AFDRUKKEN eerste 60 maanden | B49: =SUM(E30+E31+E34+E35+E38+E39+E42+E43+E46+E47) -> 0
A51: Eerste optiejaar
A52: Omschrijving | C52: Aangeboden type/model: | D52: =D3 -> Type 1: Full color MFP A4/A3 minimaal 55 PPM | E52: =E3 -> Type 2: Zwart-wit MFP A4/A3 minimaal 45 PPM | F52: =F3 -> Type 3: Zwart-wit MFP A4/A3 minimaal 55 PPM
A53: =A4 -> Aangeboden type: | D53: =D4 -> <<>> | E53: =E4 -> <<>> | F53: =F4 -> <<>>
A54: =A5 -> HUURPRIJS per type per maand | D54: 0 | E54: 0 | F54: 0
A55: =A6 -> BEHEERSOFTWARE per type per maand | D55: 0 | E55: 0 | F55: 0
A56: =A7 -> Eis 119: PRINTMANAGEMENT machinegerelateerde kosten | D56: 0 | E56: 0 | F56: 0
A58: OPTIES | C58: <<>> | D58: 0 | E58: 0 | F58: 0
A59: =A10 -> Nietoptie | B59: Prijs per machine | C59: =C10 -> <<>> | D59: 0 | E59: 0 | F59: 0
A60: =A11 -> Inline boekjesmaker | B60: Prijs per machine | C60: =C11 -> <<>> | D60: 0 | E60: N.V.T. | F60: N.V.T.
A61: Totaal per type machine | D61: =SUM(D54:D60) -> 0 | E61: =SUM(E54:E60) -> 0 | F61: =SUM(F54:F60) -> 0
A63: Totaal aantal machines | D63: =D14 -> 3 | E63: =E14 -> 6 | F63: =F14 -> 1
A65: Totaalkosten huur/ software/opties | D65: =D3 -> Type 1: Full color MFP A4/A3 minimaal 55 PPM | E65: =E3 -> Type 2: Zwart-wit MFP A4/A3 minimaal 45 PPM | F65: =F3 -> Type 3: Zwart-wit MFP A4/A3 minimaal 55 PPM
A66: TOTAALKOSTEN PER TYPE MACHINE | D66: =D63*D61 -> 0 | E66: =E63*E61 -> 0 | F66: =F63*F61 -> 0
A67: TOTAALKOSTEN PER TYPE MACHINE EERSTE OPTIEJAAR | D67: =D66*12 -> 0 | E67: =E66*12 -> 0 | F67: =F66*12 -> 0
A68: TOTAAL (alle machines) eerste optiejaar | D68: =SUM(D67:F67) -> 0
A70: =A21 -> Totaalkosten | C70: Opgave prijs per maand | D70: Totaal eerste optiejaar
A71: =A22 -> Eis 43: Cloud-server | C71: 0 | D71: =C71*12 -> 0
A72: =A23 -> Eis 119: Printmanagementsoftware (ongeacht het aantal machines) | C72: 0 | D72: =C72*12 -> 0
A73: =A24 -> Eis 120: Printen vanaf mobile devices | C73: 0 | D73: =C73*12 -> 0
D74: =SUM(D71:D73) -> 0
A76: Omschrijving | C76: aantal eenheden | D76: opgave prijs per eenheid/tik | E76: totaal per jaar
A77: zwart afdrukken | B77: Prijs per tik | C77: =C30 -> 1779527.2 | D77: =D27*D46 -> 0 | E77: =C77*D77 -> 0
A78: full color afdrukken | B78: prijs per tik | C78: =C31 -> 948418.4 | D78: =D27*D47 -> 0 | E78: =C78*D78 -> 0
A79: TOTAALKOSTEN AFDRUKKEN eerste optiejaar | B79: =SUM(E77:E78) -> 0
A81: Tweede optiejaar
A82: Omschrijving | C82: Aangeboden type/ model: | D82: =D3 -> Type 1: Full color MFP A4/A3 minimaal 55 PPM | E82: =E3 -> Type 2: Zwart-wit MFP A4/A3 minimaal 45 PPM | F82: =F3 -> Type 3: Zwart-wit MFP A4/A3 minimaal 55 PPM
A83: =A4 -> Aangeboden type: | D83: =D4 -> <<>> | E83: =E4 -> <<>> | F83: =F4 -> <<>>
A84: =A5 -> HUURPRIJS per type per maand | D84: 0 | E84: 0 | F84: 0
A85: =A6 -> BEHEERSOFTWARE per type per maand | D85: 0 | E85: 0 | F85: 0
A86: =A7 -> Eis 119: PRINTMANAGEMENT machinegerelateerde kosten | D86: 0 | E86: 0 | F86: 0
A88: OPTIES | C88: <<>>
A89: =A10 -> Nietoptie | B89: Prijs per machine | C89: =C10 -> <<>> | D89: 0 | E89: 0 | F89: 0
A90: =A11 -> Inline boekjesmaker | B90: Prijs per machine | C90: =C11 -> <<>> | D90: 0 | E90: N.V.T. | F90: N.V.T.
A91: Totaal per type machine | D91: =SUM(D84:D90) -> 0 | E91: =SUM(E84:E90) -> 0 | F91: =SUM(F84:F90) -> 0
A93: Totaal aantal machines | D93: =D14 -> 3 | E93: =E14 -> 6 | F93: =F14 -> 1
A95: Totaalkosten huur/ software/opties | D95: =D3 -> Type 1: Full color MFP A4/A3 minimaal 55 PPM | E95: =E3 -> Type 2: Zwart-wit MFP A4/A3 minimaal 45 PPM | F95: =F3 -> Type 3: Zwart-wit MFP A4/A3 minimaal 55 PPM
A96: TOTAALKOSTEN PER TYPE MACHINE | D96: =D93*D91 -> 0 | E96: =E93*E91 -> 0 | F96: =F93*F91 -> 0
A97: TOTAALKOSTEN PER TYPE MACHINE TWEEDE OPTIEJAAR | D97: =D96*12 -> 0 | E97: =E96*12 -> 0 | F97: =F96*12 -> 0
A98: TOTAAL (alle machines) tweede optiejaar | D98: =SUM(D97:F97) -> 0
A100: =A70 -> Totaalkosten | C100: Opgave prijs per maand | D100: Totaal tweede optiejaar
A101: =A71 -> Eis 43: Cloud-server | C101: 0 | D101: =C101*12 -> 0
A102: =A72 -> Eis 119: Printmanagementsoftware (ongeacht het aantal machines) | C102: 0 | D102: =C102*12 -> 0
A103: =A73 -> Eis 120: Printen vanaf mobile devices | C103: 0 | D103: =C103*12 -> 0
D104: =SUM(D101:D103) -> 0
A106: Omschrijving | C106: Aantal eenheden | D106: Opgave prijs per eenheid/tik | E106: Totaal per jaar
A107: zwart afdrukken | B107: Prijs per tik | C107: =C77 -> 1779527.2 | D107: =D27*D77 -> 0 | E107: =C107*D107 -> 0
A108: Full color afdrukken | B108: prijs per tik | C108: =C78 -> 948418.4 | D108: =D27*D78 -> 0 | E108: =C108*D108 -> 0
A109: TOTAALKOSTEN AFDRUKKEN tweede optiejaar | B109: =SUM(E107:E108) -> 0
A111: Omschrijving | C111: Aantal eenheden | D111: Opgave totaalprijs per maand | E111: Totaal per jaar
A112: Kosten interne verhuizingen MFP's | B112: prijs per verhuizing | C112: 5 | D112: 0 | E112: =SUM(C112*D112) -> 0
A113: Kosten externe verhuizingen MFP's | B113: prijs per verhuizing | C113: 5 | D113: 0 | E113: =SUM(C113*D113) -> 0
A114: TOTAALKOSTEN VERHUIZINGEN | B114: =SUM(E112:E113)*5 -> 0
A116: Totaal som ten behoeve van prijsbeoordeling | C116: =D19+B49+D68+B79+D98+B109+B114+D25+D74+D104 -> 0 | E116: De totaalsom is opgebouwd uit de som van de HUUR/OPTIES/ SOFTWARE/ AFDRUKKEN EN VERHUIZINGEN voor de eerste 60 maanden + het eerste optiejaar + het tweede optiejaar.
A118: Naam Inschrijver
A120: Contractvolume | C120: Invullen | F120: instructie:
A122: Retourneerrecht 10% van het intiele huurbedrag machines + opties | C122: Invullen
A125: Invullen | B125: JA | C125: NEE

Sheet Retourneerrecht
A1: VOORBEELDBEREKENING BIJ 10% retourneerrecht
A2: FICTIEVE INITIELE BESTELLING | C2: Type 1 | D2: Type 2 | E2: Type 3
A3: Aantal machines | C3: =Prijzenblad!D14 -> 3 | D3: =Prijzenblad!E14 -> 6 | E3: =Prijzenblad!F14 -> 1
A4: Per machine | C4: =Prijzenblad!D5 -> 0 | D4: =Prijzenblad!E5 -> 0 | E4: =Prijzenblad!F5 -> 0
A5: Machine gerelateerde opties en software | C5: =Prijzenblad!D12-Prijzenblad!D5 -> 0 | D5: =Prijzenblad!E12-Prijzenblad!E5 -> 0 | E5: =Prijzenblad!F12-Prijzenblad!F5 -> 0
A6: Looptijd in maanden | C6: 60 | D6: 60 | E6: 60
A7: TOTAAL HUURBEDRAG (incl. opties en machine gerelateerde software) | C7: =(C6*(C4+C5))*C3 -> 0 | D7: =(D6*(D4+D5))*D3 -> 0 | E7: =(E6*(E4+E5))*E3 -> 0
A9: Retourneerrecht in percentage | C9: 0.1 | D9: 0.1 | E9: 0.1
A10: TOTAAL RETOURNEERRECHT | C10: =(C7)*C9 -> 0 | D10: =(D7)*D9 -> 0 | E10: =(E7)*E9 -> 0 | F10: =SUM(C10:E10) -> 0
A12: Voorbeeldberekening | B12: aantal | D12: mnd resterend
A13: RETOURNEERRECHT | C13: =C10 -> 0
A14: 1 x type 1 na 3 jaar | B14: 1 | C14: =$B14*(C$4)*$D14 -> 0 | D14: 24
A15: TOTAAL | B15: =SUM(B14:B14) -> 1 | C15: =SUM(C14:C14) -> 0
A16: NOG OVER AAN RETOURNEERRECHT | C16: =C10-C15 -> 0
