Workbook
Name Invullen: Prijzenblad!$A$125:$C$125

Sheet Werkblad A
A1: OMVANG VAN LEVERING | F1: Werkelijk verbruik
F2: Periode | G2: Zwart-wit | H2: Full color
F3: Nov-22 t/m jan-23 | G3: 469858 | H3: 214595
B4: Type 1: Full color MFP A4/A3 minimaal 55 PPM | C4: Type 2: Zwart-wit MFP A4/A3 minimaal 45 PPM | D4: Type 3: Zwart-wit MFP A4/A3 minimaal 55 PPM | F4: Feb-23 t/m apr-23 | G4: 644209 | H4: 307954
A5: Lumion | B5: 1 | C5: 4 | D5: 0 | F5: Mei-23 t/m jul-23 | G5: 336654 | H5: 197735
A6: Caland | B6: 1 | C6: 2 | D6: 1 | F6: Aug-23 t/m okt-23 | G6: 294415 | H6: 174832
A7: Bestuursbureau | B7: 1 | C7: 0 | D7: 0 | F7: Nov-23 t/m jan-24 | G7: 479273 | H7: 290407
F8: Gemiddeld per jaar | G8: {=SUM((G3:G7)/15)*12} -> 1779527.2 | H8: {=SUM((H3:H7)/15)*12} -> 948418.4
A9: Totaal | B9: =SUM(B5:B7) -> 3 | C9: =SUM(C5:C7) -> 6 | D9: =SUM(D5:D7) -> 1
F10: Disclaimer: De aantallen kunnen door allerlei omstandigheden de komende jaren anders uitvallen.
D11: Totaal:
A12: Volume zwart-wit per jaar | D12: =G8 -> 1779527.2
A13: Volume FC per jaar | D13: =H8 -> 948418.4
D14: =SUM(D12:D13) -> 2727945.6

Sheet Prijzenblad
A1: Prijzenblad - Alle lichtgroene cellen en de roze cellen dient Inschrijver in te vullen!
A2: Eerste 60 maanden
A3: Omschrijving | C3: Aangeboden type/model: | D3: ='Werkblad A'!B4 -> Type 1: Full color MFP A4/A3 minimaal 55 PPM | E3: ='Werkblad A'!C4 -> Type 2: Zwart-wit MFP A4/A3 minimaal 45 PPM | F3: ='Werkblad A'!D4 -> Type 3: Zwart-wit MFP A4/A3 minimaal 55 PPM
A4: Aangeboden type: | D4: <<>> | E4: <<>> | F4: <<>>
A5: HUURPRIJS per type per maand | D5: 0 | E5: 0 | F5: 0
A6: BEHEERSOFTWARE per type per maand | D6: 0 | E6: 0 | F6: 0
A7: Eis 119: PRINTMANAGEMENT machinegerelateerde kosten | D7: 0 | E7: 0 | F7: 0
A9: OPTIES | C9: <<>> | D9: 0 | F9: 0
A10: Nietoptie | B10: Prijs per machine | C10: <<>> | D10: 0 | E10: 0 | F10: 0
A11: Inline boekjesmaker | B11: Prijs per machine | C11: <<>> | D11: 0 | E11: N.V.T. | F11: N.V.T.
A12: Totaal per type machine | D12: =SUM(D5:D11) -> 0 | E12: =SUM(E5:E11) -> 0 | F12: =SUM(F5:F11) -> 0
A14: Totaal aantal machines | D14: ='Werkblad A'!B9 -> 3 | E14: ='Werkblad A'!C9 -> 6 | F14: ='Werkblad A'!D9 -> 1
A16: Totaalkosten huur/ software/opties | D16: =D3 -> Type 1: Full color MFP A4/A3 minimaal 55 PPM | E16: =E3 -> Type 2: Zwart-wit MFP A4/A3 minimaal 45 PPM | F16: =F3 -> Type 3: Zwart-wit MFP A4/A3 minimaal 55 PPM
A17: TOTAALKOSTEN PER TYPE MACHINE | D17: =D14*D12 -> 0 | E17: =E14*E12 -> 0 | F17: =F14*F12 -> 0
A18: TOTAALKOSTEN PER TYPE MACHINE PER JAAR | D18: =D17*12 -> 0 | E18: =E17*12 -> 0 | F18: =F17*12 -> 0
A19: TOTAALKOSTEN PER TYPE MACHINE 60 maanden | D19: =SUM(D18:F18)*5 -> 0
A21: Totaalkosten | C21: Opgave prijs per maand | D21: Totaal 60 maanden
A22: Eis 43: Cloud-server | C22: 0 | D22: =C22*60 -> 0
A23: Eis 119: Printmanagementsoftware (ongeacht het aantal machines) | C23: 0 | D23: =C23*60 -> 0
A24: Eis 120: Printen vanaf mobile devices | C24: 0 | D24: =C24*60 -> 0
D25: =SUM(D22:D24) -> 0
A27: Invullen te hanteren prijsindex AFDRUKKEN (INDIEN INSCHRIJVER EEN PRIJSINDEX HANTEERT), maximaal 10% conform prijsvoorwaarden aanbestedingsdocument | C27: 0 | D27: =(C27/100)+1 -> 1
A29: Omschrijving | C29: Aantal eenheden | D29: Opgave prijs per eenheid/tik | E29: Totaal per jaar
A30: Zwart afdrukken | B30: Prijs per tik | C30: ='Werkblad A'!D12 -> 1779527.2 | D30: 0 | E30: =C30*D30 -> 0
A31: Full color afdrukken | B31: prijs per tik | C31: ='Werkblad A'!D13 -> 948418.4 | D31: 0 | E31: =C31*D31 -> 0
A33: Omschrijving | C33: Aantal eenheden | D33: Opgave prijs per eenheid/tik | E33: Totaal per jaar
A34: Zwart afdrukken | B34: Prijs per tik | C34: =C30 -> 1779527.2 | D34: =D27*D30 -> 0 | E34: =C34*D34 -> 0
A35: Full color afdrukken | B35: prijs per tik | C35: =C31 -> 948418.4 | D35: =D31*D27 -> 0 | E35: =C35*D35 -> 0
A37: Omschrijving | C37: Aantal eenheden | D37: Opgave prijs per eenheid/tik | E37: Totaal per jaar
A38: Zwart afdrukken | B38: Prijs per tik | C38: =C30 -> 1779527.2 | D38: =D34*D27 -> 0 | E38: =C38*D38 -> 0
A39: Full color afdrukken | B39: prijs per tik | C39: =C31 -> 948418.4 | D39: =D27*D35 -> 0 | E39: =C39*D39 -> 0
A41: Omschrijving | C41: Aantal eenheden | D41: Opgave prijs per eenheid/tik | E41: Totaal per jaar
A42: Zwart afdrukken | B42: Prijs per tik | C42: =C34 -> 1779527.2 | D42: =D38*D27 -> 0 | E42: =C42*D42 -> 0
A43: Full color afdrukken | B43: prijs per tik | C43: =C35 -> 948418.4 | D43: =D27*D39 -> 0 | E43: =C43*D43 -> 0
A45: Omschrijving | C45: Aantal eenheden | D45: Opgave prijs per eenheid/tik | E45: Totaal per jaar
A46: Zwart afdrukken | B46: Prijs per tik | C46: =C38 -> 1779527.2 | D46: =D42*D27 -> 0 | E46: =C46*D46 -> 0
A47: Full color afdrukken | B47: prijs per tik | C47: =C39 -> 948418.4 | D47: =D27*D43 -> 0 | E47: =C47*D47 -> 0
A49: TOTAALKOSTEN AFDRUKKEN eerste 60 maanden | B49: =SUM(E30+E31+E34+E35+E38+E39+E42+E43+E46+E47) -> 0
A51: Eerste optiejaar
A52: Omschrijving | C52: Aangeboden type/model: | D52: =D3 -> Type 1: Full color MFP A4/A3 minimaal 55 PPM | E52: =E3 -> Type 2: Zwart-wit MFP A4/A3 minimaal 45 PPM | F52: =F3 -> Type 3: Zwart-wit MFP A4/A3 minimaal 55 PPM
...

Sheet Retourneerrecht
A1: VOORBEELDBEREKENING BIJ 10% retourneerrecht
A2: FICTIEVE INITIELE BESTELLING | C2: Type 1 | D2: Type 2 | E2: Type 3
A3: Aantal machines | C3: =Prijzenblad!D14 -> 3 | D3: =Prijzenblad!E14 -> 6 | E3: =Prijzenblad!F14 -> 1
A4: Per machine | C4: =Prijzenblad!D5 -> 0 | D4: =Prijzenblad!E5 -> 0 | E4: =Prijzenblad!F5 -> 0
A5: Machine gerelateerde opties en software | C5: =Prijzenblad!D12-Prijzenblad!D5 -> 0 | D5: =Prijzenblad!E12-Prijzenblad!E5 -> 0 | E5: =Prijzenblad!F12-Prijzenblad!F5 -> 0
A6: Looptijd in maanden | C6: 60 | D6: 60 | E6: 60
A7: TOTAAL HUURBEDRAG (incl. opties en machine gerelateerde software) | C7: =(C6*(C4+C5))*C3 -> 0 | D7: =(D6*(D4+D5))*D3 -> 0 | E7: =(E6*(E4+E5))*E3 -> 0
A9: Retourneerrecht in percentage | C9: 0.1 | D9: 0.1 | E9: 0.1
A10: TOTAAL RETOURNEERRECHT | C10: =(C7)*C9 -> 0 | D10: =(D7)*D9 -> 0 | E10: =(E7)*E9 -> 0 | F10: =SUM(C10:E10) -> 0
A12: Voorbeeldberekening | B12: aantal | D12: mnd resterend
A13: RETOURNEERRECHT | C13: =C10 -> 0
A14: 1 x type 1 na 3 jaar | B14: 1 | C14: =$B14*(C$4)*$D14 -> 0 | D14: 24
A15: TOTAAL | B15: =SUM(B14:B14) -> 1 | C15: =SUM(C14:C14) -> 0
A16: NOG OVER AAN RETOURNEERRECHT | C16: =C10-C15 -> 0
