Workbook
Name AantalPercelenIngeschreven: [1]Parameters!$E$19
Name CurrentRatioGemiddeld: Kengetallen!$H$39
Name CurrentRatioN: Kengetallen!$D$39
Name CurrentRatioNmin1: Kengetallen!$E$39
Name CurrentRatioNmin2: Kengetallen!$F$39
Name EigenVermogenN: Kengetallen!$D$25
Name EigenVermogenNmin1: Kengetallen!$E$25
Name EigenVermogenNmin2: Kengetallen!$F$25
Name InschrijvenPerceel1: [1]Parameters!$E$15
Name InschrijvenPerceel2: [1]Parameters!$E$16
Name InschrijvenPerceel3: [1]Parameters!$E$17
Name InschrijvenPerceel4: [1]Parameters!$E$18
Name JaNee: #REF!
Name LiquideMiddelenN: Kengetallen!$D$21
Name LiquideMiddelenNmin1: Kengetallen!$E$21
Name LiquideMiddelenNmin2: Kengetallen!$F$21
Name MijnGrenzen: #REF!
Name Multiperceelfactor: [1]Parameters!$C$10
Name NaamAanbesteding: #REF!
Name NaamPerceel1: #REF!
Name NaamPerceel2: #REF!
Name NaamPerceel3: #REF!
Name NaamPerceel4: #REF!
Name NettoResultaatN: Kengetallen!$D$31
Name NettoResultaatNmin1: Kengetallen!$E$31
Name NettoResultaatNmin2: Kengetallen!$F$31
Name OmzetGemiddeld: #REF!
Name OmzetN: Kengetallen!#REF!
Name OmzetNmin1: Kengetallen!#REF!
Name OmzetNmin2: Kengetallen!#REF!
Name Omzetwaarde: [1]Parameters!$F$19
Name Perceelsom: [1]Parameters!$F$15:$F$18
Name Qmax: #REF!
Name Qmin: #REF!
Name RentabiliteitGemiddeld: Kengetallen!$H$38
Name RentabiliteitN: Kengetallen!$D$38
Name RentabiliteitNmin1: Kengetallen!$E$38
Name RentabiliteitNmin2: Kengetallen!$F$38
Name RentabiliteitTVN: Kengetallen!$F$38
Name SolvabiliteitGemiddeld: Kengetallen!$H$37
Name SolvabiliteitN: Kengetallen!$D$37
Name SolvabiliteitNmin1: Kengetallen!$E$37
Name SolvabiliteitNmin2: Kengetallen!$F$37
Name TotaalVermogenN: Kengetallen!$D$17
Name TotaalVermogenNmin1: Kengetallen!$E$17
Name TotaalVermogenNmin2: Kengetallen!$F$17
Name VasteActivaN: Kengetallen!$D$19
Name VasteActivaNmin1: Kengetallen!$E$19
Name VasteActivaNmin2: Kengetallen!$F$19
Name VlottendeActivaN: Kengetallen!$D$22
Name VlottendeActivaNmin1: Kengetallen!$E$22
Name VlottendeActivaNmin2: Kengetallen!$F$22
Name VreemdVermogenKortN: Kengetallen!$D$27
Name VreemdVermogenKortNmin1: Kengetallen!$E$27
Name VreemdVermogenKortNmin2: Kengetallen!$F$27
Name VreemdVermogenLangN: Kengetallen!$D$26
Name VreemdVermogenLangNmin1: Kengetallen!$E$26
Name VreemdVermogenLangNmin2: Kengetallen!$F$26
Name VreemdVermogenN: Kengetallen!$D$28
Name VreemdVermogenNmin1: Kengetallen!$E$28

Sheet Toelichting Berekening
B5: Toelichting berekening Financieel Economische Draagkracht
B8: Toelichting Financieel Economische Draagkracht
B9: De Belastingdienst stelt in deze aanbesteding minimumeisen op het gebied van financiële economische draagkracht. De financiële economische draagkracht wordt op basis van de volgende kengetallen vastgesteld:
B10: ● kengetal solvabiliteit;
B11: ● kengetal rentabiliteit;
B12: ● kengetal liquiditeit.
B14: ="De kengetallen worden berekend aan de hand van het gemiddelde van de kengetallen over de laatste drie beschikbare boekjaren. De verschillende boekjaren hebben in die berekening de volgende gewichten: X = "&WeegfactorjaarN&"; X - 1 = "&WeegfactorjaarNmin1&" ; X - 2 = "&WeegfactorjaarNmin2&" (X = laatst beschikbare boekjaar). Indien het jaar "&HULP!D19&" nog niet beschikbaar is, nog niet gepubliceerd en/of gedeponeerd bij Kamer van Koophandel, kan volstaan worden met minimaal het boekjaar "&HULP!D19-1&" als meest recent. Ondernemingen die in hun jaarrekening een gebroken boekjaar hanteren moeten in deze situatie het boekjaar "&HULP!D19-2&"/"&HULP!D19-1&" als het meest recent afgesloten boekjaar beschouwen." -> De kengetallen worden berekend aan de hand van het gemiddelde van de kengetallen over de laatste drie beschikbare boekjaren. De verschillende boekjaren hebben in die berekening de volgende gewichten: X = 4; X - 1 = 2 ; X - 2 = 1 (X = laatst beschikbare boekjaar). Indien het jaar 2023 nog niet beschikbaar is, nog niet gepubliceerd en/of gedeponeerd bij Kamer van Koophandel, kan volstaan worden met minimaal het boekjaar 2022 als meest recent. Ondernemingen die in hun jaarrekening een gebroken boekjaar hanteren moeten in deze situatie het boekjaar 2021/2022 als het meest recent afgesloten boekjaar beschouwen.
B16: Kengetal solvabiliteit
B17: Gehanteerde ratio; EV/TV met EV = Eigen vermogen en TV = Totaal vermogen.
B19: Minimumeis: | C19: =+HULP!D15 -> 0.2 | D19: = Solvondergrens
B20: Optimum: | C20: =+HULP!E15 -> 0.5 | D20: = Solvbovengrens
B21: PuntenMin : 1 | D21: PuntenMax : 4
B23: Te behalen punten (o.b.v. gewogen gemiddelde solvabiliteit):
B24: ● Solvabiliteit < | C24: =+HULP!D15 -> 0.2 | D24: : knockout
B25: ="● Solvabiliteit > = " -> ● Solvabiliteit > = | C25: =+HULP!D15 -> 0.2 | D25: =" en < " -> en < | E25: =+HULP!E15 -> 0.5
B29: ● Solvabiliteit >= | C29: =+HULP!E15 -> 0.5 | D29: : aantal punten is 4.
B50: Figuur 1: Aantal punten toegekend voor Solvabiliteit
B52: Kengetal rentabiliteit totaal vermogen
B53: Gehanteerde ratio rentabiliteit totaal vermogen (RTV):
B54: RTV = winst voor belasting / totaal vermogen (TV).
B56: Minimumeis: | C56: =HULP!$D$16 -> 0 | D56: = RTVondergrens
B57: Optimum: | C57: =+HULP!$E$16 -> 0.1 | D57: = RTVbovengrens
B58: PuntenMin : 1 | C58: PuntenMax : 2
B60: ="Minimumeis: 0% (indien de minimumeis voor RTV niet gehaald wordt kan dit worden gecompenseerd door een hogere solvabiliteit. Ter compensatie dienen voor solvabiliteit minimaal 3 punten te worden behaald (Solvabiliteit >= "&HULP!$E$28*100&"% )." -> Minimumeis: 0% (indien de minimumeis voor RTV niet gehaald wordt kan dit worden gecompenseerd door een hogere solvabiliteit. Ter compensatie dienen voor solvabiliteit minimaal 3 punten te worden behaald (Solvabiliteit >= 40% ).
B62: Te behalen punten (o.b.v. gewogen gemiddelde rentabiliteit):
B63: ="● RTV < "&HULP!D16*100&"% en solvabiliteit < "&HULP!E16*100&"%: knockout" -> ● RTV < 0% en solvabiliteit < 10%: knockout
B64: ="● RTV < "&HULP!D16*100&"% en solvabiliteit >= "&HULP!E28*100&"%: aantal punten is 0, alleen knockout voor RTV vervalt!" -> ● RTV < 0% en solvabiliteit >= 40%: aantal punten is 0, alleen knockout voor RTV vervalt!
B65: ="● RTV >= "&HULP!D16*100&"% en < "&HULP!E16*100&"%." -> ● RTV >= 0% en < 10%.
B69: ="● RTV >= "&HULP!E16*100&"%: aantal punten is 2." -> ● RTV >= 10%: aantal punten is 2.
B90: Figuur 2: Aantal punten toegekend voor rentabiliteit
B92: Kengetal liquiditeit
B93: Gehanteerde ratio: current ratio (CR):
B94: CR = vlottende activa / kort vreemd vermogen (KVV)
B96: Minimum: | C96: =+HULP!$D$17 -> 1 | D96: = CRondergrens
B97: Optimum: | C97: =+HULP!$E$17 -> 1.5 | D97: = CRbovengrens
B98: PuntenMin : 1 | C98: PuntenMax : 3
B100: Te behalen punten (o.b.v. gewogen gemiddelde current ratio):
B101: ● CR < 1: 0 punten
B102: ● CR >=1 en <1,5
B106: ● CR >= 1,5: aantal punten is 3
B127: Figuur 3: Aantal punten toegekend voor current ratio

Sheet Kengetallen
B3: Openbare aanbesteding Voertuigentransport
B4: IUC23-711
B5: Financieel Economische Draagkracht
B7: Naam inschrijver:
B10: Jaarcijfers
B11: "in valuta van het jaarverslag" | C11: Naam juridische entiteit onderstaande gegevens
C13: Bedragen maal | D13: 1000 | E13: < conform opgave jaarverslagen
D15: 2023 | E15: =D15-1 -> 2022 | F15: =E15-1 -> 2021
C16: valuta_aanduiding jaarverslag | D16: EUR | E16: =+D16 -> EUR | F16: =+E16 -> EUR | G16: Opmerkingen
B17: Totaal Vermogen (balanstotaal)
B18: Activa
B19: Vaste activa | G19: Vaste activa is incl. financiële vaste activa.
B20: Vlottende activa (excl.liquide middelen) | D20: =+TotaalVermogenN-VasteActivaN-LiquideMiddelenN -> 0 | E20: =+TotaalVermogenNmin1-VasteActivaNmin1-LiquideMiddelenNmin1 -> 0 | F20: =+TotaalVermogenNmin2-VasteActivaNmin2-LiquideMiddelenNmin2 -> 0
B21: Liquide middelen
C22: Totaal vlottende activa | D22: =+LiquideMiddelenN+D20 -> 0 | E22: =+LiquideMiddelenNmin1+E20 -> 0 | F22: =TotaalVermogenNmin2-VasteActivaNmin2 -> 0
C23: Totale activa | D23: =+VlottendeActivaN+VasteActivaN -> 0 | E23: =+VlottendeActivaNmin1+VasteActivaNmin1 -> 0 | F23: =+VlottendeActivaNmin2+VasteActivaNmin2 -> 0
B24: Passiva
B25: Eigen Vermogen | G25: Minderheids deelnemingen meenemen als eigen vermogen
B26: Vreemd Vermogen Lang (> 1 jaar) | G26: Voorzieningen en achtergestelde leningen zijn lang vreemd vermogen
B27: Vreemd Vermogen Kort (=< 1 jaar) | D27: =TotaalVermogenN-EigenVermogenN-VreemdVermogenLangN -> 0 | E27: =TotaalVermogenNmin1-EigenVermogenNmin1-VreemdVermogenLangNmin1 -> 0 | F27: =TotaalVermogenNmin2-EigenVermogenNmin2-VreemdVermogenLangNmin2 -> 0
C28: Totaal vreemd vermogen | D28: =TotaalVermogenN-EigenVermogenN -> 0 | E28: =TotaalVermogenNmin1-EigenVermogenNmin1 -> 0 | F28: =TotaalVermogenNmin2-EigenVermogenNmin2 -> 0
C29: Totale passiva | D29: =SUM(D25:D27) -> 0 | E29: =SUM(E25:E27) -> 0 | F29: =SUM(F25:F27) -> 0
B30: Resultaten rekening
B31: Resultaat voor belasting
B33: Kengetallen | D33: =D15 -> 2023 | E33: =E15 -> 2022 | F33: =F15 -> 2021 | G33: Norm | H33: Gewogen gem. | J33: Score per norm
C35: Weegfactor | D35: =WeegfactorjaarN -> 4 | E35: =WeegfactorjaarNmin1 -> 2 | F35: =WeegfactorjaarNmin2 -> 1
B37: Solvabiliteit | C37: EV/TV | D37: =IF(TotaalVermogenN=0,0,EigenVermogenN/TotaalVermogenN) -> 0 | E37: =IF(TotaalVermogenNmin1=0,0,EigenVermogenNmin1/TotaalVermogenNmin1) -> 0 | F37: =IF(TotaalVermogenNmin2=0,0,EigenVermogenNmin2/TotaalVermogenNmin2) -> 0 | G37: =C48 -> 0.2 | H37: =(((SolvabiliteitN*D35)+(SolvabiliteitNmin1*E35)+(SolvabiliteitNmin2*F35))/7) -> 0 | J37: =IF(TotaalVermogenN=0,"",IF(SolvabiliteitGemiddeld>=G48,G49,IF(AND(E48<SolvabiliteitGemiddeld,SolvabiliteitGemiddeld<G48),ROUND(1+((SolvabiliteitGemiddeld-E48)*((G49-E49)/(G48-E48))),2),IF(SolvabiliteitGemiddeld=E48,1,0))))
B38: Rentabiliteit | C38: Winst voor belasting/TV | D38: =IF(TotaalVermogenN=0,0,NettoResultaatN/TotaalVermogenN) -> 0 | E38: =IF(TotaalVermogenNmin1=0,0,NettoResultaatNmin1/TotaalVermogenNmin1) -> 0 | F38: =IF(TotaalVermogenNmin2=0,0,NettoResultaatNmin2/TotaalVermogenNmin2) -> 0 | G38: =E50 -> 0 | H38: =(((RentabiliteitNmin2*F35)+(RentabiliteitNmin1*E35)+(RentabiliteitN*D35))/7) -> 0 | J38: =IF(NettoResultaatN="","",IF(SUM(D17:E31)=0,0,IF(RentabiliteitGemiddeld>=G50,G51,IF(AND(E50<RentabiliteitGemiddeld,RentabiliteitGemiddeld<G50),ROUND(1+(((RentabiliteitGemiddeld-E50)/(G50-E50))*(G51-E51)),2),IF(RentabiliteitGemiddeld=E50,1,0)))))
B39: Liquiditeit | C39: Current Ratio | D39: =IF(TotaalVermogenN=0,0,IF(VreemdVermogenKortN=0,G53,VlottendeActivaN/VreemdVermogenKortN)) -> 0 | E39: =IF(TotaalVermogenNmin1=0,0,IF(VreemdVermogenKortNmin1=0,G53,VlottendeActivaNmin1/VreemdVermogenKortNmin1)) -> 0 | F39: =IF(TotaalVermogenNmin2=0,0,IF(VreemdVermogenKortNmin2=0,G53,VlottendeActivaNmin2/VreemdVermogenKortNmin2)) -> 0 | G39: =E52 -> 1 | H39: =(((CurrentRatioNmin2*F35)+(CurrentRatioNmin1*E35)+(CurrentRatioN*D35))/7) -> 0 | J39: =IF(LiquideMiddelenN="","",IF(CurrentRatioGemiddeld>=G52,G53,IF(AND(E52<CurrentRatioGemiddeld,CurrentRatioGemiddeld<G52),ROUND(1+(((CurrentRatioGemiddeld-E52)/(G52-E52))*(G53-E53)),2),IF(CurrentRatioGemiddeld=E52,1,0))))
H41: Totale score | J41: =SUM(J37:J39) -> 0
B44: Toelichting normatiek / score
F45: Punten range | G45: Maximum range
B46: Waardering | C46: Minimum eis | D46: Waardering | E46: Norm
B47: Kengetal rentabiliteit totaal vermogen
B48: Solvabiliteit | C48: =+HULP!D15 -> 0.2 | D48: Norm: >= | E48: =C48 -> 0.2 | F48: =E48*100&"% - "&G48*100&"%" -> 20% - 50% | G48: =+HULP!E15 -> 0.5
B49: EV/TV | D49: punten | E49: 1 | F49: =E49&" tot "&G49 -> 1 tot 4 | G49: 4
B50: Rentabiliteit | C50: =+HULP!D16 -> 0 | D50: Norm: >= | E50: =C50 -> 0 | F50: =E50*100&"% - "&G50*100&"%" -> 0% - 10% | G50: =+HULP!E16 -> 0.1
B51: Winst voor belasting / TV | D51: punten | E51: 1 | F51: =E51&" tot "&G51 -> 1 tot 2 | G51: 2
B52: Liquiditeit | C52: =+HULP!D17 -> 1 | D52: =D48 -> Norm: >= | E52: =C52 -> 1 | F52: =E52&" - "&G52 -> 1 - 1,5 | G52: =+HULP!E17 -> 1.5
B53: Current ratio | D53: punten | E53: 1 | F53: =E53&" tot "&G53 -> 1 tot 3 | G53: 3
B55: Minimum eis:
B56: ="1) De inschrijver dient gemiddeld een waardering te verkrijgen van minimaal 4 punten, onder de volgende voorwaarden:" -> 1) De inschrijver dient gemiddeld een waardering te verkrijgen van minimaal 4 punten, onder de volgende voorwaarden:
B57: ● er dient een minimale score van 1 punt op solvabiliteit behaald te worden;
B58: ="● er dient een minimale score van 1 punt op rentabiliteit behaald te worden. Indien dit niet behaald wordt dan dient er ter compensatie minimaal een gemiddelde solvabiliteit van "&G48*100-10&"% gehaald te worden." -> ● er dient een minimale score van 1 punt op rentabiliteit behaald te worden. Indien dit niet behaald wordt dan dient er ter compensatie minimaal een gemiddelde solvabiliteit van 40% gehaald te worden.
B60: Gewogen gemiddelde:
B61: 2) De waardering vindt plaats op basis van het gewogen gemiddelde cijfer van de laatste 3 boekjaren per kengetal, waar de volgende
B62: wegingsfactoren worden toegepast:
B63: =" ● jaar "&F15&" "&F35& "/"&SUM(D35:F35) -> ● jaar 2021 1/7
B64: =" ● jaar "&E15&" "&E35&"/"&SUM(D35:F35) -> ● jaar 2022 2/7
B65: =" ● jaar "&D15&" "&D35& "/"&SUM(D35:F35) -> ● jaar 2023 4/7
B67: De rekenregels en het bestandsformaat mogen niet worden aangepast.
B107: Figuur 3: Aantal punten toegekend voor current ratio

Sheet HULP
B2: < DIT TABBLAD VERBERGEN ALS MODEL WORDT VERZONDEN !!!>
C5: Weeg-
B6: Jaar | C6: factor | D6: Jaar | E6: Valuta | G6: Knock Out | H6: Eenheid | I6: Deelfactor
B7: jaar N | C7: 4 | D7: 2023 | E7: EUR | G7: =IF(Kengetallen!J37>=1,1,0) -> 1 | H7: 1 | I7: 1000000
B8: jaar N-1 | C8: 2 | D8: =+D7-1 -> 2022 | E8: GBP | G8: =IF(Kengetallen!J38>=1,1,IF(Kengetallen!H37>=(Kengetallen!G48-0.1),1,0)) -> 1 | H8: 1000 | I8: 1000
B9: jaar N-2 | C9: 1 | D9: =+D8-1 -> 2021 | E9: USD | G9: =SUM(G7:G8) -> 2 | H9: 1000000 | I9: 1
I10: =VLOOKUP(Kengetallen!D13,H7:$I$9,2,FALSE) -> 1000 | J10: Omrekenfactor
B13: Normen | D13: Min. | E13: Max.
D14: eis | E14: eis | F14: Opmerking
C15: Solvabiliteit | D15: 0.2 | E15: =+D15+0.3 -> 0.5 | F15: Maximum 30% meer dan minimum
C16: Rentabiliteit | D16: 0 | E16: 0.1 | F16: Maximum 10% meer dan minimum
C17: Liquiditeit | D17: 1 | E17: 1.5 | F17: Maximum 0,5 meer dan minimum
C19: Laatste boekjaar | D19: =+D7 -> 2023
B22: Grafieken
B26: Grafiek solvabiliteit | E26: compensatie
E27: norm
B28: Solvabiliteit | C28: =+D15 -> 0.2 | D28: =+C28+0.1 -> 0.3 | E28: =+D28+0.1 -> 0.4 | F28: =+E28+0.1 -> 0.5 | G28: =+F28+0.1 -> 0.6 | H28: =+G28+0.1 -> 0.7 | I28: =+H28+0.1 -> 0.8 | J28: =+I28+0.1 -> 0.9 | K28: =+J28+0.1 -> 1
B29: Punten | C29: 1 | D29: 2 | E29: 3 | F29: 4 | G29: 4 | H29: 4 | I29: 4 | J29: 4 | K29: 4
B59: Grafiek Rentabiliteit
B61: Rentabiliteit | C61: 0 | D61: =+C61+0.1 -> 0.1 | E61: =+D61+0.1 -> 0.2 | F61: =+E61+0.1 -> 0.3 | G61: =+F61+0.1 -> 0.4 | H61: =+G61+0.1 -> 0.5 | I61: =+H61+0.1 -> 0.6 | J61: =+I61+0.1 -> 0.7
B62: Punten | C62: 1 | D62: 2 | E62: 2 | F62: 2 | G62: 2 | H62: 2 | I62: 2 | J62: 2
B92: Grafiek Currentratio
B94: Currentratio | C94: 1 | D94: 1.1 | E94: 1.2 | F94: 1.3 | G94: 1.4 | H94: 1.5 | I94: 2 | J94: 3 | K94: 3
B95: Punten | C95: 1 | D95: =1+((+D94-$C$94)/0.5)*2 -> 1.4 | E95: =1+((+E94-$C$94)/0.5)*2 -> 1.8 | F95: =1+((+F94-$C$94)/0.5)*2 -> 2.2 | G95: =1+((+G94-$C$94)/0.5)*2 -> 2.6 | H95: =1+((+H94-$C$94)/0.5)*2 -> 3 | I95: 3 | J95: 3 | K95: 3
