Workbook
Name SCORE: 'Beoordeling open vragen'!$A$16:$A$21

Sheet Beoordeling open vragen
A1: Beoordeling criterium open vragen
A2: Om de kwaliteit en toegevoegde waarde van de Inschrijver(s) te kunnen beoordelen dient Inschrijver zijn kwaliteit aan te tonen en meerwaarde uit te werken conform het onderstaande. Alle uitwerkingen en beantwoordingen van een Inschrijver dienen realistisch en uitvoerbaar te zijn. Een honorering van het ingediende zal nimmer leiden tot een verplichte afname van datgene wat Inschrijver heeft ingediend.
A3: Open vraag 1A: Advies onderhoudsplan
A4: Zie bijlage 7 'kwaliteit'.
A5: Open vraag 1B: Stimuleren educatieve functie terreinen
A6: Zie bijlage 7 'kwaliteit'.
A7: Open vraag 2: Plan van aanpak aanvang dienstverlening en goedkeuring oplevering
A8: Zie bijlage 7 'kwaliteit'.
A9: Open vraag 3: Duurzaamheid en circulaire economie
A10: Zie bijlage 7 'kwaliteit'.
A11: Open vraag 4: SROI
A12: Zie bijlage 7 'kwaliteit'.
... A14: Zie bijlage 7 'kwaliteit'.
A16: Score: | B16: SCORE:
A17: Uitmuntend | B17: UITMUNTEND
A18: Goed | B18: GOED
A19: Voldoende | B19: VOLDOENDE
A20: Matig | B20: MATIG
A21: Onvoldoende | B21: ONVOLDOENDE

Sheet Beoordelaar 1
A1: Beoordelaar 1: <<>> | C1: Inschrijver 1 | F1: Inschrijver 2 | I1: Inschrijver 3
A2: OPEN VRAGEN | C2: Score: | F2: Score: | I2: Score:
A3: ='Beoordeling open vragen'!A3:A3 -> Open vraag 1A: Advies onderhoudsplan | C3: Score: | F3: Score: | I3: Score:
A4: ='Beoordeling open vragen'!A4 -> Zie bijlage 7 'kwaliteit'. | C4: <MOTIVATIE> | F4: <MOTIVATIE> | I4: <MOTIVATIE>
A5: ='Beoordeling open vragen'!A5:A5 -> Open vraag 1B: Stimuleren educatieve functie terreinen | C5: Score: | F5: Score: | I5: Score:
A6: ='Beoordeling open vragen'!A6 -> Zie bijlage 7 'kwaliteit'. | C6: <MOTIVATIE> | F6: <MOTIVATIE> | I6: <MOTIVATIE>
A7: ='Beoordeling open vragen'!A7:A7 -> Open vraag 2: Plan van aanpak aanvang dienstverlening en goedkeuring oplevering | C7: Score: | F7: Score: | I7: Score:
A8: ='Beoordeling open vragen'!A8 -> Zie bijlage 7 'kwaliteit'. | C8: <MOTIVATIE> | F8: <MOTIVATIE> | I8: <MOTIVATIE>
A9: ='Beoordeling open vragen'!A9:A9 -> Open vraag 3: Duurzaamheid en circulaire economie | C9: Score: | F9: Score: | I9: Score:
A10: ='Beoordeling open vragen'!A10 -> Zie bijlage 7 'kwaliteit'. | C10: <MOTIVATIE> | F10: <MOTIVATIE> | I10: <MOTIVATIE>
A11: ='Beoordeling open vragen'!A11:A11 -> Open vraag 4: SROI | C11: Score: | F11: Score: | I11: Score:
A12: ='Beoordeling open vragen'!A12 -> Zie bijlage 7 'kwaliteit'. | C12: <MOTIVATIE> | F12: <MOTIVATIE> | I12: <MOTIVATIE>
A13: ='Beoordeling open vragen'!A13:A13 -> Open vraag 5: Waarborging veiligheid | C13: Score: | F13: Score: | I13: Score:
A14: ='Beoordeling open vragen'!A14 -> Zie bijlage 7 'kwaliteit'. | C14: <MOTIVATIE> | F14: <MOTIVATIE> | I14: <MOTIVATIE>

Sheet Beoordelaar 2
A1: Beoordelaar 2: <<>> | C1: ='Beoordelaar 1'!C1 -> Inschrijver 1 | F1: ='Beoordelaar 1'!F1 -> Inschrijver 2 | I1: ='Beoordelaar 1'!I1 -> Inschrijver 3
A2: OPEN VRAGEN | C2: Score: | F2: Score: | I2: Score:
A3: ='Beoordeling open vragen'!A3:A3 -> Open vraag 1A: Advies onderhoudsplan | C3: Score: | F3: Score: | I3: Score:
A4: ='Beoordeling open vragen'!A4 -> Zie bijlage 7 'kwaliteit'. | C4: <MOTIVATIE> | F4: <MOTIVATIE> | I4: <MOTIVATIE>
A5: ='Beoordeling open vragen'!A5:A5 -> Open vraag 1B: Stimuleren educatieve functie terreinen | C5: Score: | F5: Score: | I5: Score:
A6: ='Beoordeling open vragen'!A6 -> Zie bijlage 7 'kwaliteit'. | C6: <MOTIVATIE> | F6: <MOTIVATIE> | I6: <MOTIVATIE>
A7: ='Beoordeling open vragen'!A7:A7 -> Open vraag 2: Plan van aanpak aanvang dienstverlening en goedkeuring oplevering | C7: Score: | F7: Score: | I7: Score:
A8: ='Beoordeling open vragen'!A8 -> Zie bijlage 7 'kwaliteit'. | C8: <MOTIVATIE> | F8: <MOTIVATIE> | I8: <MOTIVATIE>
A9: ='Beoordeling open vragen'!A9:A9 -> Open vraag 3: Duurzaamheid en circulaire economie | C9: Score: | F9: Score: | I9: Score:
A10: ='Beoordeling open vragen'!A10 -> Zie bijlage 7 'kwaliteit'. | C10: <MOTIVATIE> | F10: <MOTIVATIE> | I10: <MOTIVATIE>
A11: ='Beoordeling open vragen'!A11:A11 -> Open vraag 4: SROI | C11: Score: | F11: Score: | I11: Score:
A12: ='Beoordeling open vragen'!A12 -> Zie bijlage 7 'kwaliteit'. | C12: <MOTIVATIE> | F12: <MOTIVATIE> | I12: <MOTIVATIE>
A13: ='Beoordeling open vragen'!A13:A13 -> Open vraag 5: Waarborging veiligheid | C13: Score: | F13: Score: | I13: Score:
A14: ='Beoordeling open vragen'!A14 -> Zie bijlage 7 'kwaliteit'. | C14: <MOTIVATIE> | F14: <MOTIVATIE> | I14: <MOTIVATIE>

Sheet Beoordelaar 3
A1: Beoordelaar 3: <<>> | C1: ='Beoordelaar 1'!C1 -> Inschrijver 1 | F1: ='Beoordelaar 1'!F1 -> Inschrijver 2 | I1: ='Beoordelaar 1'!I1 -> Inschrijver 3
A2: OPEN VRAGEN | C2: Score: | F2: Score: | I2: Score:
A3: ='Beoordeling open vragen'!A3:A3 -> Open vraag 1A: Advies onderhoudsplan | C3: Score: | F3: Score: | I3: Score:
A4: ='Beoordeling open vragen'!A4 -> Zie bijlage 7 'kwaliteit'. | C4: <MOTIVATIE> | F4: <MOTIVATIE> | I4: <MOTIVATIE>
A5: ='Beoordeling open vragen'!A5:A5 -> Open vraag 1B: Stimuleren educatieve functie terreinen | C5: Score: | F5: Score: | I5: Score:
A6: ='Beoordeling open vragen'!A6 -> Zie bijlage 7 'kwaliteit'. | C6: <MOTIVATIE> | F6: <MOTIVATIE> | I6: <MOTIVATIE>
A7: ='Beoordeling open vragen'!A7:A7 -> Open vraag 2: Plan van aanpak aanvang dienstverlening en goedkeuring oplevering | C7: Score: | F7: Score: | I7: Score:
A8: ='Beoordeling open vragen'!A8 -> Zie bijlage 7 'kwaliteit'. | C8: <MOTIVATIE> | F8: <MOTIVATIE> | I8: <MOTIVATIE>
A9: ='Beoordeling open vragen'!A9:A9 -> Open vraag 3: Duurzaamheid en circulaire economie | C9: Score: | F9: Score: | I9: Score:
A10: ='Beoordeling open vragen'!A10 -> Zie bijlage 7 'kwaliteit'. | C10: <MOTIVATIE> | F10: <MOTIVATIE> | I10: <MOTIVATIE>
A11: ='Beoordeling open vragen'!A11:A11 -> Open vraag 4: SROI | C11: Score: | F11: Score: | I11: Score:
A12: ='Beoordeling open vragen'!A12 -> Zie bijlage 7 'kwaliteit'. | C12: <MOTIVATIE> | F12: <MOTIVATIE> | I12: <MOTIVATIE>
A13: ='Beoordeling open vragen'!A13:A13 -> Open vraag 5: Waarborging veiligheid | C13: Score: | F13: Score: | I13: Score:
A14: ='Beoordeling open vragen'!A14 -> Zie bijlage 7 'kwaliteit'. | C14: <MOTIVATIE> | F14: <MOTIVATIE> | I14: <MOTIVATIE>

Sheet Beoordelaar 4
A1: Beoordelaar 4: <<>> | C1: ='Beoordelaar 1'!C1 -> Inschrijver 1 | F1: ='Beoordelaar 1'!F1 -> Inschrijver 2 | I1: ='Beoordelaar 1'!I1 -> Inschrijver 3
A2: OPEN VRAGEN | C2: Score: | F2: Score: | I2: Score:
A3: ='Beoordeling open vragen'!A3:A3 -> Open vraag 1A: Advies onderhoudsplan | C3: Score: | F3: Score: | I3: Score:
A4: ='Beoordeling open vragen'!A4 -> Zie bijlage 7 'kwaliteit'. | C4: <MOTIVATIE> | F4: <MOTIVATIE> | I4: <MOTIVATIE>
A5: ='Beoordeling open vragen'!A5:A5 -> Open vraag 1B: Stimuleren educatieve functie terreinen | C5: Score: | F5: Score: | I5: Score:
A6: ='Beoordeling open vragen'!A6 -> Zie bijlage 7 'kwaliteit'. | C6: <MOTIVATIE> | F6: <MOTIVATIE> | I6: <MOTIVATIE>
A7: ='Beoordeling open vragen'!A7:A7 -> Open vraag 2: Plan van aanpak aanvang dienstverlening en goedkeuring oplevering | C7: Score: | F7: Score: | I7: Score:
A8: ='Beoordeling open vragen'!A8 -> Zie bijlage 7 'kwaliteit'. | C8: <MOTIVATIE> | F8: <MOTIVATIE> | I8: <MOTIVATIE>
A9: ='Beoordeling open vragen'!A9:A9 -> Open vraag 3: Duurzaamheid en circulaire economie | C9: Score: | F9: Score: | I9: Score:
A10: ='Beoordeling open vragen'!A10 -> Zie bijlage 7 'kwaliteit'. | C10: <MOTIVATIE> | F10: <MOTIVATIE> | I10: <MOTIVATIE>
A11: ='Beoordeling open vragen'!A11:A11 -> Open vraag 4: SROI | C11: Score: | F11: Score: | I11: Score:
A12: ='Beoordeling open vragen'!A12 -> Zie bijlage 7 'kwaliteit'. | C12: <MOTIVATIE> | F12: <MOTIVATIE> | I12: <MOTIVATIE>
A13: ='Beoordeling open vragen'!A13:A13 -> Open vraag 5: Waarborging veiligheid | C13: Score: | F13: Score: | I13: Score:
A14: ='Beoordeling open vragen'!A14 -> Zie bijlage 7 'kwaliteit'. | C14: <MOTIVATIE> | F14: <MOTIVATIE> | I14: <MOTIVATIE>

Sheet Beoordelaar 5
A1: Beoordelaar 5: <<>> | C1: ='Beoordelaar 1'!C1 -> Inschrijver 1 | F1: ='Beoordelaar 1'!F1 -> Inschrijver 2 | I1: ='Beoordelaar 1'!I1 -> Inschrijver 3
A2: OPEN VRAGEN | C2: Score: | F2: Score: | I2: Score:
A3: ='Beoordeling open vragen'!A3:A3 -> Open vraag 1A: Advies onderhoudsplan | C3: Score: | F3: Score: | I3: Score:
A4: ='Beoordeling open vragen'!A4 -> Zie bijlage 7 'kwaliteit'. | C4: <MOTIVATIE> | F4: <MOTIVATIE> | I4: <MOTIVATIE>
A5: ='Beoordeling open vragen'!A5:A5 -> Open vraag 1B: Stimuleren educatieve functie terreinen | C5: Score: | F5: Score: | I5: Score:
A6: ='Beoordeling open vragen'!A6 -> Zie bijlage 7 'kwaliteit'. | C6: <MOTIVATIE> | F6: <MOTIVATIE> | I6: <MOTIVATIE>
A7: ='Beoordeling open vragen'!A7:A7 -> Open vraag 2: Plan van aanpak aanvang dienstverlening en goedkeuring oplevering | C7: Score: | F7: Score: | I7: Score:
A8: ='Beoordeling open vragen'!A8 -> Zie bijlage 7 'kwaliteit'. | C8: <MOTIVATIE> | F8: <MOTIVATIE> | I8: <MOTIVATIE>
A9: ='Beoordeling open vragen'!A9:A9 -> Open vraag 3: Duurzaamheid en circulaire economie | C9: Score: | F9: Score: | I9: Score:
A10: ='Beoordeling open vragen'!A10 -> Zie bijlage 7 'kwaliteit'. | C10: <MOTIVATIE> | F10: <MOTIVATIE> | I10: <MOTIVATIE>
A11: ='Beoordeling open vragen'!A11:A11 -> Open vraag 4: SROI | C11: Score: | F11: Score: | I11: Score:
A12: ='Beoordeling open vragen'!A12 -> Zie bijlage 7 'kwaliteit'. | C12: <MOTIVATIE> | F12: <MOTIVATIE> | I12: <MOTIVATIE>
A13: ='Beoordeling open vragen'!A13:A13 -> Open vraag 5: Waarborging veiligheid | C13: Score: | F13: Score: | I13: Score:
A14: ='Beoordeling open vragen'!A14 -> Zie bijlage 7 'kwaliteit'. | C14: <MOTIVATIE> | F14: <MOTIVATIE> | I14: <MOTIVATIE>

Sheet Consensus
A1: Totaalwaardes criterium open vragen
A2: Vraag | D2: ='Beoordelaar 1'!C1 -> Inschrijver 1 | E2: Motivatie consensus | G2: ='Beoordelaar 1'!F1 -> Inschrijver 2 | H2: Motivatie consensus | J2: ='Beoordelaar 1'!I1 -> Inschrijver 3 | K2: Motivatie consensus
A3: ='Beoordeling open vragen'!A3 -> Open vraag 1A: Advies onderhoudsplan | B3: Beoordelaar 1 | D3: ='Beoordelaar 1'!C3 -> Score: | E3: <<MOTIVATIE>> | G3: ='Beoordelaar 1'!F3 -> Score: | H3: <<MOTIVATIE>> | J3: ='Beoordelaar 1'!I3 -> Score: | K3: <<MOTIVATIE>>
B4: Beoordelaar 2 | D4: ='Beoordelaar 2'!C3 -> Score: | G4: ='Beoordelaar 2'!F3 -> Score: | J4: ='Beoordelaar 2'!I3 -> Score:
B5: Beoordelaar 3 | D5: ='Beoordelaar 3'!C3 -> Score: | G5: ='Beoordelaar 3'!F3 -> Score: | J5: ='Beoordelaar 3'!I3 -> Score:
B6: Beoordelaar 4 | D6: ='Beoordelaar 4'!C3 -> Score: | G6: ='Beoordelaar 4'!F3 -> Score: | J6: ='Beoordelaar 4'!I3 -> Score:
B7: Beoordelaar 5 | D7: ='Beoordelaar 5'!C3 -> Score: | G7: ='Beoordelaar 5'!F3 -> Score: | J7: ='Beoordelaar 5'!I3 -> Score:
A8: Consensus | D8: Score: | G8: Score: | J8: Score:
A9: Behaalde waarde: | D9: =IF(D8="Uitmuntend","€ 4.000",IF(D8="Goed","€ 3.200",IF(D8="Voldoende","€ 0",IF(D8="Matig","-€ 4.000",IF(D8="Onvoldoende","UITSLUITING"," "))))) | G9: =IF(G8="Uitmuntend","€ 4.000",IF(G8="Goed","€ 3.200",IF(G8="Voldoende","€ 0",IF(G8="Matig","-€ 4.000",IF(G8="Onvoldoende","UITSLUITING"," "))))) | J9: =IF(J8="Uitmuntend","€ 4.000",IF(J8="Goed","€ 3.200",IF(J8="Voldoende","€ 0",IF(J8="Matig","-€ 4.000",IF(J8="Onvoldoende","UITSLUITING"," ")))))
A10: ='Beoordeling open vragen'!A5 -> Open vraag 1B: Stimuleren educatieve functie terreinen | B10: Beoordelaar 1 | D10: ='Beoordelaar 1'!C5 -> Score: | E10: <<MOTIVATIE>> | G10: ='Beoordelaar 1'!F5 -> Score: | H10: <<MOTIVATIE>> | J10: ='Beoordelaar 1'!I5 -> Score: | K10: <<MOTIVATIE>>
B11: Beoordelaar 2 | D11: ='Beoordelaar 2'!C5 -> Score: | G11: ='Beoordelaar 2'!F5 -> Score: | J11: ='Beoordelaar 2'!I5 -> Score:
B12: Beoordelaar 3 | D12: ='Beoordelaar 3'!C5 -> Score: | G12: ='Beoordelaar 3'!F5 -> Score: | J12: ='Beoordelaar 3'!I5 -> Score:
B13: Beoordelaar 4 | D13: ='Beoordelaar 4'!C5 -> Score: | G13: ='Beoordelaar 4'!F5 -> Score: | J13: ='Beoordelaar 4'!I5 -> Score:
B14: Beoordelaar 5 | D14: ='Beoordelaar 5'!C5 -> Score: | G14: ='Beoordelaar 5'!F5 -> Score: | J14: ='Beoordelaar 5'!I5 -> Score:
A15: Consensus | D15: Score: | G15: Score: | J15: Score:
A16: Behaalde waarde: | D16: =IF(D15="Uitmuntend","€ 1.500",IF(D15="Goed","€ 1.200",IF(D15="Voldoende","€ 0",IF(D15="Matig","-€ 1.500",IF(D15="Onvoldoende","UITSLUITING"," "))))) | G16: =IF(G15="Uitmuntend","€ 1.500",IF(G15="Goed","€ 1.200",IF(G15="Voldoende","€ 0",IF(G15="Matig","-€ 1.500",IF(G15="Onvoldoende","UITSLUITING"," "))))) | J16: =IF(J15="Uitmuntend","€ 1.500",IF(J15="Goed","€ 1.200",IF(J15="Voldoende","€ 0",IF(J15="Matig","-€ 1.500",IF(J15="Onvoldoende","UITSLUITING"," ")))))
A17: ='Beoordeling open vragen'!A7 -> Open vraag 2: Plan van aanpak aanvang dienstverlening en goedkeuring oplevering | B17: Beoordelaar 1 | D17: ='Beoordelaar 1'!C7 -> Score: | E17: <<MOTIVATIE>> | G17: ='Beoordelaar 1'!F7 -> Score: | H17: <<MOTIVATIE>> | J17: ='Beoordelaar 1'!I7 -> Score: | K17: <<MOTIVATIE>>
B18: Beoordelaar 2 | D18: ='Beoordelaar 2'!C7 -> Score: | G18: ='Beoordelaar 2'!F7 -> Score: | J18: ='Beoordelaar 2'!I7 -> Score:
B19: Beoordelaar 3 | D19: ='Beoordelaar 3'!C7 -> Score: | G19: ='Beoordelaar 3'!F7 -> Score: | J19: ='Beoordelaar 3'!I7 -> Score:
B20: Beoordelaar 4 | D20: ='Beoordelaar 4'!C7 -> Score: | G20: ='Beoordelaar 4'!F7 -> Score: | J20: ='Beoordelaar 4'!I7 -> Score:
B21: Beoordelaar 5 | D21: ='Beoordelaar 5'!C7 -> Score: | G21: ='Beoordelaar 5'!F7 -> Score: | J21: ='Beoordelaar 5'!I7 -> Score:
A22: Consensus | D22: Score: | G22: Score: | J22: Score:
A23: Behaalde waarde: | D23: =IF(D22="Uitmuntend","€ 4.000",IF(D22="Goed","€ 3.200",IF(D22="Voldoende","€ 0",IF(D22="Matig","-€ 4.000",IF(D22="Onvoldoende","UITSLUITING"," "))))) | G23: =IF(G22="Uitmuntend","€ 4.000",IF(G22="Goed","€ 3.200",IF(G22="Voldoende","€ 0",IF(G22="Matig","-€ 4.000",IF(G22="Onvoldoende","UITSLUITING"," "))))) | J23: =IF(J22="Uitmuntend","€ 4.000",IF(J22="Goed","€ 3.200",IF(J22="Voldoende","€ 0",IF(J22="Matig","-€ 4.000",IF(J22="Onvoldoende","UITSLUITING"," ")))))
A24: ='Beoordeling open vragen'!A9 -> Open vraag 3: Duurzaamheid en circulaire economie | B24: Beoordelaar 1 | D24: ='Beoordelaar 1'!C9 -> Score: | E24: <<MOTIVATIE>> | G24: ='Beoordelaar 1'!F9 -> Score: | H24: <<MOTIVATIE>> | J24: ='Beoordelaar 1'!I9 -> Score: | K24: <<MOTIVATIE>>
B25: Beoordelaar 2 | D25: ='Beoordelaar 2'!C9 -> Score: | G25: ='Beoordelaar 2'!F9 -> Score: | J25: ='Beoordelaar 2'!I9 -> Score:
B26: Beoordelaar 3 | D26: ='Beoordelaar 3'!C9 -> Score: | G26: ='Beoordelaar 3'!F9 -> Score: | J26: ='Beoordelaar 3'!I9 -> Score:
B27: Beoordelaar 4 | D27: ='Beoordelaar 4'!C9 -> Score: | G27: ='Beoordelaar 4'!F9 -> Score: | J27: ='Beoordelaar 4'!I9 -> Score:
B28: Beoordelaar 5 | D28: ='Beoordelaar 5'!C9 -> Score: | G28: ='Beoordelaar 5'!F9 -> Score: | J28: ='Beoordelaar 5'!I9 -> Score:
A29: Consensus | D29: Score: | G29: Score: | J29: Score:
A30: Behaalde waarde: | D30: =IF(D29="Uitmuntend","€ 1.500",IF(D29="Goed","€ 1.200",IF(D29="Voldoende","€ 0",IF(D29="Matig","-€ 1.500",IF(D29="Onvoldoende","UITSLUITING"," "))))) | G30: =IF(G29="Uitmuntend","€ 1.500",IF(G29="Goed","€ 1.200",IF(G29="Voldoende","€ 0",IF(G29="Matig","-€ 1.500",IF(G29="Onvoldoende","UITSLUITING"," "))))) | J30: =IF(J29="Uitmuntend","€ 1.500",IF(J29="Goed","€ 1.200",IF(J29="Voldoende","€ 0",IF(J29="Matig","-€ 1.500",IF(J29="Onvoldoende","UITSLUITING"," ")))))
A31: ='Beoordeling open vragen'!A11 -> Open vraag 4: SROI | B31: Beoordelaar 1 | D31: ='Beoordelaar 1'!C11 -> Score: | E31: <<MOTIVATIE>> | G31: ='Beoordelaar 1'!F11 -> Score: | H31: <<MOTIVATIE>> | J31: ='Beoordelaar 1'!I11 -> Score: | K31: <<MOTIVATIE>>
B32: Beoordelaar 2 | D32: ='Beoordelaar 2'!C11 -> Score: | G32: ='Beoordelaar 2'!F11 -> Score: | J32: ='Beoordelaar 2'!I11 -> Score:
B33: Beoordelaar 3 | D33: ='Beoordelaar 3'!C11 -> Score: | G33: ='Beoordelaar 3'!F11 -> Score: | J33: ='Beoordelaar 3'!I11 -> Score:
B34: Beoordelaar 4 | D34: ='Beoordelaar 4'!C11 -> Score: | G34: ='Beoordelaar 4'!F11 -> Score: | J34: ='Beoordelaar 4'!I11 -> Score:
B35: Beoordelaar 5 | D35: ='Beoordelaar 5'!C11 -> Score: | G35: ='Beoordelaar 5'!F11 -> Score: | J35: ='Beoordelaar 5'!I11 -> Score:
A36: Consensus | D36: Score: | G36: Score: | J36: Score:
A37: Behaalde waarde: | D37: =IF(D36="Uitmuntend","€ 3.500",IF(D36="Goed","€ 2.800",IF(D36="Voldoende","€ 0",IF(D36="Matig","-€ 3.500",IF(D36="Onvoldoende","UITSLUITING"," "))))) | G37: =IF(G36="Uitmuntend","€ 3.500",IF(G36="Goed","€ 2.800",IF(G36="Voldoende","€ 0",IF(G36="Matig","-€ 3.500",IF(G36="Onvoldoende","UITSLUITING"," "))))) | J37: =IF(J36="Uitmuntend","€ 3.500",IF(J36="Goed","€ 2.800",IF(J36="Voldoende","€ 0",IF(J36="Matig","-€ 3.500",IF(J36="Onvoldoende","UITSLUITING"," ")))))
A38: ='Beoordeling open vragen'!A13 -> Open vraag 5: Waarborging veiligheid | B38: Beoordelaar 1 | D38: ='Beoordelaar 1'!C13 -> Score: | E38: <<MOTIVATIE>> | G38: ='Beoordelaar 1'!F13 -> Score: | H38: <<MOTIVATIE>> | J38: ='Beoordelaar 1'!I13 -> Score: | K38: <<MOTIVATIE>>
B39: Beoordelaar 2 | D39: ='Beoordelaar 2'!C13 -> Score: | G39: ='Beoordelaar 2'!F13 -> Score: | J39: ='Beoordelaar 2'!I13 -> Score:
B40: Beoordelaar 3 | D40: ='Beoordelaar 3'!C13 -> Score: | G40: ='Beoordelaar 3'!F13 -> Score: | J40: ='Beoordelaar 3'!I13 -> Score:
...
