Workbook

Sheet Toelichting 
A1: Prijzenblad Europese aanbesteding Gereedschappen
A3: Leeswijzer Bijlage Prijzenblad
A5: 1. U dient alle gevraagde gegevens in alle bladen in te vullen:
A6: Inschrijver dient alleen de volgende velden in te vullen: | B6: wit
A7: De volgende velden worden automatisch berekend: | B7: blauw
A8: Het volgende veld wordt automatisch berekend en beoordeeld: | B8: groen
A9: 2. Indien u geen prijzen, kosten, tarieven invult, betekent dit dat voor het gevraagde geen bedrag in rekening wordt gebracht (zijnde 0 euro).
A10: 3. U dient alle bladen na het invullen rechtsgeldig te ondertekenen en getekend en ingescand bij uw inschrijving te voegen.
A11: 4. Op deze bijlage en onderliggende werkbladen gelden de Inkoopvoorwaarden van ROC Mondriaan.
A12: 5. Alle genoemde tarieven dienen exclusief BTW te zijn.
A13: 6. De tarieven dienen all- in te zijn en gelden als maximaal door te belasten tarieven gedurende de looptijd van de raamovereenkomst.
A14: 7. Inschrijver kan geen aanvullende kosten in rekening brengen gedurende de uitvoering van de overeenkomst. Indien Inschrijver constateert dat kosten die gemaakt dienen te worden t.b.v. de uitvoering van de dienstverlening zoals omschreven in het Beschrijvend document aanbesteding gereedschappen niet zijn opgenomen in onderstaand overzicht, dient Inschrijver tijdig (uiterlijk voor de sluitingstermijn voor het stellen van vragen zoals opgenomen in het Beschrijvend document aanbesteding gereedschappen) een vraag hierover te stellen middels de vragenmodule in TenderNed. Daarbij dient Inschrijver te vermelden welke kostenpost ontbreekt in het overzicht en hoe Inschrijver dit terug zou willen zien in het Prijzenblad. Aanbestedende dienst laat vervolgens in de Nota van Inlichtingen weten hoe hiermee om zal worden gegaan. Indien er geen vragen gesteld worden, gaat aanbestedende dienst ervan uit dat opgenomen posten alles omvattend zijn.
A16: Organisatie:
A17: Datum:
A18: Naam:
A19: Functie:
A20: Handtekening:

Sheet Prijzenblad
A1: Europese aanbesteding gereedschappen ROC Mondriaan
A3: BIJLAGE 2 - PRIJZENBLAD
C5: weging | D5: gemiddelde korting (conform invulblad) | E5: gewogen korting
A6: 1 | B6: Elektrisch gereedschap | C6: 0.1 | D6: =Invulveld!C20 -> 0 | E6: =C6*D6 -> 0
B7: voorbeelden: boorhamer, accugereedschap, slag-moersleutel, soldeerstation, multimeter, luchtcompressor, enz.
A8: 2 | B8: Hand gereedschap | C8: 0.1 | D8: =Invulveld!E20 -> 0 | E8: =C8*D8 -> 0
B9: voorbeelden: schroevendraaiers, steek-ringsleutels, zaagbeugel, dopsleutels, meetlint, hamer, lijmtangen, waterpomptang, handzaag enz.
A10: 3 | B10: Bevestigingsmiddelen | C10: 0.1 | D10: =Invulveld!G20 -> 0 | E10: =C10*D10 -> 0
B11: voorbeelden: bouten, moeren, ringen, zelfborgende moeren, inbusbouten, materiaalkwaliteiten rvs A4 en thermisch verzinkt, enz
A12: 4 | B12: Kabel en Draad | C12: 0.1 | D12: =Invulveld!C37 -> 0 | E12: =C12*D12 -> 0
B13: voorbeelden: YMvK-MB Vult, YMvK-(as) VULTO, XMvK, VD H05V-K, NWKP H07-RN-F, Instrumentatiekabel Shielded-CY, enz.
A14: 5 | B14: Industrieel en Paneelbouw | C14: 0.05 | D14: =Invulveld!E37 -> 0 | E14: =C14*D14 -> 0
B15: voorbeelden: Magneetschakelaars/motorbeveiliging, handschakelaars+bedieningselementen, PLC en Progr. Controllers, sensoren, detectoren, eindschakelaars, frequentieregelaars, softstarters, industriele connectoren, voedingen omvormers UPS, kasten behuizingen, hulp en signaalrelais, enz.
A16: 6 | B16: Energieverdeling | C16: 0.1 | D16: =Invulveld!G37 -> 0 | E16: =C16*D16 -> 0
B17: voorbeelden: Installatieautomaten, aardlekschakelaars, smeltveiligheden, enz.
A18: 7 | B18: Smeermiddelen ed. | C18: 0.05 | D18: =Invulveld!C48 -> 0 | E18: =C18*D18 -> 0
B19: voorbeelden: Boor en snijolie, WD40, kruipolie, remmenreiniger, siliconenspray, copaslip, kogellagervet, enz.
A20: 8 | B20: Schilderbenodigheden | C20: 0.1 | D20: =Invulveld!E48 -> 0 | E20: =C20*D20 -> 0
B21: voorbeelden:grondverf, muurverf, aflak, spuitbussen, kwasten, tape, terpetine, enz.
A22: 9 | B22: overige materialen | C22: 0.1 | D22: =Invulveld!G48 -> 0 | E22: =C22*D22 -> 0
B23: voorbeelden: ductape, tierapps, enz.
A24: 10 | B24: Appendages/fitwerk | C24: 0.1 | D24: =Invulveld!C61 -> 0 | E24: =C24*D24 -> 0
B25: voorbeelden: storz-koppeling, Geka-koppeling, Camlock-koppeling, Gardena-koppeling, lasflenzen, draadflenzen, driedelige-koppelingen, schuifafsluiters, kogelkranen, enz.
A26: 11 | B26: Sanitair | C26: 0.1 | D26: =Invulveld!E61 -> 0 | E26: =C26*D26 -> 0
B27: voorbeelden: closetpot, wasbak, vloerput, closetzitting, douchmengkraan, close=in boiler, pvc leiding en fittingwerk, tyleen leiding en fittingwerk, waterleiding en verwarmingsleiding, enz.
D29: som van de gewogen kortingen | E29: =SUM(E6:E28) -> 0
B31: U wordt beoordeeld op de som van de gewogen kortingen (cel E29).
B33: Voor de uitvoering van het contract zullen de ingevulde kortingen op het tabblad "invulveld" van dit prijzenblad gebruikt worden.
B35: De kortingen zijn vast voor de gehele contractperiode en eventuele optiejaren.

Sheet Invulveld
A1: Europese aanbesteding gereedschappen ROC Mondriaan
A3: BIJLAGE 2 - PRIJZENBLAD
D5: Invulblad kortingen per productgroep en merk
B7: 1. Elektrisch gereedschap | D7: 2. Hand gereedschap | F7: 3. Bevestigingsmiddelen
B8: voorbeelden: boorhamer, accugereedschap, slag-moersleutel, soldeerstation, multimeter, luchtcompressor, enz. | D8: voorbeelden: schroevendraaiers, steek-ringsleutels, zaagbeugel, dopsleutels, meetlint, hamer, lijmtangen, waterpomptang, handzaag enz. | F8: voorbeelden: bouten, moeren, ringen, zelfborgende moeren, inbusbouten, enz
B9: Merk | C9: Korting op nederlandse bruto prijslijst fabrikant per merk | D9: Merk | E9: Korting op nederlandse bruto prijslijst fabrikant per merk | F9: Merk | G9: Korting op nederlandse bruto prijslijst fabrikant per merk
B10: AEG | C10: 0 | D10: Bahco | E10: 0 | F10: ASF Fisher | G10: 0
B11: Bosch | C11: 0 | D11: Facom | E11: 0 | F11: Fabory | G11: 0
B12: DeWalt | C12: 0 | D12: Gedore | E12: 0 | F12: Fabricom | G12: 0
B13: Festool | C13: 0 | D13: Knipex | E13: 0 | F13: Heco | G13: 0
B14: Hikoki | C14: 0 | D14: Stanley | E14: 0 | F14: Hoenderdaal | G14: 0
B15: Makita | C15: 0 | F15: Proftec | G15: 0
B16: Metabo | C16: 0 | F16: Spax | G16: 0
B17: Milwaukee | C17: 0 | F17: Walraven | G17: 0
F18: Woodies | G18: 0
B19: Overige merken | C19: 0 | D19: Overige merken | E19: 0 | F19: Overige merken | G19: 0
B20: gemiddelde korting voor deze subgroep | C20: =AVERAGE(C10:C19) -> 0 | D20: gemiddelde korting voor deze subgroep | E20: =AVERAGE(E10:E19) -> 0 | F20: gemiddelde korting voor deze subgroep | G20: =AVERAGE(G10:G19) -> 0
B22: 4. Kabel en Draad | D22: 5. Industrieel en Paneelbouw | F22: 6. Energieverdeling
B23: voorbeelden: YMvK-MB Vult, YMvK-(as) VULTO, XMvK, VD H05V-K, NWKP H07-RN-F, Instrumentatiekabel Shielded-CY, enz. | D23: voorbeelden: Magneetschakelaars/motorbeveiliging, handschakelaars+bedieningselementen, PLC en Progr. Controllers, sensoren, detectoren, eindschakelaars, frequentieregelaars, softstarters, industriele connectoren, voedingen omvormers UPS, kasten behuizingen, hulp en signaalrelais, enz. | F23: voorbeelden: Installatieautomaten, aardlekschakelaars, smeltveiligheden, enz.
B24: Merk | C24: Korting op nederlandse bruto prijslijst fabrikant per merk | D24: Merk | E24: Korting op nederlandse bruto prijslijst fabrikant per merk | F24: Merk | G24: Korting op nederlandse bruto prijslijst fabrikant per merk
B25: Bohm | C25: 0 | D25: Eldon | E25: 0 | F25: ABB | G25: 0
B26: Donné | C26: 0 | D26: IFM | E26: 0 | F26: Bussmann | G26: 0
B27: Draka | C27: 0 | D27: Klauke | E27: 0 | F27: Eaton | G27: 0
B28: Eldra | C28: 0 | D28: Klemko | E28: 0 | F28: Hager | G28: 0
B29: Jobarco | C29: 0 | D29: Nidec (Control Technics) | E29: 0 | F29: Legrand | G29: 0
B30: Nexans | C30: 0 | D30: Omron | E30: 0 | F30: Schneider-Electric | G30: 0
B31: TKF | C31: 0 | D31: Phoenix | E31: 0
B32: TKF | C32: 0 | D32: Releco | E32: 0
B33: - | D33: Rittal | E33: 0
B34: - | D34: Saia | E34: 0
B35: - | D35: Siemens | E35: 0
B36: Overige merken | C36: 0 | D36: Overige merken | E36: 0 | F36: Overige merken | G36: 0
B37: gemiddelde korting voor deze subgroep | C37: =AVERAGE(C25:C36) -> 0 | D37: gemiddelde korting voor deze subgroep | E37: =AVERAGE(E25:E36) -> 0 | F37: gemiddelde korting voor deze subgroep | G37: =AVERAGE(G25:G36) -> 0
B39: 7. Smeermiddelen ed. | D39: 8. Schilderbenodigheden | F39: 9. overige materialen
B40: voorbeelden: Boor en snijolie, WD40, kruipolie, remmenreiniger, siliconenspray, copaslip, kogellagervet, enz. | D40: voorbeelden:grondverf, muurverf, aflak, spuitbussen, kwasten, tape, terpetine, enz. | F40: voorbeelden: ductape, tierapps, enz.
B41: Merk | C41: Korting op nederlandse bruto prijslijst fabrikant per merk | D41: Merk | E41: Korting op nederlandse bruto prijslijst fabrikant per merk | F41: Merk | G41: Korting op nederlandse bruto prijslijst fabrikant per merk
B42: Bison | C42: 0 | D42: Flexa | E42: 0 | F42: 3M (Scotch) | G42: 0
B43: Den Braven | C43: 0 | D43: Histor | E43: 0 | F43: Loctite | G43: 0
B44: Griffon | C44: 0 | D44: Sigma | E44: 0 | F44: Tyrapp | G44: 0
B45: WD40 | C45: 0 | D45: Wijzonol | E45: 0
...
