Workbook

Sheet Specificatie criterium 1A
B1: Project: Nieuwbouw SPOT
B2: Kenmerk: ESA2302E046
B3: Betreft: Specificatie inzet duurzaamheidsadviseur t.b.v. criterium 1A
B6: Functie | C6: Dagtarief (all-in) | D6: Inzet | E6: Gewogen gemiddelde totale inzet
C8: [ € ] | D8: [ % ]
B9: #functie# | E9: =SUMPRODUCT(C9:C13,D9:D13) -> 0 | G9: * | K9: 800
B10: #functie# | K10: 1200
B11: #functie#
B12: #functie#
B13: #functie#
C14: Totaal | D14: =SUM(D9:D13) -> 0 | E14: **
B16: In te vullen cellen
B17: *Invullen als inschrijvingssom 1A in bijlage 2 van de gunningsleidraad met kenmerk ESA2302R007
B18: ** Totale percentage moet 100 zijn.

Sheet Specificatie criterium 1B
B1: Project: Nieuwbouw SPOT
B2: Kenmerk: ESA2302E046
B3: Betreft: Specificatie inzet duurzaamheidsadviseur t.b.v. criterium 1B
B5: Casco
B6: Functie | C6: Dagtarief | E6: Structuurontwerp | F6: Voorontwerp | G6: Definitief Ontwerp | H6: Technisch Ontwerp / Bestek | I6: Prijs- en contractvorming | J6: Uitvoeringsgereed ontwerp | K6: Uitvoering - directievoering | L6: Gebruik/ Exploitatie (nazorg) | M6: Totale inzet casco
M7: adviesdagen | N7: Advieskosten (€)
C8: (€) | E8: dagen | F8: dagen | G8: dagen | H8: dagen | I8: dagen | J8: dagen | K8: dagen | L8: dagen
B9: #functie# | C9: 0 | M9: =SUM(E9:L9) -> 0 | N9: =C9*M9 -> 0
B10: #functie# | C10: 0 | M10: =SUM(E10:L10) -> 0 | N10: =C10*M10 -> 0
B11: #functie# | C11: 0 | M11: =SUM(E11:L11) -> 0 | N11: =C11*M11 -> 0
B12: #functie# | C12: 0 | M12: =SUM(E12:L12) -> 0 | N12: =C12*M12 -> 0
B13: #functie# | C13: 0 | M13: =SUM(E13:L13) -> 0 | N13: =C13*M13 -> 0
C14: Totaal | E14: =(E9*$C$9)+(E10*$C$10)+(E11*$C$11)+(E12*$C$12)+(E13*$C$13) -> 0 | F14: =(F9*$C$9)+(F10*$C$10)+(F11*$C$11)+(F12*$C$12)+(F13*$C$13) -> 0 | G14: =(G9*$C$9)+(G10*$C$10)+(G11*$C$11)+(G12*$C$12)+(G13*$C$13) -> 0 | H14: =(H9*$C$9)+(H10*$C$10)+(H11*$C$11)+(H12*$C$12)+(H13*$C$13) -> 0 | I14: =(I9*$C$9)+(I10*$C$10)+(I11*$C$11)+(I12*$C$12)+(I13*$C$13) -> 0 | J14: =(J9*$C$9)+(J10*$C$10)+(J11*$C$11)+(J12*$C$12)+(J13*$C$13) -> 0 | K14: =(K9*$C$9)+(K10*$C$10)+(K11*$C$11)+(K12*$C$12)+(K13*$C$13) -> 0 | L14: =(L9*$C$9)+(L10*$C$10)+(L11*$C$11)+(L12*$C$12)+(L13*$C$13) -> 0 | M14: Subtotaal casco | N14: =SUM(N9:N13) -> 0
B15: Percentage t.o.v. het totaal van 'casco' | E15: =E14/$N$14*$M$15 -> #DIV/0! | F15: =F14/$N$14*$M$15 -> #DIV/0! | G15: =G14/$N$14*$M$15 -> #DIV/0! | H15: =H14/$N$14*$M$15 -> #DIV/0! | I15: =I14/$N$14*$M$15 -> #DIV/0! | J15: =J14/$N$14*$M$15 -> #DIV/0! | K15: =K14/$N$14*$M$15 -> #DIV/0! | L15: =L14/$N$14*$M$15 -> #DIV/0! | M15: 1
B17: In- en afbouwpakketten
B18: SKZ
B19: Functie | C19: Dagtarief | E19: Structuurontwerp | F19: Voorontwerp | G19: Definitief Ontwerp | H19: Technisch Ontwerp / Bestek | I19: Prijs- en contractvorming | J19: Uitvoeringsgereed ontwerp | K19: Uitvoering - directievoering | L19: Gebruik/ Exploitatie (nazorg) | M19: Totale inzet inbouwpakket SKZ
M20: adviesdagen | N20: Advieskosten (€)
C21: (€) | E21: dagen | F21: dagen | G21: dagen | H21: dagen | I21: dagen | J21: dagen | K21: dagen | L21: dagen
B22: =B9 -> #functie# | C22: 0 | M22: =SUM(E22:L22) -> 0 | N22: =C22*M22 -> 0
B23: =B10 -> #functie# | C23: 0 | M23: =SUM(E23:L23) -> 0 | N23: =C23*M23 -> 0
B24: =B11 -> #functie# | C24: 0 | M24: =SUM(E24:L24) -> 0 | N24: =C24*M24 -> 0
B25: =B12 -> #functie# | C25: 0 | M25: =SUM(E25:L25) -> 0 | N25: =C25*M25 -> 0
B26: =B13 -> #functie# | C26: 0 | M26: =SUM(E26:L26) -> 0 | N26: =C26*M26 -> 0
C27: Totaal | E27: =(E22*$C$44)+(E23*$C$45)+(E24*$C$46)+(E25*$C$47)+(E26*$C$48) -> 0 | F27: =(F22*$C$44)+(F23*$C$45)+(F24*$C$46)+(F25*$C$47)+(F26*$C$48) -> 0 | G27: =(G22*$C$44)+(G23*$C$45)+(G24*$C$46)+(G25*$C$47)+(G26*$C$48) -> 0 | H27: =(H22*$C$44)+(H23*$C$45)+(H24*$C$46)+(H25*$C$47)+(H26*$C$48) -> 0 | I27: =(I22*$C$44)+(I23*$C$45)+(I24*$C$46)+(I25*$C$47)+(I26*$C$48) -> 0 | J27: =(J22*$C$44)+(J23*$C$45)+(J24*$C$46)+(J25*$C$47)+(J26*$C$48) -> 0 | K27: =(K22*$C$44)+(K23*$C$45)+(K24*$C$46)+(K25*$C$47)+(K26*$C$48) -> 0 | L27: =(L22*$C$44)+(L23*$C$45)+(L24*$C$46)+(L25*$C$47)+(L26*$C$48) -> 0 | M27: Subtotaal in- en afbouwpakket SKZ | N27: =SUM(N22:N26) -> 0
B28: Percentage t.o.v. het totaal van 'inbouwpakketten SKZ' | E28: =E27/$N$27*$M$28 -> #DIV/0! | F28: =F27/$N$27*$M$28 -> #DIV/0! | G28: =G27/$N$27*$M$28 -> #DIV/0! | H28: =H27/$N$27*$M$28 -> #DIV/0! | I28: =I27/$N$27*$M$28 -> #DIV/0! | J28: =J27/$N$27*$M$28 -> #DIV/0! | K28: =K27/$N$27*$M$28 -> #DIV/0! | L28: =L27/$N$27*$M$28 -> #DIV/0! | M28: 1
B29: Psychiatrie
B30: Functie | C30: Dagtarief | E30: Structuurontwerp | F30: Voorontwerp | G30: Definitief Ontwerp | H30: Technisch Ontwerp / Bestek | I30: Prijs- en contractvorming | J30: Uitvoeringsgereed ontwerp | K30: Uitvoering - directievoering | L30: Gebruik/ Exploitatie (nazorg) | M30: Totale inzet inbouwpakket psychiatrie
M31: adviesdagen | N31: Advieskosten (€)
C32: (€) | E32: dagen | F32: dagen | G32: dagen | H32: dagen | I32: dagen | J32: dagen | K32: dagen | L32: dagen
B33: =B9 -> #functie# | C33: 0 | M33: =SUM(E33:L33) -> 0 | N33: =C33*M33 -> 0
B34: =B10 -> #functie# | C34: 0 | M34: =SUM(E34:L34) -> 0 | N34: =C34*M34 -> 0
B35: =B11 -> #functie# | C35: 0 | M35: =SUM(E35:L35) -> 0 | N35: =C35*M35 -> 0
B36: =B12 -> #functie# | C36: 0 | M36: =SUM(E36:L36) -> 0 | N36: =C36*M36 -> 0
B37: =B13 -> #functie# | C37: 0 | M37: =SUM(E37:L37) -> 0 | N37: =C37*M37 -> 0
C38: Totaal | E38: =(E33*$C$44)+(E34*$C$45)+(E35*$C$46)+(E36*$C$47)+(E37*$C$48) -> 0 | F38: =(F33*$C$44)+(F34*$C$45)+(F35*$C$46)+(F36*$C$47)+(F37*$C$48) -> 0 | G38: =(G33*$C$44)+(G34*$C$45)+(G35*$C$46)+(G36*$C$47)+(G37*$C$48) -> 0 | H38: =(H33*$C$44)+(H34*$C$45)+(H35*$C$46)+(H36*$C$47)+(H37*$C$48) -> 0 | I38: =(I33*$C$44)+(I34*$C$45)+(I35*$C$46)+(I36*$C$47)+(I37*$C$48) -> 0 | J38: =(J33*$C$44)+(J34*$C$45)+(J35*$C$46)+(J36*$C$47)+(J37*$C$48) -> 0 | K38: =(K33*$C$44)+(K34*$C$45)+(K35*$C$46)+(K36*$C$47)+(K37*$C$48) -> 0 | L38: =(L33*$C$44)+(L34*$C$45)+(L35*$C$46)+(L36*$C$47)+(L37*$C$48) -> 0 | M38: Subtotaal in- en afbouwpakket psychiatrie | N38: =SUM(N33:N37) -> 0
B39: Percentage t.o.v. het totaal van 'inbouwpakketten psychiatrie' | E39: =E38/$N$38*$M$39 -> #DIV/0! | F39: =F38/$N$38*$M$39 -> #DIV/0! | G39: =G38/$N$38*$M$39 -> #DIV/0! | H39: =H38/$N$38*$M$39 -> #DIV/0! | I39: =I38/$N$38*$M$39 -> #DIV/0! | J39: =J38/$N$38*$M$39 -> #DIV/0! | K39: =K38/$N$38*$M$39 -> #DIV/0! | L39: =L38/$N$38*$M$39 -> #DIV/0! | M39: 1
B40: Proefdierfaciliteit (EDC) en NGR
B41: Functie | C41: Dagtarief | E41: Structuurontwerp | F41: Voorontwerp | G41: Definitief Ontwerp | H41: Technisch Ontwerp / Bestek | I41: Prijs- en contractvorming | J41: Uitvoeringsgereed ontwerp | K41: Uitvoering - directievoering | L41: Gebruik/ Exploitatie (nazorg) | M41: Totale inzet inbouwpakket proefdierfaciliteit (EDC) en NGR
M42: adviesdagen | N42: Advieskosten (€)
...

Sheet Procentuele inzet
B1: ='Specificatie criterium 1B'!B1 -> Project: Nieuwbouw SPOT
B2: ='Specificatie criterium 1B'!B2 -> Kenmerk: ESA2302E046
B3: Betreft: Procentuele inzet
B5: Casco
B6: Functie | D6: Structuurontwerp | E6: Voorontwerp | F6: Definitief Ontwerp | G6: Technisch Ontwerp / Bestek | H6: Prijs- en contractvorming | I6: Uitvoeringsgereed ontwerp | J6: Uitvoering - directievoering | K6: Gebruik/ Exploitatie (nazorg)
D8: dagen | E8: dagen | F8: dagen | G8: dagen | H8: dagen | I8: dagen | J8: dagen | K8: dagen
B9: ='Specificatie criterium 1B'!B9 -> #functie# | D9: ='Specificatie criterium 1B'!E9/'Procentuele inzet'!D$14 -> #DIV/0! | E9: ='Specificatie criterium 1B'!F9/'Procentuele inzet'!E$14 -> #DIV/0! | F9: ='Specificatie criterium 1B'!G9/'Procentuele inzet'!F$14 -> #DIV/0! | G9: ='Specificatie criterium 1B'!H9/'Procentuele inzet'!G$14 -> #DIV/0! | H9: ='Specificatie criterium 1B'!I9/'Procentuele inzet'!H$14 -> #DIV/0! | I9: ='Specificatie criterium 1B'!J9/'Procentuele inzet'!I$14 -> #DIV/0! | J9: ='Specificatie criterium 1B'!K9/'Procentuele inzet'!J$14 -> #DIV/0! | K9: ='Specificatie criterium 1B'!L9/'Procentuele inzet'!K$14 -> #DIV/0!
B10: ='Specificatie criterium 1B'!B10 -> #functie# | D10: ='Specificatie criterium 1B'!E10/'Procentuele inzet'!D$14 -> #DIV/0! | E10: ='Specificatie criterium 1B'!F10/'Procentuele inzet'!E$14 -> #DIV/0! | F10: ='Specificatie criterium 1B'!G10/'Procentuele inzet'!F$14 -> #DIV/0! | G10: ='Specificatie criterium 1B'!H10/'Procentuele inzet'!G$14 -> #DIV/0! | H10: ='Specificatie criterium 1B'!I10/'Procentuele inzet'!H$14 -> #DIV/0! | I10: ='Specificatie criterium 1B'!J10/'Procentuele inzet'!I$14 -> #DIV/0! | J10: ='Specificatie criterium 1B'!K10/'Procentuele inzet'!J$14 -> #DIV/0! | K10: ='Specificatie criterium 1B'!L10/'Procentuele inzet'!K$14 -> #DIV/0!
B11: ='Specificatie criterium 1B'!B11 -> #functie# | D11: ='Specificatie criterium 1B'!E11/'Procentuele inzet'!D$14 -> #DIV/0! | E11: ='Specificatie criterium 1B'!F11/'Procentuele inzet'!E$14 -> #DIV/0! | F11: ='Specificatie criterium 1B'!G11/'Procentuele inzet'!F$14 -> #DIV/0! | G11: ='Specificatie criterium 1B'!H11/'Procentuele inzet'!G$14 -> #DIV/0! | H11: ='Specificatie criterium 1B'!I11/'Procentuele inzet'!H$14 -> #DIV/0! | I11: ='Specificatie criterium 1B'!J11/'Procentuele inzet'!I$14 -> #DIV/0! | J11: ='Specificatie criterium 1B'!K11/'Procentuele inzet'!J$14 -> #DIV/0! | K11: ='Specificatie criterium 1B'!L11/'Procentuele inzet'!K$14 -> #DIV/0!
B12: ='Specificatie criterium 1B'!B12 -> #functie# | D12: ='Specificatie criterium 1B'!E12/'Procentuele inzet'!D$14 -> #DIV/0! | E12: ='Specificatie criterium 1B'!F12/'Procentuele inzet'!E$14 -> #DIV/0! | F12: ='Specificatie criterium 1B'!G12/'Procentuele inzet'!F$14 -> #DIV/0! | G12: ='Specificatie criterium 1B'!H12/'Procentuele inzet'!G$14 -> #DIV/0! | H12: ='Specificatie criterium 1B'!I12/'Procentuele inzet'!H$14 -> #DIV/0! | I12: ='Specificatie criterium 1B'!J12/'Procentuele inzet'!I$14 -> #DIV/0! | J12: ='Specificatie criterium 1B'!K12/'Procentuele inzet'!J$14 -> #DIV/0! | K12: ='Specificatie criterium 1B'!L12/'Procentuele inzet'!K$14 -> #DIV/0!
B13: ='Specificatie criterium 1B'!B13 -> #functie# | D13: ='Specificatie criterium 1B'!E13/'Procentuele inzet'!D$14 -> #DIV/0! | E13: ='Specificatie criterium 1B'!F13/'Procentuele inzet'!E$14 -> #DIV/0! | F13: ='Specificatie criterium 1B'!G13/'Procentuele inzet'!F$14 -> #DIV/0! | G13: ='Specificatie criterium 1B'!H13/'Procentuele inzet'!G$14 -> #DIV/0! | H13: ='Specificatie criterium 1B'!I13/'Procentuele inzet'!H$14 -> #DIV/0! | I13: ='Specificatie criterium 1B'!J13/'Procentuele inzet'!I$14 -> #DIV/0! | J13: ='Specificatie criterium 1B'!K13/'Procentuele inzet'!J$14 -> #DIV/0! | K13: ='Specificatie criterium 1B'!L13/'Procentuele inzet'!K$14 -> #DIV/0!
D14: =SUM('Specificatie criterium 1B'!E9:E13) -> 0 | E14: =SUM('Specificatie criterium 1B'!F9:F13) -> 0 | F14: =SUM('Specificatie criterium 1B'!G9:G13) -> 0 | G14: =SUM('Specificatie criterium 1B'!H9:H13) -> 0 | H14: =SUM('Specificatie criterium 1B'!I9:I13) -> 0 | I14: =SUM('Specificatie criterium 1B'!J9:J13) -> 0 | J14: =SUM('Specificatie criterium 1B'!K9:K13) -> 0 | K14: =SUM('Specificatie criterium 1B'!L9:L13) -> 0
B16: In- en afbouwpakketten
B17: SKZ
B18: Functie | D18: Structuurontwerp | E18: Voorontwerp | F18: Definitief Ontwerp | G18: Technisch Ontwerp / Bestek | H18: Prijs- en contractvorming | I18: Uitvoeringsgereed ontwerp | J18: Uitvoering - directievoering | K18: Gebruik/ Exploitatie (nazorg)
D20: dagen | E20: dagen | F20: dagen | G20: dagen | H20: dagen | I20: dagen | J20: dagen | K20: dagen
B21: ='Specificatie criterium 1B'!B22 -> #functie# | D21: ='Specificatie criterium 1B'!E22/'Procentuele inzet'!D$26 -> #DIV/0! | E21: ='Specificatie criterium 1B'!F22/'Procentuele inzet'!E$26 -> #DIV/0! | F21: ='Specificatie criterium 1B'!G22/'Procentuele inzet'!F$26 -> #DIV/0! | G21: ='Specificatie criterium 1B'!H22/'Procentuele inzet'!G$26 -> #DIV/0! | H21: ='Specificatie criterium 1B'!I22/'Procentuele inzet'!H$26 -> #DIV/0! | I21: ='Specificatie criterium 1B'!J22/'Procentuele inzet'!I$26 -> #DIV/0! | J21: ='Specificatie criterium 1B'!K22/'Procentuele inzet'!J$26 -> #DIV/0! | K21: ='Specificatie criterium 1B'!L22/'Procentuele inzet'!K$26 -> #DIV/0!
B22: ='Specificatie criterium 1B'!B23 -> #functie# | D22: ='Specificatie criterium 1B'!E23/'Procentuele inzet'!D$26 -> #DIV/0! | E22: ='Specificatie criterium 1B'!F23/'Procentuele inzet'!E$26 -> #DIV/0! | F22: ='Specificatie criterium 1B'!G23/'Procentuele inzet'!F$26 -> #DIV/0! | G22: ='Specificatie criterium 1B'!H23/'Procentuele inzet'!G$26 -> #DIV/0! | H22: ='Specificatie criterium 1B'!I23/'Procentuele inzet'!H$26 -> #DIV/0! | I22: ='Specificatie criterium 1B'!J23/'Procentuele inzet'!I$26 -> #DIV/0! | J22: ='Specificatie criterium 1B'!K23/'Procentuele inzet'!J$26 -> #DIV/0! | K22: ='Specificatie criterium 1B'!L23/'Procentuele inzet'!K$26 -> #DIV/0!
B23: ='Specificatie criterium 1B'!B24 -> #functie# | D23: ='Specificatie criterium 1B'!E24/'Procentuele inzet'!D$26 -> #DIV/0! | E23: ='Specificatie criterium 1B'!F24/'Procentuele inzet'!E$26 -> #DIV/0! | F23: ='Specificatie criterium 1B'!G24/'Procentuele inzet'!F$26 -> #DIV/0! | G23: ='Specificatie criterium 1B'!H24/'Procentuele inzet'!G$26 -> #DIV/0! | H23: ='Specificatie criterium 1B'!I24/'Procentuele inzet'!H$26 -> #DIV/0! | I23: ='Specificatie criterium 1B'!J24/'Procentuele inzet'!I$26 -> #DIV/0! | J23: ='Specificatie criterium 1B'!K24/'Procentuele inzet'!J$26 -> #DIV/0! | K23: ='Specificatie criterium 1B'!L24/'Procentuele inzet'!K$26 -> #DIV/0!
B24: ='Specificatie criterium 1B'!B25 -> #functie# | D24: ='Specificatie criterium 1B'!E25/'Procentuele inzet'!D$26 -> #DIV/0! | E24: ='Specificatie criterium 1B'!F25/'Procentuele inzet'!E$26 -> #DIV/0! | F24: ='Specificatie criterium 1B'!G25/'Procentuele inzet'!F$26 -> #DIV/0! | G24: ='Specificatie criterium 1B'!H25/'Procentuele inzet'!G$26 -> #DIV/0! | H24: ='Specificatie criterium 1B'!I25/'Procentuele inzet'!H$26 -> #DIV/0! | I24: ='Specificatie criterium 1B'!J25/'Procentuele inzet'!I$26 -> #DIV/0! | J24: ='Specificatie criterium 1B'!K25/'Procentuele inzet'!J$26 -> #DIV/0! | K24: ='Specificatie criterium 1B'!L25/'Procentuele inzet'!K$26 -> #DIV/0!
B25: ='Specificatie criterium 1B'!B26 -> #functie# | D25: ='Specificatie criterium 1B'!E26/'Procentuele inzet'!D$26 -> #DIV/0! | E25: ='Specificatie criterium 1B'!F26/'Procentuele inzet'!E$26 -> #DIV/0! | F25: ='Specificatie criterium 1B'!G26/'Procentuele inzet'!F$26 -> #DIV/0! | G25: ='Specificatie criterium 1B'!H26/'Procentuele inzet'!G$26 -> #DIV/0! | H25: ='Specificatie criterium 1B'!I26/'Procentuele inzet'!H$26 -> #DIV/0! | I25: ='Specificatie criterium 1B'!J26/'Procentuele inzet'!I$26 -> #DIV/0! | J25: ='Specificatie criterium 1B'!K26/'Procentuele inzet'!J$26 -> #DIV/0! | K25: ='Specificatie criterium 1B'!L26/'Procentuele inzet'!K$26 -> #DIV/0!
D26: =SUM('Specificatie criterium 1B'!E22:E26) -> 0 | E26: =SUM('Specificatie criterium 1B'!F22:F26) -> 0 | F26: =SUM('Specificatie criterium 1B'!G22:G26) -> 0 | G26: =SUM('Specificatie criterium 1B'!H22:H26) -> 0 | H26: =SUM('Specificatie criterium 1B'!I22:I26) -> 0 | I26: =SUM('Specificatie criterium 1B'!J22:J26) -> 0 | J26: =SUM('Specificatie criterium 1B'!K22:K26) -> 0 | K26: =SUM('Specificatie criterium 1B'!L22:L26) -> 0
B27: Psychiatrie
B28: Functie | D28: Structuurontwerp | E28: Voorontwerp | F28: Definitief Ontwerp | G28: Technisch Ontwerp / Bestek | H28: Prijs- en contractvorming | I28: Uitvoeringsgereed ontwerp | J28: Uitvoering - directievoering | K28: Gebruik/ Exploitatie (nazorg)
D30: dagen | E30: dagen | F30: dagen | G30: dagen | H30: dagen | I30: dagen | J30: dagen | K30: dagen
B31: ='Specificatie criterium 1B'!B33 -> #functie# | D31: ='Specificatie criterium 1B'!E33/'Procentuele inzet'!D$36 -> #DIV/0! | E31: ='Specificatie criterium 1B'!F33/'Procentuele inzet'!E$36 -> #DIV/0! | F31: ='Specificatie criterium 1B'!G33/'Procentuele inzet'!F$36 -> #DIV/0! | G31: ='Specificatie criterium 1B'!H33/'Procentuele inzet'!G$36 -> #DIV/0! | H31: ='Specificatie criterium 1B'!I33/'Procentuele inzet'!H$36 -> #DIV/0! | I31: ='Specificatie criterium 1B'!J33/'Procentuele inzet'!I$36 -> #DIV/0! | J31: ='Specificatie criterium 1B'!K33/'Procentuele inzet'!J$36 -> #DIV/0! | K31: ='Specificatie criterium 1B'!L33/'Procentuele inzet'!K$36 -> #DIV/0!
B32: ='Specificatie criterium 1B'!B34 -> #functie# | D32: ='Specificatie criterium 1B'!E34/'Procentuele inzet'!D$36 -> #DIV/0! | E32: ='Specificatie criterium 1B'!F34/'Procentuele inzet'!E$36 -> #DIV/0! | F32: ='Specificatie criterium 1B'!G34/'Procentuele inzet'!F$36 -> #DIV/0! | G32: ='Specificatie criterium 1B'!H34/'Procentuele inzet'!G$36 -> #DIV/0! | H32: ='Specificatie criterium 1B'!I34/'Procentuele inzet'!H$36 -> #DIV/0! | I32: ='Specificatie criterium 1B'!J34/'Procentuele inzet'!I$36 -> #DIV/0! | J32: ='Specificatie criterium 1B'!K34/'Procentuele inzet'!J$36 -> #DIV/0! | K32: ='Specificatie criterium 1B'!L34/'Procentuele inzet'!K$36 -> #DIV/0!
B33: ='Specificatie criterium 1B'!B35 -> #functie# | D33: ='Specificatie criterium 1B'!E35/'Procentuele inzet'!D$36 -> #DIV/0! | E33: ='Specificatie criterium 1B'!F35/'Procentuele inzet'!E$36 -> #DIV/0! | F33: ='Specificatie criterium 1B'!G35/'Procentuele inzet'!F$36 -> #DIV/0! | G33: ='Specificatie criterium 1B'!H35/'Procentuele inzet'!G$36 -> #DIV/0! | H33: ='Specificatie criterium 1B'!I35/'Procentuele inzet'!H$36 -> #DIV/0! | I33: ='Specificatie criterium 1B'!J35/'Procentuele inzet'!I$36 -> #DIV/0! | J33: ='Specificatie criterium 1B'!K35/'Procentuele inzet'!J$36 -> #DIV/0! | K33: ='Specificatie criterium 1B'!L35/'Procentuele inzet'!K$36 -> #DIV/0!
B34: ='Specificatie criterium 1B'!B36 -> #functie# | D34: ='Specificatie criterium 1B'!E36/'Procentuele inzet'!D$36 -> #DIV/0! | E34: ='Specificatie criterium 1B'!F36/'Procentuele inzet'!E$36 -> #DIV/0! | F34: ='Specificatie criterium 1B'!G36/'Procentuele inzet'!F$36 -> #DIV/0! | G34: ='Specificatie criterium 1B'!H36/'Procentuele inzet'!G$36 -> #DIV/0! | H34: ='Specificatie criterium 1B'!I36/'Procentuele inzet'!H$36 -> #DIV/0! | I34: ='Specificatie criterium 1B'!J36/'Procentuele inzet'!I$36 -> #DIV/0! | J34: ='Specificatie criterium 1B'!K36/'Procentuele inzet'!J$36 -> #DIV/0! | K34: ='Specificatie criterium 1B'!L36/'Procentuele inzet'!K$36 -> #DIV/0!
B35: ='Specificatie criterium 1B'!B37 -> #functie# | D35: ='Specificatie criterium 1B'!E37/'Procentuele inzet'!D$36 -> #DIV/0! | E35: ='Specificatie criterium 1B'!F37/'Procentuele inzet'!E$36 -> #DIV/0! | F35: ='Specificatie criterium 1B'!G37/'Procentuele inzet'!F$36 -> #DIV/0! | G35: ='Specificatie criterium 1B'!H37/'Procentuele inzet'!G$36 -> #DIV/0! | H35: ='Specificatie criterium 1B'!I37/'Procentuele inzet'!H$36 -> #DIV/0! | I35: ='Specificatie criterium 1B'!J37/'Procentuele inzet'!I$36 -> #DIV/0! | J35: ='Specificatie criterium 1B'!K37/'Procentuele inzet'!J$36 -> #DIV/0! | K35: ='Specificatie criterium 1B'!L37/'Procentuele inzet'!K$36 -> #DIV/0!
D36: =SUM('Specificatie criterium 1B'!E33:E37) -> 0 | E36: =SUM('Specificatie criterium 1B'!F33:F37) -> 0 | F36: =SUM('Specificatie criterium 1B'!G33:G37) -> 0 | G36: =SUM('Specificatie criterium 1B'!H33:H37) -> 0 | H36: =SUM('Specificatie criterium 1B'!I33:I37) -> 0 | I36: =SUM('Specificatie criterium 1B'!J33:J37) -> 0 | J36: =SUM('Specificatie criterium 1B'!K33:K37) -> 0 | K36: =SUM('Specificatie criterium 1B'!L33:L37) -> 0
B37: Proefdierfaciliteit (EDC) en NGR
B38: Functie | D38: Structuurontwerp | E38: Voorontwerp | F38: Definitief Ontwerp | G38: Technisch Ontwerp / Bestek | H38: Prijs- en contractvorming | I38: Uitvoeringsgereed ontwerp | J38: Uitvoering - directievoering | K38: Gebruik/ Exploitatie (nazorg)
D40: dagen | E40: dagen | F40: dagen | G40: dagen | H40: dagen | I40: dagen | J40: dagen | K40: dagen
B41: ='Specificatie criterium 1B'!B44 -> #functie# | D41: ='Specificatie criterium 1B'!E44/'Procentuele inzet'!D$46 -> #DIV/0! | E41: ='Specificatie criterium 1B'!F44/'Procentuele inzet'!E$46 -> #DIV/0! | F41: ='Specificatie criterium 1B'!G44/'Procentuele inzet'!F$46 -> #DIV/0! | G41: ='Specificatie criterium 1B'!H44/'Procentuele inzet'!G$46 -> #DIV/0! | H41: ='Specificatie criterium 1B'!I44/'Procentuele inzet'!H$46 -> #DIV/0! | I41: ='Specificatie criterium 1B'!J44/'Procentuele inzet'!I$46 -> #DIV/0! | J41: ='Specificatie criterium 1B'!K44/'Procentuele inzet'!J$46 -> #DIV/0! | K41: ='Specificatie criterium 1B'!L44/'Procentuele inzet'!K$46 -> #DIV/0!
B42: ='Specificatie criterium 1B'!B45 -> #functie# | D42: ='Specificatie criterium 1B'!E45/'Procentuele inzet'!D$46 -> #DIV/0! | E42: ='Specificatie criterium 1B'!F45/'Procentuele inzet'!E$46 -> #DIV/0! | F42: ='Specificatie criterium 1B'!G45/'Procentuele inzet'!F$46 -> #DIV/0! | G42: ='Specificatie criterium 1B'!H45/'Procentuele inzet'!G$46 -> #DIV/0! | H42: ='Specificatie criterium 1B'!I45/'Procentuele inzet'!H$46 -> #DIV/0! | I42: ='Specificatie criterium 1B'!J45/'Procentuele inzet'!I$46 -> #DIV/0! | J42: ='Specificatie criterium 1B'!K45/'Procentuele inzet'!J$46 -> #DIV/0! | K42: ='Specificatie criterium 1B'!L45/'Procentuele inzet'!K$46 -> #DIV/0!
B43: ='Specificatie criterium 1B'!B46 -> #functie# | D43: ='Specificatie criterium 1B'!E46/'Procentuele inzet'!D$46 -> #DIV/0! | E43: ='Specificatie criterium 1B'!F46/'Procentuele inzet'!E$46 -> #DIV/0! | F43: ='Specificatie criterium 1B'!G46/'Procentuele inzet'!F$46 -> #DIV/0! | G43: ='Specificatie criterium 1B'!H46/'Procentuele inzet'!G$46 -> #DIV/0! | H43: ='Specificatie criterium 1B'!I46/'Procentuele inzet'!H$46 -> #DIV/0! | I43: ='Specificatie criterium 1B'!J46/'Procentuele inzet'!I$46 -> #DIV/0! | J43: ='Specificatie criterium 1B'!K46/'Procentuele inzet'!J$46 -> #DIV/0! | K43: ='Specificatie criterium 1B'!L46/'Procentuele inzet'!K$46 -> #DIV/0!
B44: ='Specificatie criterium 1B'!B47 -> #functie# | D44: ='Specificatie criterium 1B'!E47/'Procentuele inzet'!D$46 -> #DIV/0! | E44: ='Specificatie criterium 1B'!F47/'Procentuele inzet'!E$46 -> #DIV/0! | F44: ='Specificatie criterium 1B'!G47/'Procentuele inzet'!F$46 -> #DIV/0! | G44: ='Specificatie criterium 1B'!H47/'Procentuele inzet'!G$46 -> #DIV/0! | H44: ='Specificatie criterium 1B'!I47/'Procentuele inzet'!H$46 -> #DIV/0! | I44: ='Specificatie criterium 1B'!J47/'Procentuele inzet'!I$46 -> #DIV/0! | J44: ='Specificatie criterium 1B'!K47/'Procentuele inzet'!J$46 -> #DIV/0! | K44: ='Specificatie criterium 1B'!L47/'Procentuele inzet'!K$46 -> #DIV/0!
B45: ='Specificatie criterium 1B'!B48 -> #functie# | D45: ='Specificatie criterium 1B'!E48/'Procentuele inzet'!D$46 -> #DIV/0! | E45: ='Specificatie criterium 1B'!F48/'Procentuele inzet'!E$46 -> #DIV/0! | F45: ='Specificatie criterium 1B'!G48/'Procentuele inzet'!F$46 -> #DIV/0! | G45: ='Specificatie criterium 1B'!H48/'Procentuele inzet'!G$46 -> #DIV/0! | H45: ='Specificatie criterium 1B'!I48/'Procentuele inzet'!H$46 -> #DIV/0! | I45: ='Specificatie criterium 1B'!J48/'Procentuele inzet'!I$46 -> #DIV/0! | J45: ='Specificatie criterium 1B'!K48/'Procentuele inzet'!J$46 -> #DIV/0! | K45: ='Specificatie criterium 1B'!L48/'Procentuele inzet'!K$46 -> #DIV/0!
D46: =SUM('Specificatie criterium 1B'!E44:E48) -> 0 | E46: =SUM('Specificatie criterium 1B'!F44:F48) -> 0 | F46: =SUM('Specificatie criterium 1B'!G44:G48) -> 0 | G46: =SUM('Specificatie criterium 1B'!H44:H48) -> 0 | H46: =SUM('Specificatie criterium 1B'!I44:I48) -> 0 | I46: =SUM('Specificatie criterium 1B'!J44:J48) -> 0 | J46: =SUM('Specificatie criterium 1B'!K44:K48) -> 0 | K46: =SUM('Specificatie criterium 1B'!L44:L48) -> 0
