Workbook

Sheet Grootkeuken app. Zuid
A1: Adres | B1: Plaats | C1: Pandcode | D1: Objectnummer | E1: Niveau 1 | F1: Niveau 2 | G1: Niveau 3 | H1: Niveau 4 | I1: Locatie | J1: Objectgroep | K1: Object status
A2: Willem Dreesweg 16 | B2: Almere | C2: =VLOOKUP(A2,Pandcode!A:C,3,FALSE) -> ALMW0 | D2: 21273-40706 | E2: Centraal koelsysteem | F2: MPX | G2: Silnsys TAG4546Z/449A/0.12 kg | I2: Kooi Parkeergarage | J2: Koud Contract 1 x per jaar - 50428 | K2: (2) Lichte gebruikerssporen
A3: Willem Dreesweg 16 | B3: Almere | C3: =VLOOKUP(A3,Pandcode!A:C,3,FALSE) -> ALMW0 | D3: 21270 - 59326 | E3: Ijsblokjesmachine | F3: IJsblokjesmachine Brema | G3: GB1555A HC | I3: Keuken | J3: Koud Contract 1 x per jaar - 50428 | K3: (2) Lichte gebruikerssporen
A4: Willem Dreesweg 16 | B4: Almere | C4: =VLOOKUP(A4,Pandcode!A:C,3,FALSE) -> ALMW0 | D4: 21265-41502 | E4: Koelbak | F4: Koelbak Ideal inbouw AKE aangesloten op MPX centraal koelaggregaat | G4: aangesloten op MPX centraal koelaggregaat | H4: 41502 | I4: Restaurant 1e etage op c.s. | J4: Koud Contract 1 x per jaar - 50428 | K4: (2) Lichte gebruikerssporen
A5: Willem Dreesweg 16 | B5: Almere | C5: =VLOOKUP(A5,Pandcode!A:C,3,FALSE) -> ALMW0 | D5: 21266-41503 | E5: Koelbak | F5: Koelbak Ideal inbouw AKE | I5: Restaurant 1e etage op c.s. | J5: Koud Contract 1 x per jaar - 50428 | K5: (2) Lichte gebruikerssporen
A6: Willem Dreesweg 16 | B6: Almere | C6: =VLOOKUP(A6,Pandcode!A:C,3,FALSE) -> ALMW0 | D6: 21264-59324 | E6: Koelkast | F6: Flessenkoeling Gamko GM/212ST | G6: GM/212ST | I6: Koffiecorner | J6: Koud Contract 1 x per jaar - 50428 | K6: (2) Lichte gebruikerssporen
A7: Willem Dreesweg 16 | B7: Almere | C7: =VLOOKUP(A7,Pandcode!A:C,3,FALSE) -> ALMW0 | D7: 41500 | E7: Koelvitrine | F7: Ideal Inbouw Koelvitrine | G7: AKE | H7: BRILLIANT 0-4/1-70-Z RG | I7: Restaurant 1e etage op c.s. | J7: Koud Contract 1 x per jaar - 50428 | K7: (2) Lichte gebruikerssporen
A8: Willem Dreesweg 16 | B8: Almere | C8: =VLOOKUP(A8,Pandcode!A:C,3,FALSE) -> ALMW0 | D8: 41505 | E8: Koelvitrine | F8: AKE | G8: BRILLIANT 0-4/1-70-Z RG | I8: Koffiecorner 1e etage op c.s. | J8: Koud Contract 1 x per jaar - 50428 | K8: (2) Lichte gebruikerssporen
A9: Willem Dreesweg 16 | B9: Almere | C9: =VLOOKUP(A9,Pandcode!A:C,3,FALSE) -> ALMW0 | D9: 41501 | E9: Koelvitrine | F9: AKE | G9: BRILLIANT 0-4/1-70-Z | I9: Restaurant 1e etage op c.s. | J9: Koud Contract 1 x per jaar - 50428 | K9: (2) Lichte gebruikerssporen
A10: Willem Dreesweg 16 | B10: Almere | C10: =VLOOKUP(A10,Pandcode!A:C,3,FALSE) -> ALMW0 | D10: 21257-41134 | E10: Koelwerkbank | F10: Koelwerkbank 2 deurs Weha aangesloten op MPX centraal aggregaat | G10: aangesloten op MPX centraal aggregaat | H10: 41133 | I10: Restaurant 1e etage op c.s. | J10: Koud Contract 1 x per jaar - 50428 | K10: (2) Lichte gebruikerssporen
A11: Willem Dreesweg 16 | B11: Almere | C11: =VLOOKUP(A11,Pandcode!A:C,3,FALSE) -> ALMW0 | D11: 21258-41504 | E11: Koelwerkbank | F11: Koelwerkbank 3 deurs Zanussi TRBN183A aangesloten op MPX centraal koelaggregaat | G11: aangesloten op MPX centraal koelaggregaat | H11: 41499 | I11: Restaurant 1e etage op c.s. | J11: Koud Contract 1 x per jaar - 50428 | K11: (2) Lichte gebruikerssporen
A12: Willem Dreesweg 16 | B12: Almere | C12: =VLOOKUP(A12,Pandcode!A:C,3,FALSE) -> ALMW0 | D12: 21267-41133 | E12: Koelwerkbank | F12: Koelwerkbank 3 deurs onder booster Weha | I12: Restaurant 1e etage op c.s. | J12: Koud Contract 1 x per jaar - 50428 | K12: (2) Lichte gebruikerssporen
A13: Willem Dreesweg 16 | B13: Almere | C13: =VLOOKUP(A13,Pandcode!A:C,3,FALSE) -> ALMW0 | D13: 21271-54564 | E13: Vriescel | F13: Vriescel WEHA ECO MTE25L7ED aggregaat in parkeergarage | G13: aggregaat in parkeergarage | H13: 3002 1594 | I13: Magazijn | J13: Koud Contract 1 x per jaar - 50428 | K13: (2) Lichte gebruikerssporen
A14: Willem Dreesweg 16 | B14: Almere | C14: =VLOOKUP(A14,Pandcode!A:C,3,FALSE) -> ALMW0 | D14: SVZ07111 | E14: Bainmarie | F14: Bainmarie | G14: EMGA | I14: 7111 Uitgifte. | J14: Warm contract 1 x per jaar Inspectief - 50428 | K14: (3) Redelijke staat
A15: Willem Dreesweg 16 | B15: Almere | C15: =VLOOKUP(A15,Pandcode!A:C,3,FALSE) -> ALMW0 | E15: Bladmengkraan | F15: Electronische Kraan | G15: FRANKE | H15: ID398414 | J15: Warm contract 1 x per jaar Inspectief - 50428 | K15: (3) Redelijke staat
A16: Willem Dreesweg 16 | B16: Almere | C16: =VLOOKUP(A16,Pandcode!A:C,3,FALSE) -> ALMW0 | E16: Bladmengkraan | F16: Europe | G16: KLARCO | H16: ID398410 | J16: Warm contract 1 x per jaar Inspectief - 50428 | K16: (3) Redelijke staat
A17: Willem Dreesweg 16 | B17: Almere | C17: =VLOOKUP(A17,Pandcode!A:C,3,FALSE) -> ALMW0 | E17: Bladmengkraan | F17: Staand LP-21 | G17: ECHTERMANN | H17: ID398413 | J17: Warm contract 1 x per jaar Inspectief - 50428 | K17: (3) Redelijke staat
A18: Willem Dreesweg 16 | B18: Almere | C18: =VLOOKUP(A18,Pandcode!A:C,3,FALSE) -> ALMW0 | D18: SVZ02684 | E18: Bordenlowerator verwarmd | I18: 2684 Restaurant | J18: Warm contract 1 x per jaar Inspectief - 50428 | K18: (3) Redelijke staat
A19: Willem Dreesweg 16 | B19: Almere | C19: =VLOOKUP(A19,Pandcode!A:C,3,FALSE) -> ALMW0 | D19: SVZ07112 | E19: Bordenlowerator verwarmd | I19: Uitgifte restaurant | J19: Warm contract 1 x per jaar Inspectief - 50428 | K19: (3) Redelijke staat
A20: Willem Dreesweg 16 | B20: Almere | C20: =VLOOKUP(A20,Pandcode!A:C,3,FALSE) -> ALMW0 | D20: SVZ 02683 | E20: Grilplaat | F20: Grill | G20: CATERCHEF | H20: 688405 | I20: 2683 Koffiecorner | J20: Warm contract 1 x per jaar Inspectief - 50428 | K20: (3) Redelijke staat
A21: Willem Dreesweg 16 | B21: Almere | C21: =VLOOKUP(A21,Pandcode!A:C,3,FALSE) -> ALMW0 | D21: 21248/svz 02685 | E21: Inductiewok | F21: Drop in wok Giga | I21: 2685 Uitgifte | J21: Warm contract 1 x per jaar Inspectief - 50428 | K21: (3) Redelijke staat
A22: Willem Dreesweg 16 | B22: Almere | C22: =VLOOKUP(A22,Pandcode!A:C,3,FALSE) -> ALMW0 | D22: 41504 | E22: Koelwerkbank | F22: Koelwerkbank broodjes | G22: ZANUSSI | H22: TRRN132C | I22: UITGIFTE RESTAURANT | J22: Koud Contract 1 x per jaar - 50428 | K22: (3) Redelijke staat
A23: Willem Dreesweg 16 | B23: Almere | C23: =VLOOKUP(A23,Pandcode!A:C,3,FALSE) -> ALMW0 | E23: Rail | F23: Rail 10 mtr | G23: KLARCO | H23: ID30027382 | J23: Warm contract 1 x per jaar Inspectief - 50428 | K23: (3) Redelijke staat
A24: Willem Dreesweg 16 | B24: Almere | C24: =VLOOKUP(A24,Pandcode!A:C,3,FALSE) -> ALMW0 | D24: SVZ 02680 | E24: Warmhoudplaat | F24: Warmhoudplaat Soep | G24: UBERT | H24: AK-2 | I24: Uitgifte restaurant | J24: Warm contract 1 x per jaar Inspectief - 50428 | K24: (3) Redelijke staat
A25: Willem Dreesweg 16 | B25: Almere | C25: =VLOOKUP(A25,Pandcode!A:C,3,FALSE) -> ALMW0 | D25: 21269 | E25: Koelcel | F25: Koelcel Weha ECO MTE25L7 aangesloten op MPX centraal koelaggregaat | G25: aangesloten op MPX centraal koelaggregaat | H25: 41498 | I25: Magazijn | J25: Koud Contract 1 x per jaar - 50428 | K25: (3) Redelijke staat
A26: Willem Dreesweg 16 | B26: Almere | C26: =VLOOKUP(A26,Pandcode!A:C,3,FALSE) -> ALMW0 | D26: SVZ02686 | E26: Bakplaat | F26: Drop-In Bakplaat | G26: GIGA | H26: ID30025165 | I26: 2686 Uitgifte | J26: Warm contract 1 x per jaar Inspectief - 50428 | K26: (4) Meer of minder gebreken
A27: Willem Dreesweg 16 | B27: Almere | C27: =VLOOKUP(A27,Pandcode!A:C,3,FALSE) -> ALMW0 | D27: 21249 | E27: Heteluchtoven | F27: Droging Zanussi vaatwasser Habedx/3le | G27: Habedx/3le | I27: 7117 Spoelkeuken | J27: Warm Contract 1 x per jaar preventief - 50428 | K27: (4) Meer of minder gebreken
A28: Willem Dreesweg 16 | B28: Almere | C28: =VLOOKUP(A28,Pandcode!A:C,3,FALSE) -> ALMW0 | D28: SVZ02687 | E28: Inductiekookplaat 2 zones | I28: 2687 Uitgifte | J28: Warm contract 1 x per jaar Inspectief - 50428 | K28: (4) Meer of minder gebreken
A29: Willem Dreesweg 16 | B29: Almere | C29: =VLOOKUP(A29,Pandcode!A:C,3,FALSE) -> ALMW0 | D29: SVZ07114 | E29: Oven | F29: Booster Boven 4-Plaats | G29: LEVENTI | H29: BOOSTER GNORM BOILER | I29: 7114 Uitgifte restaurant | J29: Warm Contract 1 x per jaar preventief - 50428 | K29: (4) Meer of minder gebreken
A30: Willem Dreesweg 16 | B30: Almere | C30: =VLOOKUP(A30,Pandcode!A:C,3,FALSE) -> ALMW0 | D30: SVZ07116 | E30: Oven | F30: Booster Euronorm | G30: LEVENTI | H30: ID401742 | I30: 7116 Restaurant | J30: Warm Contract 1 x per jaar preventief - 50428 | K30: (4) Meer of minder gebreken
A31: Willem Dreesweg 16 | B31: Almere | C31: =VLOOKUP(A31,Pandcode!A:C,3,FALSE) -> ALMW0 | D31: SVZ07115 | E31: Oven | F31: Booster Onder 4-Plaats | G31: LEVENTI | H31: BOOSTER GNORM BOILER | I31: Uitgifte restaurant | J31: Warm Contract 1 x per jaar preventief - 50428 | K31: (4) Meer of minder gebreken
A32: Willem Dreesweg 16 | B32: Almere | C32: =VLOOKUP(A32,Pandcode!A:C,3,FALSE) -> ALMW0 | D32: 21272 | E32: Vaatwasmachine voorlader | F32: Vaatwasmachine korvenwasser Zanussi Habedx/3le | G32: Habedx/3le | I32: Spoelkeuken | J32: Warm Contract 1 x per jaar preventief - 50428 | K32: (4) Meer of minder gebreken
A33: Willem Dreesweg 16 | B33: Almere | C33: =VLOOKUP(A33,Pandcode!A:C,3,FALSE) -> ALMW0 | D33: 21250 svz07113 | E33: Warmtebrug | F33: Warmtebrug met plaat | I33: 7113 Uitgifte | J33: Warm contract 1 x per jaar Inspectief - 50428 | K33: (4) Meer of minder gebreken
A34: Willem Dreesweg 16 | B34: Almere | C34: =VLOOKUP(A34,Pandcode!A:C,3,FALSE) -> ALMW0 | E34: NEN3140 keuring | F34: NEN 3140 Keuring alle stekkerklare apparaten | G34: MOBIL | H34: SH-MS/B VERWARMD | J34: Warm Contract 1 x per jaar preventief - 50428 | K34: NVT
A35: Chasséveld 17 | B35: Breda | C35: =VLOOKUP(A35,Pandcode!A:C,3,FALSE) -> BREC3 | D35: 21576 | E35: Diversen NTB | F35: NEN3140 keuring op 10 apparaten | J35: Warm Contract 1 x per jaar - 50437 | K35: (3) Redelijke staat
A36: Chasséveld 17 | B36: Breda | C36: =VLOOKUP(A36,Pandcode!A:C,3,FALSE) -> BREC3 | D36: SVZ02561 | E36: Bakplaat | I36: SVZ02561 Bakwand restaurant | J36: Warm en koud 1 x per jaar inspectief - 50437 | K36: (3) Redelijke staat
A37: Chasséveld 17 | B37: Breda | C37: =VLOOKUP(A37,Pandcode!A:C,3,FALSE) -> BREC3 | D37: 21578 SVZ02563 | E37: Friteuse 2-pans | I37: SVZ02563 Restaurant | J37: Warm Contract 1 x per jaar - 50437 | K37: (3) Redelijke staat
A38: Chasséveld 17 | B38: Breda | C38: =VLOOKUP(A38,Pandcode!A:C,3,FALSE) -> BREC3 | D38: 02567-UYT58056 | E38: Koelkast | F38: Foster | G38: EPROG600H | I38: UYT58056 Keuken | J38: Warm en koud 1 x per jaar inspectief - 50437 | K38: (3) Redelijke staat
A39: Chasséveld 17 | B39: Breda | C39: =VLOOKUP(A39,Pandcode!A:C,3,FALSE) -> BREC3 | D39: UYT44695 | E39: Koelvitrine | F39: Mafirol | I39: UYT44695 Uitgifte restaurant | J39: Koud Contract 1 x per jaar - 50437 | K39: (3) Redelijke staat
A40: Chasséveld 17 | B40: Breda | C40: =VLOOKUP(A40,Pandcode!A:C,3,FALSE) -> BREC3 | D40: SVZ02566-UYT58058 | E40: Koelwerkbank | F40: Gamko | I40: SVZ02566-UYT58058 Keuken | J40: Warm en koud 1 x per jaar inspectief - 50437 | K40: (3) Redelijke staat
A41: Chasséveld 17 | B41: Breda | C41: =VLOOKUP(A41,Pandcode!A:C,3,FALSE) -> BREC3 | D41: SVZ8333 | E41: Kookplaat | F41: Mareno | G41: 2-plaats | I41: SVZ8333 Keuken | J41: Warm en koud 1 x per jaar inspectief - 50437 | K41: (3) Redelijke staat
A42: Chasséveld 17 | B42: Breda | C42: =VLOOKUP(A42,Pandcode!A:C,3,FALSE) -> BREC3 | D42: SVZ02562 | E42: Kookplaat | F42: Metos | G42: OPCE-40 | I42: SVZ02562 Bakwand Restaurant | J42: Warm en koud 1 x per jaar inspectief - 50437 | K42: (3) Redelijke staat
A43: Chasséveld 17 | B43: Breda | C43: =VLOOKUP(A43,Pandcode!A:C,3,FALSE) -> BREC3 | D43: SVZ02568 | E43: Magnetron | I43: SVZ02568 Restaurant | J43: Warm en koud 1 x per jaar inspectief - 50437 | K43: (3) Redelijke staat
A44: Chasséveld 17 | B44: Breda | C44: =VLOOKUP(A44,Pandcode!A:C,3,FALSE) -> BREC3 | D44: 21586 SVZ08332 | E44: Vaatwasmachine korven of banddoortrek | F44: Korventransportmachine Winterhalter STR | I44: SVZ08332 Spoelkeuken | J44: Warm Contract 1 x per jaar - 50437 | K44: (3) Redelijke staat
A45: Chasséveld 17 | B45: Breda | C45: =VLOOKUP(A45,Pandcode!A:C,3,FALSE) -> BREC3 | D45: SVZ02564 en SVZ02565 | E45: Warmtebrug | I45: SVZ02564 - SVZ02565 Uitgifte restaurant | J45: Warm en koud 1 x per jaar inspectief - 50437 | K45: (3) Redelijke staat
A46: Chasséveld 17 | B46: Breda | C46: =VLOOKUP(A46,Pandcode!A:C,3,FALSE) -> BREC3 | D46: 21585 SVZ08289 | E46: Heteluchtoven | F46: Heteluchtoven Metos Chef 40 3751962 | G46: 3751962 | I46: SVZ08289 keuken | J46: Warm en koud 1 x per jaar inspectief - 50437 | K46: (4) Meer of minder gebreken
A47: Chasséveld 17 | B47: Breda | C47: =VLOOKUP(A47,Pandcode!A:C,3,FALSE) -> BREC3 | D47: 21579 SVZ02572-UYT26872 | E47: Koelwerkbank | F47: Koelwerkbank Fiolunox | G47: TR47 G | I47: SVZ02572-UYT26872 Restaurant | J47: Warm en koud 1 x per jaar inspectief - 50437 | K47: (4) Meer of minder gebreken
A48: Chasséveld 17 | B48: Breda | C48: =VLOOKUP(A48,Pandcode!A:C,3,FALSE) -> BREC3 | D48: 21577 SVZ08331 | E48: Waterontharder | F48: Waterontharder Lubron Softstar Classic 01010160 | G48: 1010160 | I48: SVZ08331 Spoelkeuken | J48: Warm en koud 1 x per jaar inspectief - 50437 | K48: (4) Meer of minder gebreken
A49: Magistratenlaan 156-186 | B49: Den Bosch | C49: =VLOOKUP(A49,Pandcode!A:C,3,FALSE) -> DENM0 | D49: 21602 | E49: Combisteamer Rational | F49: Combisteamer Rational CMP61 6 x 1/1 GN E61MI18022649019 | G49: E61MI18022649019 | I49: Keuken | J49: Warm Contract preventief 1 x per jaar - 50438 | K49: (3) Redelijke staat
A50: Magistratenlaan 156-186 | B50: Den Bosch | C50: =VLOOKUP(A50,Pandcode!A:C,3,FALSE) -> DENM0 | E50: Warmhoudvitrine | F50: AKE | G50: NBK | I50: Uitgifte kantine | J50: Warm Contract preventief 1 x per jaar - 50438 | K50: (3) Redelijke staat
A51: Platinaweg 10 | B51: Den Haag | C51: =VLOOKUP(A51,Pandcode!A:C,3,FALSE) -> DENP1 | D51: 8302 | E51: Magnetron | F51: Whirpool | J51: Warm en koud 1 x per jaar inspectief - 50433 | K51: (1) Nieuw , geen gebruikerssporen
A52: Platinaweg 10 | B52: Den Haag | C52: =VLOOKUP(A52,Pandcode!A:C,3,FALSE) -> DENP1 | D52: 8287 | E52: Vrieskast | F52: Angelo Po | G52: EF15B | J52: Warm en koud 1 x per jaar inspectief - 50433 | K52: (1) Nieuw , geen gebruikerssporen
A53: Platinaweg 10 | B53: Den Haag | C53: =VLOOKUP(A53,Pandcode!A:C,3,FALSE) -> DENP1 | E53: Aanvoertafel | F53: Aanvoertafel spoelbak handdouche | G53: CATERTECH | H53: AANVOERTAFEL MET SPO | I53: Spoelkeuken | J53: Warm en koud 1 x per jaar inspectief - 50433 | K53: (3) Redelijke staat
A54: Platinaweg 10 | B54: Den Haag | C54: =VLOOKUP(A54,Pandcode!A:C,3,FALSE) -> DENP1 | D54: SVZ00914 | E54: Afzuigkap | F54: Afzuigkap (alleen nazien verlichting en reinigen filters) | G54: NU-AIR | H54: DMD | I54: SVZ00914 Restaurant | J54: Warm en koud 1 x per jaar inspectief - 50433 | K54: (3) Redelijke staat
A55: Platinaweg 10 | B55: Den Haag | C55: =VLOOKUP(A55,Pandcode!A:C,3,FALSE) -> DENP1 | D55: SVZ00918 | E55: Bainmarie | F55: Bain marie met WHB | G55: CATERTECH | H55: CTU-ICPO-0823SI | I55: SVZ00918 Uitgifte restaurant | J55: Warm en koud 1 x per jaar inspectief - 50433 | K55: (3) Redelijke staat
A56: Platinaweg 10 | B56: Den Haag | C56: =VLOOKUP(A56,Pandcode!A:C,3,FALSE) -> DENP1 | E56: Bladmengkraan | F56: Meubel met spoelbak en kraan | J56: Warm en koud 1 x per jaar inspectief - 50433 | K56: (3) Redelijke staat
A57: Platinaweg 10 | B57: Den Haag | C57: =VLOOKUP(A57,Pandcode!A:C,3,FALSE) -> DENP1 | D57: SVZ08285 | E57: Bordenlowerator onverwarmd | F57: bordenlowerator | G57: MOBIL | H57: DFR 240 | I57: SVZ08285 Uitgifte restaurant | J57: Warm en koud 1 x per jaar inspectief - 50433 | K57: (3) Redelijke staat
A58: Platinaweg 10 | B58: Den Haag | C58: =VLOOKUP(A58,Pandcode!A:C,3,FALSE) -> DENP1 | D58: SVZ08286 | E58: Dienbladen lowerator | F58: Dienbladenlowerator | G58: MOBIL | H58: FOR-C/D | I58: SVZ08286 Uitgifte restaurant | J58: Warm en koud 1 x per jaar inspectief - 50433 | K58: (3) Redelijke staat
A59: Platinaweg 10 | B59: Den Haag | C59: =VLOOKUP(A59,Pandcode!A:C,3,FALSE) -> DENP1 | D59: 21524 SVZ00915 | E59: Friteuse electrisch 1-pans | F59: Friteuse met frymaster computer catertech CTB-7FRI/E415 | I59: SVZ00915 Restaurant | J59: Warm Contract preventief 1 x per jaar - 50433 | K59: (3) Redelijke staat
A60: Platinaweg 10 | B60: Den Haag | C60: =VLOOKUP(A60,Pandcode!A:C,3,FALSE) -> DENP1 | D60: SVZ00922 | E60: Handenwasbak | F60: HANDENWASBAK | G60: CATERTECH | H60: CTW-LMASW | I60: SVZ00922 Spoelkeuken | J60: Warm en koud 1 x per jaar inspectief - 50433 | K60: (3) Redelijke staat
A61: Platinaweg 10 | B61: Den Haag | C61: =VLOOKUP(A61,Pandcode!A:C,3,FALSE) -> DENP1 | D61: SVZ00921 | E61: Handenwasbak | F61: HANDENWASBAK | G61: CATERTECH | H61: CTW-LMASW | I61: SVZ00921 Restaurant | J61: Warm en koud 1 x per jaar inspectief - 50433 | K61: (3) Redelijke staat
A62: Platinaweg 10 | B62: Den Haag | C62: =VLOOKUP(A62,Pandcode!A:C,3,FALSE) -> DENP1 | D62: SVZ00923-UYT50610 | E62: Koelkast | F62: Koelkast | G62: CATERTECH | H62: CN8-142-PP+LC | I62: SVZ00923-UYT50610 Magazijn restaurant | J62: Warm en koud 1 x per jaar inspectief - 50433 | K62: (3) Redelijke staat
A63: Platinaweg 10 | B63: Den Haag | C63: =VLOOKUP(A63,Pandcode!A:C,3,FALSE) -> DENP1 | D63: 21525-SVZ00920/UYT56257 | E63: Koelwerkbank | F63: Koelwerkbank Catertech MK7-137-PP | I63: SVZ00919/UYT56257 Uitgifte restaurant | J63: Koud Contract 1 x per jaar - 50433 | K63: (3) Redelijke staat
A64: Platinaweg 10 | B64: Den Haag | C64: =VLOOKUP(A64,Pandcode!A:C,3,FALSE) -> DENP1 | D64: 21523 SVZ08299 | E64: Koffiezetapparaat klein | F64: Koffiezetapparaat Animo MT202W | I64: SVZ08299 Restaurant | J64: Warm Contract preventief 1 x per jaar - 50433 | K64: (3) Redelijke staat
A65: Platinaweg 10 | B65: Den Haag | C65: =VLOOKUP(A65,Pandcode!A:C,3,FALSE) -> DENP1 | D65: SVZ00916 | E65: Kookplaat | F65: Kookplaat Catertech | G65: CATERTECH | H65: CTB-7PCVP/E400 | I65: SVZ00916 Restaurant | J65: Warm en koud 1 x per jaar inspectief - 50433 | K65: (3) Redelijke staat
A66: Platinaweg 10 | B66: Den Haag | C66: =VLOOKUP(A66,Pandcode!A:C,3,FALSE) -> DENP1 | D66: SVZ08301 | E66: Toaster | F66: Toaster | G66: MILAN | H66: 700X | I66: SVZ08301 Magazijn restaurant | J66: Warm en koud 1 x per jaar inspectief - 50433 | K66: (3) Redelijke staat
A67: Platinaweg 10 | B67: Den Haag | C67: =VLOOKUP(A67,Pandcode!A:C,3,FALSE) -> DENP1 | D67: SVZ00928 | E67: Toaster | F67: Toaster | G67: CATERCHEF | H67: NB | I67: SVZ00928 Uitgifte restaurant | J67: Warm en koud 1 x per jaar inspectief - 50433 | K67: (3) Redelijke staat
A68: Platinaweg 10 | B68: Den Haag | C68: =VLOOKUP(A68,Pandcode!A:C,3,FALSE) -> DENP1 | D68: SVZ02713 | E68: Vaatwasmachine voorlader | F68: Vaatwasmaschine | G68: CATERTECH | H68: CTV-DS111ERC/CRC | I68: SVZ02713 Spoelkeuken | J68: Warm Contract preventief 1 x per jaar - 50433 | K68: (3) Redelijke staat
A69: Platinaweg 10 | B69: Den Haag | C69: =VLOOKUP(A69,Pandcode!A:C,3,FALSE) -> DENP1 | D69: SVZ00926-UYT58054 | E69: Vrieskast | F69: Vrieskast | G69: GRAM | H69: PLUS F600RSH4N | I69: SVZ00926-UYT58054 Magazijn restaurant | J69: Warm en koud 1 x per jaar inspectief - 50433 | K69: (3) Redelijke staat
A70: Platinaweg 10 | B70: Den Haag | C70: =VLOOKUP(A70,Pandcode!A:C,3,FALSE) -> DENP1 | D70: 21526 SVZ00919 /UYT42314 | E70: Wandkoeling | F70: Wandkoeling Groku 41969 | I70: SVZ00919 /UYT42314 Uitgifte Restaurant | J70: Koud Contract 1 x per jaar - 50433 | K70: (3) Redelijke staat
A71: Platinaweg 10 | B71: Den Haag | C71: =VLOOKUP(A71,Pandcode!A:C,3,FALSE) -> DENP1 | D71: SVZ00927 | E71: Warmhoudplaat | F71: WARMHOUDPLAAT MET LAMP | G71: GROKU | H71: HG/WP | I71: SVZ00927 Uitgifte restaurant | J71: Warm en koud 1 x per jaar inspectief - 50433 | K71: (3) Redelijke staat
A72: Platinaweg 10 | B72: Den Haag | C72: =VLOOKUP(A72,Pandcode!A:C,3,FALSE) -> DENP1 | D72: 21521 SVZ08288 | E72: Waterontharder | F72: Waterontharder Lubron Miniline | I72: SVZ08288 Spoelkeuken | J72: Warm en koud 1 x per jaar inspectief - 50433 | K72: (3) Redelijke staat
A73: Platinaweg 10 | B73: Den Haag | C73: =VLOOKUP(A73,Pandcode!A:C,3,FALSE) -> DENP1 | D73: NEN3140 | E73: NEN3140 keuring | F73: NEN 3140 Keuring alle stekkerklare apparaten | J73: Warm Contract preventief 1 x per jaar - 50433 | K73: NVT
A74: Verheeskade 25 | B74: Den Haag | C74: =VLOOKUP(A74,Pandcode!A:C,3,FALSE) -> DENV2 | D74: 21472-58249 | E74: Centraal koelsysteem | F74: Koelmotor Copeland | I74: 4e etage | J74: Koud Contract 1 x per jaar - 50431 | K74: (2) Lichte gebruikerssporen
A75: Verheeskade 25 | B75: Den Haag | C75: =VLOOKUP(A75,Pandcode!A:C,3,FALSE) -> DENV2 | D75: 21456-48512 | E75: Koelvitrine | F75: Gekoelde vitrine Groku KV-1200 | G75: WLKSC12VLT | I75: 1e etage | J75: Koud Contract 1 x per jaar - 50431 | K75: (2) Lichte gebruikerssporen
A76: Verheeskade 25 | B76: Den Haag | C76: =VLOOKUP(A76,Pandcode!A:C,3,FALSE) -> DENV2 | D76: 58270 | E76: Koelwerkbank | F76: Werkbank - koel onder HLO | G76: GROKU | H76: 2X DEUR 3X LADE | I76: 1E ETAGE | J76: Koud Contract 1 x per jaar - 50431 | K76: (2) Lichte gebruikerssporen
A77: Verheeskade 25 | B77: Den Haag | C77: =VLOOKUP(A77,Pandcode!A:C,3,FALSE) -> DENV2 | D77: 58271 | E77: Koelwerkbank | F77: Werkbank - koel onder Steamer | G77: GROKU | H77: 3X DEUR 3X LADE | I77: 1E ETAGE | J77: Koud Contract 1 x per jaar - 50431 | K77: (2) Lichte gebruikerssporen
A78: Verheeskade 25 | B78: Den Haag | C78: =VLOOKUP(A78,Pandcode!A:C,3,FALSE) -> DENV2 | D78: 58272 | E78: Koelwerkbank | F78: Werkbank - koel onder werkblad | G78: GROKU | H78: 3X DEUR 3X LADE | I78: 1E ETAGE | J78: Koud Contract 1 x per jaar - 50431 | K78: (2) Lichte gebruikerssporen
A79: Verheeskade 25 | B79: Den Haag | C79: =VLOOKUP(A79,Pandcode!A:C,3,FALSE) -> DENV2 | D79: 21469-58248 | E79: Koelwerkbank | F79: Koelwerkbank Groku 6 x lade | I79: 1e etage | J79: Koud Contract 1 x per jaar - 50431 | K79: (2) Lichte gebruikerssporen
A80: Verheeskade 25 | B80: Den Haag | C80: =VLOOKUP(A80,Pandcode!A:C,3,FALSE) -> DENV2 | D80: 46007 / 04988 | E80: Vrieswerkbank | F80: Vrieswerkbank meest rechtse | G80: GROKU | H80: 6X LADE 1 DEUR | I80: 1E ETAGE | J80: Koud Contract 1 x per jaar - 50431 | K80: (2) Lichte gebruikerssporen
A81: Verheeskade 25 | B81: Den Haag | C81: =VLOOKUP(A81,Pandcode!A:C,3,FALSE) -> DENV2 | D81: 21468-58269 | E81: Wandkoeling | F81: Wandkoeling Groku | I81: 1e etage | J81: Koud Contract 1 x per jaar - 50431 | K81: (2) Lichte gebruikerssporen
A82: Verheeskade 25 | B82: Den Haag | C82: =VLOOKUP(A82,Pandcode!A:C,3,FALSE) -> DENV2 | D82: SVZ07987 | E82: Waterontharder | F82: Lubron Proline | J82: Warm en koud 1 x per jaar inspectief - 50431 | K82: (2) Lichte gebruikerssporen
A83: Verheeskade 25 | B83: Den Haag | C83: =VLOOKUP(A83,Pandcode!A:C,3,FALSE) -> DENV2 | D83: 5000 | E83: Afzuigkap | F83: Afzuigkap (alleen nazien verlichting en reinigen filters) | G83: VIANEN | I83: Restaurant boven vrieskast | J83: Warm en koud 1 x per jaar inspectief - 50431 | K83: (3) Redelijke staat
A84: Verheeskade 25 | B84: Den Haag | C84: =VLOOKUP(A84,Pandcode!A:C,3,FALSE) -> DENV2 | D84: 5001 | E84: Afzuigkap | F84: Afzuigkap (alleen nazien verlichting en reinigen filters) | G84: VIANEN | I84: Uitgifte restaurant | J84: Warm en koud 1 x per jaar inspectief - 50431 | K84: (3) Redelijke staat
A85: Verheeskade 25 | B85: Den Haag | C85: =VLOOKUP(A85,Pandcode!A:C,3,FALSE) -> DENV2 | D85: 5002 | E85: Afzuigkap | F85: Afzuigkap (alleen nazien verlichting en reinigen filters) | G85: VIANEN | I85: Restaurant boven oven | J85: Warm en koud 1 x per jaar inspectief - 50431 | K85: (3) Redelijke staat
A86: Verheeskade 25 | B86: Den Haag | C86: =VLOOKUP(A86,Pandcode!A:C,3,FALSE) -> DENV2 | D86: SVZ04999 | E86: Afzuigkap | F86: Wasemkap Hobeka (alleen nazien verlichting en reinigen filters) | G86: VIANEN | I86: Spoelkeuken | J86: Warm en koud 1 x per jaar inspectief - 50431 | K86: (3) Redelijke staat
A87: Verheeskade 25 | B87: Den Haag | C87: =VLOOKUP(A87,Pandcode!A:C,3,FALSE) -> DENV2 | D87: 4991 | E87: Handdouche | F87: Werkblad met Spoeldouche T&S | I87: Spoelkeuken | J87: Warm Contract 1 x per jaar preventief - 50431 | K87: (3) Redelijke staat
A88: Verheeskade 25 | B88: Den Haag | C88: =VLOOKUP(A88,Pandcode!A:C,3,FALSE) -> DENV2 | D88: SVZ04998 | E88: Bainmarie | F88: Bainmarie | G88: BLANCO | H88: 1X1/1GN | I88: SVZ04998 Uitgifte restaurant | J88: Warm Contract 1 x per jaar preventief - 50431 | K88: (3) Redelijke staat
A89: Verheeskade 25 | B89: Den Haag | C89: =VLOOKUP(A89,Pandcode!A:C,3,FALSE) -> DENV2 | D89: SVZ04997 | E89: Bakplaat | F89: Bakplaat | G89: CATERTECH | H89: 6NFT/E400L | I89: SVZ04997 Uitgifte restaurant | J89: Warm en koud 1 x per jaar inspectief - 50431 | K89: (3) Redelijke staat
A90: Verheeskade 25 | B90: Den Haag | C90: =VLOOKUP(A90,Pandcode!A:C,3,FALSE) -> DENV2 | D90: 21461 SVZ04996 | E90: Friteuse electrisch 1-pans | F90: Friteuse electrisch 1-pans Catertech 6NFR/E400R | I90: SVZ04996 Uitgifte restaurant | J90: Warm Contract 1 x per jaar preventief - 50431 | K90: (3) Redelijke staat
A91: Verheeskade 25 | B91: Den Haag | C91: =VLOOKUP(A91,Pandcode!A:C,3,FALSE) -> DENV2 | D91: 21475 SVZ07189 | E91: Heteluchtoven | F91: Heteluchtoven Culion BTC5205U | I91: SVZ07189 Restaurant | J91: Warm Contract 1 x per jaar preventief - 50431 | K91: (3) Redelijke staat
A92: Verheeskade 25 | B92: Den Haag | C92: =VLOOKUP(A92,Pandcode!A:C,3,FALSE) -> DENV2 | D92: 04994 SVZ08300 | E92: Inductiefornuis 2-zones | I92: SVZ08300 Restaurant | J92: Warm Contract 1 x per jaar preventief - 50431 | K92: (3) Redelijke staat
A93: Verheeskade 25 | B93: Den Haag | C93: =VLOOKUP(A93,Pandcode!A:C,3,FALSE) -> DENV2 | D93: SVZ04995 | E93: Inductiewok | F93: Wok Inductie | G93: CATERTECH | H93: 6NPC/WOK411 | I93: SVZ04995 Uitgifte restaurant | J93: Warm en koud 1 x per jaar inspectief - 50431 | K93: (3) Redelijke staat
A94: Verheeskade 25 | B94: Den Haag | C94: =VLOOKUP(A94,Pandcode!A:C,3,FALSE) -> DENV2 | D94: SVZ 04990-UYT58268 | E94: Koelkast | F94: Koelkast dubbeldeurs | G94: GRAM | I94: SVZ04990 Restaurant | J94: Warm en koud 1 x per jaar inspectief - 50431 | K94: (3) Redelijke staat
A95: Verheeskade 25 | B95: Den Haag | C95: =VLOOKUP(A95,Pandcode!A:C,3,FALSE) -> DENV2 | D95: 21460 SVZ7188 | E95: Koffiezetapparaat klein | F95: Koffiezetapparaat Bravilor Mondo 2 MND2-021 | G95: MND2-021 | I95: SVZ7188 restaurant | J95: Warm Contract 1 x per jaar preventief - 50431 | K95: (3) Redelijke staat
A96: Verheeskade 25 | B96: Den Haag | C96: =VLOOKUP(A96,Pandcode!A:C,3,FALSE) -> DENV2 | D96: 21478 | E96: Steamer | F96: Steamer Carbin 64 EX VAPOR 6 plaats | I96: Restaurant | J96: Warm Contract 1 x per jaar preventief - 50431 | K96: (3) Redelijke staat
A97: Verheeskade 25 | B97: Den Haag | C97: =VLOOKUP(A97,Pandcode!A:C,3,FALSE) -> DENV2 | D97: 21477 | E97: Vaatwasmachine doorschuiver | F97: Vaatwasmachine doorschuiver Winterhalter GS502 Energy + | I97: SVZ08284 Spoelkeuken | J97: Warm Contract 1 x per jaar preventief - 50431 | K97: (3) Redelijke staat
A98: Verheeskade 25 | B98: Den Haag | C98: =VLOOKUP(A98,Pandcode!A:C,3,FALSE) -> DENV2 | D98: UYT46011 /SVZ04989 | E98: Vrieskast | F98: Vrieskast enkeldeurs | G98: GRAM | H98: PLUS | I98: UYT46011 Keuken | J98: Warm en koud 1 x per jaar inspectief - 50431 | K98: (3) Redelijke staat
A99: Verheeskade 25 | B99: Den Haag | C99: =VLOOKUP(A99,Pandcode!A:C,3,FALSE) -> DENV2 | D99: 21454 SVZ07191 | E99: Warmhoudplaat | F99: Warmhoudplaat met 2x warmtestralers halogeen Groku 2x1/1 GN | I99: SVZ07191 Uitgifte restaurant | J99: Warm en koud 1 x per jaar inspectief - 50431 | K99: (3) Redelijke staat
A100: Verheeskade 25 | B100: Den Haag | C100: =VLOOKUP(A100,Pandcode!A:C,3,FALSE) -> DENV2 | D100: SVZ04993 | E100: Warmhoudplaat | F100: Warmhoudplaat | G100: GROKU | H100: NB | I100: SVZ04993 Uitgifte restaurant | J100: Warm en koud 1 x per jaar inspectief - 50431 | K100: (3) Redelijke staat
...

Sheet GROS0
A1: UWV GROS0 Stationsweg Groningen
A3: ID-nummer | B3: Groep | C3: Type | D3: Merk | E3: Type | F3: Serienummer | G3: Locatie | H3: Bouwjaar | I3: Laatste onderhoud | J3: NEN keuring | K3: Status 2019 | L3: Status 2020 | M3: Status 2021 | N3: Status 2022 | O3: Status 2023 | P3: Bijzonderheden
A4: C00.192 | B4: OVERIG | C4: BLENDER | D4: HENDI | E4: 230718 | F4: HK054021-230718-000797 | G4: KEUKEN 4E ETAGE | H4: 44197 | I4: 45071 | J4: Ja | N4: 1 | O4: 2
A5: C00.762 | B5: MAGNETRON | C5: MAGNETRON | D5: CATERCHEF | E5: 668210 | G5: RESTAURANT 4E VERDIEPING | H5: 43831 | I5: 45071 | J5: Ja | L5: - | M5: 3 | N5: 3 | O5: 3
A6: C02.206 | B6: WARMHOUD APPARAAT | C6: WARMHOUDPLAAT | D6: UBERT | E6: AK-2 | F6: 2-0315-3745 | G6: KEUKEN/KANTINE 5E ET | H6: 42171 | I6: 45071 | J6: Ja | L6: 3 | M6: 3 | N6: 3 | O6: 3 | P6: Afkomstig van locatie Tesselschadestraat.
A7: C02.207 | B7: WARMHOUD APPARAAT | C7: HOTPOT | D7: DUALIT | E7: 70004 | F7: 2001.09/6/B | G7: RESTAURANT | H7: 36892 | I7: 45071 | J7: Ja | L7: 3 | M7: 3 | N7: 3 | O7: 3
A8: C02.208 | B8: WARMHOUD APPARAAT | C8: WARMHOUDPLAAT | D8: SCOTT CERAN | G8: RESTAURANT | I8: 45071 | J8: Ja | L8: 3 | M8: 3 | N8: 3 | O8: 3
A9: C02.209 | B9: WARMHOUD APPARAAT | C9: WARMHOUDPLAAT | D9: SCOTT CERAN | G9: RESTAURANT | I9: 45071 | J9: Ja | L9: 3 | M9: 3 | N9: 3 | O9: 3
A10: C02.210 | B10: FRITEUSE | C10: ELECTRISCHE FRITEUSE | D10: MARENO | E10: DUBBEL DROP INN | G10: RESTAURANT | I10: 45071 | J10: Ja | L10: 3 | M10: 3 | N10: 3 | O10: 3
A11: C02.232 | B11: GRILL | C11: BAKPLAAT | D11: GIGA | E11: L1W | F11: 536006046 | G11: RESTAURANT | I11: 45071 | J11: Ja | L11: 3 | M11: 3 | N11: 3 | O11: 3
A12: C02.233 | B12: KOOKTOESTEL | C12: INDUCTIEPLAAT | D12: GIGA | E12: INTRO | F12: IGQ 3AC | G12: RESTAURANT | I12: 45071 | J12: Ja | L12: 3 | M12: 3 | N12: 3 | O12: 3
A13: C02.234 | B13: WARMHOUD APPARAAT | C13: LOWERATOR | D13: MOBILE CONTAINING | E13: SH-MS/B | F13: 114205 | G13: RESTAURANT | H13: 38353 | I13: 45071 | J13: Ja | L13: 3 | M13: 3 | N13: 3 | O13: 3
A14: C02.242 | B14: GRILL | C14: KLAPGRILL | D14: CATERCHEF | E14: 688425 | F14: C010011 | G14: RESTAURANT | H14: 39995 | I14: 45071 | J14: Ja | L14: 3 | M14: 3 | N14: 3 | O14: 3
A15: C02.243 | B15: WARMHOUD APPARAAT | C15: WARMHOUDPLAAT | D15: GROKU | E15: 45364-101/A HG/WP | F15: 45364-101/A | G15: KEUKEN/KANTINE 5E ET | H15: 42171 | I15: 45071 | J15: Ja | L15: 3 | M15: 3 | N15: 3 | O15: 3 | P15: Afkomstig van locatie Tesselschadestraat.
A16: C02.244 | B16: WARMHOUD APPARAAT | C16: WARMHOUDVITRINE | D16: AKE IDEAL | G16: RESTAURANT | I16: 45071 | J16: Ja | L16: 3 | M16: 3 | N16: 3 | O16: 3
A17: C02.245 | B17: WARMHOUD APPARAAT | C17: LOWERATOR | D17: MOBILE CONTAINING | E17: THN-MS 240 | F17: 114167 | G17: RESTAURANT | H17: 38353 | I17: 45071 | J17: Ja | L17: 6 | M17: 6 | N17: 6 | O17: 6 | P17: Nen afgekeurd, elementen niet in orde. Klant gebruikt apparaat niet verwarmd.
A18: C02.251 | B18: VAATWASMACHINE | C18: KORVENMACHINE | D18: HOBART | E18: CS E-A | F18: 864301181 | G18: SPOELKEUKEN 4E VERDIEPING | H18: 43831 | I18: 45071 | J18: Nee | L18: - | M18: 3 | N18: 3 | O18: 3 | P18: Vaste aansluiting / stekker niet bereikbaar.
A19: C02.252 | B19: VAATWASMACHINE | C19: WATERONTHARDER | D19: LUBRON | E19: COMPACT C110 | F19: 050901LV02 | G19: TECHNISCHE RUIMTE 7E ETAGE | H19: 38596 | I19: 45071 | J19: Nee | L19: - | M19: 4 | N19: 4 | O19: 4
A20: C02.253 | B20: WARMHOUD APPARAAT | C20: LOWERATOR | D20: MOBILE CONTAINING | E20: THN-MS240 | F20: 114207 | G20: RESTAURANT | H20: 38353 | I20: 45071 | J20: Ja | L20: 3 | M20: 3 | N20: 3 | O20: 3
A21: C05.491 | B21: KOEL/VRIESAPPARAAT | C21: KOELBUFFET | D21: GAMKO | E21: 9M/212ST. 214314D | F21: 2005342300718 | G21: KOFFIE CORNER | H21: 38353 | I21: 45028 | J21: Nee | K21: 2 | L21: 2 | M21: 2 | N21: 2 | P21: Vaste aansluiting / stekker niet bereikbaar. / Wordt niet gebruikt. Groep is uitgeschakeld.
A22: C05.492 | B22: KOEL/VRIESAPPARAAT | C22: KOELCEL | E22: ECO MTE24L7 | F22: 165448 | G22: RESTAURANT KEUKEN | H22: 38353 | I22: 45028 | J22: Nee | K22: 2 | L22: 2 | M22: 2 | N22: 2 | O22: 3 | P22: Vaste aansluiting / stekker niet bereikbaar.
A23: C05.493 | B23: KOEL/VRIESAPPARAAT | C23: VRIESCEL | E23: TFH248072 | F23: 165448-6 | G23: RESTAURANT KEUKEN | H23: 36526 | I23: 45028 | J23: Nee | K23: 2 | L23: 2 | M23: 2 | N23: 2 | O23: 4 | P23: Vaste aansluiting / stekker niet bereikbaar.
A24: C05.494 | B24: KOEL/VRIESAPPARAAT | C24: MPX KOEL | D24: COPELAND | E24: OMQ-30 TFD | G24: DAK RESTAURANT | H24: 38353 | I24: 45028 | J24: Nee | K24: 2 | L24: 2 | M24: 2 | N24: 2 | O24: 5 | P24: Vaste aansluiting / stekker niet bereikbaar. /19-05 offerte gestuurd. Geen reactie.
A25: C05.495 | B25: KOEL/VRIESAPPARAAT | C25: OPZETVITRINE | D25: PROFINOX | E25: VRX1600-PR330 | F25: 511228 | G25: 4E ETAGE | H25: 38353 | I25: 45028 | J25: Nee | K25: 2 | L25: 2 | M25: 2 | N25: 2 | O25: 3 | P25: Vaste aansluiting / stekker niet bereikbaar.
A26: C05.496 | B26: KOEL/VRIESAPPARAAT | C26: VITRINE | D26: AKE IDEAL | E26: BRILLANT GE 3/1 -70-Z | F26: 256661 | G26: KOFFIE CORNER | H26: 36526 | I26: 45028 | J26: Nee | K26: 2 | L26: 2 | M26: 2 | N26: 2 | O26: 3 | P26: Vaste aansluiting / stekker niet bereikbaar.
A27: C05.497 | B27: KOEL/VRIESAPPARAAT | C27: VITRINE | D27: AKE IDEAL | E27: BRILLANT O-4/1-70-Z | F27: 256637 | G27: RESTAURANT ZELFBEDIENING | H27: 36526 | I27: 45028 | J27: Nee | K27: 2 | L27: 2 | M27: 2 | N27: 2 | O27: 3 | P27: Vaste aansluiting / stekker niet bereikbaar.
A28: C06.841 | B28: KOEL/VRIESAPPARAAT | C28: VITRINE | D28: AKE IDEAL | E28: BRILLANT O-4/1-70-Z | F28: 256638 | G28: RESTAURANT ZELFBEDIENING | H28: 36526 | I28: 45028 | J28: Nee | K28: 2 | L28: 2 | M28: 2 | N28: 2 | O28: 3 | P28: Vaste aansluiting / stekker niet bereikbaar.
A29: C06.842 | B29: KOEL/VRIESAPPARAAT | C29: KOELWERKBANK | D29: ZANUSSI | E29: TRRN132C | F29: 53900001 | G29: RESTAURANT ZELFBEDIENING | H29: 36526 | I29: 45028 | J29: Nee | K29: 2 | L29: 2 | M29: 2 | N29: 2 | O29: 3 | P29: Vaste aansluiting / stekker niet bereikbaar.
A30: C06.843 | B30: KOEL/VRIESAPPARAAT | C30: INBOUWBAK | D30: AKE IDEAL | E30: SPLIT | G30: RESTAURANT ZELFBEDIENING | H30: 36526 | I30: 45028 | J30: Nee | K30: 2 | L30: 2 | M30: 2 | N30: 2 | O30: 3 | P30: Vaste aansluiting / stekker niet bereikbaar.
A31: C06.844 | B31: KOEL/VRIESAPPARAAT | C31: KOELWERKBANK | D31: ZANUSSI | E31: TRRN183A | F31: 51100001 | G31: RESTAURANT ZELFBEDIENING | H31: 38718 | I31: 45028 | J31: Nee | K31: 2 | L31: 2 | M31: 2 | N31: 2 | O31: 3 | P31: Vaste aansluiting / stekker niet bereikbaar.
A32: C06.845 | B32: KOEL/VRIESAPPARAAT | C32: KOELWERKBANK | D32: ADM | E32: IJSKOUD | F32: 1654485A | G32: RESTAURANT ZELFBEDIENING | H32: 36526 | I32: 45028 | J32: Nee | K32: 2 | L32: 2 | M32: 2 | N32: 2 | O32: 3 | P32: Vaste aansluiting / stekker niet bereikbaar.
A33: C05.498 | B33: KOEL/VRIESAPPARAAT | C33: KOELWERKBANK | D33: ADM | E33: IJSKOUD | F33: 1654485B | G33: RESTAURANT ZELFBEDIENING | H33: 36526 | I33: 45028 | J33: Nee | K33: 2 | L33: 2 | M33: 2 | N33: 2 | O33: 3 | P33: Vaste aansluiting / stekker niet bereikbaar.
A34: C05.499 | B34: KOEL/VRIESAPPARAAT | C34: INBOUWBAK | D34: AKE IDEAL | E34: SPLIT | G34: RESTAURANT ZELFBEDIENING | H34: 36526 | I34: 45028 | J34: Nee | K34: 2 | L34: 2 | M34: 2 | N34: 2 | O34: 3 | P34: Vaste aansluiting / stekker niet bereikbaar.
A35: C05.500 | B35: KOEL/VRIESAPPARAAT | C35: SCHILFERIJSMACHINE | D35: HOSHIZAKI | G35: MAGAZIJN 4.C33 | H35: 42370 | I35: 45028 | J35: Nee | K35: 2 | L35: 2 | M35: 2 | N35: 2 | O35: 3 | P35: Vaste aansluiting / stekker niet bereikbaar.

Sheet AMSG2
A1: UWV AMSG2 La Guardiaweg Amsterdam
A3: ID-nummer | B3: Groep | C3: Type | D3: Merk | E3: Type | F3: Serienummer | G3: Locatie | H3: Bouwjaar | I3: Laatste onderhoud | J3: NEN keuring | K3: Status 2019 | L3: Status 2020 | M3: Status 2021 | N3: Status 2022 | O3: Status 2023 | P3: Bijzonderheden
A4: C00.836 | B4: WARMHOUD APPARAAT | C4: LOWERATOR | D4: MOBILECONTAINING | E4: DDR 2X240 ONVERWARMD | H4: 40909 | I4: 45012 | J4: N.v.t. | L4: 3 | M4: 3 | N4: 3 | O4: 3
A5: C00.837 | B5: WARMHOUD APPARAAT | C5: LOWERATOR | D5: MOBILE CONTAINING | E5: DFR 460/360 ONVERWARMD | F5: 167042 | G5: UITGIFTE | H5: 40909 | I5: 45012 | J5: N.v.t. | L5: 3 | M5: 3 | N5: 3 | O5: 3
A6: C00.838 | B6: WARMHOUD APPARAAT | C6: LOWERATOR | D6: MOBILE CONTAINING | E6: DFR 460/360 ONVERWARMD | F6: 167043 | G6: UITGIFTE | H6: 40909 | I6: 45012 | J6: N.v.t. | L6: 3 | M6: 3 | N6: 3 | O6: 3
A7: C00.839 | B7: WARMHOUD APPARAAT | C7: LOWERATOR | D7: MOBILE CONTAINING | E7: DFR 2 X 240 ONVERWARMD | F7: 167054 | G7: UITGIFTE | H7: 40909 | I7: 45012 | J7: N.v.t. | L7: 3 | M7: 3 | N7: 3 | O7: 3
A8: C00.840 | B8: WARMHOUD APPARAAT | C8: LOWERATOR | D8: MOBILECONTAINING | E8: DFR 460/360 ONVERWARMD | F8: 167039 | G8: UITGIFTE | H8: 40909 | I8: 45012 | J8: N.v.t. | L8: 3 | M8: 3 | N8: 3 | O8: 3
A9: C00.841 | B9: KOOKTOESTEL | C9: KOOKKETEL | D9: MKN | E9: 2022804B05 | G9: KEUKEN (RECHTER) | I9: 45012 | J9: Nee | L9: 4 | M9: 4 | N9: 4 | O9: 3 | P9: Vaste aansluiting / stekker niet bereikbaar.
A10: C00.842 | B10: KOOKTOESTEL | C10: KOOKKETEL | D10: MKN | E10: 2022804B05 | G10: KEUKEN (LINKER) | I10: 45012 | J10: Nee | L10: 4 | M10: 4 | N10: 4 | O10: 3 | P10: Vaste aansluiting / stekker niet bereikbaar.
A11: C00.843 | B11: GRILL | C11: BRAADSLEDE | D11: MKN | E11: KANTELBAAR | G11: BEREIDING KEUKEN | I11: 45012 | J11: Nee | L11: 4 | M11: 4 | N11: 4 | O11: 3 | P11: Vaste aansluiting / stekker niet bereikbaar.
A12: C00.844 | B12: COMBI STEAMER | C12: COMBI STEAMER | D12: METOS RATIONAL | E12: CPCM101 | F12: E11CD03061092395 | G12: KEUKEN | H12: 38718 | I12: 45012 | J12: Ja | L12: 5 | M12: 5 | N12: 4 | O12: 3
A13: C00.845 | B13: COMBI STEAMER | C13: COMBI STEAMER | D13: METOS RATIONAL | E13: CPCM10 | F13: E11CC03061092443 | G13: TOREN C 2E ETAGE | H13: 37773 | I13: 45012 | L13: 5 | M13: 5 | N13: 4 | O13: 3
A14: C00.846 | B14: FRITEUSE | C14: ELECTRISCHE FRITEUSE | D14: PITCO | E14: E14S-HHL0V | F14: E01KD031700 | G14: UITGIFTE LINKS | I14: 45012 | J14: Ja | L14: 4 | M14: 4 | N14: 4 | O14: 3
A15: C00.847 | B15: FRITEUSE | C15: ELECTRISCHE FRITEUSE | D15: PITCO | E15: E14S-HH0V | F15: E03GB024495 | G15: UITGIFTE MIDDEN | I15: 45012 | J15: Ja | L15: 4 | M15: 4 | N15: 4 | O15: 3
A16: C00.848 | B16: FRITEUSE | C16: ELECTRISCHE FRITEUSE | D16: PITCO | E16: E14S-HH0V | F16: E03GB024496 | G16: UITGIFTE RECHTS | I16: 45012 | J16: Ja | L16: 4 | M16: 4 | N16: 4 | O16: 3
A17: C00.849 | B17: GRILL | C17: BRAADSLEDE | D17: RENDISK | E17: IEB430. ID 5226 | F17: J 00093 E 180111 | G17: UITGIFTE | I17: 45012 | J17: Ja | L17: 3 | M17: 4 | N17: 4 | O17: 3
A18: C00.850 | B18: KOOKTOESTEL | C18: KOOKPLAAT | D18: UBERT | E18: AK-2 | F18: 201132577 | G18: UITGIFTE | H18: 41275 | I18: 45012 | J18: Ja | L18: 3 | M18: 3 | N18: 3 | O18: 3
A19: C00.851 | B19: KOOKTOESTEL | C19: KOOKPLAAT | D19: UBERT | E19: AK-2 | F19: 201132578 | G19: UITGIFTE | H19: 41275 | I19: 45012 | J19: Ja | L19: 3 | M19: 3 | N19: 3 | O19: 3
A20: C00.852 | B20: KOOKTOESTEL | C20: KOOKPLAAT | D20: UBERT | E20: AK-2 | F20: 201132575 | G20: UITGIFTE | H20: 41275 | I20: 45012 | J20: Ja | L20: 3 | M20: 3 | N20: 3 | O20: 3
A21: C00.853 | B21: KOOKTOESTEL | C21: KOOKPLAAT | D21: UBERT | E21: AK-02 | F21: 201132574 | I21: 45012 | J21: Ja | L21: 3 | M21: 3 | N21: 3 | O21: 3
A22: C00.854 | B22: WARMHOUD APPARAAT | C22: LOWERATOR | D22: MOBILE CONTAINING | E22: DFR 2 X 240 ONVERWARMD | F22: 167052 | G22: UITGIFTE | H22: 40909 | I22: 45012 | J22: N.v.t. | L22: 3 | M22: 3 | N22: 3 | O22: 3
A23: C00.855 | B23: WARMHOUD APPARAAT | C23: LOWERATOR | D23: MOBILE CONTAINING | E23: DFR 460/360 ONVERWARMD | F23: 168286 | G23: SPOELKEUKEN | I23: 45012 | J23: N.v.t. | L23: 3 | M23: 3 | N23: 3 | O23: 3
A24: C00.856 | B24: WARMHOUD APPARAAT | C24: LOWERATOR | D24: MOBILECONTAINING | E24: DFR 2 X 240 ONVERWARMD | F24: 1667050 | G24: UITGIFTE | H24: 40909 | I24: 45012 | J24: N.v.t. | L24: 3 | M24: 3 | N24: 3 | O24: 3
A25: C00.857 | B25: WARMHOUD APPARAAT | C25: LOWERATOR | D25: MOBILECONTAINING | E25: DFR 460/360 ONVERWARMD DIENBLAD | F25: 167038 | H25: 40909 | I25: 45012 | J25: N.v.t. | L25: 3 | M25: 3 | N25: 3 | O25: 3
A26: C00.858 | B26: WARMHOUD APPARAAT | C26: LOWERATOR | D26: MOBILE CONTAINING | E26: DFR 2 X 240 ONVERWARMD | F26: 167048 | G26: SPOELKEUKEN | I26: 45012 | J26: N.v.t. | L26: 3 | M26: 3 | N26: 3 | O26: 3
A27: C00.859 | B27: WARMHOUD APPARAAT | C27: LOWERATOR | D27: MOBILE CONTAINING | E27: DFR 460/360 ONVERWARMD | F27: 167046 | G27: UITGIFTE | I27: 45012 | J27: N.v.t. | L27: 3 | M27: 3 | N27: 3 | O27: 3
A28: C00.860 | B28: WARMHOUD APPARAAT | C28: LOWERATOR | D28: MOBILECONTAINING | E28: DFR 460/360 ONVERWARMD | F28: 167040 | H28: 40909 | I28: 45012 | J28: N.v.t. | L28: 3 | M28: 3 | N28: 3 | O28: 3
A29: C00.861 | B29: WARMHOUD APPARAAT | C29: LOWERATOR | D29: MOBILE CONTAINING | E29: DFR 2 X 240 ONVERWARMD | F29: 168290 | G29: SPOELKEUKEN | I29: 45012 | J29: N.v.t. | L29: 3 | M29: 3 | N29: 3 | O29: 3
A30: C00.862 | B30: WARMHOUD APPARAAT | C30: LOWERATOR | D30: MOBILE CONTAINING | E30: DFR 2 X 240 ONVERWARMD | F30: 167051 | G30: UITGIFTE | H30: 40909 | I30: 45012 | J30: N.v.t. | L30: 3 | M30: 3 | N30: 3 | O30: 3
A31: C00.863 | B31: WARMHOUD APPARAAT | C31: LOWERATOR | D31: MOBILE CONTAINING | E31: DFR 460/360 ONVERWARMD | F31: 168285 | G31: SPOELKEUKEN | I31: 45012 | J31: N.v.t. | L31: 3 | M31: 3 | N31: 3 | O31: 3
A32: C00.864 | B32: WARMHOUD APPARAAT | C32: LOWERATOR | D32: MOBILECONTAINING | E32: 2X240 ONVERWARMD | F32: 168289 | H32: 40909 | I32: 45012 | J32: N.v.t. | L32: 3 | M32: 3 | N32: 3 | O32: 3
A33: C00.865 | B33: WARMHOUD APPARAAT | C33: LOWERATOR | D33: MOBILECONTAINING | E33: 2X240 ONVERWARMD | F33: 67044 | H33: 40909 | I33: 45012 | J33: N.v.t. | L33: 3 | M33: 3 | N33: 3 | O33: 3
A34: C00.866 | B34: WARMHOUD APPARAAT | C34: LOWERATOR | D34: MOBILE CONTAINING | E34: DFR 2 X 240 ONVERWARMD | F34: 167047 | G34: UITGIFTE | H34: 40909 | I34: 45012 | J34: N.v.t. | L34: 3 | M34: 3 | N34: 3 | O34: 3
A35: C00.867 | B35: WARMHOUD APPARAAT | C35: LOWERATOR | D35: MOBILE CONTAINING | E35: DFR 460/360 | F35: 167041 | G35: SPOOKBURGER | H35: 40909 | I35: 45012 | J35: N.v.t. | L35: 3 | M35: 3 | N35: 3 | O35: 3
A36: C00.868 | B36: KOOKTOESTEL | C36: KERAMISCH FORNUIS | D36: MKN | E36: 2023405-00 VIER ZONE,S | F36: 3009835 | G36: KEUKEN | I36: 45012 | J36: Nee | L36: 3 | M36: 3 | N36: 3 | O36: 3 | P36: Vaste aansluiting / stekker niet bereikbaar.
A37: C00.869 | B37: VAATWASMACHINE | C37: KORVENMACHINE | D37: METOS | E37: WD 211E | F37: 037219 2003 | G37: KEUKEN | H37: 37622 | I37: 45012 | L37: 4 | M37: 4 | N37: 4 | O37: 4
A38: C00.870 | B38: OVERIGE APPARATUUR | C38: TRANSPORTBAND | D38: RENDISK | E38: RENCORD - LUX | F38: 397602 | G38: KEUKEN | H38: 37865 | I38: 45012 | L38: 3 | M38: 4 | N38: 4 | O38: 4
A39: C01.836 | B39: VAATWASMACHINE | C39: WATERONTHARDER | D39: LUBRON | E39: T100 ECO | F39: J045162 | G39: VWM C2 | H39: 37834 | I39: 45012 | J39: Ja | N39: 3 | O39: 3
A40: C01.837 | B40: VAATWASMACHINE | C40: WATERONTHARDER | D40: LUBRON | E40: WE100 | F40: 13030620 | G40: VWM C2 | I40: 45012 | J40: Ja | N40: 3 | O40: 3
A41: C01.841 | B41: OVERIGE APPARATUUR | C41: TRANSPORTBAND | D41: MEIKO | E41: RF BAND | F41: 10495767 | G41: SP | H41: 44228 | I41: 45012 | J41: Ja | N41: 1 | O41: 3
A42: C01.844 | B42: VAATWASMACHINE | C42: WATERONTHARDER | D42: LUBRON | E42: 5600 | F42: K034808 | G42: LUCHTBEHANDELING D3 | I42: 45012 | J42: Ja | N42: 3 | O42: 3
A43: C01.845 | B43: VAATWASMACHINE | C43: WATERONTHARDER | D43: LUBRON | E43: WW40 SXT | F43: 19101452 | G43: LUCHTBEHANDELING D3 | H43: 43739 | I43: 45012 | J43: Ja | N43: 3 | O43: 3
A44: C01.858 | B44: WARMHOUD APPARAAT | C44: LOWERATOR | D44: MOBILE CONTAINING | E44: DFR 2 X 240 ONVERWARMD | F44: 168291 | G44: KEUKEN RESTAURANT | H44: 41275 | I44: 45012 | J44: Ja | N44: 3 | O44: 3
A45: C01.859 | B45: WARMHOUD APPARAAT | C45: LOWERATOR | D45: MOBILE CONTAINING | E45: DFR 2 X 240 ONVERWARMD | F45: 168287 | G45: KEUKEN RESTAURANT | H45: 41275 | I45: 45012 | J45: Ja | N45: 3 | O45: 3
A46: C01.860 | B46: VAATWASMACHINE | C46: KORVENMACHINE | D46: MEIKO | E46: K-M280 | F46: 10495458 | G46: SPOELKEUKEN | H46: 44197 | I46: 44977 | J46: Nee | N46: 2 | O46: 3 | P46: Vaste aansluiting / stekker niet bereikbaar.
A47: C02.301 | B47: COMBI STEAMER | C47: COMBI STEAMER | D47: METOS RATIONAL | E47: CPCM6 | F47: E61CD03071092590 | G47: UITGIFTE LINKER | H47: 37622 | I47: 45012 | J47: Ja | L47: 4 | M47: 4 | N47: 4 | O47: 4
A48: C02.302 | B48: COMBI STEAMER | C48: COMBI STEAMER | D48: METOS RATIONAL | E48: CPC 61 | F48: E61CD03071092583 | G48: UITGIFTE | H48: 37622 | I48: 45012 | J48: Ja | L48: 4 | M48: 4 | N48: 4 | O48: 4
A49: C02.303 | B49: WARMHOUD APPARAAT | C49: LOWERATOR | D49: RENDISK | E49: KOMMEN LOWERATOR | G49: UITGIFTE | I49: 45012 | J49: Ja | L49: 3 | M49: 4 | N49: 4 | O49: 4
A50: C02.304 | B50: WARMHOUD APPARAAT | C50: WARMHOUDPLAAT | D50: GROKU | E50: WARMTEPLAAT + 2X HALOGEEN | G50: UITGIFTE | I50: 45012 | J50: Ja | L50: 3 | M50: 4 | N50: 4 | O50: 4
A51: C02.305 | B51: WARMHOUD APPARAAT | C51: WARMHOUDPLAAT | D51: UBERT | E51: AK 2 | F51: 201132576 | G51: UITGIFTE | H51: 40909 | I51: 45012 | J51: Ja | L51: 3 | M51: 3 | N51: 3 | O51: 3
A52: C02.306 | B52: WARMHOUD APPARAAT | C52: WARMHOUDPLAAT | D52: GROKU | E52: WARMTEPLAAT + 2X HALOGEEN | G52: UITGIFTE | I52: 45012 | J52: Ja | L52: 3 | M52: 4 | N52: 4 | O52: 4
A53: C02.307 | B53: KOOKTOESTEL | C53: INDUCTIEWOK | D53: CATERTECH BERNER | E53: M-BIPMS3,5/WOK | F53: 11121388 | G53: UITGIFTE | I53: 45012 | J53: Ja | L53: 3 | M53: 4 | N53: 4 | O53: 4
A54: C02.308 | B54: GRILL | C54: BAKPLAAT | D54: CATERTECH | E54: 418036532251 | F54: BN020059801 | G54: UITGIFTE | I54: 45012 | J54: Ja | L54: 4 | M54: 4 | N54: 4 | O54: 4
A55: C02.309 | B55: GRILL | C55: BAKPLAAT | D55: CATERTECH | E55: 418036532251 | F55: BN020039432 | G55: UITGIFTE | I55: 45012 | J55: Ja | L55: 4 | M55: 4 | N55: 4 | O55: 4
A56: C02.310 | B56: WARMHOUD APPARAAT | C56: WARMHOUDPLAAT | D56: GROKU | E56: WARMTEPLAAT + 2X HALOGEEN | G56: UITGIFTE | I56: 45012 | J56: Ja | L56: 3 | M56: 4 | N56: 4 | O56: 4
A57: C02.311 | B57: GRILL | C57: KLAPGRILL | D57: ROLLERGRILL | E57: PANINI DR | F57: 121131133 | G57: UITGIFTE | I57: 45012 | J57: Ja | L57: 3 | M57: 4 | N57: 4 | O57: 4
A58: C02.312 | B58: OVERIGE APPARATUUR | C58: SLANGHASPEL | D58: NEDERMAN | E58: SLANGHASPEL | G58: KEUKEN | I58: 45012 | J58: N.v.t. | K58: 3 | L58: 3 | M58: 3 | N58: 3 | O58: 3
A59: C02.313 | B59: KOFFIE APPARAAT | C59: KOFFIE ZUIL | D59: ANIMO | E59: CB 2 X 10W | F59: 20 09931 | G59: BANKETING | I59: 45012 | J59: Ja | L59: 4 | M59: 4 | N59: 4 | O59: 4
A60: C02.314 | B60: OVERIGE APPARATUUR | C60: SLANGHASPEL | D60: NEDERMAN | E60: SLANGHASPEL | G60: KEUKEN | I60: 45012 | J60: N.v.t. | L60: 3 | M60: 3 | N60: 3 | O60: 3
A61: C02.315 | B61: OVERIGE APPARATUUR | C61: CITRUSPERS | D61: ZUMEX | E61: VERSATILE PRO | F61: 412128 | G61: UITGIFTE | H61: 41214 | I61: 45012 | J61: N.v.t. | L61: 3 | M61: 3 | N61: 3 | O61: 3
A62: C02.317 | B62: KOOKTOESTEL | C62: KOOKPLAAT | D62: MKN | E62: 2023401-00 | F62: 3010204 | I62: 45012 | J62: Ja | L62: 3 | M62: 4 | N62: 4 | O62: 4
A63: C07.721 | B63: WARMHOUD APPARAAT | C63: SOUP WELL | D63: KARMA | H63: 40238 | I63: 44986 | J63: Ja | O63: 4
A64: C08.019 | B64: KOFFIE APPARAAT | C64: KOFFIECONTAINER | D64: ANIMO | I64: 44986 | J64: Ja | O64: 3
A65: C08.020 | B65: KOFFIE APPARAAT | C65: KOFFIECONTAINER | D65: ANIMO | I65: 44986 | J65: Ja | O65: 3
A66: C08.030 | B66: OVERIGE APPARATUUR | C66: BLENDER | D66: HENDI | H66: 44562 | I66: 44986 | J66: Ja | O66: 1
A67: LG.001 | B67: KOEL/VRIES APPARAAT | C67: KOELVITRINE | D67: RENDISK | E67: NEW BLIZZARD 180 TYPE2 | F67: 20020403 | G67: UITGIFTE BUFFET | I67: 45012 | J67: Nee | K67: 3 | L67: 3 | M67: 3 | N67: 3 | O67: 3 | P67: Vaste aansluiting / stekker niet bereikbaar.
A68: C05.421 | B68: KOEL/VRIES APPARAAT | C68: KOELCEL | D68: SMEVA | E68: NL039179 | G68: BEGANE GROND ONDER K | H68: 39965 | I68: 45012 | J68: Nee | K68: 3 | L68: 3 | M68: 3 | N68: 3 | O68: 3 | P68: Vaste aansluiting / stekker niet bereikbaar.
A69: C05.422 | B69: KOEL/VRIES APPARAAT | C69: KOELBAK | D69: AKE IDEAL | G69: KOFFIEBAR | H69: 36831 | I69: 45012 | J69: Nee | K69: 3 | L69: 3 | M69: 3 | N69: 3 | O69: 3 | P69: Vaste aansluiting / stekker niet bereikbaar.
A70: C05.423 | B70: KOEL/VRIES APPARAAT | C70: KOELWERKBANK | D70: CATERTECH | G70: KOFFIEBAR | H70: 36831 | I70: 45012 | J70: Nee | K70: 3 | L70: 3 | M70: 3 | N70: 3 | O70: 3 | P70: Vaste aansluiting / stekker niet bereikbaar.
A71: C05.424 | B71: KOEL/VRIES APPARAAT | C71: KOELWERKBANK | D71: CATERTECH | G71: KOFFIEBAR | H71: 36831 | I71: 45012 | J71: Nee | K71: 3 | L71: 3 | M71: 3 | N71: 3 | O71: 3 | P71: Vaste aansluiting / stekker niet bereikbaar.
A72: C05.425 | B72: KOEL/VRIES APPARAAT | C72: KOELWERKBANK | D72: CATERTECH | G72: KOFFIEBAR | H72: 36831 | I72: 45012 | J72: Nee | K72: 3 | L72: 3 | M72: 3 | N72: 3 | O72: 3 | P72: Vaste aansluiting / stekker niet bereikbaar.
A73: C05.426 | B73: KOEL/VRIES APPARAAT | C73: CENTRAAL SYSTEEM | D73: BITZER | G73: PARKEERKELDER | H73: 36831 | I73: 45012 | J73: Nee | K73: 3 | L73: 3 | M73: 3 | N73: 3 | O73: 3 | P73: Vaste aansluiting / stekker niet bereikbaar.
A74: C05.427 | B74: KOEL/VRIES APPARAAT | C74: CENTRAAL SYSTEEM | D74: CATERTECH | G74: DAK 3E VERDIEPING | H74: 36831 | I74: 45012 | J74: Nee | K74: 3 | L74: 3 | M74: 3 | N74: 3 | O74: 3 | P74: Vaste aansluiting / stekker niet bereikbaar.
A75: C05.428 | B75: KOEL/VRIES APPARAAT | C75: CENTRAAL SYSTEEM | D75: SMEVA | G75: FIETSENSTALLING | H75: 36831 | I75: 45012 | J75: Nee | K75: 3 | L75: 3 | M75: 3 | N75: 3 | O75: 3 | P75: Vaste aansluiting / stekker niet bereikbaar.
A76: LG.010 | B76: KOEL/VRIES APPARAAT | C76: KOELWERKBANK | D76: METOS | E76: TSP02 | F76: 5030619 | G76: GEBOUW C UITGIFTE | H76: 1 | I76: 45012 | J76: Nee | K76: 3 | L76: 3 | M76: 3 | N76: 3 | O76: 3 | P76: Vaste aansluiting / stekker niet bereikbaar.
A77: C05.429 | B77: KOEL/VRIES APPARAAT | C77: WANDKOELING | D77: METOS | G77: RESTAURANT 2E VERDIEPING | H77: 33178 | I77: 45012 | J77: Nee | K77: 3 | L77: 3 | M77: 3 | N77: 3 | O77: 3 | P77: Vaste aansluiting / stekker niet bereikbaar.
A78: C05.430 | B78: KOEL/VRIES APPARAAT | C78: WANDKOELING | D78: METOS | G78: RESTAURANT 2E VERDIEPING | H78: 33178 | I78: 45012 | J78: Nee | K78: 3 | L78: 3 | M78: 3 | N78: 3 | O78: 3 | P78: Vaste aansluiting / stekker niet bereikbaar.
A79: C05.431 | B79: KOEL/VRIES APPARAAT | C79: RUIMTE KOELING | D79: SMEVA | E79: MTE35L7 | F79: BG2011701668 | G79: BEREIDINGSKEUKEN | H79: 42736 | I79: 45012 | J79: Nee | K79: 3 | L79: 3 | M79: 3 | N79: 3 | O79: 3 | P79: Vaste aansluiting / stekker niet bereikbaar.
A80: C05.432 | B80: KOEL/VRIES APPARAAT | C80: KOELWERKBANK | D80: METOS | G80: GEBOUW D UITGIFTE | H80: 39814 | I80: 45012 | J80: Nee | K80: 3 | L80: 3 | M80: 3 | N80: 3 | O80: 3 | P80: Vaste aansluiting / stekker niet bereikbaar.
A81: C05.433 | B81: KOEL/VRIES APPARAAT | C81: DOORLOOP KOELCEL | D81: SMEVA | E81: FMC3516 | F81: 06351/10 | G81: BEREIDINGSKEUKEN | H81: 32874 | I81: 45012 | J81: Nee | K81: 3 | L81: 3 | M81: 3 | N81: 3 | O81: 3 | P81: Vaste aansluiting / stekker niet bereikbaar.
A82: C05.434 | B82: KOEL/VRIES APPARAAT | C82: WANDKOELING | D82: METOS | G82: RESTAURANT 2E VERDIEPING | H82: 33178 | I82: 45012 | J82: Nee | K82: 3 | L82: 3 | M82: 3 | N82: 3 | O82: 3 | P82: Vaste aansluiting / stekker niet bereikbaar.
A83: C05.435 | B83: KOEL/VRIES APPARAAT | C83: BLAST CHILLER | D83: METOS | E83: SHOCKMATIC | G83: BEREIDINGSKEUKEN | H83: 33178 | I83: 45012 | J83: Nee | K83: 4 | L83: 4 | M83: 3 | N83: 3 | O83: 3 | P83: Vaste aansluiting / stekker niet bereikbaar.
A84: C05.436 | B84: KOEL/VRIES APPARAAT | C84: KOELWERKBANK | D84: METOS | E84: TSP02 | F84: 230/1/150 | G84: BEREIDINGSKEUKEN | H84: 32874 | I84: 45012 | J84: Nee | K84: 4 | L84: 4 | M84: 3 | N84: 3 | O84: 3 | P84: Vaste aansluiting / stekker niet bereikbaar.
A85: C05.437 | B85: KOEL/VRIES APPARAAT | C85: KOELWERKBANK | D85: METOS | E85: TSP02 | F85: 230/1/150 5030332 | G85: BEREIDINGSKEUKEN | H85: 32874 | I85: 45012 | J85: Nee | K85: 4 | L85: 4 | M85: 3 | N85: 3 | O85: 3 | P85: Vaste aansluiting / stekker niet bereikbaar.
A86: C05.438 | B86: KOEL/VRIES APPARAAT | C86: KOELWERKBANK | D86: METOS | E86: TSP02 | F86: 5030288 | G86: KOUDE KEUKEN | H86: 33178 | I86: 45012 | J86: Nee | K86: 4 | L86: 4 | M86: 3 | N86: 3 | O86: 3 | P86: Vaste aansluiting / stekker niet bereikbaar.
A87: C05.439 | B87: KOEL/VRIES APPARAAT | C87: KOELWERKBANK | D87: METOS | E87: TSP02 | F87: 5057454 | G87: KOUDE KEUKEN | H87: 33178 | I87: 45012 | J87: Nee | K87: 4 | L87: 4 | M87: 3 | N87: 3 | O87: 3 | P87: Vaste aansluiting / stekker niet bereikbaar.
A88: C05.440 | B88: KOEL/VRIES APPARAAT | C88: VRIESCEL | D88: SMEVA | E88: NL039199 | G88: GANG KOELINGEN | H88: 32874 | I88: 45012 | J88: Nee | K88: 4 | L88: 4 | M88: 3 | N88: 3 | O88: 3 | P88: Vaste aansluiting / stekker niet bereikbaar.
A89: C05.441 | B89: KOEL/VRIES APPARAAT | C89: KOELCEL | D89: SMEVA | E89: DELTA | G89: 2E VERDIEPING | H89: 33178 | I89: 45012 | J89: Nee | K89: 4 | L89: 4 | M89: 3 | N89: 3 | O89: 3 | P89: Vaste aansluiting / stekker niet bereikbaar.
A90: C05.442 | B90: KOEL/VRIES APPARAAT | C90: KOELWERKBANK | D90: CATERTECH | E90: FTAP03PA | F90: BN02010571 | G90: GEBOUW C UITGIFTE | H90: 39814 | I90: 45012 | J90: Nee | K90: 4 | L90: 4 | M90: 3 | N90: 3 | O90: 3 | P90: Vaste aansluiting / stekker niet bereikbaar.
A91: C05.443 | B91: KOEL/VRIES APPARAAT | C91: KOELBAK | D91: GROKU | G91: GEBOUW D UITGIFTE | H91: 39965 | I91: 45012 | J91: Nee | K91: 3 | L91: 3 | M91: 3 | N91: 3 | O91: 3 | P91: Vaste aansluiting / stekker niet bereikbaar.
A92: C05.444 | B92: KOEL/VRIES APPARAAT | C92: SALADIERE | D92: POLARIS | E92: ALZAT.REFR.L=1420SX | F92: FR02003468 | G92: GEBOUW D UITGIFTE | H92: 44176 | I92: 45012 | J92: Nee | K92: 3 | L92: 3 | M92: 3 | N92: 3 | O92: 3 | P92: Vaste aansluiting / stekker niet bereikbaar.
A93: C05.445 | B93: KOEL/VRIES APPARAAT | C93: KOELWERKBANK | D93: CATERTECH | E93: T170BT | G93: GEBOUW D UITGIFTE | I93: 45012 | J93: Nee | K93: 3 | L93: 3 | M93: 3 | N93: 3 | O93: 3 | P93: Vaste aansluiting / stekker niet bereikbaar.
A94: C05.446 | B94: KOEL/VRIES APPARAAT | C94: KOELWERKBANK | D94: CATERTECH | E94: FTAP03PR. 404A | G94: GEBOUW D UITGIFTE | I94: 45012 | J94: Nee | K94: 3 | L94: 3 | M94: 3 | N94: 3 | O94: 3 | P94: Vaste aansluiting / stekker niet bereikbaar.
A95: C05.447 | B95: KOEL/VRIES APPARAAT | C95: MILK DISPENCER | D95: AUTON | E95: NUC-02 | F95: 712NU03920 | G95: GEBOUW D UITGIFTE | I95: 45012 | J95: Nee | K95: 3 | L95: 3 | M95: 3 | N95: 3 | O95: 3 | P95: Vaste aansluiting / stekker niet bereikbaar.
A96: C05.448 | B96: KOEL/VRIES APPARAAT | C96: MILK DISPENCER | D96: AUTON | E96: NUC-02 | F96: 712NU03924 | G96: GEBOUW D UITGIFTE | I96: 45012 | J96: Nee | K96: 3 | L96: 3 | M96: 3 | N96: 3 | O96: 3 | P96: Vaste aansluiting / stekker niet bereikbaar.
A97: C05.449 | B97: KOEL/VRIES APPARAAT | C97: MILK DISPENCER | D97: AUTON | E97: NUC-02 | F97: 712NU03922 | G97: GEBOUW D UITGIFTE | I97: 45012 | J97: Nee | K97: 3 | L97: 3 | M97: 3 | N97: 3 | O97: 3 | P97: Vaste aansluiting / stekker niet bereikbaar.
A98: C05.450 | B98: KOEL/VRIES APPARAAT | C98: MILK DISPENCER | D98: AUTON | E98: NUC-02 | F98: 712NU03931 | G98: GEBOUW D UITGIFTE | I98: 45012 | J98: Nee | K98: 3 | L98: 3 | M98: 3 | N98: 3 | O98: 3 | P98: Vaste aansluiting / stekker niet bereikbaar.
A99: C05.451 | B99: KOEL/VRIES APPARAAT | C99: MILK DISPENCER | D99: AUTON | E99: NUC-02 | F99: 712NU03923 | G99: GEBOUW D UITGIFTE | I99: 45012 | J99: Nee | K99: 3 | L99: 3 | M99: 3 | N99: 3 | O99: 3 | P99: Vaste aansluiting / stekker niet bereikbaar.
A100: LG.034 | B100: KOEL/VRIES APPARAAT | C100: MILK DISPENCER | D100: AUTON | E100: NUC-02 | F100: 1112-NU03987 | G100: GEBOUW D UITGIFTE | I100: 45012 | J100: Nee | K100: 3 | L100: 3 | M100: 3 | N100: 3 | O100: 3 | P100: Vaste aansluiting / stekker niet bereikbaar.
A101: LG.035 | B101: KOEL/VRIES APPARAAT | C101: MILK DISPENCER | D101: AUTON | E101: NUC-02 | F101: 1112NU03985 | G101: GEBOUW D UITGIFTE | I101: 45012 | J101: Nee | K101: 2 | L101: 2 | M101: 3 | N101: 3 | O101: 3 | P101: Vaste aansluiting / stekker niet bereikbaar.
...

Sheet AMSB4
A1: UWV AMSB4 Basisweg Amsterdam
A3: ID-nummer | B3: Groep | C3: Type | D3: Merk | E3: Type | F3: Serienummer | G3: Locatie | H3: Bouwjaar | I3: Laatste onderhoud | J3: NEN keuring | K3: Status 2019 | L3: Status 2020 | M3: Status 2021 | N3: Status 2022 | O3: Status 2023
A4: C00.033 | B4: WARMHOUD APPARAAT | C4: WARMTEBRUG | D4: ROCAM | E4: VULCANO INFRA 2/1 | F4: 5442/12 | G4: UITGIFTE | I4: 45272 | J4: Ja | K4: 2 | L4: 2 | M4: 3 | N4: 3 | O4: 3
A5: C00.034 | B5: KOOKTOESTEL | C5: KOOKPLAAT | D5: UBERT | E5: AK2 | G5: UITGIFTE | I5: 45272 | J5: Ja | L5: 3 | M5: 3 | N5: 3 | O5: 3
A6: C01.856 | B6: VAATWASMACHINE | C6: WATERONTHARDER | D6: LUBRON | E6: PROLINE SXT2 | F6: 20011610 | G6: KEUKEN 2E ETAGE | H6: 43862 | I6: 45272 | J6: Ja | K6: 1 | L6: 2 | M6: 3 | N6: 3 | O6: 3
A7: C04.036 | B7: VAATWASMACHINE | C7: VOORLADER | D7: ELECTROLUX | E7: WASH SAFE CONTROL | F7: 14520022 | G7: KEUKEN 2E ETAGE | H7: 44501 | I7: 45272 | J7: Ja | N7: 3 | O7: 3
A8: C08.206 | B8: OVEN | C8: HETELUCHTOVEN | D8: BARTSCHER | E8: YXD-1AE | F8: C068129 | G8: KEUKEN 2E ETAGE | H8: 44866 | I8: 45272 | J8: Ja | O8: 2
A9: C08.207 | B9: KOOKTOESTEL | C9: INDUCTIEPLAAT | D9: HENDI | E9: DUBBEL | F9: HK043822-239285-000207 | G9: KEUKEN 2E ETAGE | H9: 44866 | I9: 45272 | J9: Ja | O9: 2
A10: C00.028 | B10: KOEL/VRIES APPARAAT | C10: KOELKAST | D10: LIEBHERR | E10: KES 4270 | F10: 27 201.166.7 | G10: KEUKEN 2E ETAGE | I10: 45230 | J10: Nee | K10: 2 | L10: 2 | M10: 2 | N10: 2 | O10: 3
A11: C00.029 | B11: KOEL/VRIES APPARAAT | C11: KOELKAST | D11: GRAM | E11: K200LE | F11: 10009064 | G11: UITGIFTE | I11: 45230 | J11: Nee | K11: 2 | L11: 2 | M11: 2 | N11: 2 | O11: 3
A12: C00.030 | B12: KOEL/VRIES APPARAAT | C12: KOELKAST | D12: GRAM | E12: K200LE | G12: UITGIFTE | H12: 40179 | I12: 45230 | J12: Nee | K12: 2 | L12: 2 | M12: 2 | N12: 2 | O12: 3
A13: C00.031 | B13: KOEL/VRIES APPARAAT | C13: VRIESKAST | D13: GRAM | G13: UITGIFTE | I13: 45230 | J13: Nee | K13: 2 | L13: 2 | M13: 2 | N13: 2 | O13: 3
A14: C00.032 | B14: KOEL/VRIES APPARAAT | C14: WANDKOELING | D14: MAFIROL | G14: UITGIFTE | I14: 45230 | J14: Nee | K14: 2 | L14: 2 | M14: 2 | N14: 2 | O14: 3

Sheet AMSD2
A1: UWV AMSD2 Delflandlaan Amsterdam
A3: ID-nummer | B3: Groep | C3: Type | D3: Merk | E3: Type | F3: Serienummer | G3: Locatie | H3: Bouwjaar | I3: Laatste onderhoud | J3: NEN keuring | K3: Status 2019 | L3: Status 2020 | M3: Status 2021 | N3: Status 2022 | O3: Status 2023 | P3: Bijzonderheden
A4: C00.102 | B4: WARMHOUD APPARAAT | C4: WARMTEBRUG | D4: RENDISK | E4: 5 LAMPEN MET PLAAT | G4: UITGIFTE KEUKEN 13 ETAGE | I4: 45292 | J4: Ja | K4: 4 | L4: 4 | M4: 4 | N4: 4 | O4: 4
A5: C00.103 | B5: FRITEUSE | C5: ELECTRISCHE FRITEUSE | D5: RENDISK | E5: IEF244 | F5: F 00026 | G5: LINKER | I5: 45292 | J5: Ja | K5: 3 | L5: 4 | M5: 4 | N5: 4 | O5: 4
A6: C00.104 | B6: FRITEUSE | C6: ELECTRISCHE FRITEUSE | D6: RENDISK | E6: IEF244 | F6: F 00028 | G6: RECHTER | I6: 45292 | J6: Ja | K6: 3 | L6: 4 | M6: 4 | N6: 4 | O6: 4
A7: C00.105 | B7: GRILL | C7: BAKPLAAT | D7: RENDISK | E7: IEB431 | F7: F 00015 | G7: UITGIFTE | I7: 45292 | J7: Ja | K7: 3 | L7: 4 | M7: 4 | N7: 4 | O7: 4
A8: C00.106 | B8: WARMHOUD APPARAAT | C8: AU BAIN-MARIE | D8: RENDISK | E8: ABM. 4X 1/1 GASTRONORM | G8: UITGIFTE | I8: 45292 | J8: Ja | K8: 4 | L8: 4 | M8: 4 | N8: 4 | O8: 4
A9: C00.107 | B9: WARMHOUD APPARAAT | C9: WARMTEBRUG | D9: RENDISK | E9: 4 X HALOGEENLAMP | G9: UITGIFTE | I9: 45292 | J9: Ja | K9: 4 | L9: 4 | M9: 4 | N9: 4 | O9: 4
A10: C00.108 | B10: COMBI STEAMER | C10: COMBI STEAMER | D10: RENDISK | E10: CONMATIC 10 1/1 GN | G10: KEUKEN | I10: 45292 | J10: Nee | L10: 4 | M10: 5 | N10: 5 | O10: 5 | P10: Vaste aansluiting / stekker niet bereikbaar.
A11: C00.109 | B11: KOOKTOESTEL | C11: KOOKPLAAT | D11: KUPPERSBUSCH | E11: KCN0202. Z//561/524405001/6545 | F11: 623647 | G11: KEUKEN | I11: 45292 | J11: Ja | K11: 4 | L11: 5 | M11: 5 | N11: 5 | O11: 5
A12: C00.111 | B12: WARMHOUD APPARAAT | C12: WARMHOUDPLAAT | D12: UBERT | E12: AK-1 | G12: UITGIFTE EILAND | I12: 45292 | J12: Ja | K12: 2 | L12: 2 | M12: 3 | N12: 3 | O12: 3
A13: C00.113 | B13: WARMHOUD APPARAAT | C13: LOWERATOR | D13: MOBILE CONTAINING | E13: 2S-MS/B 2X 480X370 | F13: 77813 | G13: KEUKEN | H13: 36526 | I13: 45292 | J13: N.v.t. | K13: 4 | L13: 4 | M13: 4 | N13: 4 | O13: 4
A14: C00.114 | B14: WARMHOUD APPARAAT | C14: LOWERATOR | D14: MOBILE CONTAINING | E14: 2 TN-MS 240 | F14: 77820 | G14: SPOELKEUKEN 13 ETAGE | H14: 36526 | I14: 45292 | J14: N.v.t. | L14: 4 | M14: 4 | N14: 4 | O14: 4
A15: C01.897 | B15: KOFFIE APPARAAT | C15: KOFFIE ZUIL | D15: ANIMO | E15: FC GL 1X5L | F15: 10172/4 32267 | G15: RESTAURANT 13E ETAGE | I15: 45292 | J15: Ja | K15: 3 | L15: 3 | M15: 3 | N15: 3 | O15: 4
A16: C01.901 | B16: COMBI STEAMER | C16: COMBI STEAMER | D16: RATIONAL | E16: CMP101 | F16: E11MI19092768476 | G16: RESTAURANT 13E ETAGE | H16: 43709 | I16: 45261 | J16: Ja | L16: 2 | M16: 3 | N16: 3 | O16: 3
A17: C07.734 | B17: WARMHOUD APPARAAT | C17: AU BAIN-MARIE | E17: 2 GN | I17: 45292 | J17: Nee | N17: 4 | O17: 4 | P17: Vaste aansluiting / stekker niet bereikbaar. Wordt zelden gebruikt.
A18: C00.115 | B18: KOEL/VRIES APPARAAT | C18: KOELCEL | D18: SMEVA | G18: RESTAURANT 13E ETAGE | I18: 45261 | J18: Nee | K18: 3 | L18: 3 | M18: 3 | N18: 3 | O18: 3 | P18: Vaste aansluiting / stekker niet bereikbaar.
A19: C00.116 | B19: KOEL/VRIES APPARAAT | C19: KOELWERKBANK | D19: GRAM | E19: K1407 CFS R4 DL/D | F19: 10223314 | G19: RESTAURANT 13E ETAGE | H19: 42699 | I19: 45261 | J19: Nee | K19: 3 | L19: 3 | M19: 3 | N19: 3 | O19: 3 | P19: Vaste aansluiting / stekker niet bereikbaar.
A20: C00.117 | B20: KOEL/VRIES APPARAAT | C20: KOELCEL | D20: SMEVA | G20: RESTAURANT 13E ETAGE | I20: 45261 | J20: Nee | K20: 3 | L20: 3 | M20: 3 | N20: 3 | O20: 3 | P20: Vaste aansluiting / stekker niet bereikbaar.
A21: C00.118 | B21: KOEL/VRIES APPARAAT | C21: KOELCEL | D21: SMEVA | G21: RESTAURANT 13E ETAGE | I21: 45261 | J21: Nee | K21: 3 | L21: 3 | M21: 3 | N21: 3 | O21: 3 | P21: Vaste aansluiting / stekker niet bereikbaar.
A22: C00.120 | B22: KOEL/VRIES APPARAAT | C22: KOELCEL | D22: SMEVA | E22: KOELCEL 1PK | F22: ID:113111108 | G22: RESTAURANT 13E ETAGE | I22: 45261 | J22: Nee | K22: 3 | L22: 3 | M22: 3 | N22: 3 | O22: 3 | P22: Vaste aansluiting / stekker niet bereikbaar.
A23: C00.122 | B23: KOEL/VRIES APPARAAT | C23: WANDKOELING | D23: SMEVA | E23: PERFORMER 2060 | F23: 2000/360385 | G23: RESTAURANT | H23: 32879 | I23: 45261 | J23: Nee | K23: 3 | L23: 3 | M23: 3 | N23: 3 | O23: 3 | P23: Vaste aansluiting / stekker niet bereikbaar.
A24: C00.123 | B24: KOEL/VRIES APPARAAT | C24: WANDKOELING | D24: SMEVA | E24: PERFORMER 2060 | F24: 2000/360387 | G24: RESTAURANT | H24: 32879 | I24: 45261 | J24: Nee | K24: 3 | L24: 3 | M24: 3 | N24: 3 | O24: 3 | P24: Vaste aansluiting / stekker niet bereikbaar.
A25: C00.124 | B25: KOEL/VRIES APPARAAT | C25: KOELBAK | D25: RENDISK | E25: ONB | G25: RESTAURANT | H25: 36531 | I25: 45261 | J25: Nee | K25: 3 | L25: 3 | M25: 3 | N25: 3 | O25: 3 | P25: Vaste aansluiting / stekker niet bereikbaar.
A26: C00.125 | B26: KOEL/VRIES APPARAAT | C26: KOELKAST | D26: CATERTECH | E26: P 140 TN | F26: BN020158048 | G26: KEUKEN | H26: 42736 | I26: 45261 | J26: Nee | K26: 3 | L26: 3 | M26: 3 | N26: 3 | O26: 3 | P26: Vaste aansluiting / stekker niet bereikbaar.
A27: C05.401 | B27: KOEL/VRIES APPARAAT | C27: VRIESCEL | D27: SMEVA | E27: ONB | F27: 2000 0441 | G27: 14E VERDIEPING | H27: 36531 | I27: 45261 | J27: Nee | K27: 3 | L27: 3 | M27: 3 | N27: 3 | O27: 3 | P27: Vaste aansluiting / stekker niet bereikbaar.
A28: C05.402 | B28: KOEL/VRIES APPARAAT | C28: KOELCEL | D28: SMEVA | G28: MAGAZIJN | H28: 39448 | I28: 45261 | J28: Nee | K28: 3 | L28: 3 | M28: 3 | N28: 3 | O28: 3 | P28: Vaste aansluiting / stekker niet bereikbaar.
A29: C05.403 | B29: KOEL/VRIES APPARAAT | C29: KOELCEL | D29: SMEVA | E29: MPX2 | G29: RESTAURANT | H29: 36531 | I29: 45261 | J29: Nee | K29: 3 | L29: 3 | M29: 3 | N29: 4 | O29: 4 | P29: Vaste aansluiting / stekker niet bereikbaar.
A30: C05.403 | B30: KOEL/VRIES APPARAAT | C30: KOELCEL | D30: SMEVA | E30: MPX2 | G30: RESTAURANT | H30: 36531 | I30: 45261 | J30: Nee | K30: 3 | L30: 3 | M30: 3 | N30: 4 | O30: 4 | P30: Vaste aansluiting / stekker niet bereikbaar.
A31: C05.403 | B31: KOEL/VRIES APPARAAT | C31: KOELCEL | D31: SMEVA | E31: MPX2 | G31: RESTAURANT | H31: 36531 | I31: 45261 | J31: Nee | K31: 3 | L31: 3 | M31: 3 | N31: 4 | O31: 4 | P31: Vaste aansluiting / stekker niet bereikbaar.
A32: C05.404 | B32: KOEL/VRIES APPARAAT | C32: KOELKAST | D32: METOS | G32: KEUKEN | I32: 45261 | J32: Nee | K32: 3 | L32: 3 | M32: 3 | N32: 3 | O32: 3 | P32: Vaste aansluiting / stekker niet bereikbaar.

Sheet ALKW0
A1: UWV ALKW0 Alkmaar
A3: ID-nummer | B3: Groep | C3: Type | D3: Merk | E3: Type | F3: Serienummer | G3: Locatie | H3: Bouwjaar | I3: Laatste onderhoud | J3: NEN keuring | K3: Status 2019 | L3: Status 2020 | M3: Status 2021 | N3: Status 2022 | O3: Status 2023 | P3: Bijzonderheden
A4: C01.488 | B4: KOOKTOESTEL | C4: KOOKPLAAT | D4: CATERCHEF | E4: 4 PITS | H4: 42370 | I4: 45261 | J4: Nee | K4: 3 | L4: 3 | M4: 3 | N4: 3 | O4: 3 | P4: Vaste aansluiting / stekker niet bereikbaar.
A5: C01.489 | B5: GRILL | C5: BAKPLAAT | D5: CATERCHEF | H5: 42370 | I5: 45261 | J5: Nee | K5: 3 | L5: 3 | M5: 3 | N5: 3 | O5: 3 | P5: Vaste aansluiting / stekker niet bereikbaar.
A6: C01.490 | B6: WARMHOUD APPARAAT | C6: WARMHOUDPLAAT | D6: GROKU | H6: 42370 | I6: 45261 | J6: Ja | K6: 3 | L6: 3 | M6: 3 | N6: 3 | O6: 3
A7: C01.490 | B7: WARMHOUD APPARAAT | C7: WARMHOUDPLAAT | D7: GROKU | E7: 2 LAMPEN | G7: UITGIFTE | H7: 42370 | I7: 45261 | J7: Ja | K7: 3 | L7: 3 | M7: 3 | N7: 3 | O7: 3
A8: C01.876 | B8: WARMHOUD APPARAAT | C8: WARMHOUDPLAAT | D8: UBERT | E8: AK-2 | F8: 204153751 | G8: UITGIFTE | H8: 42005 | I8: 45261 | J8: Ja | K8: 3 | L8: 3 | M8: 3 | N8: 3 | O8: 3
A9: C01.877 | B9: WARMHOUD APPARAAT | C9: WARMHOUDPLAAT | D9: UBERT | E9: AK-2 | F9: 204153752 | G9: UITGIFTE | H9: 42005 | I9: 45261 | J9: Ja | K9: 3 | L9: 3 | M9: 3 | N9: 3 | O9: 3
A10: C01.878 | B10: GRILL | C10: KLAPGRILL | D10: CATERCHEF | E10: 688405 | F10: C011610047 | G10: KEUKEN 6E ETAGE | H10: 42370 | I10: 45261 | J10: Ja | L10: 2 | M10: 3 | N10: 3 | O10: 3
A11: C01.879 | B11: WARMHOUD APPARAAT | C11: WARMHOUDLAMP | D11: GROKU | E11: 2 LAMPEN | H11: 42005 | I11: 45261 | J11: Ja | K11: 3 | L11: 3 | M11: 3 | N11: 3 | O11: 3
A12: C01.896 | B12: KOFFIE APPARAAT | C12: KOFFIE ZUIL | D12: BRAVILOR | E12: B5-HW | F12: 805005011001 | H12: 37987 | I12: 45261 | J12: Nee | K12: 3 | L12: 3 | M12: 3 | N12: 3 | O12: 3 | P12: Vaste aansluiting / stekker niet bereikbaar.
A13: C01.903 | B13: FRITEUSE | C13: ELECTRISCHE FRITEUSE | D13: CATERCHEF | E13: 12L | G13: KEUKEN 6E ETAGE | H13: 42370 | I13: 45261 | J13: Nee | K13: 3 | L13: 3 | M13: 3 | N13: 3 | O13: 3 | P13: Vaste aansluiting / stekker niet bereikbaar.
A14: C01.904 | B14: FRITEUSE | C14: ELECTRISCHE FRITEUSE | D14: CATERCHEF | E14: 70FRI/E610 | F14: BN020162640 | G14: KEUKEN 6E ETAGE | H14: 42370 | I14: 45261 | J14: Nee | K14: 3 | L14: 3 | M14: 3 | N14: 3 | O14: 3 | P14: Vaste aansluiting / stekker niet bereikbaar.
A15: C01.905 | B15: COMBI STEAMER | C15: COMBI STAMER | D15: RATIONAL | E15: CMP61 | F15: E61MH15042455215 | G15: KEUKEN 6E ETAGE | H15: 42005 | I15: 45261 | J15: Ja | K15: 2 | L15: 3 | M15: 3 | N15: 3 | O15: 3
A16: C01.906 | B16: VAATWASMACHINE | C16: TRANSPORTBAND | E16: ROLLEN GELEIDING | G16: SPOELKEUKEN 6E ETAGE | I16: 45261 | J16: N.v.t. | K16: 3 | L16: 3 | M16: 3 | N16: 3 | O16: 4
A17: C01.907 | B17: VAATWASMACHINE | C17: VOORSPOELDOUCHE | G17: SPOELKEUKEN 6E ETAGE | I17: 45261 | J17: N.v.t. | K17: 3 | L17: 3 | M17: 3 | N17: 3 | O17: 3
A18: C01.908 | B18: VAATWASMACHINE | C18: DOORSCHUIVER | D18: HOBART | E18: AMX-A-SEF | F18: 866035561 | G18: SPOELKEUKEN 6E ETAGE | H18: 42005 | I18: 45261 | J18: Nee | K18: 3 | L18: 3 | M18: 3 | N18: 3 | O18: 3 | P18: Vaste aansluiting / stekker niet bereikbaar.
A19: C01.909 | B19: VAATWASMACHINE | C19: WATERONTHARDER | D19: LUBRON | E19: MINILINE | F19: 15041402 | G19: OPSLAG | I19: 45261 | J19: Ja | K19: 3 | L19: 3 | M19: 3 | N19: 3 | O19: 3
A20: C07.565 | B20: KOFFIE APPARAAT | C20: KOFFIE APPARAAT | D20: BRAVILOR | E20: MNDWB-021 | F20: 015147103674 | G20: KEUKEN 6E ETAGE | I20: 45261 | J20: Ja | K20: 3 | L20: 3 | M20: 3 | N20: 3 | O20: 3
A21: AL.001 | B21: KOEL/VRIES APPARAAT | C21: KOELBAK | D21: GROKU | E21: 3X1/1GN | G21: 6E VERDIEPING | H21: 42151 | I21: 45231 | J21: Nee | K21: 2 | L21: 2 | M21: 2 | N21: 2 | O21: 3 | P21: Vaste aansluiting / stekker niet bereikbaar.
A22: AL.002 | B22: KOEL/VRIES APPARAAT | C22: WANDKOELING | D22: GROKU | E22: 45011-102A WKM | F22: 45011-102A WKM | G22: 6E VERDIEPING | H22: 42151 | I22: 45231 | J22: Nee | K22: 2 | L22: 2 | M22: 2 | N22: 2 | O22: 3 | P22: Vaste aansluiting / stekker niet bereikbaar.
A23: AL.003 | B23: KOEL/VRIES APPARAAT | C23: WANDKOELING | D23: GROKU | E23: 45011-102B WKM | F23: 45011-102B WKM | G23: 6E VERDIEPING | H23: 42151 | I23: 45231 | J23: Nee | K23: 2 | L23: 2 | M23: 2 | N23: 2 | O23: 3 | P23: Vaste aansluiting / stekker niet bereikbaar.
A24: AL.004 | B24: KOEL/VRIES APPARAAT | C24: KOELBAK | D24: GROKU | E24: 3X1/1GN | F24: ONBEKEND | G24: 6E VERDIEPING | H24: 42151 | I24: 45231 | J24: Nee | K24: 2 | L24: 2 | M24: 2 | N24: 2 | O24: 3 | P24: Vaste aansluiting / stekker niet bereikbaar.
A25: AL.005 | B25: KOEL/VRIES APPARAAT | C25: KOELKAST | D25: CATERTECH | E25: CN8-71-P | F25: 157565 | G25: 6E VERDIEPING | H25: 42151 | I25: 45231 | J25: Nee | K25: 2 | L25: 2 | M25: 2 | N25: 2 | O25: 3 | P25: Vaste aansluiting / stekker niet bereikbaar.
A26: AL.006 | B26: KOEL/VRIES APPARAAT | C26: VRIESKAST | D26: CATERTECH | E26: CF8-71-P | F26: 157564 | G26: 6E VERDIEPING | H26: 42151 | I26: 45231 | J26: Nee | K26: 2 | L26: 2 | M26: 2 | N26: 2 | O26: 3 | P26: Vaste aansluiting / stekker niet bereikbaar.
A27: AL.007 | B27: KOEL/VRIES APPARAAT | C27: KOELKAST | D27: CATERTECH | E27: CN8-142-PP | F27: 157562 | G27: 6E VERDIEPING | H27: 42151 | I27: 45231 | J27: Nee | K27: 2 | L27: 2 | M27: 2 | N27: 2 | O27: 3 | P27: Vaste aansluiting / stekker niet bereikbaar.
A28: AL.008 | B28: KOEL/VRIES APPARAAT | C28: KOELWERKBANK | D28: CATERTECH | E28: PX7-204-PPS3S3 | F28: 157563 | G28: 6E VERDIEPING | H28: 42151 | I28: 45231 | J28: Nee | K28: 2 | L28: 2 | M28: 2 | N28: 2 | O28: 3 | P28: Vaste aansluiting / stekker niet bereikbaar.
A29: AL.009 | B29: KOEL/VRIES APPARAAT | C29: SNACKKOELING | D29: CATERTECH | E29: PX64-159-Z1Z1Z1 | F29: 148805 | G29: 6E VERDIEPING | H29: 42370 | I29: 45231 | J29: Nee | K29: 2 | L29: 2 | M29: 2 | N29: 2 | O29: 3 | P29: Vaste aansluiting / stekker niet bereikbaar.
A30: AL.010 | B30: KOEL/VRIES APPARAAT | C30: VRIESUNIT | D30: WKE | E30: ICF-HL01-T0004Z4 | F30: 1503056-L(2) | G30: DAK 7E VERDIEPING? | H30: 41944 | I30: 45231 | J30: Nee | K30: 2 | L30: 2 | M30: 2 | N30: 2 | O30: 3 | P30: Vaste aansluiting / stekker niet bereikbaar.
A31: AL.011 | B31: KOEL/VRIES APPARAAT | C31: VRIESUNIT | D31: WKE | E31: ICF-HL01-T0004Z4 | F31: 1503056-L(1) | G31: DAK 7E VERDIEPING? | H31: 41944 | I31: 45231 | J31: Nee | K31: 2 | L31: 2 | M31: 2 | N31: 2 | O31: 3 | P31: Vaste aansluiting / stekker niet bereikbaar.
A32: AL.012 | B32: KOEL/VRIES APPARAAT | C32: KOELUNIT | D32: WKE | E32: ICU-CM 08 Z. CD4 | F32: 1503056-B1 | G32: DAK 7E VERDIEPING? | H32: 42151 | I32: 45231 | J32: Nee | K32: 2 | L32: 2 | M32: 2 | N32: 2 | O32: 3 | P32: Vaste aansluiting / stekker niet bereikbaar.
A33: AL.013 | B33: KOEL/VRIES APPARAAT | C33: VRIESKAST | D33: GRAM | E33: F1270CX98S | F33: 10186909 | G33: 6E VERDIEPING | H33: 42584 | I33: 45231 | J33: Nee | K33: 2 | L33: 2 | M33: 2 | N33: 2 | O33: 3 | P33: Vaste aansluiting / stekker niet bereikbaar.
A34: AL.014 | B34: KOEL/VRIES APPARAAT | C34: VRIESKAST | D34: ZANUSSI | G34: AFDELING 220 | I34: 45231 | J34: Nee | K34: 2 | L34: 2 | M34: 2 | N34: 2 | O34: 3 | P34: Vaste aansluiting / stekker niet bereikbaar.

Sheet ZWOK0
A1: UWV ZWOK0 Zwolle
A3: ID-nummer | B3: Groep | C3: Type | D3: Merk | E3: Type | F3: Serienummer | G3: Locatie | H3: Bouwjaar | I3: Laatste onderhoud | J3: NEN keuring | K3: Status 2019 | L3: Status 2020 | M3: Status 2021 | N3: Status 2022 | O3: Status 2023 | P3: Bijzonderheden
A4: 03.503 | B4: COMBI STEAMER | C4: COMBI STEAMER | D4: LEVENTI | E4: MASTERMIND | F4: 069070107 | G4: KEUKEN | H4: 36526 | I4: 45261 | J4: Ja | L4: 3 | M4: 3 | N4: 3 | O4: 3
A5: 03.518 | B5: OVEN | C5: BOOSTER | D5: LEVENTI | E5: BOOSTER | F5: 6080124 | G5: 2 VERDIEPING | H5: 36526 | I5: 45261 | J5: Ja | L5: 3 | M5: 3 | N5: 3 | O5: 4 | P5: Geen onderdelen meer voor te verkrijgen.
A6: C00.187 | B6: OVERIGE APPARATUUR | C6: MIXER | D6: DYNAMIC | E6: MD95 | F6: 20/00819 | G6: KEUKEN | H6: 44044 | I6: 44986 | J6: Ja | N6: 3 | O6: 3
A7: C02.250 | B7: VAATWASMACHINE | C7: VAATWASSER | D7: ZANUSSI | E7: RT140ERPF | F7: 62500001 / PNC 9CGX 533704 08 | G7: SPOELKEUKEN | H7: 38718 | I7: 44986 | J7: Ja | L7: 3 | M7: 3 | N7: 3 | O7: 3
A8: C02.701 | B8: MAGNETRON | C8: MAGNETRON | D8: WHIRLPOOL | E8: MWO611 SL | I8: 44986 | J8: Ja | L8: 3 | M8: 3 | N8: 3 | O8: 3
A9: C02.702 | B9: WARMHOUD APPARAAT | C9: LOWERATOR | D9: MOBILE CONTAINING | E9: 2 TN-MS 240 | F9: 119429 | G9: KEUKEN | H9: 36526 | I9: 44986 | J9: Ja | L9: 3 | M9: 3 | N9: 3 | O9: 3
A10: C02.703 | B10: GRILL | C10: KLAPGRILL | D10: MILAN | E10: 1600X | F10: 2961U2012 | I10: 44986 | J10: Ja | L10: 3 | M10: 3 | N10: 3 | O10: 3
A11: C02.706 | B11: OVERIG | C11: SLANGHASPEL | D11: KLARCO | F11: NTB | G11: SPOELKEUKEN | H11: 36526 | I11: 44986 | J11: N.v.t. | L11: 3 | M11: 3 | N11: 3 | O11: 3
A12: C02.707 | B12: VAATWASMACHINE | C12: WATERONTHARDER | D12: LUBRON | F12: NTB | H12: 36526 | I12: 44986 | J12: Ja | L12: 3 | M12: 3 | N12: 3 | O12: 3
A13: C02.708 | B13: WARMHOUD APPARAAT | C13: WARMTEBRUG | D13: BRILLANT | E13: WT O | G13: 2 VERDIEPING | I13: 44986 | J13: Ja | L13: 3 | M13: 3 | N13: 3 | O13: 3
A14: C02.709 | B14: WARMHOUD APPARAAT | C14: WARMHOUDPLAAT | D14: SCOTT CERAN | E14: ROND | G14: KEUKEN | I14: 44986 | J14: Ja | L14: 3 | M14: 3 | N14: 4 | O14: 3
A15: C02.710 | B15: WARMHOUD APPARAAT | C15: WARMHOUDPLAAT | D15: SCOTT CERAN | E15: ROND | G15: KEUKEN | I15: 44986 | J15: Ja | L15: 3 | M15: 3 | N15: 3 | O15: 3
A16: C02.712 | B16: WARMHOUD APPARAAT | C16: LOWERATOR | D16: MOBILE CONTAINING | E16: THN-MS 240 | F16: 119430 | G16: KEUKEN | H16: 36526 | I16: 44986 | J16: Ja | L16: 3 | M16: 3 | N16: 3 | O16: 3
A17: C02.713 | B17: WARMHOUD APPARAAT | C17: LOWERATOR | D17: MOBILE CONTAINING | E17: SE-MS | F17: ONBEKEND | G17: KEUKEN | H17: 36526 | I17: 44986 | J17: Ja | L17: 3 | M17: 3 | N17: 3 | O17: 3
A18: C02.714 | B18: WARMHOUD APPARAAT | C18: LOWERATOR | D18: MOBILE CONTAINING | E18: SE-MS/SPECIAAL | F18: 114160 | G18: 2E VERDIEPING | H18: 36526 | I18: 44986 | J18: Ja | L18: 3 | M18: 3 | N18: 3 | O18: 3
A19: C02.715 | B19: WARMHOUD APPARAAT | C19: LOWERATOR | D19: MOBILE CONTAINING | E19: THN-MS 240 | F19: 119431 | G19: KEUKEN | H19: 36526 | I19: 44986 | J19: Ja | L19: 3 | M19: 3 | N19: 3 | O19: 3
A20: C02.716 | B20: WARMHOUD APPARAAT | C20: LOWERATOR | D20: MOBILE CONTAINING | E20: SE-MS/SPECIAAL | F20: 114158 | G20: 2E VERDIEPING | H20: 36526 | I20: 44986 | J20: Ja | L20: 3 | M20: 3 | N20: 3 | O20: 3
A21: C02.718 | B21: WARMHOUD APPARAAT | C21: LOWERATOR | D21: MOBILE CONTAINING | E21: 2 TN-MS 240 | F21: 119429 | G21: KEUKEN | H21: 36526 | I21: 44986 | J21: Ja | L21: 3 | M21: 3 | N21: 3 | O21: 3
A22: C02.719 | B22: OVERIG | C22: CITRUSPERS | D22: SANTOS | E22: 10 | I22: 44986 | J22: Ja | L22: 3 | M22: 3 | N22: 3 | O22: 3
A23: C02.720 | B23: WARMHOUD APPARAAT | C23: HOTPOT | D23: DUALIT | E23: DSKH | F23: 7004 | G23: OPSLAG | H23: 42370 | I23: 44986 | J23: Ja | L23: 3 | M23: 3 | N23: 3 | O23: 3
A24: ZW.001 | B24: KOEL/VRIES APPARAAT | C24: KOELCEL | D24: AKE IDEAL | E24: MTE 25 L7 | F24: BG200600026 | G24: MAGAZIJN | H24: 39448 | I24: 44896 | J24: Nee | K24: 2 | L24: 2 | M24: 3 | N24: 3 | O24: 3 | P24: Vaste aansluiting / stekker niet bereikbaar.
A25: ZW.002 | B25: KOEL/VRIES APPARAAT | C25: VRIESCEL | D25: WEHA | E25: VRIESCEL | G25: MAGAZIJN | H25: 39448 | I25: 44896 | J25: Nee | K25: 2 | L25: 2 | M25: 3 | N25: 4 | O25: 4 | P25: Vaste aansluiting / stekker niet bereikbaar.
A26: ZW.003 | B26: KOEL/VRIES APPARAAT | C26: CENTRAAL KOELSYSTEEM | E26: TEKO SPU3 - J9238GS | F26: SP.08.02X1 | G26: DAK 3E | H26: 39448 | I26: 44896 | J26: Nee | K26: 2 | L26: 2 | M26: 2 | N26: 3 | O26: 3 | P26: Vaste aansluiting / stekker niet bereikbaar.
A27: ZW.004 | B27: KOEL/VRIES APPARAAT | C27: KOELWERKBANK | D27: AKE IDEAL | E27: TRRN132C | F27: 62600002 | G27: UITGIFTE | H27: 39448 | I27: 44896 | J27: Nee | K27: 2 | L27: 2 | M27: 2 | N27: 3 | O27: 3 | P27: Vaste aansluiting / stekker niet bereikbaar.
A28: ZW.005 | B28: KOEL/VRIES APPARAAT | C28: WANDKOELING | D28: MAFIROL | E28: M CRONUS PLUS M 2 FV | F28: 618082001 | G28: UITGIFTE REST. | H28: 39448 | I28: 44896 | J28: Nee | K28: 2 | L28: 2 | M28: 2 | N28: 3 | O28: 3 | P28: Vaste aansluiting / stekker niet bereikbaar.
A29: ZW.006 | B29: KOEL/VRIES APPARAAT | C29: SALADEBUFFET | D29: AKE IDEAL | E29: SALADEBUFFET | G29: UITGIFTE | H29: 39448 | I29: 44896 | J29: Nee | K29: 2 | L29: 2 | M29: 2 | N29: 3 | O29: 3 | P29: Vaste aansluiting / stekker niet bereikbaar.
A30: ZW.007 | B30: KOEL/VRIES APPARAAT | C30: SALADEBUFFET | D30: AKE IDEAL | E30: SALADEBUFFET | G30: UITGIFTE | H30: 39448 | I30: 44896 | J30: Nee | K30: 2 | L30: 2 | M30: 2 | N30: 3 | O30: 3 | P30: Vaste aansluiting / stekker niet bereikbaar.
A31: ZW.008 | B31: KOEL/VRIES APPARAAT | C31: KOELWERKBANK | D31: GROKU | E31: 2X HOLLAND KUHLMOBEL | G31: UITGIFTE | H31: 39448 | I31: 44896 | J31: Nee | K31: 2 | L31: 2 | M31: 2 | N31: 3 | O31: 3 | P31: Vaste aansluiting / stekker niet bereikbaar.
A32: ZW.009 | B32: KOEL/VRIES APPARAAT | C32: SCHILFERIJSMACHINE | D32: BLACKBERRY | E32: BLACKBERRY SB90 A MAX R.01 | F32: 140775 | G32: MAGAZIJN | H32: 41640 | I32: 44896 | J32: Nee | K32: 2 | L32: 2 | M32: 2 | N32: 3 | O32: 3 | P32: Vaste aansluiting / stekker niet bereikbaar.
A33: ZW.010 | B33: KOEL/VRIES APPARAAT | C33: KOELVITRINE | D33: AKE IDEAL | E33: BRILLANT O-4/1-70Z | F33: 261280 | G33: UITGIFTE REST. | H33: 39616 | I33: 44896 | J33: Nee | K33: 2 | L33: 2 | M33: 2 | N33: 3 | O33: 3 | P33: Vaste aansluiting / stekker niet bereikbaar.

Sheet HENP1
A1: UWV HENP1 Hengelo
A3: ID-nummer | B3: Groep | C3: Type | D3: Merk | E3: Type | F3: Serienummer | G3: Locatie | H3: Bouwjaar | I3: Laatste onderhoud | J3: NEN keuring | K3: Status 2019 | L3: Status 2020 | M3: Status 2021 | N3: Status 2022 | O3: Status 2023 | P3: Bijzonderheden
A4: C00.185 | B4: WARMHOUD APPARAAT | C4: WARMHOUDPLAAT | D4: ROCAM | I4: 45017 | J4: Ja | N4: 3 | O4: 3
A5: C00.186 | B5: STEAMER | C5: COMBI STEAMER | D5: RATIONAL | E5: E61M | F5: J21112933745 | G5: KEUKEN 9DE ETAGE | H5: 44531 | I5: 44927 | N5: 1 | O5: 2
A6: C02.907 | B6: WARMHOUD APPARAAT | C6: WARMHOUDPLAAT | E6: SOEPPLAATJE | G6: UITGIFTE | I6: 45017 | J6: Ja | L6: 3 | M6: 3 | N6: 3 | O6: 3
A7: C02.903 | B7: KOOKTOESTEL | C7: INDUCTIE KOOKPLAAT | D7: SCHOLL | E7: SU/DU/BA 3500 RT SMP | F7: BA203.00157.0614 | G7: RESTAURANT | H7: 41791 | I7: 45017 | J7: Ja | L7: 2 | M7: 2 | N7: 2 | O7: 3
A8: C02.905 | B8: GRILL | C8: KLAPGRILL | D8: HENDI | I8: 45017 | J8: Ja | M8: 3 | N8: 3 | O8: 3
A9: C02.209 | B9: MAGNETRON | C9: MAGNETRON | D9: KUPPERSBUSH | E9: BT32CF2 | F9: 704449 | G9: RESTAURANT | H9: 41821 | I9: 45017 | J9: Nee | L9: 3 | M9: 3 | N9: 3 | O9: 3 | P9: Vaste aansluiting / stekker niet bereikbaar.
A10: C02.905 | B10: GRILL | C10: GRILL | D10: HENDI | E10: 263808 | F10: 300439-000043 | G10: KEUKEN 9DE ETAGE | H10: 41640 | I10: 45017 | J10: Ja | L10: 3 | M10: 3 | N10: 3 | O10: 3
A11: C02.906 | B11: KOFFIE APPARAAT | C11: KOFFIE APPARAAT | D11: BRAVILOR | E11: MONDO 2 | F11: 20000281363 | H11: 36526 | I11: 45017 | J11: Ja | L11: 3 | M11: 3 | N11: 3 | O11: 3
A12: C02.907 | B12: WARMHOUD APPARAAT | C12: WARMHOUDPLAAT | I12: 45017 | J12: Ja | M12: 3 | N12: 3 | O12: 3
A13: C02.908 | B13: WARMHOUD APPARAAT | C13: WARMHOUDPLAAT | D13: RESTOMAT | E13: SOEPPLAATJE | F13: 191701 | G13: KEUKEN 9DE ETAGE | I13: 45017 | J13: Ja | M13: 3 | N13: 3 | O13: 3
A14: C02.909 | B14: MAGNETRON | C14: MAGNETRON | D14: KUPPERSBUSH | I14: 45017 | J14: Ja | L14: 3 | M14: 3 | N14: 3 | O14: 3
A15: HP.001 | B15: KOEL/VRIES APPARATUUR | C15: KOELVITRINE | D15: GAMKO | E15: AV/MS131H | F15: 201450 485725 | G15: KEUKEN 9DE ETAGE | H15: 41821 | I15: 45017 | J15: Ja | K15: 2 | L15: 2 | M15: 2 | N15: 2 | O15: 3
A16: HP.002 | B16: KOEL/VRIES APPARATUUR | C16: KOELKAST | D16: GRAM | E16: PLUS F1270 | F16: 212 | G16: KEUKEN 9DE ETAGE | H16: 36526 | I16: 45017 | J16: Ja | K16: 2 | L16: 2 | M16: 2 | N16: 2 | O16: 3
A17: HP.003 | B17: KOEL/VRIES APPARATUUR | C17: VRIESKAST | D17: GRAM | E17: PLUS K1270 | F17: 10249674 | G17: KEUKEN 9DE ETAGE | H17: 43040 | I17: 45017 | J17: Ja | K17: 2 | L17: 2 | M17: 2 | N17: 2 | O17: 3
A18: HP.004 | B18: KOEL/VRIES APPARATUUR | C18: VRIESKAST | D18: GRAM | E18: PLUS F1270 | F18: 212 | G18: RESTAURANT KEUKEN | H18: 37257 | I18: 45017 | J18: Ja | K18: 2 | L18: 3 | M18: 3 | N18: 3 | O18: 3 | P18: Ontdooivoeler defect en niet meer leverbaar.Verdamper vriest dan aan.

Sheet LEES0
A1: UWV LEES0 Stationsweg Leeuwarden
A3: ID-nummer | B3: Groep | C3: Type | D3: Merk | E3: Type | F3: Serienummer | G3: Locatie | H3: Bouwjaar | I3: Laatste onderhoud | J3: NEN keuring | K3: Status 2019 | L3: Status 2020 | M3: Status 2021 | N3: Status 2022 | O3: Status 2023
A4: 72371 | B4: OVEN | C4: HETELUCHTOVEN | D4: ALPHATECH | E4: IPX3 | F4: LA020107004 | G4: KEUKEN | H4: 42156 | I4: 44621 | J4: Ja | L4: 3 | M4: 3 | N4: 3 | O4: 3
A5: 72374 | B5: KOOKTOESTEL | C5: KOOKPLAAT | D5: UBERT | E5: AK-2 | F5: 2-0315-3746 | G5: KEUKEN | H5: 36526 | I5: 44621 | J5: Ja | L5: 3 | M5: 3 | N5: 3 | O5: 3
A6: 72377 | B6: GRILL | C6: GRILL | D6: ROLLERGRIL | E6: PANINI R | F6: 150367573 | G6: KEUKEN | H6: 36526 | I6: 44621 | J6: Ja | L6: 3 | M6: 3 | N6: 3 | O6: 3
A7: 72372 | B7: VAATWASSER | C7: VOORLADER | D7: CATERTECH | E7: CTV-VL775HERC | F7: CNA02370315 | G7: KEUKEN | H7: 42370 | I7: 44621 | J7: Ja | L7: 4 | M7: 4 | N7: 4 | O7: 4
A8: 72376 | B8: WARMHOUD APPARAAT | C8: WARMHOUDPLAAT | D8: UBERT | E8: AK-2 | F8: 0916-4511 | G8: KEUKEN | H8: 41275 | I8: 44621 | J8: Ja | L8: 3 | M8: 3 | N8: 3 | O8: 3
A9: 72375 | B9: WARMHOUD APPARAAT | C9: WARMTEBRUG | D9: GROKU | G9: RESTAURANT | I9: 44621 | J9: Ja | L9: 3 | M9: 3 | N9: 3 | O9: 3
A10: LS.001 | B10: KOEL/VRIES APPARAAT | C10: VRIESKAST (HH) | D10: GRAM | E10: F 210 RG 3N | F10: 10170544 | G10: KEUKEN | H10: 36526 | I10: 45017 | J10: Ja | L10: 2 | M10: 2 | N10: 3 | O10: 3
A11: LS.002 | B11: KOEL/VRIES APPARAAT | C11: KOELKAST (HH) | D11: GRAM | E11: K210-RG 3 N | F11: 10169426 | G11: KEUKEN | H11: 42005 | I11: 45017 | J11: Ja | L11: 2 | M11: 2 | N11: 3 | O11: 3
A12: LS.003 | B12: KOEL/VRIES APPARAAT | C12: KOELVITRINE | D12: GAMKO | E12: AV/MS131SF | F12: 201517 494356 | G12: KEUKEN | H12: 42005 | I12: 45017 | J12: Ja | L12: 2 | M12: 2 | N12: 3 | O12: 3
A13: LS.004 | B13: KOEL/VRIES APPARAAT | C13: KOELKAST | D13: GRAM | E13: K 210 RG N | F13: 10169427 | G13: KEUKEN | H13: 42005 | I13: 45017 | J13: Ja | L13: 2 | M13: 2 | N13: 3 | O13: 3
A14: LS.005 | B14: KOEL/VRIES APPARAAT | C14: KOELKAST | D14: GRAM | G14: KEUKEN | I14: 45017 | J14: Ja | L14: 2 | M14: 2 | N14: 3 | O14: 3
A15: LS.006 | B15: KOEL/VRIES APPARAAT | C15: VRIESKAST | D15: LIEBHERR | G15: KEUKEN | I15: 45017 | J15: Ja | L15: 2 | M15: 2 | N15: 3 | O15: 3
A16: LS.007 | B16: KOEL/VRIES APPARAAT | C16: KOELKAST (HH) | D16: SIEMENS | I16: 45017 | J16: Ja | L16: 2 | M16: 2 | N16: 3 | O16: 3

Sheet APER0
A1: UWV Apeldoorn Rietveld
A3: ID-nummer | B3: Groep | C3: Type | D3: Merk | E3: Type | F3: Serienummer | G3: Locatie | H3: Bouwjaar | I3: Laatste onderhoud | J3: NEN keuring | K3: Status 2023 | L3: Bijzonderheden
A4: C07.211 | B4: GRILL | C4: KLAPGRILL | D4: ROLLER GRILL | E4: 2 ZONES 4 E | I4: 45009 | J4: Ja | K4: 3
A5: C07.649 | B5: OVEN | C5: CONVECTIE OVEN | D5: LAINOX | I5: 45009 | J5: Ja | K5: 3
A6: C07.648 | B6: VAATWASMACHINE | C6: VOORLADER | I6: 45009 | J6: Ja | K6: 3
A7: C07.646 | B7: WARMHOUDAPPARAAT | C7: WARMHOUDPLAAT MET LAMP | I7: 45009 | J7: Nee | K7: 3 | L7: Vaste aansluiting / stekker niet bereikbaar.
A8: C07.212 | B8: OVERIGE APPARATUUR | C8: BLENDER | D8: HENDI | I8: 45009 | J8: Ja | K8: 3
A9: C07.647 | B9: WARMHOUDAPPARAAT | C9: WARMHOUDPLAAT | D9: UBERT | I9: 410251 | J9: Ja | K9: 3
A10: C07.650 | B10: WARMHOUDAPPARAAT | C10: WARMHOUDPLAAT | D10: UBERT | I10: 45009 | J10: Ja | K10: 3
A11: SA286775 | B11: KOEL/VRIES APPARAAT | C11: KOELKAST | D11: NEOS | I11: 45013 | J11: Ja | K11: 3
A12: SA286768 | B12: KOEL/VRIES APPARAAT | C12: INBOUWKOELVITRINE | I12: 45013 | J12: Ja | K12: 3
A13: SA286770 | B13: KOEL/VRIES APPARAAT | C13: KOELKAST | D13: NEOS | I13: 45013 | J13: Ja | K13: 3
A14: SA286771 | B14: KOEL/VRIES APPARAAT | C14: VRIESKAST | D14: NEOS | I14: 45013 | J14: Ja | K14: 3

Sheet Pandcode
A1: Adres | B1: Plaats
A2: Willem Dreesweg 16 | B2: Almere | C2: ALMW0
A3: Chasséveld 17 | B3: Breda | C3: BREC3
A4: Magistratenlaan 156-186 | B4: Den Bosch | C4: DENM0
A5: Platinaweg 10 | B5: Den Haag | C5: DENP1
A6: Verheeskade 25 | B6: Den Haag | C6: DENV2
A7: Leeghwaterplein 1 | B7: Den Haag | C7: DENL0
A8: Weizigtweg 33 | B8: Dordrecht | C8: DORW0
A9: Boschdijk 20 | B9: Eindhoven | C9: EINB0
A10: Geerstraat 121 | B10: Heerlen | C10: HEEG0
A11: Vondellaan 55 | B11: Leiden | C11: LEIV5
A12: Laan op Zuid 393 | B12: Rotterdam | C12: ROTL0
A13: Moeder Theresalaan 100 -200 | B13: Utrecht | C13: UTRT0
A14: Prinsessesingel 10 | B14: Venlo | C14: VENP0
