Workbook

Sheet Staat van eenheidsprijzen
A1: Aanbesteding Audiovisuele Middelen en bijbehorende diensten raadzaal Gemeente Halderberge
A4: Bijlage 'Staat van eenheidsprijzen bij prijzenbladen'
A6: Doel tabblad: | B6: In dit tabblad "Staat van eenheidsprijzen" moeten de uurtarieven, tijdens de contractperiode, ingevuld worden. In dit tabblad wordt o.a. ook de uiteindelijke aanbiedingsprijs weergegeven. Dit is de evaluatieprijs die onderdeel wordt van de beoordeling op prijs/ kwaliteit. Op dit tabblad moet de inschrijver ook (middels een rechtgeldig ondertekenaar) tekenen voor deze eindprijzen en uurtarieven.
B7: Van alle 6 tabbladen dient u er 4 in te vullen. Het andere tabblad wordt geautomatiseerd ingevuld.
A8: Invoer | B8: U dient alle onderstaande zandkleurige cellen in te vullen! De overige gekleurde cellen worden automatisch ingevuld.
A10: De inschrijver vult onder 'uurtarieven' in de zandkleurige velden de uurtarieven in voor de diverse type medewerkers. De uurtarieven zijn marktconform. De uurtarieven zijn o.a. inclusief reis, transport en verblijfkosten (zie PvE). De ingevulde bedragen zijn bindend voor de gehele contractduur. Alleen de uurtarieven mogen in overleg met de opdrachtgever aangepast worden op basis van de CPI index zie aanbestedingsdocumenten). De bedragen worden ook als uitgangspunt genomen voor de uren die u invult in de volgende tabbladen.
A12: Uurtarieven (alle bedragen zijn netto-bedragen exclusief BTW) | C12: Ingevulde bedragen zijn exclusief 21% BTW
B13: Projectleider (wordt alleen ingezet bij uitbreidingen die projectmatig moeten worden opgepakt en niet voor kleinschalige opdrachten): | C13: 0
B14: Installatietechnicus (wordt niet ingezet voor preventieve en correctieve onderhoudswerkzaamheden): | C14: 0
B15: Programmeur (wordt niet ingezet voor preventieve en correctieve onderhoudswerkzaamheden): | C15: 0
B16: Werkvoorbereider (wordt niet ingezet voor preventieve en correctieve onderhoudswerkzaamheden): | C16: 0
B17: Tekenaar (wordt niet ingezet voor preventieve en correctieve onderhoudswerkzaamheden): | C17: 0
B18: Trainer (wordt ingezet als opdrachtgever aangeeft dat training nodig is): | C18: 0
B19: Servicetechnicus (wordt alleen ingezet voor correctief onderhoud): | C19: 0
B20: Bedieningstechnicus (wordt alleen ingezet ter ondersteuning van evenementen en vergaderingen): | C20: 0
B21: Onderhoudstechnicus (wordt alleen ingezet voor preventief onderhoud): | C21: 0
A23: Aanbiedingsprijs (alle bedragen zijn exclusief BTW): | C23: Ingevulde bedragen zijn exclusief 21% BTW
B24: Prijs voor audiovisuele apparatuur en software t.b.v. raadzaal inclusief randapparatuur, installatie en training. | C24: =Verzamelblad!C11+Verzamelblad!C15 -> 0
B25: Totaal Exploitatiekosten en assistentie bij raads- en commissievergaderingen voor een periode van 2 jaar na oplevering en 2 x 2 optiejaren | C25: =Verzamelblad!C21 -> 0
B27: Totaal aanbiedingsprijs voor de looptijd van de overeenkomst. (exclusief 21% BTW) | C27: =SUM(C24:C25) -> 0
A29: Algemene toelichting NB. Inschrijver verzorgt een concrete aanbieding voor de audiovisuele inrichting van de Raadzaal voor de gemeente Halderberge op basis van audiovisuele apparatuur, randapparatuur en installatie, alsmede implementatie, programmering, training, etc., middels een korting op de bruto prijs (marktconform en verifieerbaar in de markt). Verder verzorgt de inschrijver een aanbieding voor een SLA. De aanbiedingen kunnen gerealiseerd worden door het invullen van de volgende invulcalculatiesheets (men hoeft het verzamelbald niet in te vullen). Inschrijver vult alleen prijzen in op de zandkleurige velden in de betreffende tabbladen. De inschrijver is verplicht om per merk in diverse tabbladen dezelfde kortingspercentages te hanteren. Negatieve kortingen zijn niet toegestaan. Inschrijver dient bij het bepalen van zijn prijs zelf rekening te houden met indexering. De aanbieding voor dit project is bindend. Indien wijzigingen in de opgegeven eenheidsprijzen noodzakelijk zijn, bijvoorbeeld als gevolg van het niet meer leverbaar zijn van bepaalde apparatuur, moeten de nieuwe prijzen gebaseerd zijn op de kortingsstructuur zoals bij inschrijving aangeboden. Ook apparatuur voor nieuwe projecten moet gebaseerd zijn op de betreffende kortingsstructuur en uurtarieven. Jaarlijkse bedragen voor mogelijke licenties moeten voor de gehele looptijd van het contract opgenomen worden. U dient het jaarlijkse bedrag te vermenigvuldigen met het aantal jaren contractduur als hier in de prijzenbladen geen invulveld voor beschikbaar is. De inschrijfprijs voor de uitvoering van de totale opdracht moet zijn gebaseerd op alle informatie vanuit de aanbestedingsdocumenten (en bijlagen) en eventuele nota(‘s) van inlichtingen. Van Inschrijver wordt tevens verwacht dat hij op basis van zijn kennis en ervaring bij het bepalen van zijn inschrijfprijs rekening houdt met alle mogelijke risico’s die zich kunnen voordoen bij de uitvoering van de opdracht en hiervoor beheersmaatregelen bedenkt. Het gaat daarbij om risico’s die binnen zijn invloedssfeer liggen (‘technische risico’s’) en risico’s die buiten zijn invloedssfeer liggen (‘risico’s van buitenaf’). Indien de beheersmaatregelen kosten met zich meebrengen, dient Inschrijver deze kosten mee te nemen in zijn Inschrijfprijs. Inschrijver mag geen wijzigingen aanbrengen aan de rekenformules betreffende de calculaties in de tabbladen. De ingevulde prijzen, subtotalen, kortingen per merk en eindprijs zijn bindend. Er mogen geen rechten ontleend worden aan de totale aanbiedingsprijs.
B32: Naam (rechtsgeldig ondertekenaar)
B34: Functie (rechtsgeldig ondertekenaar)
B36: Bedrijfsnaam
B38: Handtekening
B40: Datum
B45: Invulinstructie ondertekenen: De inschrijver vult de naam en functie van de rechtsgeldig ondertekenaar, de bedrijfsnaam, de handtekening en de datum in, in de zandkleurige velden. De Inschrijver zorgt tevens voor een scan (in PDF formaat) van dit tabblad met een officiële handtekening van de rechtsgeldige functionaris als bijlage bij de aanbieding.

Sheet Verzamelblad
A1: Aanbesteding Audiovisuele Middelen en bijbehorende diensten raadzaal Gemeente Halderberge
A4: Verzamelblad - ! Niet invullen !
A6: Doel tabblad: Dit tabblad is een verzamelblad waarin alle subtotalen van de diverse tabbladen verzameld en indien nodig opgeteld worden. De eindprijs komt overeen met de eindprijs in tabblad "Staat van eenheidsprijzen".
A8: Tabbladen | B8: Subtotaal | C8: Totaalprijs
A9: Audiovisuele apparatuur Raadzaal (nettoprijs) | B9: =' Raadzaal '!G374 -> 0
A10: Installatiekosten Raadzaal | B10: =' Raadzaal '!G375 -> 0
A11: Totaal aanbieding Raadzaal | C11: =B9+B10 -> 0
A13: Training eerstelijnsservice medewerkers | B13: =Training!D10 -> 0
A14: Training Griffiemedewerkers en andere medewerkers | B14: =Training!D11 -> 0
A15: Totaal training | C15: =B13+B14 -> 0
A17: Exploitatiekosten
A18: SLA prijs t.b.v.raadzaal 4 jaar + 2 x 1 optiejaar | B18: =Exploitatiekosten!B16 -> 0
A19: Maintenance kosten t.b.v. vergadermanagement systeem voor raadzaal 4 jaar + 2 x 1 optiejaar | B19: =Exploitatiekosten!B32 -> 0
A20: Technische assistentie Raadzaal (nettoprijs) | B20: ='Technische assistentie'!D10 -> 0
A21: Totaal exploitatiekosten exploitatiekosten | C21: =SUM(B18:B20) -> 0
A23: Totaal aanbiedingsprijs voor de looptijd van de overeenkomst . (exclusief 21% BTW) | C23: =SUM(C11:C21) -> 0

Sheet  Raadzaal 
A1: Aanbesteding Audiovisuele Middelen en bijbehorende diensten raadzaal Gemeente Halderberge
A4: Prijs invulformulier voor ''Raadzaal'' - ! Zie invulinstructie onder aan tabblad !
A6: Doel tabblad: | B6: Dit tabblad moet inzicht geven in de prijs die de inschrijver rekent voor levering en installatie van apparatuur en software voor de Raadzaal . Het eindbedrag telt mee bij de beoordeling op prijs. De inschrijver vult de bruto lijstprijzen en de korting in voor de betreffende apparatuur en geeft aan hoeveel uren men per techniscus nodig heeft voor de installatie. Het netto bedrag incusief installatiekosten telt mee voor de beoordeling op prijs. Hier kunnen geen rechten aan ontleend worden.
A8: Aantal | B8: Merk | C8: Typenummer | D8: Omschrijving | E8: Bruto adviesprijs excl. 21% BTW | F8: Kortings- percentage | G8: Totaal Netto prijs excl. 21% BTW | H8: Subtotaal Netto prijs excl. 21% BTW
A9: Discussiesysteem op basis van o.a. 30 tabletop draadloze multimedia discussieposten (inclusief voorzitterspost of als voorzitterpost te configureren), accus's, acculaders, flightcases, centrale unit (PC) en/of WAP, microfoons, ID passen, licenties voor ID pas identificatie, 25 voor voting. Plus wat verder nodig is op basis van het PvE.
G10: =(E10-(E10*F10/100))*A10 -> 0
G11: =(E11-(E11*F11/100))*A11 -> 0
G12: =(E12-(E12*F12/100))*A12 -> 0
G13: =(E13-(E13*F13/100))*A13 -> 0
G14: =(E14-(E14*F14/100))*A14 -> 0
G15: =(E15-(E15*F15/100))*A15 -> 0
G16: =(E16-(E16*F16/100))*A16 -> 0
G17: =(E17-(E17*F17/100))*A17 -> 0
G18: =(E18-(E18*F18/100))*A18 -> 0
G19: =(E19-(E19*F19/100))*A19 -> 0
G20: =(E20-(E20*F20/100))*A20 -> 0
G21: =(E21-(E21*F21/100))*A21 -> 0
... G29: =(E29-(E29*F29/100))*A29 -> 0
H30: =SUM(G10:G30) -> 0
A32: Vergadermanagement systeem t.b.v. specifieke functionaliteit bij raadsvergaderingen en commissievergaderingen inclusief camera regie systeem, op basis van eisen in dit PvE.
G33: =(E33-(E33*F33/100))*A33 -> 0
G34: =(E34-(E34*F34/100))*A34 -> 0
G35: =(E35-(E35*F35/100))*A35 -> 0
G36: =(E36-(E36*F36/100))*A36 -> 0
G37: =(E37-(E37*F37/100))*A37 -> 0
G38: =(E38-(E38*F38/100))*A38 -> 0
G39: =(E39-(E39*F39/100))*A39 -> 0
G40: =(E40-(E40*F40/100))*A40 -> 0
G41: =(E41-(E41*F41/100))*A41 -> 0
G42: =(E42-(E42*F42/100))*A42 -> 0
G43: =(E43-(E43*F43/100))*A43 -> 0
G44: =(E44-(E44*F44/100))*A44 -> 0
... G66: =(E66-(E66*F66/100))*A66 -> 0
B67: Denk ook om:HD-SDI Mixer en randapparatuur | G67: =(E67-(E67*F67/100))*A67 -> 0
B68: Tablet PC met laadvoorziening en Wifi access point: | G68: =(E68-(E68*F68/100))*A68 -> 0
B69: Wifi access point: | G69: =(E69-(E69*F69/100))*A69 -> 0
B70: UPS: | G70: =(E70-(E70*F70/100))*A70 -> 0
G71: =(E71-(E71*F71/100))*A71 -> 0 | H71: =SUM(G33:G71) -> 0
B73: Oplossing voor op afstand deelnemen aan raadsvergaderingen
G74: =(E74-(E74*F74/100))*A74 -> 0
G75: =(E75-(E75*F75/100))*A75 -> 0
G76: =(E76-(E76*F76/100))*A76 -> 0
G77: =(E77-(E77*F77/100))*A77 -> 0
G78: =(E78-(E78*F78/100))*A78 -> 0
G79: =(E79-(E79*F79/100))*A79 -> 0
G80: =(E80-(E80*F80/100))*A80 -> 0
B81: Denk om alle bijkomende kosten. | G81: =(E81-(E81*F81/100))*A81 -> 0 | H81: =SUM(G74:G81) -> 0
B83: HD PTZ camera's (5x) + HD (PTZ)overzichtscaamera
G84: =(E84-(E84*F84/100))*A84 -> 0
G85: =(E85-(E85*F85/100))*A85 -> 0
G86: =(E86-(E86*F86/100))*A86 -> 0
G87: =(E87-(E87*F87/100))*A87 -> 0
G88: =(E88-(E88*F88/100))*A88 -> 0
G89: =(E89-(E89*F89/100))*A89 -> 0 | H89: =SUM(G84:G89) -> 0
B91: Netwerkswitch
G92: =(E92-(E92*F92/100))*A92 -> 0
G93: =(E93-(E93*F93/100))*A93 -> 0
G94: =(E94-(E94*F94/100))*A94 -> 0
G95: =(E95-(E95*F95/100))*A95 -> 0 | H95: =SUM(G92:G95) -> 0
B97: 2 x LED scherm incl. randapparatuur en installatie (naximaal € 84.000,- ex BTW)
G98: =(E98-(E98*F98/100))*A98 -> 0
G99: =(E99-(E99*F99/100))*A99 -> 0
G100: =(E100-(E100*F100/100))*A100 -> 0
G101: =(E101-(E101*F101/100))*A101 -> 0
G102: =(E102-(E102*F102/100))*A102 -> 0
G103: =(E103-(E103*F103/100))*A103 -> 0
G104: =(E104-(E104*F104/100))*A104 -> 0
G105: =(E105-(E105*F105/100))*A105 -> 0
G106: =(E106-(E106*F106/100))*A106 -> 0
G107: =(E107-(E107*F107/100))*A107 -> 0
G108: =(E108-(E108*F108/100))*A108 -> 0
G109: =(E109-(E109*F109/100))*A109 -> 0
... G112: =(E112-(E112*F112/100))*A112 -> 0
G113: =(E113-(E113*F113/100))*A113 -> 0 | H113: =SUM(G98:G113) -> 0
B115: Luidsprekers (8x) en bijbehorende versterker (inclusief bevestigingsmaterialen).
G116: =(E116-(E116*F116/100))*A116 -> 0
G117: =(E117-(E117*F117/100))*A117 -> 0
G118: =(E118-(E118*F118/100))*A118 -> 0
G119: =(E119-(E119*F119/100))*A119 -> 0
G120: =(E120-(E120*F120/100))*A120 -> 0
G121: =(E121-(E121*F121/100))*A121 -> 0
G122: =(E122-(E122*F122/100))*A122 -> 0
G123: =(E123-(E123*F123/100))*A123 -> 0
G124: =(E124-(E124*F124/100))*A124 -> 0
G125: =(E125-(E125*F125/100))*A125 -> 0 | H125: =SUM(G116:G125) -> 0
B127: Plafond luidssprekers (8x) en bijbehorende versterker (inclusief bevestigingsmaterialen).
G128: =(E128-(E128*F128/100))*A128 -> 0
G129: =(E129-(E129*F129/100))*A129 -> 0
G130: =(E130-(E130*F130/100))*A130 -> 0
G131: =(E131-(E131*F131/100))*A131 -> 0
G132: =(E132-(E132*F132/100))*A132 -> 0
G133: =(E133-(E133*F133/100))*A133 -> 0
G134: =(E134-(E134*F134/100))*A134 -> 0
G135: =(E135-(E135*F135/100))*A135 -> 0
G136: =(E136-(E136*F136/100))*A136 -> 0
G137: =(E137-(E137*F137/100))*A137 -> 0 | H137: =SUM(G128:G137) -> 0
B139: De audio DSP 1x
G140: =(E140-(E140*F140/100))*A140 -> 0
G141: =(E141-(E141*F141/100))*A141 -> 0
G142: =(E142-(E142*F142/100))*A142 -> 0
...

Sheet Technische assistentie
A1: Aanbesteding Audiovisuele Middelen en bijbehorende diensten raadzaal Gemeente Halderberge
A4: Technische Ondersteuing - ! Let op hier niets invullen !
A5: Doel Tabblad: | B5: Inschrijver geeft hiermee, geautomatiseerd, een prijs voor technische ondersteuning door bedieningstechnici bij raadsvergaderingen en commissievergaderingen. Het aantal geraamde uren per jaar is ingevuld door de aanbestedende dienst. Het uurtarief voor de bedieningstechnicus heeft u al ingevuld in het tabblad 'Staat van eenheidsprijzen'. Het eindbedrag wordt meegeteld bij de beoordeling op prijs. Aan de uren en de bedragen mogen geen rechten ontleend worden.
A7: Aantal uren | B7: Omschrijving | C7: Netto uurprijs excl. 21% BTW | D7: Totaal Netto prijs excl. 21% BTW
A8: 70 | B8: Bedieningstechnicus per uur gedurende eerste drie raadsvergaderingen en 11 commissievergaderingen | C8: ='Staat van eenheidsprijzen'!C20 -> 0 | D8: =A8*C8 -> 0
B10: Totaal bedieningskosten tijdens contractperiode exclusief 21% BTW | D10: =D8 -> 0
B11: Het eindbedrag telt mee mee bij de beoordeling op prijs. Het aantal opgegeven uren betreft een realistische indicatie. Opdrachtgever heeft geen afnameverplichting van het aantal uren. Meer- of minderuren worden conform het opgegeven uurtarief afgerekend.

Sheet Training
A1: Aanbesteding Audiovisuele Middelen en bijbehorende diensten raadzaal Gemeente Halderberge
A4: Training medewerkers t.b.v. Eerstelijnsservice en bediening systeem (raadzaal ) ! Zie invulinstructie onder aan tabblad.
A6: Doel van dit tabblad: Dit tabblad moet inzicht geven in de prijs die de inschrijver rekent voor het trainen van de medewerkers van de Opdrachtgever. De eindprijs telt mee bij de beoordeling op prijs.
A8: Omschrijving | B8: Aantal uren | C8: Uurtarief trainer | D8: Netto prijs excl. BTW
A10: Prijs training medewerkers Opdrachtgever t.b.v. eerste lijns correctief onderhoud en bediening installaties raadzaal | C10: ='Staat van eenheidsprijzen'!C18 -> 0 | D10: =B10*C10 -> 0
A11: Prijs training medewerkers Griffie en andere medewerkers van de Opdrachtgever in het gebruik van het totale AV-systeem | C11: ='Staat van eenheidsprijzen'!C18 -> 0 | D11: =B11*C11 -> 0
A14: Totaal training medewerkers Opdrachtgever exclusief BTW | D14: =SUM(D10:D11) -> 0
A18: Invulinstructie: In de zandkleurige velden vult u het aantal uren in dat u nodig heeft voor de training van de medewerkers van de opdrachtgever t.b.v. eerste lijns correctief onderhoud. In het tweede zandkleurige veld vult u het aantal uren in dat u nodig heeft voor het trainen van medewerkers van de Griffie en andere medewerkers van de opdrachtgever in het gebruik van het totale AV-systeem inclusief opties. Het uurtarief van de trainer heeft u al ingevuld in het tabblad 'Staat van eenheidsprijzen'.

Sheet Exploitatiekosten
A1: Aanbesteding Audiovisuele Middelen en bijbehorende diensten raadzaal Gemeente Halderberge
A4: SLA kosten op basis van 4 jaar en 2 x 1 optiejaar - ! Zie invulinstructie onder berekening exploitatiekosten per onderdeel. !
A5: Doel tabblad: Dit tabblad dient ervoor om de prijs van de inschrijver m.b.t. de onderhoudskosten vast te leggen. Dit betreft de totaalprijs voor onderhoud (preventief en correctief), de prijs voor een maintenance overeenkomst t.b.v. het vergadermanagementsysteem. De inschrijver dient hierbij rekening te houden met alle mogelijke werkzaamheden zoals omschreven in het PvE. De totaalprijs voor de exploitatiekosten telt mee bij de beoordeling op prijs.
A7: Omschrijving | B7: Netto SLA prijs t.b.v. Raadzaal excl. 21% BTW
A8: SLA prijs (preventief en correctief onderhoud) t.b.v. apparatuur raadzaal
A9: Prijs SLA afspraken t.b.v. apparatuur raadzaal voor jaar 1 (jaar met volledige garantie op nieuwe apparatuur en installatie in de raadzaal uitgezonderd de her te gebruiken apparatuur)
A10: Prijs SLA afspraken t.b.v. apparatuur raadzaal voor jaar 2 (jaar met volledige garantie op nieuwe apparatuur in de raadzaal uitgezonderd de her te gebruiken apparatuur)
A11: Prijs SLA afspraken t.b.v. apparatuur raadzaal voor jaar 3 (jaar met volledige garantie op nieuwe apparatuur in de raadzaal uitgezonderd de her te gebruiken apparatuur)
A12: Prijs SLA afspraken t.b.v. apparatuur raadzaal voor jaar 4
A13: Prijs SLA afspraken t.b.v. apparatuur raadzaal voor jaar 5
A14: Prijs SLA afspraken t.b.v. apparatuur raadzaal voor jaar 6
A16: Totaal SLA afspraken voor 6 jaar exclusief 21% BTW | B16: =SUM(B9:B14) -> 0
A18: Invulinstructie: In de zandkleurige velden vult u uw aanbiedingsprijs in voor de SLA kosten t.b.v. de audiovisuele apparatuur in de raadzaal op basis van de door u aangeboden apparatuur en installatie . U vult een prijs in per jaar.
A22: Omschrijving | B22: Prijs maintenance overeenkomt per jaar t.b.v. Vergadermanagement systeem voor raadzaal Netto prijs excl. 21% BTW
A24: Maintenance overeenkomst t.b.v. vergadermanagement systemen voor raadzaal | B24: Raadzaal
A25: Prijs maintenance overeenkomst t.b.v. Vergadermanagement systemen voor jaar 1
A26: Prijs maintenance overeenkomst t.b.v. Vergadermanagement systemen voor jaar 2
A27: Prijs maintenance overeenkomst t.b.v. Vergadermanagement systemen voor jaar 3
A28: Prijs maintenance overeenkomst t.b.v. Vergadermanagement systemen voor jaar 4
A29: Prijs maintenance overeenkomst t.b.v. Vergadermanagement systemen voor jaar 5
A30: Prijs maintenance overeenkomst t.b.v. Vergadermanagement systemen voor jaar 6
A32: Maintenance kosten vergadermanagement systeem totaal voor 6 jaar | B32: =SUM(B25:B30) -> 0
A34: Invulinstructie: In de zandkleurige velden vult u uw aanbiedingsprijs in voor de maintenance kosten op basis van het mogelijk door u aangeboden vergadermanagement/cameraregie systeem. U vult een prijs in per jaar.
A37: Totaal exploitatiekosten gedurende 6 jaar | B37: =B16+B32 -> 0
