Workbook

Sheet Gemeentehuis, wer, milieu, WeCo
B1: Foamdispenser | C1: Toiletrolautomaat | D1: Vouwhanddoekhouder | E1: Toiletborstelgarnituur | F1: Ladybox + zakje houder | G1: Schoonloopmat * 1x per 4 weken wisselen | H1: Prullenbak | I1: Luchtverfrisser | J1: Matjes urinoir
A2: GEMEENTEHUIS
A3: Hoofdingang gemeentehuis | G3: 1
A4: Personeelsingang | G4: 1
A5: Bedrijfsrestaurant
A7: Kelder | G7: 1
A8: 0.04 Douche
A10: 0.06 Dames-/herentoilet (1) | B10: 1 | C10: 1 | D10: 1 | E10: 1 | F10: 1 | H10: 1 | I10: 1
A12: Begane grond - hal (± 85 gebruikers per dag)
A13: 0.16 Damestoilet (2) | B13: 1 | C13: 2 | D13: 1 | E13: 2 | F13: 2 | H13: 1 | I13: 2
A14: 0.17 Herentoilet (2) | B14: 1 | C14: 2 | D14: 1 | E14: 2 | H14: 1 | I14: 2 | J14: 2
A15: Invaliden publiekstoilet (1) | B15: 1 | C15: 1 | D15: 1 | E15: 1 | F15: 1 | H15: 1 | I15: 1
A16: Pantry(2) | B16: 2 | D16: 1
A18: Bestuursvleugel 1e verdieping C vleugel (± 52 gebruikers per dag)
A19: 1.40 Damestoilet (2) | B19: 1 | C19: 2 | D19: 1 | E19: 2 | F19: 2 | H19: 1 | I19: 2
A20: 1.39 Herentoilet (2) | B20: 1 | C20: 2 | D20: 1 | E20: 2 | H20: 1 | I20: 2
A21: Pantry | B21: 1 | D21: 1
A23: Vergadervleugel (± 50 gebruikers per dag)
A24: Damestoilet (3) | B24: 2 | C24: 3 | D24: 1 | E24: 3 | F24: 3 | H24: 1 | I24: 3
A25: Herentoilet (3) | B25: 2 | C25: 3 | D25: 1 | E25: 3 | H25: 1 | I25: 3 | J25: 3
A26: Pantry | B26: 1 | D26: 1
A27: Invalidentoilet | B27: 1 | C27: 1 | D27: 1 | E27: 1 | F27: 1 | H27: 1 | I27: 1
A29: A vleugel 1e verdieping (± 56 gebruikers per dag)
A30: 1.02 Damestoilet (2) | B30: 1 | C30: 2 | D30: 1 | E30: 2 | F30: 2 | H30: 1 | I30: 2
A31: 1.03 Herentoilet (2) | B31: 1 | C31: 2 | D31: 1 | E31: 2 | H31: 1 | I31: 2
A32: 1.21 Kolfruimte | B32: 1 | D32: 1
A33: Pantry | B33: 1 | D33: 1
A35: A vleugel 2e verdieping (± 50 gebruikers)
A36: 2.02 Damestoilet (2) | B36: 1 | C36: 2 | D36: 1 | E36: 2 | F36: 2 | H36: 1 | I36: 2
A37: 2.03 Herentoilet (2) | B37: 1 | C37: 2 | D37: 1 | E37: 2 | H37: 1 | I37: 2
A38: Pantry | B38: 1 | D38: 1
A40: A vleugel 3e verdieping (± 55 gebruikers per dag)
A41: 3.02 Damestoilet (2) | B41: 1 | C41: 2 | D41: 1 | E41: 2 | F41: 2 | H41: 1 | I41: 2
A42: 3.03 Herentoilet (2) | B42: 1 | C42: 2 | D42: 1 | E42: 2 | H42: 1 | I42: 2
A43: Pantry | B43: 1 | D43: 1
A45: GEMEENTEWERF (± 50 gebruikers per dag)
A46: Was-/kleedruimte dames
A47: Toilet (1) / Douche (1) | B47: 1 | C47: 1 | D47: 1 | E47: 1 | F47: 1 | H47: 1 | I47: 1
A48: Was-/kleedruimte heren
A49: Toiletten (2) / Douche (1) | B49: 1 | C49: 2 | D49: 1 | E49: 2 | H49: 1 | I49: 2 | J49: 2
A50: Toilet werkplaats (1) | B50: 1 | C50: 1 | D50: 1 | E50: 1 | H50: 1 | I50: 1
A51: Schoonloopmat | G51: 2
A52: MILIEUSTRAAT (± 10 gebruikers per dag)
A53: Was-/kleedruimte
A54: Toilet (1) | B54: 1 | C54: 1 | D54: 1 | E54: 1 | H54: 1 | I54: 1
A55: Pantry | B55: 1 | D55: 1
A56: Schoonloopmat | G56: 1
A57: WERKCORPORATIE (± 14 gebruikers per dag)
A58: Damestoilet | C58: 1 | E58: 1 | F58: 1
A59: Herentoilet | C59: 1 | E59: 1
A60: Gezamenlijk halletje voor dames- en herentoilet | B60: 1 | D60: 1 | H60: 1 | I60: 1
A61: Invalidentoilet | B61: 1 | C61: 1 | D61: 1 | F61: 1 | H61: 1 | I61: 1
A62: Openbaar toilet | C62: 1 | E62: 1 | F62: 1
A64: BRANDWEER (+/- 10 gebruikers per dag)
A65: Damestoilet | B65: 1 | C65: 1 | D65: 1 | E65: 1 | F65: 1 | H65: 1
A66: Herentoilet | B66: 1 | C66: 1 | D66: 1 | E66: 1 | H66: 1
A69: Totaal | B69: =SUM(B3:B68) -> 34 | C69: =SUM(C3:C68) -> 40 | D69: =SUM(D3:D68) -> 31 | E69: =SUM(E3:E68) -> 39 | F69: =SUM(F3:F68) -> 21 | G69: =SUM(G3:G68) -> 6 | H69: =SUM(H3:H68) -> 23 | I69: =SUM(I3:I68) -> 36 | J69: =SUM(J3:J68) -> 7

Sheet Gymzalen en sporthallen
B1: Zeepdispenser | C1: Foamdispenser | D1: Toiletrolautomaat | E1: Handdoekautomaat | F1: Toiletborstelgarnituur | G1: Ladybox | H1: Schoonloopmat 180 x 115 cm. * 1x per 4 weken wisselen | I1: Prullenbak | J1: Luchtverfrisser
A2: GYMZALEN
A3: Emmeloord (per zaal ± 700 gebruikers per week)
A5: Gymzaal Meteorenstraat
A6: Damestoilet | D6: 1 | E6: 1 | F6: 1
A7: Herentoilet | D7: 1 | E7: 1 | F7: 1
A8: Kleedruimte scheidsrechter/docent | D8: 1 | E8: 1 | F8: 1
A10: Gymzaal Lijsterbesstraat
A11: Damestoilet | B11: 1 | D11: 1 | E11: 1 | F11: 1 | I11: 1
A12: Herentoilet | B12: 1 | D12: 1 | E12: 1 | F12: 1 | I12: 1
A13: Kleedruimte scheidsrechter/docent | B13: 1 | D13: 1 | E13: 1 | F13: 1 | I13: 1
A14: Invalidentoilet centrale hal | B14: 1 | D14: 1 | E14: 1 | F14: 1 | I14: 1
A16: Gymzaal Skagerrak
A17: Damestoilet | D17: 1 | E17: 1 | F17: 1 | I17: 1
A18: Herentoilet | D18: 1 | E18: 1 | F18: 1 | I18: 1
A19: Kleedruimte scheidsrechter/docent | D19: 1 | E19: 1 | F19: 1 | I19: 1
A21: Gymzaal De Erven Oost/West
A22: Gymzaal Oost
A23: Damestoilet | D23: 1 | E23: 1 | F23: 1 | I23: 1
A24: Herentoilet | D24: 1 | E24: 1 | F24: 1 | I24: 1
A25: Kleedruimte scheidsrechter/docent | D25: 1 | E25: 1 | F25: 1 | I25: 1
A26: Invalidentoilet centrale hal | B26: 1 | D26: 1 | E26: 1 | F26: 1 | I26: 1
A27: Gymzaal West
A28: Damestoilet | D28: 1 | E28: 1 | F28: 1 | I28: 1
A29: Herentoilet | D29: 1 | E29: 1 | F29: 1 | I29: 1
A30: Kleedruimte scheidsrechter/docent | B30: 1 | D30: 1 | E30: 1 | F30: 1 | I30: 1
A32: Gymzaal De Zeevaarder
A33: Damestoilet | D33: 1 | E33: 1 | F33: 1 | I33: 1
A34: Herentoilet | D34: 1 | E34: 1 | F34: 1 | I34: 1
A35: Kleedruimte scheidsrechter/docent | B35: 1 | D35: 1 | E35: 1 | F35: 1 | I35: 1
A37: Gymzaal Pampuspad
A38: Damestoilet | D38: 1 | E38: 1 | F38: 1 | I38: 1
A39: Herentoilet | D39: 1 | E39: 1 | F39: 1 | I39: 1
A40: Kleedruimte scheidsrechter/docent | D40: 1 | E40: 1 | F40: 1 | I40: 1
A41: Douches
A43: Espel (± 330 gebruikers per week)
A44: Gymzaal Espel
A45: Damestoilet | D45: 1 | E45: 1 | F45: 1 | I45: 1
A46: Herentoilet | D46: 1 | E46: 1 | F46: 1 | I46: 1
A47: Kleedruimte scheidsrechter/docent | D47: 1 | E47: 1 | F47: 1 | I47: 1
A49: Rutten (± 330 gebruikers per week)
A50: Gymzaal De Kwartslag
A51: Damestoilet | D51: 1 | E51: 1 | F51: 1 | I51: 1
A52: Herentoilet | D52: 1 | E52: 1 | F52: 1 | I52: 1
A53: Kleedruimte scheidsrechter/docent | B53: 1 | D53: 1 | E53: 1 | F53: 1 | I53: 1
A55: Bant (± 330 gebruikers per week)
A56: Gymzaal Bant
A57: Damestoilet | D57: 1 | E57: 1 | F57: 1 | I57: 1
A58: Herentoilet | D58: 1 | E58: 1 | F58: 1 | I58: 1
A59: Kleedruimte scheidsrechter/docent | D59: 1 | E59: 1 | F59: 1 | I59: 1
A61: Luttelgeest (± 330 gebruikers per week)
A62: Gymzaal Luttelgeest
A63: Damestoilet | D63: 1 | E63: 1 | F63: 1 | I63: 1
A64: Herentoilet | D64: 1 | E64: 1 | F64: 1 | I64: 1
A65: Kleedruimte scheidsrechter/docent | D65: 1 | E65: 1 | F65: 1 | I65: 1
A67: Kraggenburg (± 330 gebruikers per week)
A68: Gymzaal Kraggenburg
A69: Dameskleedkamer | I69: 1
A70: Damestoilet | D70: 1 | E70: 1 | F70: 1 | I70: 1
A71: Herenkleedkamer | I71: 1
A72: Herentoilet | D72: 1 | E72: 1 | F72: 1 | I72: 1
A73: Kleedruimte scheidsrechter/docent | D73: 1 | E73: 1 | F73: 1 | I73: 1
A75: SPORTHALLEN
A76: Emmeloord (gebruikers per week: zie onder tabel)
A77: Sporthal Bosbadhal
A78: Begane grond | H78: 1
A79: Damestoiletten in kleedkamers | D79: 6 | G79: 6
A80: Herentoiletten in kleedkamers | D80: 6
A81: Wastafels in kleedkamers | C81: 12 | E81: 5
A82: Openbare damestoiletten | D82: 6 | F82: 6 | G82: 6
A83: Openbare herentoiletten | D83: 5 | F83: 5
A84: Wastafels in openbare toiletten * | C84: 4 | E84: 4
A85: Miva toilet met wastafel | C85: 1 | D85: 1 | E85: 1 | F85: 1 | G85: 1
A86: Toiletten scheidsrechterskamers | D86: 4 | E86: 4 | G86: 4
A87: Wastafels scheidsrechterskamers | C87: 4 | I87: 4
A88: Extra toiletten beheerders/docenten | D88: 2 | E88: 2 | F88: 1 | G88: 1
A89: Wastafel bij extra toilet beheerders/docenten | C89: 1 | D89: 1 | E89: 1
A90: EHBO-ruimte
A91: Fysiotherapieruimte | C91: 1 | D91: 1 | E91: 1 | F91: 1
A93: Eerste etage
A94: Openbare damestoiletten | D94: 4 | F94: 4 | G94: 4
A95: Openbare herentoiletten | D95: 3 | F95: 3
A96: Wastafels in openbare toiletten * | C96: 4 | E96: 2
A97: Miva toilet met wastafel | C97: 1 | D97: 1 | E97: 1 | F97: 1 | G97: 1
A99: Ens (± 1.260 gebruikers per week)
A100: Sporthal Evert van Benthem
A101: Toiletten in kleedkamers | B101: 5 | E101: 5
A102: Wastafels in kleedkamers
A103: Openbaar damestoilet/invalidentoilet | B103: 1 | D103: 1 | E103: 1 | F103: 1 | G103: 1 | I103: 1 | J103: 1
A104: Openbaar herentoilet | B104: 1 | D104: 1 | E104: 1 | F104: 1 | I104: 1 | J104: 1
A105: Toilet scheidsrechterskamer | B105: 1 | D105: 1
A106: Wastafel scheidsrechterskamer | B106: 1 | E106: 1 | I106: 1
A108: Marknesse (± 1.260 gebruikers per week)
A109: Sporthal De Triangel
A110: Toiletten in kleedkamers 1 en 2 | B110: 2 | D110: 2 | E110: 2 | G110: 2 | I110: 2
A111: Wastafels in kleedkamers 1 en 2
A112: Toiletten in kleedkamers 3 en 4 | B112: 2 | D112: 2 | E112: 2 | I112: 2
A113: Wastafels in kleedkamers 3 en 4 | E113: 2
A114: Scheidsrechterskamers | B114: 2 | D114: 2 | E114: 2 | I114: 2
A115: Openbaar damestoilet | B115: 1 | D115: 2 | E115: 1 | I115: 1 | J115: 1
...

Sheet Begraafplaatsen
B1: Zeepdispenser | C1: Foamdispenser | D1: Toiletrolautomaat | E1: Vouwhanddoekhouder | F1: Rolhandoek papier afscheur | G1: Handdoekrolautomaat papier (automatisch oprollen) | H1: Toiletborstelgarnituur | I1: Ladybox | J1: Schoonloopmat | K1: Prullenbak | L1: Luchtverfrisser
A2: BEGRAAFPLAATSEN
A4: Emmeloord | C4: 1 | D4: 1 | E4: 1 | H4: 1 | K4: 1
A5: Bant | C5: 1 | D5: 1 | E5: 1 | H5: 1 | K5: 1 | N5: LET OP!! Huidige prullenbakken zijn te groot!! Kleinere prullenbakken (23 liter)
A6: Luttelgeest | C6: 1 | D6: 1 | E6: 1 | H6: 1 | K6: 1
A7: Marknesse | C7: 1 | D7: 1 | E7: 1 | H7: 1 | K7: 1
A8: Kraggenburg | C8: 1 | D8: 1 | E8: 1 | H8: 1 | K8: 1
A9: Ens | C9: 1 | D9: 1 | E9: 1 | H9: 1 | K9: 1
A10: Nagele | C10: 1 | D10: 1 | E10: 1 | H10: 1 | K10: 1
A11: Tollebeek | C11: 1 | D11: 1 | E11: 1 | H11: 1 | K11: 1
A12: Espel | C12: 1 | D12: 1 | E12: 1 | H12: 1 | K12: 1
A13: Creil | C13: 1 | D13: 1 | E13: 1 | H13: 1 | K13: 1
A14: Rutten | C14: 1 | D14: 1 | E14: 1 | H14: 1 | K14: 1
A16: Totaal | C16: 11 | D16: 11 | E16: 11 | H16: 11 | K16: 11

Sheet Dr. Jansencentrum
B1: Foamdispenser | C1: Toiletrolautomaat | D1: Vouwhanddoekhouder | E1: Handdoekautomaat | F1: Toiletborstelgarnituur | G1: Ladybox + zakje houder | H1: Alcoholdispenser mini | I1: Elleboog dispenser zeep | J1: Schoonloopmat * 1x per 4 weken wisselen | K1: Prullenbak | L1: Luchtverfrisser | M1: Grevendispenser
A2: Dr. Jansencentrum
A3: Souterrain
A4: A-00-54 pantry | B4: 1 | D4: 1 | K4: 1
A5: A-00-51 | B5: 1 | D5: 1 | K5: 1
A6: A-00-61 DT + HT | B6: 1 | C6: 2 | D6: 1 | F6: 2 | G6: 1 | K6: 1 | L6: 2
A7: A-00-34 pantry | B7: 1 | D7: 1 | K7: 1
A8: A-00-14 | B8: 1 | D8: 1 | K8: 1
A9: A-0-07 MIVA | B9: 1 | C9: 1 | D9: 1 | F9: 1 | G9: 1 | K9: 1 | L9: 1
A10: A-0-08 HT/DT | B10: 1 | C10: 2 | D10: 1 | F10: 2 | G10: 1 | K10: 1 | L10: 2
A11: D-00-03 Techniek werkplaats | B11: 1 | E11: 1 | M11: 1
A13: Antonius deel C en E
A14: C-022 DT | B14: 1 | C14: 1 | D14: 1 | F14: 1 | G14: 1 | K14: 1 | L14: 1
A15: C-022 HT | B15: 1 | C15: 1 | D15: 1 | F15: 1 | K15: 1 | L15: 1
A16: E-0-57 MIVA | B16: 1 | C16: 1 | D16: 1 | F16: 1 | G16: 1 | K16: 1 | L16: 1
A17: E-0-07 toiletgroep 2DT+1HT | B17: 2 | C17: 3 | D17: 1 | F17: 3 | G17: 2 | K17: 1 | L17: 3
A18: E-0-18 | B18: 1 | D18: 1
A19: E-0-19 | B19: 1 | D19: 1
A20: E-0-21 | B20: 1 | D20: 1
A21: E-0-22 | B21: 1 | D21: 1
A22: E-0-25 | B22: 1 | D22: 1
A23: E-0-50 | D23: 1 | I23: 1 | K23: 1
A24: E-0-59 | D24: 1 | I24: 1 | K24: 1
A25: E-0-07 toiletgroep 2DT+1HT | B25: 1 | C25: 3 | D25: 1 | F25: 3 | G25: 2 | K25: 1 | L25: 3
A26: C-013 receptie | B26: 1 | D26: 1 | K26: 1
A27: C vleugel 19 behandelkamers | D27: 19 | I27: 19 | K27: 19
A29: Antonius deel N-vleugel
A30: N-0-03 OK | B30: 1 | D30: 1 | K30: 1
A31: N-0-07 pedicure | B31: 1 | D31: 1 | K31: 1
A32: N-0-11 Personeelstoilet | B32: 1 | C32: 1 | D32: 1 | F32: 1 | G32: 1 | K32: 1 | L32: 1
A33: N-0-12 behandelkamer | D33: 1 | I33: 1 | K33: 1
A35: Beekman/Bosman
A36: N-001 Combitoilet | B36: 1 | C36: 1 | D36: 1 | F36: 1 | G36: 1 | K36: 1 | L36: 1
A37: N-002 Pro Reva | B37: 1 | D37: 1
A38: N-008 MIVA/combitoilet | B38: 1 | C38: 1 | D38: 1 | F38: 1 | G38: 1 | K38: 1 | L38: 1
A39: N-012 behkamer huid&oedeem | D39: 1 | I39: 1 | K39: 1
A40: N-014 Reuma behandelkamer | D40: 2 | I40: 2 | K40: 2
A41: N-016 Reuma behandelkamer | D41: 2 | I41: 2 | K41: 2
A42: N-017 combitoilet | B42: 1 | C42: 1 | D42: 1 | F42: 1 | G42: 1 | K42: 1 | L42: 1
A43: Koffiekamer | B43: 1 | D43: 1 | K43: 1
A44: N-0-28 | B44: 1 | D44: 1 | K44: 1
A45: N-0-19 | B45: 1 | D45: 1 | K45: 1
A46: N-0-107 voorruimte | B46: 1 | D46: 1 | K46: 1
A47: N-0-109 combitoilet | C47: 1 | F47: 1 | G47: 1 | L47: 1
A48: N-0-105 DT | B48: 1 | C48: 1 | D48: 1 | F48: 1 | G48: 1 | K48: 1 | L48: 1
A49: N-0-106 HT | B49: 1 | C49: 1 | D49: 1 | F49: 1 | K49: 1 | L49: 1
A50: N-0-32 behandelkamer Beekman | D50: 1 | I50: 1 | K50: 1
A51: N-0-33 behandelkamer Beekman | D51: 1 | I51: 1 | K51: 1
A52: N-0-37 | B52: 1 | D52: 1 | K52: 1
A53: N-0-38 | B53: 1 | D53: 1 | K53: 1
A54: N-0-39 | B54: 1 | D54: 1 | K54: 1
A55: N-0-40 | B55: 1 | D55: 1 | K55: 1
A56: N-0-42 | B56: 1 | D56: 1 | K56: 1
A57: N-0-47 Dienkeuken | B57: 1 | D57: 1 | K57: 1
A58: N-0-51 combitoilet | B58: 1 | C58: 1 | D58: 1 | F58: 1 | G58: 1 | K58: 1 | L58: 1
A59: N-0-52 praktijkkamer tandarts | D59: 1 | I59: 1 | K59: 1
A60: N-0-53 praktijkkamer tandarts | D60: 1 | I60: 1 | K60: 1
A61: N-0-55 praktijkkamer tandarts | D61: 1 | I61: 1 | K61: 1
A62: N-0-59 praktijkkamer Strong | D62: 1 | I62: 1 | K62: 1
A63: N-0-62 pantry Strong | D63: 1 | I63: 1 | K63: 1
A64: N-0-63 Accupuntuur | B64: 1 | D64: 1 | K64: 1
A65: N-0-64 toilet homeopathie | B65: 1 | C65: 1 | D65: 1 | F65: 1 | K65: 1 | L65: 1
A67: Zonnestraal
A68: N-0-68 | B68: 1 | D68: 1 | K68: 1
A69: N-0-69 | B69: 1 | D69: 1 | K69: 1
A70: N-0-75 | B70: 1 | D70: 1 | K70: 1
A71: N-0-89 | B71: 1 | D71: 1 | K71: 1
A72: N-0-78 combitoilet en PT | B72: 1 | C72: 2 | D72: 1 | F72: 2 | G72: 2 | K72: 1 | L72: 2
A74: 1e verdieping
A75: A-1-12 MIVA | B75: 1 | C75: 1 | D75: 1 | F75: 1 | G75: 1 | K75: 1 | L75: 1
A76: A-1-16 | B76: 1 | D76: 1 | K76: 1
A77: A-1-18 | B77: 1 | D77: 1 | K77: 1
A78: A-1-28 damestoilet/kleedkamer | B78: 1 | C78: 2 | D78: 1 | F78: 2 | G78: 2 | K78: 1 | L78: 2
A79: A-1-43 pantry | B79: 1 | D79: 1 | K79: 1
A80: A-1-47 | B80: 1 | D80: 1 | H80: 1 | K80: 1
A81: A-1-51 | B81: 1 | D81: 1 | H81: 1 | K81: 1
A82: A-1-53 | B82: 1 | D82: 1 | H82: 1 | K82: 1
A83: A-1-54 | B83: 1 | D83: 1 | H83: 1 | K83: 1
A84: A-1-67 kaakchirurg | B84: 2 | D84: 2 | H84: 2 | K84: 2
A85: A-1-69 kaakchirurg | B85: 1 | D85: 1 | H85: 1 | K85: 1
A86: A-1-72 toiletgroep DT/2HT | B86: 2 | C86: 4 | D86: 1 | F86: 4 | G86: 2 | K86: 1 | L86: 4
A87: C-1-11 | B87: 1 | D87: 1 | K87: 1
A88: C-1-14 pantry Antonius | B88: 1 | D88: 1 | K88: 1
A89: C-1-18 | B89: 1 | D89: 1 | K89: 1
A90: C-1-24 combitoilet | B90: 1 | C90: 1 | D90: 1 | F90: 1 | G90: 1 | H90: 1 | K90: 1 | L90: 1
A91: C-1-06 kleedruimte | C91: 1 | I91: 1
A92: E-1-06 pantry | B92: 1 | D92: 1 | K92: 1
A93: E-1-09 toiletgroep | B93: 1 | C93: 2 | D93: 1 | F93: 2 | G93: 1 | K93: 1 | L93: 2
A95: 2e verdieping
A96: A-2-47 toiletgroep 2DT/2HT | B96: 2 | C96: 4 | D96: 1 | F96: 4 | G96: 2 | K96: 1 | L96: 4
A97: A-2-41 | B97: 1 | D97: 1 | K97: 1
A98: A-2-46 | B98: 1 | D98: 1 | K98: 1
A100: 3e verdieping
A101: A-3-31 combitoilet | B101: 1 | D101: 1 | F101: 1 | G101: 1 | K101: 1 | L101: 1
A102: A-3-37 pantry | B102: 1 | D102: 1 | K102: 1
A103: C-3-01 | B103: 1 | D103: 1 | K103: 1
A105: Humanitas
A106: A-3-27 pantry | B106: 1 | D106: 1 | K106: 1
A107: A-3-48 | B107: 1 | D107: 1 | K107: 1
A108: A-3-54 toiletgroep 2DT/2HT | B108: 2 | C108: 4 | D108: 1 | F108: 4 | G108: 2 | K108: 1 | L108: 4
...

Sheet Totaal
A1: Totaaloverzicht aantallen
B5: Zeepdispenser | C5: Foamdispenser | D5: Toiletrolautomaat | E5: Vouwhanddoekhouder | F5: Handdoekautomaat | G5: Toiletborstelgarnituur | H5: Ladybox | I5: Alcoholdispenser mini | J5: Elleboogdispenser | K5: Schoonloopmatten | L5: Prullenbak | M5: Luchtverfrisser | N5: Grevendispenser | O5: Matjes urinoir
C6: ='Gemeentehuis, wer, milieu, WeCo'!B69 -> 34 | D6: ='Gemeentehuis, wer, milieu, WeCo'!C69 -> 40 | E6: ='Gemeentehuis, wer, milieu, WeCo'!D69 -> 31 | G6: ='Gemeentehuis, wer, milieu, WeCo'!E69 -> 39 | H6: ='Gemeentehuis, wer, milieu, WeCo'!F69 -> 21 | K6: ='Gemeentehuis, wer, milieu, WeCo'!G69 -> 6 | L6: ='Gemeentehuis, wer, milieu, WeCo'!H69 -> 23 | M6: ='Gemeentehuis, wer, milieu, WeCo'!I69 -> 36 | O6: ='Gemeentehuis, wer, milieu, WeCo'!J69 -> 7 | P6: Gemeentehuis, gemeentewerf/milieustraat etc.
B7: ='Gymzalen en sporthallen'!B132 -> 36 | C7: ='Gymzalen en sporthallen'!C132 -> 28 | D7: ='Gymzalen en sporthallen'!D132 -> 101 | F7: ='Gymzalen en sporthallen'!E132 -> 87 | G7: ='Gymzalen en sporthallen'!F132 -> 72 | H7: ='Gymzalen en sporthallen'!G132 -> 34 | K7: ='Gymzalen en sporthallen'!H132 -> 1 | L7: ='Gymzalen en sporthallen'!I132 -> 65 | M7: ='Gymzalen en sporthallen'!J132 -> 7 | P7: Gymzalen en sporthallen
C8: =Begraafplaatsen!C16 -> 11 | D8: =Begraafplaatsen!D16 -> 11 | E8: =Begraafplaatsen!E16 -> 11 | G8: =Begraafplaatsen!H16 -> 11 | L8: =Begraafplaatsen!K16 -> 11 | P8: Begraafplaatsen
C9: ='Dr. Jansencentrum'!B110 -> 78 | D9: ='Dr. Jansencentrum'!C110 -> 44 | E9: ='Dr. Jansencentrum'!D110 -> 107 | F9: ='Dr. Jansencentrum'!E110 -> 1 | G9: ='Dr. Jansencentrum'!F110 -> 44 | H9: ='Dr. Jansencentrum'!G110 -> 30 | I9: ='Dr. Jansencentrum'!H110 -> 8 | J9: ='Dr. Jansencentrum'!I110 -> 35 | L9: ='Dr. Jansencentrum'!K110 -> 101 | M9: ='Dr. Jansencentrum'!L110 -> 44 | N9: ='Dr. Jansencentrum'!M110 -> 1 | P9: Dr. Jansencentrum
B10: =SUM(B6:B9) -> 36 | C10: =SUM(C6:C9) -> 151 | D10: =SUM(D6:D9) -> 196 | E10: =SUM(E6:E9) -> 149 | F10: =SUM(F6:F9) -> 88 | G10: =SUM(G6:G9) -> 166 | H10: =SUM(H6:H9) -> 85 | I10: =SUM(I6:I9) -> 8 | ... O10: =SUM(O6:O9) -> 7 | P10: totaal
