Workbook

Sheet EMVI-vragenlijst
B2: Bijlage 8a
B3: Bestek 2024-4147 | E3: Leveren van ondergrondse containers voor restafval, glas en GFT
B7: Wensen
B8: Categorie | E8: Omschrijving | I8: Opties | O8: Basis voor berekening | P8: Minimaal toe te kennen punten | Q8: Maximaal toe te kennen punten | R8: Door inschrijver behaalde punten | S8: Door inschrijver behaalde bonus in euro's | T8: Boete bij niet nakoming toezegging | U8: Maximale op te leggen boete
Y11: =+J13 -> 1 | Z11: =+Y11+$J$14 -> 2 | AA11: =+Z11+$J$14 -> 3 | AB11: =+AA11+$J$14 -> 4 | AC11: =+AB11+$J$14 -> 5 | AD11: 6
B13: Offerte | D13: Binnen hoeveel werkdagen na offerte aanvraag ontvangen wij uw offerte? | I13: werkdag | J13: 1 | K13: tot | L13: 6 | O13: =IF(N13="",L13,N13) -> 6 | P13: 0 | Q13: 200 | Y13: 1 | Z13: 0.8 | AA13: 0.6 | AB13: 0.4 | AC13: 0.2 | AD13: 0
I14: stap | J14: 1 | R14: =SUM(Y14:AD14) -> 0 | S14: =+R14/1000*Q53 -> 0 | T14: € 500 per container | U14: =+S14*150% -> 0 | Y14: =IF(Y11=$O13,+Y13*$Q13,0) -> 0 | Z14: =IF(Z11=$O13,+Z13*$Q13,0) -> 0 | AA14: =IF(AA11=$O13,+AA13*$Q13,0) -> 0 | AB14: =IF(AB11=$O13,+AB13*$Q13,0) -> 0 | AC14: =IF(AC11=$O13,+AC13*$Q13,0) -> 0 | AD14: =IF(AD11=$O13,+AD13*$Q13,0) -> 0
Y17: 7 | Z17: 8 | AA17: 9 | AB17: 10 | AC17: 11 | AD17: 12 | AE17: 13 | AF17: 14 | AG17: 15 | AH17: 16
B18: Levertijd | D18: Binnen hoeveel weken na opdracht wordt de container compleet geleverd? | I18: week | J18: 7 | K18: tot | L18: 16 | O18: =IF(N18="",L18,N18) -> 16 | P18: 0 | Q18: 300 | Y18: 1 | Z18: =+Y18-10% -> 0.9 | AA18: 0.8 | AB18: 0.7 | AC18: =+AB18-15% -> 0.55 | AD18: 0.4 | AE18: =+AD18-15% -> 0.25 | AF18: 0.1 | AG18: 0.05 | AH18: 0
I19: stap | J19: 1 | R19: =SUM(Y19:AH19) -> 0 | S19: =+R19/1000*Q53 -> 0 | T19: € 1.000 per container | U19: =+S19*150% -> 0 | Y19: =IF(Y17=$O18,+Y18*$Q18,0) -> 0 | Z19: =IF(Z17=$O18,+Z18*$Q18,0) -> 0 | AA19: =IF(AA17=$O18,+AA18*$Q18,0) -> 0 | AB19: =IF(AB17=$O18,+AB18*$Q18,0) -> 0 | AC19: =IF(AC17=$O18,+AC18*$Q18,0) -> 0 | AD19: =IF(AD17=$O18,+AD18*$Q18,0) -> 0 | AE19: =IF(AE17=$O18,+AE18*$Q18,0) -> 0 | AF19: =IF(AF17=$O18,+AF18*$Q18,0) -> 0 | ... AH19: =IF(AH17=$O18,+AH18*$Q18,0) -> 0
B22: Garantie | D22: Hoeveel jaar biedt u (aflopende) garantie op uw product
E23: jaar 1 | I23: procent | J23: 100 | K23: tot | L23: 100 | N23: 100 | O23: 100
E24: jaar 2 | I24: procent | J24: 100 | K24: tot | L24: 100 | N24: 100 | O24: 100
E25: jaar 3 | I25: procent | J25: 100 | K25: tot | L25: 100 | N25: 100 | O25: 100
E26: jaar 4 | I26: procent | J26: 100 | K26: tot | L26: 100 | N26: 100 | O26: 100
E27: jaar 5 | I27: procent | J27: 100 | K27: tot | L27: 100 | N27: 100 | O27: 100
E28: jaar 6 | I28: procent | J28: 100 | K28: tot | L28: =+N28 -> 0 | O28: =IF(N28>O27,O27,N28) -> 0 | P28: 0 | Q28: 50 | R28: =+O28/100*Q28 -> 0 | S28: =+R28/1000*$Q$53 -> 0 | T28: 150% van de kosten die de opdracht-nemer in rekening brengt en die onder garantie vallen | U28: =+S28*150% -> 0
E29: jaar 7 | I29: procent | J29: =IF(N28="","#",N28) -> # | K29: tot | L29: =IF(J29="#","#",N29) -> # | O29: =IF(N29>O28,O28,N29) -> 0 | P29: 0 | Q29: 75 | R29: =+O29/100*Q29 -> 0 | S29: =+R29/1000*$Q$53 -> 0 | U29: =+S29*150% -> 0
E30: jaar 8 | I30: procent | J30: =IF(N29="","#",N29) -> # | K30: tot | L30: =IF(J30="#","#",N30) -> # | O30: =IF(N30>O29,O29,N30) -> 0 | P30: 0 | Q30: 100 | R30: =+O30/100*Q30 -> 0 | S30: =+R30/1000*$Q$53 -> 0 | U30: =+S30*150% -> 0
E31: jaar 9 | I31: procent | J31: =IF(N30="","#",N30) -> # | K31: tot | L31: =IF(J31="#","#",N31) -> # | O31: =IF(N31>O30,O30,N31) -> 0 | P31: 0 | Q31: 125 | R31: =+O31/100*Q31 -> 0 | S31: =+R31/1000*$Q$53 -> 0 | U31: =+S31*150% -> 0
E32: jaar 10 | I32: procent | J32: =IF(N31="","#",N31) -> # | K32: tot | L32: =IF(J32="#","#",N32) -> # | O32: =IF(N32>O31,O31,N32) -> 0 | P32: 0 | Q32: 150 | R32: =+O32/100*Q32 -> 0 | S32: =+R32/1000*$Q$53 -> 0 | U32: =+S32*150% -> 0
J45: minimaal te behalen score | P45: =SUM(P13:P32) -> 0
J46: maximaal te behalen score | Q46: =SUM(Q13:Q32) -> 1000
J47: behaalde score
R48: =SUM(R13:R32) -> 0
O51: behaalde punten | R51: =SUM(R47:R49) -> 0 | U51: Uw score op het onderdeel kwaliteit
O53: max korting | Q53: 90000 | U53: Alle scores worden op het scherm op 0,1 punt afgerond.
O54: behaalde korting | Q54: =+R51/1000*Q53 -> 0 | U54: Excel rekent echter met onafgeronde cijfers.
U55: Bepalend voor de bonus is de in blauw aangegeven score zonder afronding
B57: inschrijver | C57: :
B59: naam | C59: :
B60: functie | C60: :
B62: Handtekening | C62: :

Sheet Invulwaarden
I1: garantie | J1: garantie | K1: garantie | L1: garantie | M1: garantie
B2: Ja/nee | E2: offerte | G2: levering | I2: 6 | J2: 7 | K2: 8 | L2: 9 | M2: 10
E4: =+'EMVI-vragenlijst'!J13 -> 1 | G4: =+'EMVI-vragenlijst'!J18 -> 7 | I4: 0 | J4: 0 | K4: 0 | L4: 0 | M4: 0
E5: =+'EMVI-vragenlijst'!L13 -> 6 | G5: =+'EMVI-vragenlijst'!L18 -> 16 | I5: 100 | J5: =+'EMVI-vragenlijst'!J29 -> # | K5: =+'EMVI-vragenlijst'!J30 -> # | L5: =+'EMVI-vragenlijst'!J31 -> # | M5: =+'EMVI-vragenlijst'!J32 -> #
E6: =+'EMVI-vragenlijst'!J14 -> 1 | G6: =+'EMVI-vragenlijst'!J19 -> 1 | I6: 5 | J6: 5 | K6: 5 | L6: 5 | M6: 5
B8: Ja | E8: =+E4 -> 1 | G8: =+G4 -> 7 | I8: =+I5 -> 100 | J8: =+J5 -> # | K8: =+K5 -> # | L8: =+L5 -> # | M8: =+M5 -> #
B9: nee | E9: =IF(+E8+$E$6>$E$5,$E$5,+E8+$E$6) -> 2 | G9: =IF(+G8+$G$6>$G$5,$G$5,+G8+$G$6) -> 8 | I9: =IF(+I8-$I$6<$I$4,$I$4,+I8-$I$6) -> 95 | J9: =IF(+J8-J$6<J$4,J$4,+J8-J$6) -> #VALUE! | K9: =IF(+K8-K$6<K$4,K$4,+K8-K$6) -> #VALUE! | L9: =IF(+L8-L$6<L$4,L$4,+L8-L$6) -> #VALUE! | M9: =IF(+M8-M$6<M$4,M$4,+M8-M$6) -> #VALUE!
E10: =IF(+E9+$E$6>$E$5,$E$5,+E9+$E$6) -> 3 | G10: =IF(+G9+$G$6>$G$5,$G$5,+G9+$G$6) -> 9 | I10: =IF(+I9-$I$6<$I$4,$I$4,+I9-$I$6) -> 90 | J10: =IF(+J9-J$6<J$4,J$4,+J9-J$6) -> #VALUE! | K10: =IF(+K9-K$6<K$4,K$4,+K9-K$6) -> #VALUE! | L10: =IF(+L9-L$6<L$4,L$4,+L9-L$6) -> #VALUE! | M10: =IF(+M9-M$6<M$4,M$4,+M9-M$6) -> #VALUE!
E11: =IF(+E10+$E$6>$E$5,$E$5,+E10+$E$6) -> 4 | G11: =IF(+G10+$G$6>$G$5,$G$5,+G10+$G$6) -> 10 | I11: =IF(+I10-$I$6<$I$4,$I$4,+I10-$I$6) -> 85 | J11: =IF(+J10-J$6<J$4,J$4,+J10-J$6) -> #VALUE! | K11: =IF(+K10-K$6<K$4,K$4,+K10-K$6) -> #VALUE! | L11: =IF(+L10-L$6<L$4,L$4,+L10-L$6) -> #VALUE! | M11: =IF(+M10-M$6<M$4,M$4,+M10-M$6) -> #VALUE!
E12: =IF(+E11+$E$6>$E$5,$E$5,+E11+$E$6) -> 5 | G12: =IF(+G11+$G$6>$G$5,$G$5,+G11+$G$6) -> 11 | I12: =IF(+I11-$I$6<$I$4,$I$4,+I11-$I$6) -> 80 | J12: =IF(+J11-J$6<J$4,J$4,+J11-J$6) -> #VALUE! | K12: =IF(+K11-K$6<K$4,K$4,+K11-K$6) -> #VALUE! | L12: =IF(+L11-L$6<L$4,L$4,+L11-L$6) -> #VALUE! | M12: =IF(+M11-M$6<M$4,M$4,+M11-M$6) -> #VALUE!
E13: =IF(+E12+$E$6>$E$5,$E$5,+E12+$E$6) -> 6 | G13: =IF(+G12+$G$6>$G$5,$G$5,+G12+$G$6) -> 12 | I13: =IF(+I12-$I$6<$I$4,$I$4,+I12-$I$6) -> 75 | J13: =IF(+J12-J$6<J$4,J$4,+J12-J$6) -> #VALUE! | K13: =IF(+K12-K$6<K$4,K$4,+K12-K$6) -> #VALUE! | L13: =IF(+L12-L$6<L$4,L$4,+L12-L$6) -> #VALUE! | M13: =IF(+M12-M$6<M$4,M$4,+M12-M$6) -> #VALUE!
E14: =IF(+E13+$E$6>$E$5,$E$5,+E13+$E$6) -> 6 | G14: =IF(+G13+$G$6>$G$5,$G$5,+G13+$G$6) -> 13 | I14: =IF(+I13-$I$6<$I$4,$I$4,+I13-$I$6) -> 70 | J14: =IF(+J13-J$6<J$4,J$4,+J13-J$6) -> #VALUE! | K14: =IF(+K13-K$6<K$4,K$4,+K13-K$6) -> #VALUE! | L14: =IF(+L13-L$6<L$4,L$4,+L13-L$6) -> #VALUE! | M14: =IF(+M13-M$6<M$4,M$4,+M13-M$6) -> #VALUE!
E15: =IF(+E14+$E$6>$E$5,$E$5,+E14+$E$6) -> 6 | G15: =IF(+G14+$G$6>$G$5,$G$5,+G14+$G$6) -> 14 | I15: =IF(+I14-$I$6<$I$4,$I$4,+I14-$I$6) -> 65 | J15: =IF(+J14-J$6<J$4,J$4,+J14-J$6) -> #VALUE! | K15: =IF(+K14-K$6<K$4,K$4,+K14-K$6) -> #VALUE! | L15: =IF(+L14-L$6<L$4,L$4,+L14-L$6) -> #VALUE! | M15: =IF(+M14-M$6<M$4,M$4,+M14-M$6) -> #VALUE!
E16: =IF(+E15+$E$6>$E$5,$E$5,+E15+$E$6) -> 6 | G16: =IF(+G15+$G$6>$G$5,$G$5,+G15+$G$6) -> 15 | I16: =IF(+I15-$I$6<$I$4,$I$4,+I15-$I$6) -> 60 | J16: =IF(+J15-J$6<J$4,J$4,+J15-J$6) -> #VALUE! | K16: =IF(+K15-K$6<K$4,K$4,+K15-K$6) -> #VALUE! | L16: =IF(+L15-L$6<L$4,L$4,+L15-L$6) -> #VALUE! | M16: =IF(+M15-M$6<M$4,M$4,+M15-M$6) -> #VALUE!
E17: =IF(+E16+$E$6>$E$5,$E$5,+E16+$E$6) -> 6 | G17: =IF(+G16+$G$6>$G$5,$G$5,+G16+$G$6) -> 16 | I17: =IF(+I16-$I$6<$I$4,$I$4,+I16-$I$6) -> 55 | J17: =IF(+J16-J$6<J$4,J$4,+J16-J$6) -> #VALUE! | K17: =IF(+K16-K$6<K$4,K$4,+K16-K$6) -> #VALUE! | L17: =IF(+L16-L$6<L$4,L$4,+L16-L$6) -> #VALUE! | M17: =IF(+M16-M$6<M$4,M$4,+M16-M$6) -> #VALUE!
E18: =IF(+E17+$E$6>$E$5,$E$5,+E17+$E$6) -> 6 | G18: =IF(+G17+$G$6>$G$5,$G$5,+G17+$G$6) -> 16 | I18: =IF(+I17-$I$6<$I$4,$I$4,+I17-$I$6) -> 50 | J18: =IF(+J17-J$6<J$4,J$4,+J17-J$6) -> #VALUE! | K18: =IF(+K17-K$6<K$4,K$4,+K17-K$6) -> #VALUE! | L18: =IF(+L17-L$6<L$4,L$4,+L17-L$6) -> #VALUE! | M18: =IF(+M17-M$6<M$4,M$4,+M17-M$6) -> #VALUE!
E19: =IF(+E18+$E$6>$E$5,$E$5,+E18+$E$6) -> 6 | G19: =IF(+G18+$G$6>$G$5,$G$5,+G18+$G$6) -> 16 | I19: =IF(+I18-$I$6<$I$4,$I$4,+I18-$I$6) -> 45 | J19: =IF(+J18-J$6<J$4,J$4,+J18-J$6) -> #VALUE! | K19: =IF(+K18-K$6<K$4,K$4,+K18-K$6) -> #VALUE! | L19: =IF(+L18-L$6<L$4,L$4,+L18-L$6) -> #VALUE! | M19: =IF(+M18-M$6<M$4,M$4,+M18-M$6) -> #VALUE!
E20: =IF(+E19+$E$6>$E$5,$E$5,+E19+$E$6) -> 6 | G20: =IF(+G19+$G$6>$G$5,$G$5,+G19+$G$6) -> 16 | I20: =IF(+I19-$I$6<$I$4,$I$4,+I19-$I$6) -> 40 | J20: =IF(+J19-J$6<J$4,J$4,+J19-J$6) -> #VALUE! | K20: =IF(+K19-K$6<K$4,K$4,+K19-K$6) -> #VALUE! | L20: =IF(+L19-L$6<L$4,L$4,+L19-L$6) -> #VALUE! | M20: =IF(+M19-M$6<M$4,M$4,+M19-M$6) -> #VALUE!
E21: =IF(+E20+$E$6>$E$5,$E$5,+E20+$E$6) -> 6 | G21: =IF(+G20+$G$6>$G$5,$G$5,+G20+$G$6) -> 16 | I21: =IF(+I20-$I$6<$I$4,$I$4,+I20-$I$6) -> 35 | J21: =IF(+J20-J$6<J$4,J$4,+J20-J$6) -> #VALUE! | K21: =IF(+K20-K$6<K$4,K$4,+K20-K$6) -> #VALUE! | L21: =IF(+L20-L$6<L$4,L$4,+L20-L$6) -> #VALUE! | M21: =IF(+M20-M$6<M$4,M$4,+M20-M$6) -> #VALUE!
... E28: =IF(+E27+$E$6>$E$5,$E$5,+E27+$E$6) -> 6 | G28: =IF(+G27+$G$6>$G$5,$G$5,+G27+$G$6) -> 16 | I28: =IF(+I27-$I$6<$I$4,$I$4,+I27-$I$6) -> 0 | J28: =IF(+J27-J$6<J$4,J$4,+J27-J$6) -> #VALUE! | K28: =IF(+K27-K$6<K$4,K$4,+K27-K$6) -> #VALUE! | L28: =IF(+L27-L$6<L$4,L$4,+L27-L$6) -> #VALUE! | M28: =IF(+M27-M$6<M$4,M$4,+M27-M$6) -> #VALUE!
