Workbook

Sheet Toelichting
B2: Toelichting loonsomopbouw
B3: In de verschillende tabbladen treft u een loonsomopbouw voor uitzenddienstverlening aan.
B4: Tabblad 1 bevat een opbouw gebaseerd op gewerkte uren.
B5: Tabblad 2 bevat een opbouw gebaseerd op contracturen
B6: Hierbij is ons advies om de varianten zo mee te wegen zoals u die ook in de praktijk gebruikt (ter voorkoming van manipulatief inschrijven).
B7: Indien u geen gebruik maakt van bijvoorbeeld risicogroep II of vakantiekrachten, dient u deze te verwijderen.
B8: Bij de varianten 'gewerkte uren' vindt verloning plaats op weekbasis. Facturatie vindt plaats op wekelijke of vier-wekelijks basis (dit is gangbaar binnen de branche).
B9: In de cellen die geel gemarkeerd zijn, is een opmerking ter verduidelijking opgenomen.
B10: Alle wettelijke premies die voor iedere inschrijver gelijk zijn, hebben wij al voor u opgenomen.
B11: In de loonsomopbouw zijn de juiste formules opgenomen.
B12: Met een loonsomopbouw zorgt u ervoor dat u 'appels' met 'appels' kunt vergelijken. Grote verschillen in bijv. pensioen of andere reserveringen kunt u dan ook waar nodig verifieren. Tevens zorgt een loonsomopbouw ervoor dat het doorvoeren van wettelijke en/of cao-wijzigingen op transparante wijze plaatsvindt.
B15: Disclaimer: aan deze voorbeelden kunnen geen rechten worden ontleend.

Sheet Punten toekenning Inkoop
C2: Bijlage 7 Prijzenblad Flexibele arbeidskrachten | M2: Naam inschrijver:
B3: In te vullen door Aanbestedende dienst | I3: overname uit invulbladen | L3: ingave door Inkoop
C4: Voorbeeld berekening van toe te kennen punten.
B6: Soort | C6: MSP Opslagen | D6: Type inhuur | E6: MSP Marge Opslag | F6: Minimale Marge-opslag | G6: Maximale Marge-opslag | H6: Uren 2025* | I6: Ondergrens Bureaumarge* | J6: Bovengrens Bureaumarge* | K6: Inschrijver Bureaumarge* | L6: Minimaal aantal punten | M6: Maximaal aantal punten | N6: Verhouding Punten | O6: Score | P6: Formule
B7: A | C7: De zogenaamde Startfee, extra opslag naast Opslag B, te rekenen als meerprijs over de eerste 500 uur | D7: Gedetacheerden en ZZP-ers | E7: =IF('Invulblad 1 Tarieven MSP'!D9=0,"-",'Invulblad 1 Tarieven MSP'!D9) -> - | F7: 1.3 | G7: 2 | H7: 42500 | I7: =H7*F7 -> 55250 | J7: =H7*G7 -> 85000 | K7: =IF(E7<>"-",E7*H7,"-") -> - | L7: 0 | M7: 30 | N7: =M7/$M$18 -> 0.15 | O7: =IF(E7="-","-",M7-((E7-F7)/(G7-F7)*M7)) -> - | P7: = max # pnt - ((INS - MIN) / (MAX - MIN) * max # pnt)
B8: B | C8: Contractmanagement vanaf 1e uur en migratiecontracten vanaf 1e uur na migratie | D8: Gedetacheerden en ZZP-ers | E8: =IF('Invulblad 1 Tarieven MSP'!D10=0,"-",'Invulblad 1 Tarieven MSP'!D10) -> - | F8: 1 | G8: 2 | H8: 190000 | I8: =H8*F8 -> 190000 | J8: =H8*G8 -> 380000 | K8: =IF(E8<>"-",E8*H8,"-") -> - | L8: 0 | M8: 125 | N8: =M8/$M$18 -> 0.625 | O8: =IF(E8="-","-",M8-((E8-F8)/(G8-F8)*M8)) -> - | P8: = max # pnt - ((INS - MIN) / (MAX - MIN) * max # pnt)
B9: C | C9: MSP Services inclusief selectie- en onboardingproces gemeente Lelystad | D9: Uitzendkrachten | E9: =IF('Invulblad 1 Tarieven MSP'!D11=0,"-",'Invulblad 1 Tarieven MSP'!D11) -> - | F9: 0.4 | G9: 0.75 | H9: 15000 | I9: =H9*F9 -> 6000 | J9: =H9*G9 -> 11250 | K9: =IF(E9<>"-",E9*H9,"-") -> - | L9: 0 | M9: 10 | N9: =M9/$M$18 -> 0.05 | O9: =IF(E9="-","-",M9-((E9-F9)/(G9-F9)*M9)) -> - | P9: = max # pnt - ((INS - MIN) / (MAX - MIN) * max # pnt)
B10: D | C10: MSP Services | D10: Payrollkrachten | E10: =IF('Invulblad 1 Tarieven MSP'!D12=0,"-",'Invulblad 1 Tarieven MSP'!D12) -> - | F10: 0.25 | G10: 0.5 | H10: 12500 | I10: =H10*F10 -> 3125 | J10: =H10*G10 -> 6250 | K10: =IF(E10<>"-",E10*H10,"-") -> - | L10: 0 | M10: 10 | N10: =M10/$M$18 -> 0.05 | O10: =IF(E10="-","-",M10-((E10-F10)/(G10-F10)*M10)) -> - | P10: = max # pnt - ((INS - MIN) / (MAX - MIN) * max # pnt)
B12: NR: | C12: Gewogen uurtarieven | D12: Type inhuur | E12: Uurtarief Uitzend/Payrollpartij | G12: Laagste gem. gewogen inschrijfprijs uurtarief | H12: Uren 2025* | K12: *Opdracht waarde | L12: Minimaal aantal punten | M12: Maximaal aantal punten | N12: Verhouding Punten | O12: Score | P12: Formule
B13: 1a | C13: Gewogen uurtarief uitzendpartij 1 van Inschrijver | D13: Uitzendkrachten | E13: {=IF('Invulblad 2 UITZEND 1'!H63:H63>24.56,'Invulblad 2 UITZEND 1'!H63:H63,"-")} -> - | F13: =IF(E13<>"-",1,0) -> 0 | H13: 7500 | K13: NVT | L13: NVT | M13: NVT | N13: NVT | O13: NVT
B14: 1b | C14: Gewogen uurtarief uitzendpartij 2 van Inschrijver | D14: Uitzendkrachten | E14: {=IF('Invulblad 3 UITZEND 2'!H63:H63>24.56,'Invulblad 3 UITZEND 2'!H63:H63,"-")} -> - | F14: =IF(E14<>"-",1,0) -> 0 | H14: 7500 | K14: NVT | L14: NVT | M14: NVT | N14: NVT | O14: NVT
B15: 1 | C15: Gemiddelde tarieven uitzendpartij 1 en 2 van Inschrijver | D15: Uitzendkrachten | E15: =IF(F13+F14=2,(E13+E14)/2,"-") -> - | G15: - | H15: 15000 | K15: =IF(E15<>"-",E15*H15,"-") -> - | L15: 0 | M15: 14 | N15: =M15/$M$18 -> 0.07 | O15: =IF(G15="-","-",M15-((E15-G15)*1.25)) -> - | P15: = max # pnt - ((INS UUR - INS UUR LAAGST)*1,25)
B16: 2 | C16: Gewogen uurtarief payrollorganisatie 1 van Inschrijver | D16: Payrollkrachten | E16: {=IF('Invulblad 4 PAYROLL'!H59:H59>23.24,'Invulblad 4 PAYROLL'!H59:H59,"-")} -> - | G16: - | H16: 12500 | K16: =IF(E16<>"-",E16*H16,"-") -> - | L16: 0 | M16: 11 | N16: =M16/$M$18 -> 0.055 | O16: =IF(G16="-","-",M16-((E16-G16)*1)) -> - | P16: = max # pnt - ((INS UUR - INS UUR LAAGST)*1)
C18: TOTAAL VAN OPSLAG ONDERDELEN A TOT EN MET D EN UURTARIEVEN 1a, 1b en 2 | M18: =M7+M8+M9+M10+M15+M16 -> 200 | N18: =N7+N8+N9+N10+N15+N16 -> 1 | O18: =IF(O15="-","-",O7+O8+O9+O10+O15+O16) -> -
C21: Toelichting (zie ook overige aanbestedingsdocumenten)
B22: 1 | C22: * Bevat fictieve data om o.a. inschrijvingen te kunnen vergelijken en strategisch inschrijven te voorkomen.
B23: 2 | C23: De toegekende punten (totaal O18) worden afgerond op 2 cijfers achter de komma.
B24: 3 | C24: M.b.t. de MSP opslagen: De inschrijving is ongeldig en wordt niet verder in behandeling genomen indien de Inschrijfprijs onder de minimale (ondergrens) inschrijfprijs ligt of boven de maximale (bovengrens) inschrijfprijs.
B25: 4 | C25: De MSP Opslagen mogen gedurende de looptijd van de eerste periode van 3 jaar niet geindexeerd worden en uitsluitend per nieuw kalenderjaar. Het indexpercentage betreft 2,5% en kan voor het eerst worden toegepast per 1-1-2029.
B26: 5 | C26: M.b.t. de uurtarieven Payroll en Uitzenden geldt dat de inschrijver met de laagste inschrijfprijs de maximale punten krijgt, het minimum aantal punten blijft door een aftrek van punten minimaal 0 (niet negatief).
B27: 6 | C27: Inschrijver schrijft in met 2 Uitzendpartijen. Inschrijver kan in overleg met Opdrachtgever op enig moment meer partijen aansluiten, onder voorwaarde dat het gem. tarief per uur lager of gelijk is aan het op dat moment actuele tarief van de Uitzendpartij met de hoogste inschrijfprijs.

Sheet Invulblad 1 Tarieven MSP
A1: Bijlage 7 - Prijzenblad Flexibele arbeidskrachten | E1: Naam inschrijver:
A2: Invulblad Tarieven MSP
E3: Gemeente Lelystad
A8: Opslag | B8: Soort Opslag | C8: Toepassingsgebied | D8: Uw Marge-opslag | E8: Geldig? ** | F8: Ondergrens Marge-opslag | G8: Bovengrens Marge-opslag
A9: MSP A | B9: De zogenaamde Startfee, extra opslag naast Opslag B, te rekenen over de eerste 500 uur | C9: Gedetacheerden en ZZP-ers | E9: =IF(D9="","",IF((I9+J9)>0.1,"ONGELDIG","")) | F9: 1.3 | G9: 2 | I9: =IF(D9<F9,1,0.05) -> 1 | J9: =IF(D9>G9,1,0.05) -> 0.05
A10: MSP B | B10: Contractmanagement vanaf 1e uur en overgenomen migratiecontracten vanaf 1e uur na migratie | C10: Gedetacheerden en ZZP-ers | E10: =IF(D10="","",IF((I10+J10)>0.1,"ONGELDIG","")) | F10: 1 | G10: 2 | I10: =IF(D10<F10,1,0.05) -> 1 | J10: =IF(D10>G10,1,0.05) -> 0.05
A11: MSP C | B11: MSP Services inclusief selectie- en onboardingproces gemeente Lelystad | C11: Uitzendkrachten | E11: =IF(D11="","",IF((I11+J11)>0.1,"ONGELDIG","")) | F11: 0.4 | G11: 0.75 | I11: =IF(D11<F11,1,0.05) -> 1 | J11: =IF(D11>G11,1,0.05) -> 0.05
A12: MSP D | B12: MSP Services | C12: Payrollkrachten | E12: =IF(D12="","",IF((I12+J12)>0.1,"ONGELDIG","")) | F12: 0.25 | G12: 0.5 | I12: =IF(D12<F12,1,0.05) -> 1 | J12: =IF(D12>G12,1,0.05) -> 0.05
A14: Uurloon | B14: Partij | C14: Toepassingsgebied | D14: Inschrijfprijs gewogen uurtarief ***
A15: 1a | B15: Uitzendpartij 1 | C15: Uitzendkrachten | D15: {=IF('Invulblad 2 UITZEND 1'!H63:H63>25,'Invulblad 2 UITZEND 1'!H63:H63,"")} -> - | I15: =IF(D15<F15,1,0.05) -> 0.05 | J15: =IF(D15>G15,1,0.05) -> 1
A16: 1b | B16: Uitzendpartij 2 | C16: Uitzendkrachten | D16: {=IF('Invulblad 3 UITZEND 2'!H63:H63>25,'Invulblad 3 UITZEND 2'!H63:H63,"")} -> - | I16: =IF(D16<F16,1,0.05) -> 0.05 | J16: =IF(D16>G16,1,0.05) -> 1
A17: 2 | B17: Payrollpartij 1 | C17: Payrollkrachten | D17: {=IF('Invulblad 4 PAYROLL'!H59:H59<>"-",'Invulblad 4 PAYROLL'!H59:H59,"-")} -> - | I17: =IF(D17<F17,1,0.05) -> 0.05 | J17: =IF(D17>G17,1,0.05) -> 1
B19: In te vullen door Inschrijver *
B21: Overname uit invulbladen 2,3 en 4
B23: Toelichting (zie ook overige aanbestedingsdocumenten)
A24: * | B24: Alleen geel gekleurde velden invullen. Format niet wijzigen
A25: ** | B25: Uw inschrijving is ongeldig en wordt niet verder in behandeling genomen indien in kolom E de omschrijving bij 1 van de opslagen "ONGELDIG" staat vermeld.
A26: *** | B26: Uw inschrijving is ongeldig en wordt niet verder in behandeling genomen indien de tabbladen 2,3 en 4 niet of niet volledig zijn ingevuld.
A27: - | B27: Bedragen excl. BTW
A30: Dit tabblad dient Inschrijver uit te printen, te ondertekenen en als PDF up te loaden bij de Inschrijving.
A32: Handtekening: | D32: Datum:

Sheet Invulblad 2 UITZEND 1
C2: Bijlage 7 - Prijzenblad | E2: Naam inschrijver:
C3: Onderdeel Uitzenden
E4: Naam uitzendpartij 2:
C6: Standaard werkweek 36 uur | D6: Gewerkte uren
D7: A: Fase A met uitzendbeding obv Gewerkte uren | F7: B: Fase B obv Gewerkte uren
D8: % over het bruto uurloon | F8: % over het bruto uurloon
C9: BRUTO LOON | E9: 100 | G9: 100
C10: Wachtdagcompensatie | D10: 0 | E10: =D10*E9 -> 0 | F10: 0 | G10: =F10*G9 -> 0
C11: PAWW-premie | D11: 0 | E11: =D11*E9 -> 0 | F11: 0 | G11: =F11*G9 -> 0
C12: SUBTOTAAL LOON | E12: =SUM(E9:E11) -> 100 | G12: =SUM(G9:G11) -> 100
C14: Reserveringen
C15: Vakantiedagen | D15: 0 | E15: =D15*(E$12) -> 0 | F15: 0 | G15: =F15*(G$12) -> 0
C16: Feestdagen | D16: 0 | E16: =D16*(E$12) -> 0 | F16: 0 | G16: =F16*(G$12) -> 0
C17: Ziektedagen | D17: 0 | E17: =D17*(E$12) -> 0 | F17: 0 | G17: =F17*(G$12) -> 0
C18: Kort Verzuim / Buitengewoon verlof | D18: 0 | E18: =D18*(E$12) -> 0 | F18: 0 | G18: =F18*(G$12) -> 0
C19: SUBTOTAAL LOON + RESERVERINGEN | E19: =SUM(E12:E18) -> 100 | G19: =SUM(G12:G18) -> 100
C21: Vakantietoeslag 8,33% | D21: 0 | E21: =D21*($E$19) -> 0 | F21: 0 | G21: =F21*($G$19) -> 0
C22: IKB Eindejaarsuitkering 9,05% (pensioengevend) | D22: 0 | E22: =D22*($E$19) -> 0 | F22: 0 | G22: =F22*($G$19) -> 0
C23: SUBTOTAAL LOON+RESERVERINGEN+IKB | E23: =SUM(E19:E22) -> 100 | G23: =SUM(G19:G22) -> 100
C25: Wergeverslasten
C26: StiPP pensioen | D26: 0 | E26: =ROUND(+E$23*D26,2) -> 0 | F26: 0 | G26: =ROUND(+G$23*F26,2) -> 0
C27: Zorgverzekeringswet (ZVW) | D27: 0 | E27: =ROUND(+E$23*D27,2) -> 0 | F27: 0 | G27: =ROUND(+G$23*F27,2) -> 0
C28: WW-premie (Awf) | D28: 0 | E28: =ROUND(+E$23*D28,2) -> 0 | F28: 0 | G28: =ROUND(+G$23*F28,2) -> 0
C29: Aof-premie inclusief kinderopvang (oa WAO-WIA) | D29: 0 | E29: =ROUND(+E$23*D29,2) -> 0 | F29: 0 | G29: =ROUND(+G$23*F29,2) -> 0
C30: Werkhervattingskas premie (WGA) | D30: 0 | E30: =ROUND(+E$23*D30,2) -> 0 | F30: 0 | G30: =ROUND(+G$23*F30,2) -> 0
C31: ZW-flex (Ziektewet) | D31: 0 | E31: =ROUND(+E$23*D31,2) -> 0 | F31: 0 | G31: =ROUND(+G$23*F31,2) -> 0
C32: Aanvulling ZW | D32: 0 | E32: =ROUND(+E$23*D32,2) -> 0 | F32: 0 | G32: =ROUND(+G$23*F32,2) -> 0
C33: Transitievergoeding incl sociale lasten | D33: 0 | E33: =ROUND(+E$23*D33,2) -> 0 | F33: 0 | G33: =ROUND(+G$23*F33,2) -> 0
C34: Opleidingen | D34: 0 | E34: =ROUND(+E$23*D34,2) -> 0 | F34: 0 | G34: =ROUND(+G$23*F34,2) -> 0
C35: Sociaal Fonds Uitzendbranche | D35: 0 | E35: =ROUND(+E$23*D35,2) -> 0 | F35: 0 | G35: =ROUND(+G$23*F35,2) -> 0
C36: SUBTOTAAL LOONSOM EXCL ADDITIONELE WG LASTEN | E36: =SUM(E23:E35) -> 100 | G36: =SUM(G23:G35) -> 100
C38: Additionele werkgeverslasten:
C39: Specificeer | D39: 0 | E39: =ROUND(+E$36*D39,2) -> 0 | F39: 0 | G39: =ROUND(+G$36*F39,2) -> 0
C41: LOONSOM (Tarief onderdeel I) | D41: =24.56*E41/100 -> 24.56 | E41: =SUM(E36:E39) -> 100 | F41: =24.56*G41/100 -> 24.56 | G41: =SUM(G36:G39) -> 100
C42: Bureaumarge Uitzend-contractant nominaal per uur (Tarief onderdeel II) | D42: 0 | F42: 0
C44: Tarief Uitzendpartij -obv bruto uurloon van € 24,56 | E44: =D41+D42 -> 24.56 | G44: =F41+F42 -> 24.56
C46: Opslag C MSP services nominaal per uur Marge min. € 0,40 en max. € 0,75 (Tarief onderdeel III) | D46: =+D41+D43 -> 24.56 | E46: ='Invulblad 1 Tarieven MSP'!D11 -> 0 | F46: =+F41+F43 -> 24.56 | G46: =E46 -> 0
E47: =IF(E46=0,"",IF(OR(E46<0.4,E46>0.75),"Geef juiste Opslag op in blad 1 rekening houdend met de bandbreedte",""))
C48: All-in Tarief incl opslag | E48: =IF(E46="","",E44+E46) -> 24.56 | G48: =IF(G46="","",G44+G46) -> 24.56
C50: OVERIGE INFORMATIE
...

Sheet Invulblad 3 UITZEND 2
C2: Bijlage 7 - Prijzenblad | E2: Naam inschrijver:
C3: Onderdeel Uitzenden
E4: Naam uitzendpartij 2:
C6: Standaard werkweek 36 uur | D6: Gewerkte uren
D7: A: Fase A met uitzendbeding obv Gewerkte uren | F7: B: Fase B obv Gewerkte uren
D8: % over het bruto uurloon | F8: % over het bruto uurloon
C9: BRUTO LOON | E9: 100 | G9: 100
C10: Wachtdagcompensatie | D10: 0 | E10: =D10*E9 -> 0 | F10: 0 | G10: =F10*G9 -> 0
C11: PAWW-premie | D11: 0 | E11: =D11*E9 -> 0 | F11: 0 | G11: =F11*G9 -> 0
C12: SUBTOTAAL LOON | E12: =SUM(E9:E11) -> 100 | G12: =SUM(G9:G11) -> 100
C14: Reserveringen
C15: Vakantiedagen | D15: 0 | E15: =D15*(E$12) -> 0 | F15: 0 | G15: =F15*(G$12) -> 0
C16: Feestdagen | D16: 0 | E16: =D16*(E$12) -> 0 | F16: 0 | G16: =F16*(G$12) -> 0
C17: Ziektedagen | D17: 0 | E17: =D17*(E$12) -> 0 | F17: 0 | G17: =F17*(G$12) -> 0
C18: Kort Verzuim / Buitengewoon verlof | D18: 0 | E18: =D18*(E$12) -> 0 | F18: 0 | G18: =F18*(G$12) -> 0
C19: SUBTOTAAL LOON + RESERVERINGEN | E19: =SUM(E12:E18) -> 100 | G19: =SUM(G12:G18) -> 100
C21: Vakantietoeslag 8,33% | D21: 0 | E21: =D21*($E$19) -> 0 | F21: 0 | G21: =F21*($G$19) -> 0
C22: IKB Eindejaarsuitkering 9,05% (pensioengevend) | D22: 0 | E22: =D22*(E19) -> 0 | F22: 0 | G22: =F22*(G19) -> 0
C23: SUBTOTAAL LOON+RESERVERINGEN+IKB | E23: =SUM(E19:E22) -> 100 | G23: =SUM(G19:G22) -> 100
C25: Wergeverslasten
C26: StiPP pensioen | D26: 0 | E26: =ROUND(+E$23*D26,2) -> 0 | F26: 0 | G26: =ROUND(+G$23*F26,2) -> 0
C27: Zorgverzekeringswet (ZVW) | D27: 0 | E27: =ROUND(+E$23*D27,2) -> 0 | F27: 0 | G27: =ROUND(+G$23*F27,2) -> 0
C28: WW-premie (Awf) | D28: 0 | E28: =ROUND(+E$23*D28,2) -> 0 | F28: 0 | G28: =ROUND(+G$23*F28,2) -> 0
C29: Aof-premie inclusief kinderopvang (oa WAO-WIA) | D29: 0 | E29: =ROUND(+E$23*D29,2) -> 0 | F29: 0 | G29: =ROUND(+G$23*F29,2) -> 0
C30: Werkhervattingskas premie (WGA) | D30: 0 | E30: =ROUND(+E$23*D30,2) -> 0 | F30: 0 | G30: =ROUND(+G$23*F30,2) -> 0
C31: ZW-flex (Ziektewet) | D31: 0 | E31: =ROUND(+E$23*D31,2) -> 0 | F31: 0 | G31: =ROUND(+G$23*F31,2) -> 0
C32: Aanvulling ZW | D32: 0 | E32: =ROUND(+E$23*D32,2) -> 0 | F32: 0 | G32: =ROUND(+G$23*F32,2) -> 0
C33: Transitievergoeding incl sociale lasten | D33: 0 | E33: =ROUND(+E$23*D33,2) -> 0 | F33: 0 | G33: =ROUND(+G$23*F33,2) -> 0
C34: Opleidingen | D34: 0 | E34: =ROUND(+E$23*D34,2) -> 0 | F34: 0 | G34: =ROUND(+G$23*F34,2) -> 0
C35: Sociaal Fonds Uitzendbranche | D35: 0 | E35: =ROUND(+E$23*D35,2) -> 0 | F35: 0 | G35: =ROUND(+G$23*F35,2) -> 0
C36: SUBTOTAAL LOONSOM EXCL ADDITIONELE WG LASTEN | E36: =SUM(E23:E35) -> 100 | G36: =SUM(G23:G35) -> 100
C38: Additionele werkgeverslasten:
C39: Specificeer | D39: 0 | E39: =ROUND(+E$36*D39,2) -> 0 | F39: 0 | G39: =ROUND(+G$36*F39,2) -> 0
C41: LOONSOM (Tarief onderdeel I) | D41: =24.56*E41/100 -> 24.56 | E41: =SUM(E36:E39) -> 100 | F41: =24.56*G41/100 -> 24.56 | G41: =SUM(G36:G39) -> 100
C42: Bureaumarge Uitzend-contractant nominaal per uur (Tarief onderdeel II) | D42: 0 | F42: 0
C44: Tarief Uitzendpartij -obv bruto uurloon van € 24,56 | E44: =D41+D42 -> 24.56 | G44: =F41+F42 -> 24.56
C46: Opslag C MSP services nominaal per uur Marge min. € 0,40 en max. € 0,75 (Tarief onderdeel III) | D46: =+D41+D43 -> 24.56 | E46: ='Invulblad 2 UITZEND 1'!E46 -> 0 | F46: =+F41+F43 -> 24.56 | G46: =E46 -> 0
E47: =IF(E46=0,"",IF(OR(E46<0.4,E46>0.75),"Geef juiste Opslag op in blad 1 rekening houdend met de bandbreedte",""))
C48: All-in Tarief incl opslag | E48: =IF(E46="","",E44+E46) -> 24.56 | G48: =IF(G46="","",G44+G46) -> 24.56
C50: OVERIGE INFORMATIE
...

Sheet Invulblad 4 PAYROLL
C2: Bijlage 7 - Prijzenblad | E2: Naam inschrijver:
C3: Onderdeel Payroll
E4: Naam payrollpartij:
C6: Standaard werkweek 36 uur | D6: 1. Gewerkte uren | F6: 2. Contracturen (vaste uren per week) met verzuimdekking
D7: 1. ABP pensioen - bepaalde tijd - op basis van gewerkte uren | F7: 2: ABP pensioen - bepaalde tijd - op basis van contracturen
D8: % over het bruto uurloon | F8: % over het bruto uurloon
C9: BRUTO LOON | E9: 100 | G9: 100
C11: Reserveringen
C12: Vakantiedagen | D12: 0 | E12: =D12*(E$9) -> 0 | F12: 0 | G12: =F12*(G$9) -> 0
C13: Feestdagen | D13: 0 | E13: =D13*(E$9) -> 0 | F13: 0 | G13: =F13*(G$9) -> 0
C14: Ziektedagen | D14: 0 | E14: =D14*(E$9) -> 0 | F14: 0 | G14: =F14*(G$9) -> 0
C15: Kort Verzuim / Buitengewoon verlof | D15: 0 | E15: =D15*(E$9) -> 0 | F15: 0 | G15: =F15*(G$9) -> 0
C16: SUBTOTAAL LOON + RESERVERINGEN | E16: =SUM(E9:E15) -> 100 | G16: =SUM(G9:G15) -> 100
C18: IKB Vakantietoeslag 8% (pensioengevend) | D18: 0 | E18: =D18*SUM(E9,E12:E14) -> 0 | F18: 0 | G18: =F18*SUM(G9,G12:G14) -> 0
C19: IKB EJU en LL totaal 9,05% (pensioengevend) | D19: 0 | E19: =D19*(E16) -> 0 | F19: 0 | G19: =F19*(G16) -> 0
C20: SUBTOTAAL LOON+RESERVERINGEN+IKB | E20: =SUM(E16:E19) -> 100 | G20: =SUM(G16:G19) -> 100
C22: Wergeverslasten
C23: ABP pensioen | D23: 0 | E23: =ROUND(+E$20*D23,2) -> 0 | F23: 0 | G23: =ROUND(+G$20*F23,2) -> 0
C24: Zorgverzekeringswet (ZVW) | D24: 0 | E24: =ROUND(+E$20*D24,2) -> 0 | F24: 0 | G24: =ROUND(+G$20*F24,2) -> 0
C25: WW-premie (Awf) | D25: 0 | E25: =ROUND(+E$20*D25,2) -> 0 | F25: 0 | G25: =ROUND(+G$20*F25,2) -> 0
C26: Aof-premie inclusief kinderopvang (oa WAO-WIA) | D26: 0 | E26: =ROUND(+E$20*D26,2) -> 0 | F26: 0 | G26: =ROUND(+G$20*F26,2) -> 0
C27: Werkhervattingskas premie (WGA) | D27: 0 | E27: =ROUND(+E$20*D27,2) -> 0 | F27: 0 | G27: =ROUND(+G$20*F27,2) -> 0
C28: ZW-flex (Ziektewet) | D28: 0 | E28: =ROUND(+E$20*D28,2) -> 0 | F28: 0 | G28: =ROUND(+G$20*F28,2) -> 0
C29: Aanvulling ZW | D29: 0 | E29: =ROUND(+E$20*D29,2) -> 0 | F29: 0 | G29: =ROUND(+G$20*F29,2) -> 0
C30: Sociaal Fonds | D30: 0 | E30: =ROUND(+E$20*D30,2) -> 0 | F30: 0 | G30: =ROUND(+G$20*F30,2) -> 0
C31: SUBTOTAAL LOONSOM EXCL ADDITIONELE WG LASTEN | E31: =SUM(E20:E30) -> 100 | G31: =SUM(G20:G30) -> 100
C33: Additionele werkgeverslasten:
C34: Specificeer | D34: 0 | E34: =ROUND(+E$31*D34,2) -> 0 | F34: 0 | G34: =ROUND(+G$31*F34,2) -> 0
C36: LOONSOM (Tarief onderdeel I) | D36: =D54*E36/100 -> 23.24 | E36: =SUM(E31:E34) -> 100 | F36: =D54*G36/100 -> 23.24 | G36: =SUM(G31:G34) -> 100
C38: Bureaumarge Payroll-contractant nominaal per uur (Tarief onderdeel II) | D38: 0 | F38: 0
C40: Tarief Payrollpartij -obv bruto uurloon van € 23,24 | E40: =D36+D38 -> 23.24 | G40: =F36+F38 -> 23.24
C42: Opslag D MSP services nominaal per uur - Marge min. € 0,25 en max. € 0,50 (Tarief onderdeel III) | D42: =+D36+D39 -> 23.24 | E42: ='Invulblad 1 Tarieven MSP'!D12 -> 0 | F42: =+F36+F39 -> 23.24 | G42: =E42 -> 0
E43: =IF(E42=0,"",IF(OR(E42<0.25,E42>0.5),"Geef juiste Opslag op in blad 1 rekening houdend met de bandbreedte",""))
C44: All-in Tarief incl opslag | E44: =IF(E42="","",E40+E42) -> 23.24 | G44: =IF(G42="","",G40+G42) -> 23.24
C46: OVERIGE INFORMATIE
C47: Eigenrisicodrager voor ZW-flex? | D47: <KIES> | E47: =IF(D47="JA","Ondertekende onderbouwing van ERD ZW-flex of polisblad meesturen",IF(D47="NEE","Beschikking van de Belastingdienst van facturerende organisatie meesturen.",""))
C48: Eigenrisicorager voor WGA? | D48: <KIES> | E48: =IF(D48="JA","Ondertekende onderbouwing van ERD WGA of polisblad meesturen",IF(D48="NEE","Beschikking van de Belastingdienst van facturerende organisatie meesturen.",""))
C50: OMREKENFACTOR overige bruto vergoedingen | D50: (Opgave 100,00 <> 200,00) | F50: (Opgave 100,00 <> 200,00)
C52: Loonsopbouw payroll
C53: Tarief gewerkte uren: | D53: Uurloon | E53: Uurloon + tarief I en II | F53: Tarief overige bruto vergoedingen (fictieve extra kosten naast regulier loon) | G53: *Aantal uren | H53: Totaal (excl MSP fee) | I53: Totaal inclusief overige bruto vergoedingen
...
