Workbook

Sheet 1. Voorblad
C10: Bijlage 4: Prijzenblad Drukwerk, Repro en DTP
C13: Toelichting:
C14: In dit prijzenblad vult u uw definitieve prijzen in voor uw Inschrijving.
C16: Legenda:
C17: Invoer | D17: Cellen bestemd voor uw invoer. Inschrijver dient deze cellen in dit Prijzenblad in te vullen. Het niet of niet op juiste wijze invullen van dit Prijzenblad leidt tot uitsluiting van de Inschrijving in deze Aanbesteding.
C18: Berekening | D18: Berekeningen in werkblad. Niet wijzigen.
C19: Totalen | D19: Berekeningen van totalen in werkblad. Niet wijzigen.
C20: Uw fictieve Inschrijfprijs | D20: Berekening van uw fictieve Inschrijfprijs. Niet wijzigen.
C22: All-in prijs
C23: (1) Inschrijver geeft prijzen op in Euro's (€) (op 2 decimalen) en exclusief BTW. De vooraf opgegeven prijs per opdracht is all-in, er volgen geen meerkosten. Tenzij Opdrachtgever expliciet (per e-mail) akkoord is gegaan met de meerkosten. Opdrachtgever zal eerst akkoord moeten gaan met de vooraf opgegeven prijs voordat zij daadwerkelijk opdracht voor de uitvoering zullen geven. Wijzigingen in de inhoud van de opdracht moeten eerst schriftelijk overeengekomen worden. Onder All-in tarieven wordt verstaan alle kosten: administratie, overhead, eventuele computer- software, programmakosten, instel- omstelkosten, belastingen, reis-verblijf, verzekeringen, heffingen, factuurkosten, kosten voor overleg en rapportages, kosten voor alle handelingen, vergaren, nieten, lijmen, binden, snijden, vouwen, rillen, perforeren, instel- en omstelkosten, kosten voor drukproeven, papier, transportkosten, opslagkosten, verpakkingskosten en alle overige kosten voor het vervaardigen, opslaan en afleveren van desbetreffende levering en dienstverlening en eventuele overige kosten zijn in de geoffereerde prijzen inbegrepen. Voor de prijsbeoordeling wordt uitgegaan van allemaal losse bestellingen, tenzij anders aangegeven. In praktijk kan er sprake zijn van combinatieopdrachten.
C25: CONTACTGEGEVENS INSCHRIJVER
C26: Onderneming:
C27: Functie:
C28: Naam rechtsgeldig ondertekenaar:
C29: Datum:
C30: Handtekening:
C32: TOTAAL KOSTEN
C33: Omschrijving | G33: Bedrag in €
C34: ='2. Invulblad'!C5:J5 -> 1. Promotioneel drukwerk (All-in tarief) | G34: ='2. Invulblad'!J32 -> 0
C35: ='2. Invulblad'!C35:J35 -> 2. Huisstijldrukwerk | G35: ='2. Invulblad'!J52 -> 0
C36: ='2. Invulblad'!C54:J54 -> 3. Reprografische leveringen, bewonersbrieven, enquetes etc. | G36: ='2. Invulblad'!J145 -> 0
C37: ='2. Invulblad'!C147:J147 -> 4. DTP (Desktop Publishing) | G37: ='2. Invulblad'!J151 -> 0
F38: TOTALE JAARLIJKSE KOSTEN | G38: =SUM(G34:H37) -> 0
C40: UW TOTALE FICTIEVE INSCHRIJFPRIJS | G40: =SUM(G38) -> 0

Sheet 2. Invulblad
C3: Bijlage 4: Prijzenblad Drukwerk, Reprografische Dienstverlening en DTP
C5: 1. Promotioneel drukwerk (All-in tarief)
C6: nr. | D6: Omschrijving | E6: Specificaties | F6: Eenheid | G6: Staffel | H6: Prijs per eenheid, exclusief btw (1) | I6: Fictieve afname | J6: Subtotaal (Prijs per eenheid x fictieve afname)
C7: 1.1 | D7: Mailing 1 | E7: Raadpleeg tabblad 3. Specificaties | F7: Per 100 stuks | G7: 0 - 500 stuks | H7: 0 | I7: 250 | J7: =I7*H7 -> 0
F8: Per 100 stuks | G8: 501 - 1.000 stuks | H8: 0 | I8: 125 | J8: =I8*H8 -> 0
F9: Per 100 stuks | G9: 1.001 - 2.000 stuks | H9: 0 | I9: 125 | J9: =I9*H9 -> 0
F10: Per 100 stuks | G10: 2.001 - 5.000 stuks | H10: 0 | I10: 750 | J10: =I10*H10 -> 0
F11: Per 100 stuks | G11: > 5.000 stuks | H11: 0 | I11: 75 | J11: =I11*H11 -> 0
C12: 1.2 | D12: Mailing 2 | E12: Raadpleeg tabblad 3. Specificaties | F12: Per 100 stuks | G12: 0 - 500 stuks | H12: 0 | I12: 250 | J12: =I12*H12 -> 0
F13: Per 100 stuks | G13: 501 - 1.000 stuks | H13: 0 | I13: 125 | J13: =I13*H13 -> 0
F14: Per 100 stuks | G14: 1.001 - 2.000 stuks | H14: 0 | I14: 125 | J14: =I14*H14 -> 0
F15: Per 100 stuks | G15: 2.001 - 5.000 stuks | H15: 0 | I15: 750 | J15: =I15*H15 -> 0
F16: Per 100 stuks | G16: > 5.000 stuks | H16: 0 | I16: 75 | J16: =I16*H16 -> 0
C17: 1.3 | D17: Flyers A5 | E17: Raadpleeg tabblad 3. Specificaties | F17: Per 50 stuks | G17: n.v.t. | H17: 0 | I17: 250 | J17: =I17*H17 -> 0
D18: Flyers A4 | F18: Per 50 stuks | G18: n.v.t. | H18: 0 | I18: 250 | J18: =I18*H18 -> 0
C19: 1.4 | D19: Folder | E19: Raadpleeg tabblad 3. Specificaties | F19: Per 50 stuks | G19: n.v.t. | H19: 0 | I19: 500 | J19: =I19*H19 -> 0
C20: 1.5 | D20: Poster A3 | E20: Raadpleeg tabblad 3. Specificaties | F20: Per 50 stuks | G20: n.v.t. | H20: 0 | I20: 50 | J20: =I20*H20 -> 0
D21: Poster A2 | F21: Per 50 stuks | G21: n.v.t. | H21: 0 | I21: 50 | J21: =I21*H21 -> 0
D22: Poster A1 | F22: Per 50 stuks | G22: n.v.t. | H22: 0 | I22: 50 | J22: =I22*H22 -> 0
D23: Poster A0 | F23: Per 50 stuks | G23: n.v.t. | H23: 0 | I23: 50 | J23: =I23*H23 -> 0
C24: 1.6 | D24: Visitekaartje | E24: Raadpleeg tabblad 3. Specificaties | F24: Per 100 stuks | G24: n.v.t. | H24: 0 | I24: 250 | J24: =I24*H24 -> 0
C25: 1.7 | D25: Brochure A5 8 pagina's | E25: Raadpleeg tabblad 3. Specificaties | F25: Per 50 stuks | G25: n.v.t. | H25: 0 | I25: 50 | J25: =I25*H25 -> 0
D26: Brochure A5 16 pagina's | F26: Per 50 stuks | G26: n.v.t. | H26: 0 | I26: 50 | J26: =I26*H26 -> 0
D27: Brochure A4 8 pagina's | F27: Per 50 stuks | G27: n.v.t. | H27: 0 | I27: 50 | J27: =I27*H27 -> 0
D28: Brochure A4 16 pagina's | F28: Per 50 stuks | G28: n.v.t. | H28: 0 | I28: 50 | J28: =I28*H28 -> 0
C29: 1.8 | D29: Magazine (16 pagina's kleur) | E29: Raadpleeg tabblad 3. Specificaties | F29: Per 50 stuks | G29: n.v.t. | H29: 0 | I29: 50 | J29: =I29*H29 -> 0
D30: Magazine (24 pagina's kleur) | E30: Raadpleeg tabblad 3. Specificaties | F30: Per 50 stuks | G30: n.v.t. | H30: 0 | I30: 50 | J30: =I30*H30 -> 0
D31: Magazine (32 pagina's kleur) | E31: Raadpleeg tabblad 3. Specificaties | F31: Per 50 stuks | G31: n.v.t. | H31: 0 | I31: 50 | J31: =I31*H31 -> 0
J32: =SUM(J7:J31) -> 0
C35: 2. Huisstijldrukwerk
C36: nr. | D36: Omschrijving | E36: Specificaties | F36: Eenheid | H36: Prijs per eenheid, exclusief btw (1) | I36: Fictieve afname | J36: Subtotaal (Prijs per eenheid x fictieve afname)
C37: 2.1 | D37: A4 Logo Briefpapier gemeente Zoetermeer | E37: Raadpleeg tabblad 3. Specificaties | F37: 1 Doos ( 5 pak á 500) = 2.500 stuks. (5 pakken a 500 vellen) | H37: 0 | I37: 125 | J37: =I37*H37 -> 0
F38: 1 Pallet (40 dozen á 5 pak) = 100.000 stuks. | H38: 0 | I38: 3 | J38: =I38*H38 -> 0
C39: 2.2 | D39: C5 envelop zonder venster | E39: Raadpleeg tabblad 3. Specificaties | F39: 1 Doos = 500 stuks. | H39: 0 | I39: 20 | J39: =I39*H39 -> 0
F40: 1 Pallet (80 dozen á 500 stuks pak) = 40.000 stuks. | H40: 0 | I40: 1 | J40: =I40*H40 -> 0
C41: 2.3 | D41: C5 envelop met venster | E41: Raadpleeg tabblad 3. Specificaties | F41: 1 Doos = 500 stuks. | H41: 0 | I41: 1260 | J41: =I41*H41 -> 0
F42: 1 Pallet (80 dozen á 500 stuks pak) = 40.000 stuks. | H42: 0 | I42: 4 | J42: =I42*H42 -> 0
C43: 2.4 | D43: C5 envelop antwoordenvelop zonder venster | E43: Raadpleeg tabblad 3. Specificaties | F43: 1 Doos = 500 stuks. | H43: 0 | I43: 3 | J43: =I43*H43 -> 0
C44: 2.5 | D44: C5 envelop met postbus- zonder venster | E44: Raadpleeg tabblad 3. Specificaties | F44: 1 Doos = 500 stuks. | H44: 0 | I44: 3 | J44: =I44*H44 -> 0
C45: 2.6 | D45: C5 envelop zonder venster en striplock | E45: Raadpleeg tabblad 3. Specificaties | F45: 1 Doos = 500 stuks. | H45: 0 | I45: 2 | J45: =I45*H45 -> 0
C46: 2.7 | D46: C5 envelop met venster en striplock | E46: Raadpleeg tabblad 3. Specificaties | F46: 1 Doos = 500 stuks. | H46: 0 | I46: 32 | J46: =I46*H46 -> 0
C47: 2.8 | D47: C4 akte envelop, zonder venster, met striplock | E47: Raadpleeg tabblad 3. Specificaties | F47: 1 Doos = 500 stuks. | H47: 0 | I47: 2 | J47: =I47*H47 -> 0
C48: 2.9 | D48: C4 akte evelop met venster, met striplock | E48: Raadpleeg tabblad 3. Specificaties | F48: 1 Doos = 250 stuks. | H48: 0 | I48: 2 | J48: =I48*H48 -> 0
C49: 2.9 | D49: C4 akte evelop zonder venster | E49: Raadpleeg tabblad 3. Specificaties | F49: 1 Doos = 250 stuks. | H49: 0 | I49: 2 | J49: =I49*H49 -> 0
C50: 2.10 | D50: C4 akte envelop met venster | E50: Raadpleeg tabblad 3. Specificaties | F50: 1 Doos = 250 stuks. | H50: 0 | I50: 54 | J50: =I50*H50 -> 0
C51: 2.11 | D51: Antwoordenveloppen | E51: Raadpleeg tabblad 3. Specificaties | F51: 1 Doos = 500 stuks. | H51: 0 | I51: 35 | J51: =I51*H51 -> 0
J52: =SUM(J37:J51) -> 0
C54: 3. Reprografische leveringen, bewonersbrieven, enquetes etc.
C55: nr. | D55: Omschrijving | H55: Prijs per eenheid, exclusief btw (1) | I55: Fictieve afname | J55: Subtotaal (Prijs per eenheid x fictieve afname)
C56: 3.1 | D56: Afdruk (print en kopie) full color A4 enkelzijdig (dubbelzijdig = 2x prijs enkelzijdig) excl. papier | H56: 0 | I56: 300000 | J56: =I56*H56 -> 0
C57: 3.2 | D57: Afdruk (print en kopie) full color A3 enkelzijdig (dubbelzijdig = 2x prijs enkelzijdig) excl. papier | H57: 0 | I57: 50000 | J57: =I57*H57 -> 0
C58: 3.2 | D58: Afdruk (print en kopie) Zwart-Wit A4 enkelzijdig (dubbelzijdig = 2x prijs enkelzijdig) excl. papier | H58: 0 | I58: 550000 | J58: =I58*H58 -> 0
C59: 3.4 | D59: Afdruk (print en kopie) Zwart-Wit A3 enkelzijdig (dubbelzijdig = 2x prijs enkelzijdig) excl. papier | H59: 0 | I59: 2000 | J59: =I59*H59 -> 0
C60: 3.5 | D60: Afdruk grootformaat A0 kleur vector en raster excl. papier | H60: 0 | I60: 1000 | J60: =I60*H60 -> 0
C61: 3.6 | D61: Afdruk grootformaat A0 Zwart-Wit excl. papier | H61: 0 | I61: 1000 | J61: =I61*H61 -> 0
C62: 3.7 | D62: Afdruk grootformaat A1 kleur vector en raster excl. papier | H62: 0 | I62: 1000 | J62: =I62*H62 -> 0
C63: 3.8 | D63: Afdruk grootformaat A1 Zwart-Wit excl. papier | H63: 0 | I63: 1000 | J63: =I63*H63 -> 0
C64: 3.9 | D64: Afdruk grootformaat A2 kleur vector en raster excl. papier | H64: 0 | I64: 1000 | J64: =I64*H64 -> 0
C65: 3.10 | D65: Afdruk grootformaat A2 Zwart-Wit excl. papier | H65: 0 | I65: 1000 | J65: =I65*H65 -> 0
C66: 3.11 | D66: Lijmen met linnen bindstrip A4 <25 vel | H66: 0 | I66: 2000 | J66: =I66*H66 -> 0
C67: 3.12 | D67: Lijmen met linnen bindstrip A4 25 <> 50 vel | H67: 0 | I67: 1000 | J67: =I67*H67 -> 0
... C144: 3.89 | D144: A2 90gr mat papier per vel | H144: 0 | I144: 5000 | J144: =I144*H144 -> 0
J145: =SUM(J56:J144) -> 0
C147: 4. DTP (Desktop Publishing)
C148: nr. | D148: Omschrijving | F148: Eenheid | H148: Prijs per eenheid, exclusief btw | I148: Fictieve afname | J148: Subtotaal (Prijs per eenheid x fictieve afname)
C149: 4.1 | D149: Technisch DTP binnen office applicaties (geen vormgeving) tbv mailingen/bewonersbrieven | F149: 30 minuten | H149: 0 | I149: 150 | J149: =I149*H149 -> 0
C150: 4.2 | D150: Technisch DTP binnen Creative Cloud (geen vormgeving) tbv promotioneel drukwerk | F150: 30 minuten | H150: 0 | I150: 150 | J150: =I150*H150 -> 0
J151: =SUM(J149:J150) -> 0

Sheet 3. Specificaties
C3: Bijlage 4: Prijzenblad Drukwerk, Reprografische Dienstverlening en DTP
C6: 1. Standaardopdrachten
C7: nr. | D7: Omschrijving | E7: Formaat | F7: aantal pagina's | G7: Inhoud / Eenheid | H7: papiersoort | I7: bedrukking | J7: opmerkingen | K7: afwerking | L7: pdf beschikbaar
C8: 1.1 | D8: Mailing 1 | E8: C5 | F8: 3 | G8: Een gedrukte vensterenvelop C5 incl. een mailing op gedrukt briefpapier voorzien van een geprinte bijlage. | H8: Envelop: C5 venster Brief: A4 logopapier 80 grs, Bijlagen: 80 grs wit | I8: Brief :2-z zwart-wit Bijlage: 1-z, fc | K8: Couverteren, verzendgereed maken en aanbieden post | L8: ja
C9: 1.2 | D9: Mailing 2 | E9: C4 | F9: 2 | G9: Een gedrukte vensterenvelop C4 incl. een mailing op gedrukt briefpapier voorzien van een geprinte bijlage en een antwoordenvelop EA5 | H9: Envelop: C4 venster Brief: A4 logopapier 80 grs, Bijlage: 200 grs wit + antwoordenvelop EA5. | I9: Brief: 2-z fc, Bijlage: 1-z zwart-wit | K9: Couverteren, verzendgereed maken en aanbieden post | L9: ja
C10: 1.3 | D10: Flyers | E10: A5, A4 | F10: 2 | G10: 50 stuks | H10: 160 grams wit houtvrij mat mc digital | I10: 2-z fc | J10: Incl. eventuele DTP | K10: snijden | L10: ja
C11: 1.4 | D11: Folder | E11: A5 | F11: 4 | G11: 50 stuks | H11: 160 grams wit houtvrij mat mc digital | I11: 2-z fc | J11: Incl. eventuele DTP | K11: snijden, vouwen | L11: ja
C12: 1.5 | D12: Poster | E12: A3 tot A0 | F12: 1 | G12: 50 stuks | H12: 160 grams wit houtvrij mat mc digital | I12: 1-z fc | J12: Incl. eventuele DTP | K12: snijden | L12: ja
C13: 1.6 | D13: Visitekaartje | E13: 55 x 85 mm | F13: - | G13: 100 stuks verpakt in een doosje | H13: 250 grams wit houtvrij mat mc digital | I13: 2-z fc | J13: Incl. eventuele DTP | K13: snijden | L13: ja
C14: 1.7 | D14: Brochure | E14: A5, A4 | F14: variabel | G14: 50 stuks | H14: 100 grams wit houtvrij mat mc digital | I14: fc | J14: Incl. eventuele DTP | K14: snijden, gehecht gebrocheerd | L14: ja
C15: 1.8 | D15: Magazine | E15: A4 | F15: 16, 24, 32 | G15: 50 stuks | H15: 100/160 grams wit houtvrij mat mc | I15: fc | J15: Incl. eventuele DTP | K15: snijden, gehecht gebrocheerd | L15: ja
C17: 2. Huisstijldrukwerk
C18: nr. | D18: Omschrijving | E18: Formaat | F18: papiersoort | G18: bedrukking | H18: afwerking | I18: pdf beschikbaar | J18: opmerkingen
C19: 2.1 | D19: A4 Logo Briefpapier gemeente Zoetermeer | E19: A4 | F19: 80 grams wit Print Speed Laserjet | G19: 1-z : zwart + PMS | H19: snijden | I19: ja | J19: Afname per doos of per pallet
C20: 2.2 | D20: C5 envelop zonder venster* | E20: C5 | F20: C5, 80/90 grs, wit offset envelop | G20: 1-z : zwart + PMS | H20: n.v.t. | I20: ja | J20: Afname per doos of per pallet
C21: 2.3 | D21: C5 envelop met venster* | E21: C5 | F21: C5 venster links, 90 grs offset envelop, venster links. | G21: 1-z : zwart + PMS | H21: n.v.t. | I21: ja | J21: Afname per doos of per pallet
C22: 2.4 | D22: C5 envelop antwoordenvelop zonder venster* | E22: C5 | F22: C5 venster links, 90 grs offset envelop. | G22: 1-z : zwart + PMS
C23: 2.5 | D23: C5 envelop met postbus- zonder venster* | E23: C5 | F23: C5, 90 grs, offset envelop | G23: 1-z : zwart + PMS | H23: n.v.t. | I23: ja | J23: Afname per doos
C24: 2.6 | D24: C5 envelop zonder venster en striplock* | E24: C4 | F24: C5 venster links, 90 grs offset envelop incl. striplock | G24: 1-z : zwart + PMS | H24: n.v.t. | I24: ja | J24: Afname per doos
C25: 2.7 | D25: C5 envelop met venster en striplock* | E25: C5 | F25: C5 venster links, 90 grs offset envelop incl. striplock | G25: 1-z : zwart + PMS | H25: n.v.t. | I25: ja | J25: Afname per doos
C26: 2.8 | D26: C4 Akte envelop, zonder venster met striplock* | E26: C5 | F26: C4 envelop zonder venster 120 grs wit offset incl. striplock | G26: 1-z : zwart + PMS | H26: n.v.t. | I26: ja | J26: Afname per doos
C27: 2.9 | D27: C4 akte envelop zonder venster* | E27: C4 | F27: C4 venster links, 120 grs offset envelop | G27: 1-z : zwart + PMS
C28: 2.10 | D28: C4 akte envelop met venster* | E28: C4 | F28: C4 venster links, 120 grs offset envelop | G28: 1-z : zwart + PMS | H28: n.v.t. | I28: ja | J28: Afname per doos
C29: 2.11 | D29: Antwoordenveloppen* | E29: EA5 | F29: EA5 envelop zonder venster 80 grs wit offset | G29: 1-z : zwart | H29: n.v.t. | I29: ja | J29: Afname per doos
D30: * gegomd lange zijde, grijze binnendruk, port betaald logo
C32: 5.2 | D32: A3 Kopieerpapier | E32: A3 | F32: 80 grs | G32: blanco | H32: n.v.t. | I32: n.v.t. | J32: Afname per doos
