Workbook

Sheet Berekening fictieve korting
A1: Bijlage 5: Voorbeeldberekening winnaar
B4: De maximale fictieve korting is vastgesteld op €1.100.000 (zoals benoemd in het Beschrijvend document)
B7: Inschrijver 1: | I7: Rang: | J7: Inschrijver | K7: Vergelijkingsprijs | P7: Inschrijver | Q7: Vergelijkingsprijs
B8: Sub-criterium | C8: Percentage | D8: Onderverdeling | E8: Fictieve inschrijfprijs | F8: Score | G8: Fictieve Korting | I8: 1 | J8: {=_xlfn._xlws.SORT(P8:Q11,2,1)} -> 3 | K8: 385215 | P8: 1 | Q8: =G15 -> 514210
B9: Prijs | C9: 0.3 | E9: 1114810 | I9: 2 | J9: 1 | K9: 514210 | P9: 2 | Q9: =G25 -> 707989
E10: Maximale fictieve korting | I10: 3 | J10: 4 | K10: 528391 | P10: 3 | Q10: =G35 -> 385215
B11: Kwaliteit | C11: 0.7 | E11: 780000 | I11: 4 | J11: 2 | K11: 707989 | P11: 4 | Q11: =G45 -> 528391
B12: Functioneel technisch ontwerp / security | D12: 0.4 | E12: =0.4*E11 -> 312000 | F12: ='Beoordeling kwaliteit'!F15 -> 7 | G12: =E12*(F12/10) -> 218400
B13: Implementatie / ontzorging | D13: 0.2 | E13: =0.2*E11 -> 156000 | F13: ='Beoordeling kwaliteit'!F19 -> 8.5 | G13: =E13*(F13/10) -> 132600
B14: Gebruiksgemak | D14: 0.4 | E14: =0.4*E11 -> 312000 | F14: ='Beoordeling kwaliteit'!F24 -> 8 | G14: =E14*(F14/10) -> 249600
B15: Vergelijkingsprijs | G15: =E9-SUM(G12:G14) -> 514210
B17: Inschrijver 2:
B18: Sub-criterium | C18: Percentage | D18: Onderverdeling | E18: Fictieve inschrijfprijs | F18: Score | G18: Fictieve Korting
B19: Prijs | C19: 0.3 | E19: 960189
E20: Maximale fictieve korting
B21: Kwaliteit | C21: 0.7 | E21: 780000
B22: Functioneel technisch ontwerp / security | D22: 0.4 | E22: =0.4*E21 -> 312000 | F22: ='Beoordeling kwaliteit'!L15 -> 3.6666667 | G22: =E22*(F22/10) -> 114400
B23: Implementatie / ontzorging | D23: 0.2 | E23: =0.2*E21 -> 156000 | F23: ='Beoordeling kwaliteit'!L19 -> 1.5 | G23: =E23*(F23/10) -> 23400
B24: Gebruiksgemak | D24: 0.4 | E24: =0.4*E21 -> 312000 | F24: ='Beoordeling kwaliteit'!L24 -> 3.6666667 | G24: =E24*(F24/10) -> 114400
B25: Vergelijkingsprijs | G25: =E19-SUM(G22:G24) -> 707989
B27: Inschrijver 3:
B28: Sub-criterium | C28: Percentage | D28: Onderverdeling | E28: Fictieve inschrijfprijs | F28: Score | G28: Fictieve Korting
B29: Prijs | C29: 0.3 | E29: 1110615
E30: Maximale fictieve korting
B31: Kwaliteit | C31: 0.7 | E31: 780000
B32: Functioneel technisch ontwerp / security | D32: 0.4 | E32: =0.4*E31 -> 312000 | F32: ='Beoordeling kwaliteit'!F34 -> 9 | G32: =E32*(F32/10) -> 280800
B33: Implementatie / ontzorging | D33: 0.2 | E33: =0.2*E31 -> 156000 | F33: ='Beoordeling kwaliteit'!F38 -> 8.5 | G33: =E33*(F33/10) -> 132600
B34: Gebruiksgemak | D34: 0.4 | E34: =0.4*E31 -> 312000 | F34: ='Beoordeling kwaliteit'!F43 -> 10 | G34: =E34*(F34/10) -> 312000
B35: Vergelijkingsprijs | G35: =E29-SUM(G32:G34) -> 385215
B37: Inschrijver 4:
B38: Sub-criterium | C38: Percentage | D38: Onderverdeling | E38: Fictieve inschrijfprijs | F38: Score | G38: Fictieve Korting
B39: Prijs | C39: 0.3 | E39: 959991
E40: Maximale fictieve korting
B41: Kwaliteit | C41: 0.7 | E41: 780000
B42: Functioneel technisch ontwerp / security | D42: 0.4 | E42: =0.4*E41 -> 312000 | F42: ='Beoordeling kwaliteit'!L34 -> 5.6666667 | G42: =E42*(F42/10) -> 176800
B43: Implementatie / ontzorging | D43: 0.2 | E43: =0.2*E41 -> 156000 | F43: ='Beoordeling kwaliteit'!L38 -> 5 | G43: =E43*(F43/10) -> 78000
B44: Gebruiksgemak | D44: 0.4 | E44: =0.4*E41 -> 312000 | F44: ='Beoordeling kwaliteit'!L43 -> 5.6666667 | G44: =E44*(F44/10) -> 176800
B45: Vergelijkingsprijs | G45: =E39-SUM(G42:G44) -> 528391

Sheet Beoordeling kwaliteit
B10: Beoordeling Inschrijver 1 | C10: Beoordelaar 1 | D10: Beoordelaar 2 | E10: Beoordelaar 3 | F10: Gemiddelde | H10: Beoordeling Inschrijver 2 | I10: Beoordelaar 1 | J10: Beoordelaar 2 | K10: Beoordelaar 3 | L10: Gemiddelde
B11: Functioneel technisch ontwerp / security | H11: Functioneel technisch ontwerp / security
B12: Deelvraag 1 | C12: 7 | D12: 7 | E12: 7 | F12: =SUM(C12:E12)/3 -> 7 | H12: Deelvraag 1 | I12: 3 | J12: 3 | K12: 3 | L12: =SUM(I12:K12)/3 -> 3
B13: Deelvraag 2 | C13: 7 | D13: 7 | E13: 7 | F13: =SUM(C13:E13)/3 -> 7 | H13: Deelvraag 2 | I13: 3 | J13: 3 | K13: 3 | L13: =SUM(I13:K13)/3 -> 3
B14: Deelvraag 3 | C14: 7 | D14: 7 | E14: 7 | F14: =SUM(C14:E14)/3 -> 7 | H14: Deelvraag 3 | I14: 5 | J14: 5 | K14: 5 | L14: =SUM(I14:K14)/3 -> 5
B15: Totaalscore | F15: =SUM(F12:F14)/3 -> 7 | H15: Totaalscore | L15: =SUM(L12:L14)/3 -> 3.6666667
B16: Implementatie / ontzorging | H16: Implementatie / ontzorging
B17: Deelvraag 1 | C17: 7 | D17: 7 | E17: 7 | F17: =SUM(C17:E17)/3 -> 7 | H17: Deelvraag 1 | I17: 0 | J17: 0 | K17: 0 | L17: =SUM(I17:K17)/3 -> 0
B18: Deelvraag 2 | C18: 10 | D18: 10 | E18: 10 | F18: =SUM(C18:E18)/3 -> 10 | H18: Deelvraag 2 | I18: 3 | J18: 3 | K18: 3 | L18: =SUM(I18:K18)/3 -> 3
B19: Totaalscore | F19: =SUM(F17:F18)/2 -> 8.5 | H19: Totaalscore | L19: =SUM(L17:L18)/2 -> 1.5
B20: Gebruiksgemak | H20: Gebruiksgemak
B21: Deelvraag 1 | C21: 7 | D21: 7 | E21: 7 | F21: =AVERAGE(C21:E21) -> 7 | H21: Deelvraag 1 | I21: 5 | J21: 5 | K21: 5 | L21: =AVERAGE(I21:K21) -> 5
B22: Deelvraag 2 | C22: 10 | D22: 10 | E22: 10 | F22: =AVERAGE(C22:E22) -> 10 | H22: Deelvraag 2 | I22: 3 | J22: 3 | K22: 3 | L22: =AVERAGE(I22:K22) -> 3
B23: Deelvraag 3 | C23: 7 | D23: 7 | E23: 7 | F23: =AVERAGE(C23:E23) -> 7 | H23: Deelvraag 3 | I23: 3 | J23: 3 | K23: 3 | L23: =AVERAGE(I23:K23) -> 3
B24: Totaalscore | F24: =AVERAGE(F21:F23) -> 8 | H24: Totaalscore | L24: =AVERAGE(L21:L23) -> 3.6666667
F25: Bedrag | L25: Bedrag
B26: Fivtieve inschrijfprijs Inschrijver 1 | F26: ='Berekening fictieve korting'!E9 -> 1114810 | H26: Fivtieve inschrijfprijs Inschrijver 2 | L26: ='Berekening fictieve korting'!E19 -> 960189
B29: Beoordeling Inschrijver 3 | C29: Beoordelaar 1 | D29: Beoordelaar 2 | E29: Beoordelaar 3 | F29: Gemiddelde | H29: Beoordeling Inschrijver 4 | I29: Beoordelaar 1 | J29: Beoordelaar 2 | K29: Beoordelaar 3 | L29: Gemiddelde
B30: Functioneel technisch ontwerp / security | H30: Functioneel technisch ontwerp / security
B31: Deelvraag 1 | C31: 10 | D31: 10 | E31: 10 | F31: =SUM(C31:E31)/3 -> 10 | H31: Deelvraag 1 | I31: 5 | J31: 5 | K31: 5 | L31: =SUM(I31:K31)/3 -> 5
B32: Deelvraag 2 | C32: 10 | D32: 10 | E32: 10 | F32: =SUM(C32:E32)/3 -> 10 | H32: Deelvraag 2 | I32: 5 | J32: 5 | K32: 5 | L32: =SUM(I32:K32)/3 -> 5
B33: Deelvraag 3 | C33: 7 | D33: 7 | E33: 7 | F33: =SUM(C33:E33)/3 -> 7 | H33: Deelvraag 3 | I33: 7 | J33: 7 | K33: 7 | L33: =SUM(I33:K33)/3 -> 7
B34: Totaalscore | F34: =SUM(F31:F33)/3 -> 9 | H34: Totaalscore | L34: =SUM(L31:L33)/3 -> 5.6666667
B35: Implementatie / ontzorging | H35: Implementatie / ontzorging
B36: Deelvraag 1 | C36: 10 | D36: 10 | E36: 10 | F36: =SUM(C36:E36)/3 -> 10 | H36: Deelvraag 1 | I36: 5 | J36: 5 | K36: 5 | L36: =SUM(I36:K36)/3 -> 5
B37: Deelvraag 2 | C37: 7 | D37: 7 | E37: 7 | F37: =SUM(C37:E37)/3 -> 7 | H37: Deelvraag 2 | I37: 5 | J37: 5 | K37: 5 | L37: =SUM(I37:K37)/3 -> 5
B38: Totaalscore | F38: =SUM(F36:F37)/2 -> 8.5 | H38: Totaalscore | L38: =SUM(L36:L37)/2 -> 5
B39: Gebruiksgemak | H39: Gebruiksgemak
B40: Deelvraag 1 | C40: 10 | D40: 10 | E40: 10 | F40: =AVERAGE(C40:E40) -> 10 | H40: Deelvraag 1 | I40: 5 | J40: 5 | K40: 5 | L40: =AVERAGE(I40:K40) -> 5
B41: Deelvraag 2 | C41: 10 | D41: 10 | E41: 10 | F41: =AVERAGE(C41:E41) -> 10 | H41: Deelvraag 2 | I41: 7 | J41: 7 | K41: 7 | L41: =AVERAGE(I41:K41) -> 7
B42: Deelvraag 3 | C42: 10 | D42: 10 | E42: 10 | F42: =AVERAGE(C42:E42) -> 10 | H42: Deelvraag 3 | I42: 5 | J42: 5 | K42: 5 | L42: =AVERAGE(I42:K42) -> 5
B43: Totaalscore | F43: =AVERAGE(F40:F42) -> 10 | H43: Totaalscore | L43: =AVERAGE(L40:L42) -> 5.6666667
F44: Bedrag | L44: Bedrag
B45: Fivtieve inschrijfprijs Inschrijver 3 | F45: ='Berekening fictieve korting'!E29 -> 1110615 | H45: Fivtieve inschrijfprijs Inschrijver 4 | L45: ='Berekening fictieve korting'!E39 -> 959991
