Workbook
Name _ftn1: '4. Beschikbaarheid'!$B$34
Name _ftnref1: '2. Algemeen'!#REF!
Name _Toc367866010: '2. Algemeen'!$A$29
Name besalt: Waarderingstabellen!$Q$4
Name besalt1: Waarderingstabellen!$Q$4:$Q$5
Name beschikbaarheid: Waarderingstabellen!$O$4:$O$9
Name beschikbaarheid: Waarderingstabellen!$O$4:$O$9
Name Integriteit: Waarderingstabellen!$O$12:$O$17
Name Integriteit: [1]waarderingstabellen!$O$12:$O$17
Name Integriteit: Waarderingstabellen!$O$12:$O$17
Name keuzep2: Waarderingstabellen!$Q$29:$Q$30
Name keuzep2: [1]waarderingstabellen!$Q$29:$Q$30
Name keuzep2: Waarderingstabellen!$Q$29:$Q$30
Name privacy: [1]waarderingstabellen!$O$29:$O$32
Name privacy: Waarderingstabellen!$O$29:$O$32
Name Vertrouwelijkheid: Waarderingstabellen!$O$21:$O$26
Name Vertrouwelijkheid: [1]waarderingstabellen!$O$21:$O$26
Name Vertrouwelijkheid: Waarderingstabellen!$O$21:$O$26

Sheet 1. Leeswijzer
A1: Dataclassificatieregels
A2: 1. | B2: Bij ieder nieuw systeem moet beoordeeld worden of er een dataclassificatie uitgevoerd moet worden (initieel).
B3: > | C3: Criterium 1: worden er in of met het systeem gegevens gemaakt, geraadpleegd of gewijzigd, die vertrouwelijk van aard zijn?
C4: Criterium 2: worden er in of met het systeem gegevens gemaakt, geraadpleegd of gewijzigd waarvan de organisatie afhankelijk is voor besluitvorming of uitvoering van haar dienstverlening??
A5: 2. | B5: Bij ieder nieuw systeem waarvoor één van de citeria uit stap 1 geldt, moet er een dataclassificatie uitgevoerd worden (initieel).
B6: > | C6: Tabbladen 3 t/m 7 helemaal doornemen en invullen
A7: 3. | B7: Bij iedere wijziging in een systeem moet bekeken worden of de dataclassificatie aangepast moet worden.
B8: > | C8: Voor tabblad 4 vragen: is er iets verandert dat effect kan hebben op de beschikbaarheid van gegevens? Zo ja, dan opnieuw invullen. Hetzelfde herhalen voor tabblad 5 en 6.
B9: > | C9: Tabblad 7 sowieso opnieuw invullen.
A10: 4. | B10: Bij het maken van een dataset, het wijzigen van een dataset of het bijdragen aan een dataset vanuit het systeem moet bekeken worden of de dataclassificatie van de leverende systemen aangepast moet worden.
B11: > | C11: Voor tabblad 4 vragen: is er iets verandert dat effect kan hebben op de beschikbaarheid van gegevens? Zo ja, dan opnieuw invullen. Hetzelfde herhalen voor tabblad 5 en 6.
B12: > | C12: Tabblad 7 sowieso opnieuw invullen.
A13: 5. | B13: Bij iedere wijziging van het gebruik van een dataset moet bekeken worden of de dataclassificatie van de leverende systemen aangepast moet worden.
B14: > | C14: Voor tabblad 4 vragen: is er iets verandert dat effect kan hebben op de beschikbaarheid van gegevens? Zo ja, dan opnieuw invullen. Hetzelfde herhalen voor tabblad 5 en 6.
B15: > | C15: Tabblad 7 sowieso opnieuw invullen.
A16: 6. | B16: Bij het vervangen of om andere reden verwijderen van een systeem moet de dataclassificatie eveneens worden verwijderd.
B17: > | C17: De bestaande dataclassificatie verwijderen
B18: > | C18: Voor (nog) bestaande datasets die vanaf dat moment door andere systemen gevoed worden, gelden natuurlijk de Dataclassificatieregels 1 tot en met 4 gewoon opnieuw.
A20: Wie doet wat | M20: Wat moet wanneer
E21: Actoren | F21: Informatie Adviseur | G21: Functioneel Beheerder | H21: Teammanager / systeemeigenaar | I21: Databewerkers # | J21: Privacy / Informatiebeveiliging ## | K21: Iedereen
P23: 1 vd criteria geldt?
C24: Initieren dataclassificatie | D24: *
C25: Uitvoeren dataclassificatie | D25: x (als ook initierend, dan rood kruis: x)
C26: Goedkeuren dataclassificatie | D26: +
C27: Toetsen criteria | D27: =
F28: Informatiemanager | G28: Functioneel Beheerder | H28: Teamleider | I28: Data Analist | J28: Data Analist | K28: Iedereen
C29: Actie | D29: Type dataclassificatie
C30: Aanschaffen systeem | D30: Classificatie uitvoeren (indien criterium) (regel 1&2) | F30: x | G30: x | H30: + | J30: =
C31: Aanpassen systeem | D31: Classificatie aanpassen? (regel 3) | F31: x | G31: x | H31: + | J31: =
C32: Verwijderen systeem | D32: Classificatie verwijderen (regel 6 en evt. 3) | F32: * | G32: x
C33: Creëren enkelvoudige dataset | D33: Classificatie bronsysteem bijwerken (regel 3) | G33: x | H33: + | I33: * | J33: = | K33: *
C34: Creëren meervoudige dataset | D34: Classificatie alle leverende systemen bijwerken (regel 4) | G34: x | H34: + | I34: * | J34: =
C35: Aanpassen dataset | D35: Classificatie alle leverende systemen bijwerken (regel 4) | G35: x | H35: + | I35: * | J35: = | K35: *
C36: Verwijderen dataset | D36: Classificatie alle leverende systemen bijwerken (regel 4) | G36: x | H36: +
C37: Wijziging gebruiksdoel dataset | D37: Classificatie alle leverende systemen bijwerken (regel 5) | F37: * | G37: x | H37: + | I37: * | J37: =
B39: # | C39: Databewerkers: DIV en toekomstige data analisten e.d.
B40: ## | C40: PIV: structurele betrokkenheid aan voorkant en steekproefgewijs of op verzoek op andere plekken in proces

Sheet 2. Algemeen
A1: Baselinetoets
A3: Deze baselinetoets kan op twee manieren worden gebruikt:
A4: 1. Om te bepalen of een proces, informatiesysteem en/of informatie een bepaald Basis Beveiligings Niveau (BBN) heeft binnen de BIO, of meer maatregelen nodig heeft, nadat de GAP-analyse en impactanalyse ten opzichte van de BIO [ organisatie ] breed is uitgevoerd. De uitkomsten kunnen dan worden gebruikt om te bepalen of er meer maatregelen nodig zijn voor een proces en onderliggende informatiesystemen. Deze maatregelen kunnen worden verkregen uit een voorgedefineerde lijst met maatregelen bovenop de baseline, of door een aanvullende diepgaande risicoanalyse.
A5: 2. Om in de fase voor het starten van een project of voor een nieuw informatiesysteem, deze baselinetoets BIO op te laten stellen door de proces verantwoordelijke. De vragenlijst vormt dan input voor de eventueel te nemen additionele beveiligingsmaatregelen, welke in de definitiefase van het project nader worden uitgewerkt. Bijvoorbeeld door middel van een aanvullende diepgaande risicoanalyse.
A7: Het resultaat van de baselinetoets BIO kan duiden op een zwaartepunt in het te beschermen belang, er is bijvoorbeeld een hogere score voor Beschikbaarheid, maar niet op Integriteit en Vertrouwelijkheid. In de daarna uit te voeren risicoanalyse dient dan de nadruk te liggen op verhogen van Beschikbaarheid.
A9: Deze baselinetoets BIO bevat ook vragen om vast te kunnen stellen of er persoonsgegevens worden verwerkt en zo ja of er dan ook een DPIA nodig is. De AP heeft een lijst van verwerkingen opgesteld waarvoor een DPIA verplicht is. Daarnaast heeft de AP bepaalde situaties beschreven die meer Privacy risico opleveren. Na het doorlopen van de privacy vragen wordt duidelijk of een DPIA moet worden uitgevoerd.
A11: Huidige situatie
A12: De baselinetoets BIO is een momentopname van de huidige situatie. Wat er in de toekomst gaat veranderen wordt dan ook niet meegenomen in de huidige analyse. Mocht in de toekomst de situatie veranderen dan dient de baselinetoets opnieuw tegen het licht gehouden worden. Bijvoorbeeld:
A13: • Als er in de toekomstige situatie nieuwe wet- of regelgeving in werking treedt.
A14: • Als in de toekomstige situatie meer (keten)partners worden aangesloten.
A15: • Als er voor dezelfde doelen in de toekomstige situatie meer (persoons)gegevens worden verzameld.
A16: • Bij grote proces en/of systeemwijzigingen.
... A53: Alle voorgaande invalshoeken kunnen uiteindelijk tot gevolg hebben dat Kamervragen gesteld worden met verstrekkende gevolgen. Dit kan door een hoge boete, bijvoorbeeld voor het lekken van persoonsinformatie.

Sheet 3. Algemene Vragen
A1: Algemene vragen over het informatiesysteem
A3: 0. | B3: Algemeen
B4: Organisatie:
B5: Hwwerkt!
B7: Afdeling:
B8: Het werkbedrijf Hwwerkt!
B10: Opsteller:
B11: xxx
B13: Versienummer:
B14: 1
B16: Datum:
B17: 45303
A20: 1. | B20: Management samenvatting
A25: 2. | B25: Inleiding
B26: Deze baseline toets is uitgevoerd ihkv het BIO verbeterplan om zodoende tot een eerste aanzet te komen van dataclassificatie op de door de gemeente HW gebruikte systemen en applicatie.
A29: 2.1 | B29: Project
B30: Aanbesteding ERP systeem Hwwerkt!
A33: 3. | B33: Vragenlijst proces
A35: 3.1. | B35: Naam en functie geïnterviewde
B36: xxx
A39: 3.2 | B39: Naam en functie proces
B40: Verkooporder: 4. beschikbaarheid
B41: Magazijnuitgifte: 5. Integriteit
B42: Facturatie: 6. Vertrouwelijkheid
B44: Bovengenoemde processen zijn gebruikt om de vragen te beandwoorden
A46: 3.3 | B46: Geef een bondige beschrijving van het proces/processen en benoem de proceseigenaar. | C46: Eigenaar
B47: Verkooporder | C47: Medewerker bedrijfsbureau
B48: Magazijnuitgifte | C48: Medewerker bedrijfsbureau
B49: Facturatie | C49: Medewerker bedrijfsbureau
A52: 3.4 | B52: Maakt het proces/de processen deel uit van een keten/meerdere ketens? Zo ja beschrijf de keten/ketens
B53: Wat is (zijn) de keten(s): Interne keten: Offerte; Verkooporder; Afhandeling order; Magazijn uitgifte; facturatie Wat is (zijn) de ketenpartner(s): Bedrijfsbureau; Productieafdeling; Magazijn; Financiele administratie | C53: alle organisaties die gegevens aanleveren op structurele basis
A56: 3.5 | B56: Welke eventuele subprocessen zijn te onderscheiden? Welke hoofdactiviteiten worden binnen het proces uitgevoerd en wie doen dat?
A60: 3.6 | B60: Welke informatie wordt er gebruikt binnen het proces en eventuele subprocessen? Geef ook aan welke soort persoonsgegevens gebruikt worden.
B62: Er worden geen bijzondere persoongegevens vastgelegd in het systeem
B63: Gegevens van klanten (bedrijfsgegevens)
B64: Voor- en achternamen van medewerkers
A66: 3.7 | B66: Beschrijf welke afnemers het proces heeft. Welke producten nemen zij af en welke kwaliteitseisen stellen zij aan deze producten?
B67: Directie - omzetcijfers; Werkleiders - Verkooporder; Bedrijfsbureau - offerte, verkooporders facturatie; Financiele afdeling: Facturatie
A73: 3.8 | B73: Beschrijf welke leveranciers het proces heeft. Welke producten leveren zij aan en welke eisen stellen zij aan de verwerking in het te onderzoeken proces?
B74: Productieafdeling; de directie Klant en leveranciers;
...

Sheet 4. Beschikbaarheid
B2: Blok Beschikbaarheidsvragen | G2: Gebruikt proces: Verkooporder
B3: Gevolgen van het niet beschikbaar hebben van de benodigde informatie of gegevens. | D3: Waardering | G3: Argumentatie
B4: (in het ergste geval) | D4: (zie de waardering bij de vraag) | G4: (verplicht invullen)
B6: B1 | C6: Managementbeslissingen: | D6: Hoog | E6: Midden | F6: Laag | G6: 4 uur is acceptabel | I6: Let op, alleen de gele velden invullen!
C7: Welke tijdsduur, die het nemen van beslissingen door het ontbreken van informatie, negatief beïnvloedt, is acceptabel.? | D7: 0 | E7: 0 | F7: 1
B8: B2 | C8: Imagoverlies | D8: Hoog | E8: Midden | F8: Laag | G8: 99% zijn vaste klanten en hebben een ruime marge. Geen imagoverlies
C9: Hoe lang duurt het voordat er sprake is van imagoverlies wanneer informatie niet voorhanden is? | D9: 0 | E9: 0 | F9: 1 | I9: Imagoverlies is lastig omdat je als organisatie soms lang tijd hebt voor bepaalde beslissingen. Bedenk ook dat er soms een maximum (wettelijke) termijn is dat sommige informatiesystemen niet beschikbaar mogen zijn.
B10: B3 | C10: Hapering dienstverlening | D10: Dagdeel uitval en herstel in uren = hoog | E10: Max 1 week uitval, RTO: 16 uur in 2 werk dagen = Midden | F10: max 2 weken uitval, RTO = max 40 uur = Laag | I10: Het invullen van beschikbaarheid lijkt toch wel een wat lastige excercitie we hebben overwogen om alleen met kruisjes te werken, echter dan doe je de beschikbaarheidsvraag geen goed. Het gaat hier om de schade die op enig moment het grootst is.
C11: Hoe lang kan de informatie niet beschikbaar zijn voordat er daadwerkelijk hapering in de dienstverlening aan burgers/bedrijven/ketenpartners ontstaat? Hoe snel moet er worden hersteld? | D11: 0 | E11: 0 | F11: 1 | G11: Indien systeem niet bechikbaar is kan handmatig gewerkt worden door bellen en noteren, deze gegevens kunnen later worden bijgewerkt
B14: B4 | C14: Wettelijke aansprakelijkheid: | D14: Hoog | E14: Midden | F14: Laag | G14: Vastgelegd in de algemene leveringsvoorwaarden | I14: Let wel op, je kunt situaties hebben dat de beschikbaarheid / uitval een week mag zijn, behalve op de dag dat de uitkeringen worden berekend en naar de bank gezonden. Geef dat dan aan in de rapportage en bedank daar later mitigerende maatregelen voor
C15: Hoe lang kan de applicatie of informatie niet beschikbaar zijn voordat er wettelijke of contractuele verplichtingen niet kunnen worden nagekomen? | D15: 0 | E15: 0 | F15: 1
B16: B5 | C16: Additionele kosten: | D16: Hoog | E16: midden | F16: Laag | G16: Orders zijn ook beschikbaar in de e-mail applicatie en kunnen zonder toeggang tot ISAH worden uitegevoerd en later worden verwerkt, daar zijn geen extra kosten mee gemoeid. | I16: Bijvoorbeeld: het betalen van uitkeringen mag geen dag te laat zijn. Als dat echt niet mag gebeuren doe daar geen RA voor maar noteer het wel hier en bedenk een proces om daarmee om te gaan.
C17: Na welke periode zijn additionele kosten voor de organisatie te verwachten, bij het niet beschikbaar zijn van de applicatie of informatie? | D17: 0 | E17: 0 | F17: 1
B18: B6 | C18: Moreel van de medewerkers: | D18: Hoog | E18: Midden | F18: Laag | G18: Er wordt onmiddellijk geinformeerd en naar een oplossing gezocht | I18: Bedenk hier ook dat er een wettelijke plicht is om bepaalde systemen tijdig in de lucht te hebben. Bijvoorbeeld Suwi, BRP en PUN.
C19: Na welke periode is er sprake van een duidelijk negatieve invloed op het moreel en de motivatie van medewerkers[1], wanneer de informatie stroom hapert? | D19: 0 | E19: 0 | F19: 1
B20: B7 | C20: Herstel: | D20: Data-verlies tot 8 uur | E20: data-verlies: 8-24 uur | F20: data-verlies meer dan 24 uur | G20: Er wordt geen verlies verwacht na onbeschikbaarheid
C21: Hoe lang mag het herstellen na een onbeschikbaarheid van een applicatie of informatie duren voordat er daadwerkelijk hapering in de dienstverlening aan burgers/bedrijven/ketenpartners ontstaat? Zijn er hoge herstelkosten? Dus achteraf verwerken van verloren gegaan werk. | D21: 0 | E21: 0 | F21: 1 | G21: Dagelijks worden back-ups gemaakt
B24: Wat is de meest serieuze impact als het proces onbeschikbaar is? | D24: =MAX(D7:D23) -> 0 | E24: =MAX(E7:E23) -> 0 | F24: =MAX(F6:F22) -> 1 | G24: =IF(OR(SUM(D7:F23)<7,SUM(D7:F23)>7),"Er zijn te veel of te weinig antwoorden gegeven, vul per vraag maar 1 waarde in!"," ")
B25: Beschikbaarheid Resultaat | D25: =IF(D24>0,"Hoog", " ") | E25: =IF(E24>0,"Midden", " ") | F25: =IF(F24>0,"Laag", " ") -> Laag
B26: Wat is overall de meest serieuze impact als het proces onbeschikbaar is? | D26: =IF(D25="Hoog", "Hoog",IF(E25="Midden","Midden",IF(F25<>"Laag","Midden","Laag"))) -> Laag | G26: Als er niets wordt ingevuld is het niveau midden, als de baseline toets wel wordt doorlopen is de uitkomst: Hoog, Midden of Laag en bepaald dit uiteindelijk samen met Integriteit en vertrouwelijkheid het BBN niveau. Om laag te scoren moeten alle waarden laag zijn. | I26: Mits (hoog)kritische meldingen op een alternatieve manier in behandeling kunnen worden genomen.
B27: Waarde | C27: Omschrijving beschikbaarheid
B28: Beschikbaarheid = (H)oog = aanvullende risicoanalyse | C28: De informatie of dienst mag alleen in zeer uitzonderlijke situaties uitvallen, bijvoorbeeld als gevolg van een calamiteit, het bedrijfskritische bedrijfsproces staat eigenlijk geen uitval toe. De continuïteit zal zeer snel moeten worden hervat. Nauwelijks uitval van het proces met ondersteunende systemen gedurende de openingstijd is toegestaan. Vier tot acht uur uitval is toegestaan. Dit kan leiden tot: - politieke schade aan een bewindspersoon/college; stakingen/demonstraties van redelijke omvang en duur; diplomatieke protesten en sancties - financiële gevolgen: meer dan 2% van het totale budget van het ministerie/ kerndepartement of uitvoeringsorganisatie of gemeente; belangrijke sancties opgelegd - ernstig verlies van management control; een jaar vertraging van nieuwe ontwikkelingen - ernstig verlies van vertrouwen; negatieve publiciteit op landelijk niveau (imagoschade) - ernstig verlies van motivatie van de medewerkers, ernstige afname van personele capaciteit.
B29: Beschikbaarheid = (M)idden = BBN 2 | C29: Het informatiesysteem mag beperkt korte tijd uitvallen voor maximaal één week (ook in piekperiodes) en heeft voelbare gevolgen voor burgers/gebruikers. Uitval kan leiden tot beperkte schade, bijvoorbeeld: - politieke schade aan een bestuurder: bestuurder moet zich verantwoorden n.a.v. verantwoordings vragen; of - schade te herstellen door ambtelijke opschaling; of - financiële gevolgen: niet meer op te vangen binnen de vastgestelde ruimte binnen de begroting van de organisatie of uitvoeringsorganisatie of gemeente; geen accountantsverklaring afgegeven; of - belangrijk verlies van management control; of - verlies van publiek respect; klachten van burgers; of - Organisatiebrede negatieve publiciteit (imagoschade) of significant verlies van motivatie van medewerkers. De beschikbaarheid wordt als volgt gekwantificeerd: - Kantoorautomatisering en organisatie specifieke systemen hebben tijdens openingstijden een beschikbaarheid van minimaal 98% op maandbasis ook in piekperiodes; - maximaal dataverlies 24 uur; - maximale hersteltijd in geval van incidenten is binnen 16 werkuren (2 dagen van 8 uur).
B30: Beschikbaarheid = (L)aag = BBN1 | C30: Het informatiesysteem mag incidenteel uitvallen voor maximaal twee weken (ook in piekperiodes) en heeft nauwelijks of geen gevolgen voor burgers/gebruikers. Uitval kan leiden tot beperkte schade, bijvoorbeeld: - financiële gevolgen; op te vangen binnen de vastgestelde ruimte binnen de begroting van de organisatie of uitvoeringsorganisatie; leidt nog niet uit het niet krijgen van een accountants verklaring; of - beperkt verlies van management control; of - irritatie en ongemak bij burgers geventileerd in de media; of - interne negatieve publiciteit (imagoschade). Deze gevolgen worden als volgt gekwantificeerd: - Kantoorautomatisering en organisatie specifieke systemen hebben tijdens openingstijden een beschikbaarheid van minimaal 98% op maandbasis ook in piekperiodes; - maximaal dataverlies 28 uur; - maximale hersteltijd in geval van incidenten is binnen 40 werkuren (5 werkdagen van 8 uur) in 85% van de gevallen.
B31: 0 = Geen | C31: Zeer Laag - De gegevens kunnen zonder gevolgen langere tijd niet beschikbaar zijn, schending van beschikbaarheid heeft geen gevolgschade. Uitval van het proces met ondersteunende systemen voor een langere periode dan een week tot een maand heeft geen gevolgen voor de organisatie, burgers of gebruikers. Uitval kan maximaal leiden tot: - financiële gevolgen: op te lossen binnen de begroting van de organisatie; minimale sancties opgelegd - nauwelijks discussie op internet en social media met minimaal verlies van vertrouwen; minimale negatieve publiciteit (imagoschade) - minimaal verlies van motivatie van medewerkers; minimale afname van personele capaciteit.
C34: [1] Denk hierbij onder andere aan publieksfuncties, zoals balie- en loketmedewerkers.
C35: [2] Voor uitleg over ‘zeer grote’ zie bijlage 1 in dit document

Sheet 5. Integriteit
B1: Blok Integriteitsvragen | G1: Gebruikt proces: Magazijnuitgifte | I1: Extra uitleg, wordt niet geprint
B2: Gevolgen van fouten in informatie of doelbewuste manipulatie van informatie om te frauderen of fraude te maskeren | D2: Waardering | G2: Argumentatie | I2: Let op, alleen de gele velden invullen!
B3: (in het ergste geval) | D3: Hoog | E3: Midden | F3: Laag | G3: (verplicht invullen)
B4: I1 | C4: Managementbeslissingen: | G4: Onjuistheden zijn vaak alleen het gevolg van foute informatie. Maar wordt redelijk flexibel opgelost met de klant. Geen zaken bekend waarbij manipulatief is gehandeld om bewust te frauderen
C5: Kan onjuiste informatie leiden tot onjuiste beslissingen? Wat zijn de gevolgen? | D5: 0 | E5: 0 | F5: 1
B6: I2 | C6: Fraude potentie: | G6: We werken niet met een scansysteem dus alles is handwerk. Ingangscontrole is er en wordt gecontroleerd aan de hand van de pakbon. Fraude is mogelijk maar nog nooit geconstatteerd. Eventuele gevolgen komen op kosten van Het Werkbedrijf en niet voor de klant
C7: Zijn er frauderisico’s, en welke gevolgen hebben deze? | D7: 0 | E7: 0 | F7: 1
B8: I3 | C8: Onderbreking van strategische processen: | G8: De klant zal constatteren of iets niet correct wordt geleverd of gemaakt, niet aan te tonen waarom dit is gebeurd en klant krijgt een creditfactuur
C9: In hoeverre kunnen de kernprocessen van de organisatie onderbroken worden als gevolg van ongeautoriseerde wijzigingen van, of fouten in informatie? | D9: 0 | E9: 0 | F9: 1
B10: I4 | C10: Vertrouwen van het publiek c.q. klanten: | G10: Fouten worden ten alle tijden opgelost in het voordeel van de klant
C11: Kan het vertrouwen van het publiek geschaad worden door onjuiste informatie? | D11: 0 | E11: 0 | F11: 1
B12: I5 | C12: Wettelijke aansprakelijkheid: | G12: Is juridisch ingecalculeerd (Leveringsvoorwaarden)
C13: Wat kunnen de gevolgen zijn van het niet voldoen aan wettelijke of contractuele verplichtingen die veroorzaakt worden door onjuiste informatie? | D13: 0 | E13: 0 | F13: 1
B14: I6 | C14: Additionele kosten: | G14: Fouten worden ten alle tijden opgelost in het voordeel van de klant
C15: In hoeverre kunnen er additionele kosten ontstaan door het toepassen van onjuiste informatie? Bijvoorbeeld door het moeten herstellen van een corrupte database of opnieuw invoeren van gegevens. | D15: 0 | E15: 0 | F15: 1
B16: I7 | C16: Moreel van de medewerkers: | G16: Er wordt onmiddellijk geinformeerd en naar een oplossing gezocht
C17: Wat zijn de schadelijke effecten op het moreel van medewerkers als u onjuiste informatie gebruikt? | D17: 0 | E17: 0 | F17: 1
C18: Waarde | D18: =MAX(D4:D17) -> 0 | E18: =MAX(E4:E17) -> 0 | F18: =MAX(F4:F17) -> 1 | G18: =IF(OR(SUM(D3:F17)<7,SUM(D3:F17)>7),"Er zijn te veel of te weinig antwoorden gegeven, vul per vraag maar 1 waarde in!"," ")
B19: Resultaat | D19: =IF(D18>0,"Hoog", " ") | E19: =IF(E18>0,"Midden", " ") | F19: =IF(F18>0,"Laag", " ") -> Laag
B20: Wat is overall de meest serieuze impact de integriteit in het geding is? | D20: =IF(D19="Hoog", "Hoog",IF(E19="Midden","Midden",IF(F19<>"Laag","Midden","Laag"))) -> Laag | G20: Als er niets wordt ingevuld is het niveau midden, als de baseline toets wel wordt doorlopen is de uitkomst: Hoog, Midden of Laag en bepaald dit uiteindelijk samen met beschikbaarheid en vertrouwelijkheid het BBN niveau. Waarbij vertrouwelijkheid het zwaarst weegt voor het BBN niveau.
B21: Waarde | C21: Omschrijving integriteit
B22: Integriteit = (H)oog = Aanvullende risicoanalyse | C22: Er zijn zware maatregelen noodzakelijk om de integriteit van informatie te waarborgen. Het verlies van integriteit kan leiden tot zware schade, bijvoorbeeld: - Zware maatschappelijke schade; - Beschadiging of ongeoorloofde wijziging van informatie heeft een grote impact voor betrokkene(n); - Systemen waarin informatie decentraal rechtstreeks ingevoerd waarbij het na gegevensverlies of beschadiging onmogelijk is uit secundaire bronnen de volledigheid en integriteit te herstellen; - Systemen waar ontbreken van zekerheid ten aanzien van integriteit het volledig stilvallen van een kritisch proces veroorzaakt;
B23: Integriteit = (M)idden = BBN2 | C23: Er zijn passende maatregelen noodzakelijk om de juistheid, tijdigheid en volledigheid (VIR definitie) te waarborgen. Het verlies van integriteit kan leiden tot forse schade, bijvoorbeeld: - politieke schade aan een bestuurder: bestuurder moet zich verantwoorden n.a.v. verantwoordings vragen; of - schade te herstellen door ambtelijke opschaling; of - financiële gevolgen: niet meer op te vangen binnen de vastgestelde ruimte binnen de begroting van de organisatie of uitvoeringsorganisatie; geen accountantsverklaring afgegeven; of - belangrijk verlies van management control; of - verlies van publiek respect; klachten van burgers; of - Organisatiebrede negatieve publiciteit (imagoschade) of significant verlies van motivatie van medewerkers.
B24: Integriteit = (L)aag = BBN1 | C24: Er zijn geen bijzondere maatregelen noodzakelijk om de juistheid, tijdigheid en volledigheid van informatie te waarborgen. Het verlies van integriteit kan leiden tot beperkte schade, bijvoorbeeld: - financiële gevolgen; op te vangen binnen de vastgestelde ruimte binnen de begroting van de organisatie of uitvoeringsorganisatie; leidt nog niet uit het niet krijgen van een accountants verklaring; of - beperkt verlies van management control; of - irritatie en ongemak bij burgers geventileerd in de media; of - interne negatieve publiciteit (imagoschade).
B25: 0 = Geen | C25: Verwaarloosbare schade of niet van toepassing. - melding in de pers en social media; lokaal protest; diplomatieke schade te herstellen door ambtelijke opschaling - minimaal verlies van management control; een week vertraging van nieuwe ontwikkelingen - nauwelijks discussie op internet en social media met minimaal verlies van vertrouwen; minimale negatieve publiciteit (imagoschade) - minimaal verlies van motivatie van medewerkers | I25: 0 = is geen waarde in de BIO, we hadden deze wel voor de BIG en daarom staat deze hier nog wel genoemd. Ook om relatie te hebben met de 4 classificatie niveaus

Sheet 6. Vertrouwelijkheid
B1: Blok Vertrouwelijkheidsvragen | G1: Gebruikt proces: Facturatie | I1: Extra uitleg, wordt niet geprint
B2: Gevolgen van onbedoelde of ongeautoriseerde verspreiding van gegevens of informatie | D2: Waardering | G2: Argumentatie | I2: Let op, alleen de gele velden invullen!
B3: (in het ergste geval) | D3: Hoog | E3: Midden | F3: Laag | G3: (verplicht invullen)
B4: V1 | C4: Vertrouwen van de burger: | G4: NVT
C5: Wat zijn de gevolgen voor de organisatie indien de binnen het proces beschikbare informatie te vroeg c.q. niet volgens de regels verspreid wordt? | D5: 0 | E5: 0 | F5: 1 | I5: Het vertrouwen van de burger in de organisatie wordt geschaad als informatie wordt gelekt (onbedoeld en bedoeld), maar hoe erg is dat en wat zijn de (politieke) gevolgen
B6: V2 | C6: Vertrouwen van het publiek: | G6: Er worden geen persoongegevens verwerkt op facturen
C7: Wat zijn de gevolgen voor het publieke imago van de organisatie als vertrouwelijke informatie van de organisatie onterecht wordt verspreid? | D7: 0 | E7: 0 | F7: 1 | G7: Gezien de aard van de informatie minimaal, zelfs lager dan bij andere applicaties. | I7: Hoe is het publieke imago van de organisatie en wat zijn de gevolgen hiervoor als informatie onterecht wordt verspreid?
B8: V3 | C8: Vertrouwen van ketenpartners: | G8: Er is beperkte toegang per afdeling ingeregeld
C9: Kan de organisatie toegang tot de keten geweigerd worden? | D9: 0 | E9: 0 | F9: 1
B10: V4 | C10: Vertrouwen van ketenpartners: | G10: Geen gevolgen, er zijn geen connecties met overige systemen
C11: Wat zijn de gevolgen voor de relatie met de ketenpartners, als vertrouwelijke informatie onterecht wordt verspreid.? | D11: 0 | E11: 0 | F11: 1 | I11: Wat zijn de gevolgen voor connecties met ketenpartners, Suwi, Brp??
B12: V5 | C12: (Wettelijke) Aansprakelijkheid: | G12: Er worden geen persoongegevens verwerkt bij de facturatie
C13: Wat zijn de gevolgen voor (wettelijke) aansprakelijkheid bij het onterecht verspreiden van deze informatie? | D13: 0 | E13: 0 | F13: 1 | I13: Is de organisatie aansprakelijk voor het onterecht verspreiden van informatie / persoonsgegevens en wat zijn de gevolgen daarvan
B14: V6 | C14: Additionele kosten:
C15: In hoeverre is er sprake van additionele kosten door onterechte verspreiding van deze informatie? | D15: 0 | E15: 0 | F15: 1 | G15: Fouten worden ten alle tijden opgelost in het voordeel van de klant | I15: Denk aan herstelkosten, juridische kosten, schadevergoedingen etc.
B18: V7 | C18: Moreel van de medewerkers:
C19: In hoeverre kan een duidelijk negatieve invloed op het moreel en de motivatie van medewerkers een gevolg zijn van de onterechte verspreiding van deze informatie? | D19: 0 | E19: 0 | F19: 1 | G19: NVT
C20: Waarde | D20: =MAX(D5:D19) -> 0 | E20: =MAX(E5:E19) -> 0 | F20: =MAX(F5:F19) -> 1 | G20: =IF(OR(SUM(D5:F19)<7,SUM(D5:F19)>7),"er zijn te veel of te weinig antwoorden gegeven, vul per vraag maar 1 waarde in!"," ")
B21: Niveau | D21: =IF(D20>0,"Hoog", " ") | E21: =IF(E20>0,"Midden", " ") | F21: =IF(F20>0,"Laag", " ") -> Laag | G21: =IF(D22="BBN2","BBN2 is de norm voor vertrouwelijkheid",IF(D22="BBN1","BBN1 is de norm voor vertrouwelijkheid","BBN3 is de norm voor vertrouwelijkheid")) -> BBN1 is de norm voor vertrouwelijkheid
B22: Totaal Vertrouwelijkheid: | D22: =IF(D21="Hoog", "BBN3",IF(E21="Midden","BBN2",IF(F21<>"Laag","BBN2","BBN1"))) -> BBN1
B24: Waarde | C24: Omschrijving
B25: Vertrouwelijkheid = Hoog (BBN3) | C25: Verlies van informatie heeft een grote impact, waarvan niet uit te leggen is als deze niet gerubriceerd is en beschermd wordt op het niveau van BBN3; - informatie wordt door derden geleverd met een rubricering (niet zijnde BBN2); of - aansluiting op een infrastructuur vereist (bijvoorbeeld om al op de infrastructuur aanwezige gerubriceerde informatie niet in gevaar te brengen) BBN3 om informatie te kunnen verwerken op deze infrastructuur; of - weerstand tegen statelijke actoren is noodzakelijk.
B26: Vertrouwelijkheid = midden (BBN2) | C26: Bescherming van gegevens en andere te beschermen belangen in de processen van de overheid, waar o.a. vertrouwelijkheid aan de orde is, omdat het om gevoelige informatie gaat. Het openbaar worden van de gegevens, kan leiden tot: - politieke schade aan een bestuurder: bestuurder moet zich verantwoorden n.a.v. verantwoordings vragen; of - schade te herstellen door ambtelijke opschaling; of - financiële gevolgen: niet meer op te vangen binnen de begroting van de organisatie of uitvoeringsorganisatie; geen accountantsverklaring afgegeven; of - verlies van publiek respect; klachten van burgers of significant verlies van motivatie van medewerkers; of - bindende aanwijzing van de AP in verband met schending van de privacy; of directe imagoschade, bijvoorbeeld door negatieve publiciteit.
B27: Vertrouwelijkheid = laag (BBN1) | C27: Kennisname van informatie door ongeautoriseerden (buitenstaanders) is niet gewenst, maar leidt niet tot schade van enige omvang. Het gaat hier om ongerubriceerde informatie. Het openbaar worden van deze informatie kan leiden tot: - financiële gevolgen: op te vangen binnen de begroting van de organisatie of uitvoeringsorganisatie; of - irritatie en ongemak bij burgers geventileerd in de media; of - interne negatieve publiciteit (imagoschade).
B28: Vertrouwelijkheid = openbaar (0) | C28: verwaarloosbare schade of niet van toepassing. Het gaat hierbij om openbare gegevens. De gegevens hoeven niet afgeschermd te worden. Geen enkele beveiliging op de gegevens is noodzakelijk. Het is juist zaak dat deze gegevens openbaar worden gemaakt voor publicatie. - melding in de pers en social media; lokaal protest; diplomatieke schade te herstellen door ambtelijke opschaling - minimaal verlies van management control; een week vertraging van nieuwe ontwikkelingen - nauwelijks discussie op internet en social media met minimaal verlies van vertrouwen; minimale negatieve publiciteit (imagoschade) - minimaal verlies van motivatie van medewerkers; minimale afname van personele capaciteit.

Sheet 7. DPIA Vragenlijst
B2: 6. Vragenlijst Persoonsgegevens | H2: Extra uitleg, wordt niet geprint | K2: Ja
B3: 6.A. Lijst 1: Verwerkingen waarvoor een DPIA verplicht is | H3: Let op, alleen de gele velden invullen! | K3: Nee
C4: Omschrijving AP | D4: ja/nee | F4: Argumentatie | H4: De AP heeft een lijst uitgegeven van verwerkingen waarvoor de DPIA verplicht is, indien op deze lijst een van de antwoorden JA is, dan hoeft deel 2 niet meer te worden ingevuld. En kan men direct beginnen met de DPIA.
B5: 1 | C5: Heimelijk onderzoek : Grootschalige en/of systematische verwerkingen van persoonsgegevens waarbij informatie wordt verzameld door middel van onderzoek zonder dat de betrokkene daarvan vooraf op de hoogte te stellen. | D5: Nee | F5: Hier wordt onze applicatie niet voor gebruikt. | H5: Bijvoorbeeld heimelijk onderzoek door particuliere recherchebureaus, onderzoek in het kader van fraudebestrijding en onderzoek op internet in het kader van bijvoorbeeld online handhaving van auteursrechten. Heimelijk cameratoezicht door werkgevers in het kader van diefstal- of fraudebestrijding door werknemers (bij deze laatste verwerking dient ook in incidentele gevallen een DPIA te worden uitgevoerd).
B6: 2 | C6: Zwarte lijsten : Verwerkingen waarbij persoonsgegevens betreffende strafrechtelijke veroordelingen en strafbare feiten, gegevens over onrechtmatig of hinderlijk gedrag (artikel 33, lid 4, aanhef en onder c, UAVG)of gegevens over slecht betalingsgedrag door organisaties of particulieren worden verwerkt en gedeeld met derden. | D6: Nee | F6: <Uitleg> | H6: Bijvoorbeeld zwarte lijsten of waarschuwingslijsten, zoals deze bijvoorbeeld gebruikt worden door verzekeraars, horecabedrijven, winkelbedrijven, telecomproviders alsook zwarte lijsten die betrekking hebben op onrechtmatig gedrag van werknemers, bijvoorbeeld in de zorg of door uitzendbureaus).
B7: 3 | C7: Fraudebestrijding : Grootschalige en/of systematische verwerkingen van (bijzondere) persoonsgegevens in het kader van fraudebestrijding. Bijvoorbeeld fraudebestrijding door sociale diensten of door fraudeafdelingen van verzekeraars. | D7: Nee | F7: <Uitleg>
B8: 4 | C8: Creditscores : Grootschalige en/of systematische gegevensverwerkingen die leiden tot of gebruik maken van inschattingen van de kredietwaardigheid van natuurlijke personen, bijvoorbeeld tot uitdrukking gebracht in een creditscore. | D8: Nee | F8: <Uitleg>
B9: 5 | C9: Financiële situatie : Grootschalige en/of systematische verwerkingen van financiële gegevens waaruit de inkomens- of vermogenspositie of het bestedingspatroon van mensen valt af te leiden. Bijvoorbeeld overzichten van bankoverschrijvingen, overzichten van de saldi van iemands bankrekeningen of overzichten van mobiele- of pinbetalingen. | D9: Nee | F9: <Uitleg>
B10: 6 | C10: Genetische persoonsgegevens : Grootschalige en/of systematische verwerkingen van genetische persoonsgegevens. Bijvoorbeeld DNA-analyses ten behoeve van het in kaart brengen van persoonlijke kenmerken, bio-databanken. | D10: Nee | F10: <Uitleg>
B11: 7 | C11: Gezondheidsgegevens : Grootschalige verwerkingen van gegevens over gezondheid (bijvoorbeeld door instellingen of voorzieningen voor gezondheidszorg of maatschappelijke dienstverlening, arbodiensten, reïntegratiebedrijven, (speciaal)onderwijsinstellingen, verzekeraars, en onderzoeksinstituten) waaronder ook grootschalige elektronische uitwisseling van gegevens over gezondheid. | D11: Nee | F11: Alleen schoenmaat | H11: Let op: individuele artsen en individuele zorgprofessionals zijn op grond van overweging 91 van de AVG uitgezonderd van de verplichting een DPIA uit te voeren.
B12: 8 | C12: Samenwerkingsverbanden : Het delen van persoonsgegevens in of door samenwerkingsverbanden waarin gemeenten of andere overheden met andere publieke of private partijen bijzondere persoonsgegevens of persoonsgegevens van gevoelige aard (zoals gegevens over gezondheid, verslaving, armoede, problematische schulden, werkloosheid, sociale problematiek, strafrechtelijke gegevens, betrokkenheid van jeugdzorg of maatschappelijk werk) met elkaar uitwisselen. Bijvoorbeeld in wijkteams, veiligheidshuizen of informatieknooppunten. | D12: Nee | F12: <Uitleg>
B13: 9 | C13: Cameratoezicht : Stelselmatige en grootschalige monitoring van openbaar toegankelijke ruimten met behulp van camera’s, webcams of drones. | D13: Nee | F13: <Uitleg>
B14: 10 | C14: Flexibel cameratoezicht : Grootschalig en/of systematisch gebruik van flexibel cameratoezicht. Bijvoorbeeld camera’s op kleding of helm van brandweer- of ambulancepersoneel, dashcams gebruikt door hulpdiensten. | D14: Nee | F14: <Uitleg>
B15: 11 | C15: Controle werknemers : Grootschalige en/of systematische verwerking van persoonsgegevens om activiteiten van werknemers te monitoren. Bijvoorbeeld controle van e-mail en internetgebruik, GPS-systemen in (vracht)auto’s van werknemers of cameratoezicht ten behoeve van diefstal- en fraudebestrijding. | D15: Nee | F15: <Uitleg>
B16: 12 | C16: Locatiegegevens : Grootschalige en/of systematische verwerking van locatiegegevens van of herleidbaar tot natuurlijke personen. Bijvoorbeeld door (scan)auto’s, navigatiesystemen, telefoons, of verwerking van locatiegegevens van reizigers in het openbaar vervoer. | D16: Nee | F16: <Uitleg>
B17: 13 | C17: Communicatiegegevens : Grootschalige en /of systematische verwerking van communicatiegegevens inclusief metadata herleidbaar tot natuurlijke personen, tenzij en voor zover dit noodzakelijk is ter bescherming van de integriteit en de veiligheid van het netwerk en de dienst van de betrokken aanbieder, of het randapparaat van de eindgebruiker. | D17: Nee | F17: <Uitleg>
B18: 14 | C18: Internet of things : Grootschalige en/of systematische verwerkingen door verantwoordelijken van persoonsgegevens die worden gegenereerd door apparaten die verbonden zijn met internet en die via internet of anderszins gegevens kunnen versturen of uitwisselen. Bijvoorbeeld ‘internet of things’- toepassingen, zoals slimme televisies, slimme huishoudelijke apparaten, connected toys, smart cities, slimme energiemeters, medische hulpmiddelen, etc. | D18: Nee | F18: <Uitleg>
B19: 15 | C19: Profilering : Systematische en uitgebreide beoordeling van persoonlijke aspecten van natuurlijke personen gebaseerd op geautomatiseerde verwerking (profilering). Bijvoorbeeld beoordeling van beroepsprestaties, prestaties van leerlingen, economische situatie, gezondheid, persoonlijke voorkeuren of interesses, betrouwbaarheid of gedrag. | D19: Nee | F19: <Uitleg>
B20: 16 | C20: Observatie en beïnvloeding van gedrag : Grootschalige verwerkingen van persoonsgegevens waarbij op systematische wijze via geautomatiseerde verwerking gedrag van natuurlijke personen geobserveerd, verzameld, vastgelegd of beïnvloed wordt, inclusief gegevens die voor het doel online behavioural advertising worden verzameld. | D20: Nee | F20: <Uitleg>
C21: Resultaat, aantal Ja : | D21: =COUNTIF(D5:D20,"<>Nee") -> 0
C22: Op basis van dit bovenstaande blok is een DPIA : | D22: =IF(D21>0,"Verplicht","Niet Verplicht") -> Niet Verplicht
B25: 6.A. Lijst 2: Algemene DPIA vragen
B26: Algemene vragen m.b.t. doeleinden en doelbinding van de verwerking van persoonsgegevens | D26: Keuze | E26: Resultaat | F26: Argumentatie | G26: AVG art 35 lid 1 | H26: Wanneer een soort verwerking, in het bijzonder een verwerking waarbij nieuwe technologieën worden gebruikt, gelet op de aard, de omvang, de context en de doeleinden daarvan waarschijnlijk een hoog risico inhoudt voor de rechten en vrijheden van natuurlijke personen voert de verwerkingsverantwoordelijke vóór de verwerking een beoordeling uit van het effect van de beoogde verwerkingsactiviteiten op de bescherming van persoonsgegevens. Eén beoordeling kan een reeks vergelijkbare verwerkingen bestrijken die vergelijkbare hoge risico's inhouden
F27: (verplicht invullen)
C28: Resultaat blok 1, is een DPIA verplicht? ( als hier een verwerking is gekozen waarvoor een DPIA verplicht is dan hoeven de onderstaande vragen niet meer beantwoord te worden ) | D28: =IF(D21>0,"Ja","Nee") -> Nee | E28: =IF(D28="ja",6,0) -> 0 | F28: Als het resultaat van blok 1 is één of meerdere keren ja, dan is het resultaat hier 6, deze velden niet aanpassen
B29: P0 | C29: U hoeft geen data protection impact assessment (PIA) uit te voeren wanneer uw gegevensverwerking: - Waarschijnlijk geen hoog privacy risico oplevert. - Sterk lijkt op een andere gegevensverwerking waarvoor al een DPIA is uitgevoerd. - Wordt geregeld door een andere Europese of nationale wet en er bij de totstandkoming van deze wet al een DPIA is uitgevoerd. Tenzij de AP oordeelt dat er toch een DPIA nodig is. - Op een lijst staat van verwerkingen waarvoor een DPIA niet verplicht is. De AVG geeft de AP de mogelijkheid om zo’n lijst op te stellen, maar dit is niet verplicht. Wordt aan de bovenstaande punten voldaan? | D29: Ja | E29: =IF(D29="nee",3,0) -> 0 | F29: Het zou kunnen zijn dat de PIA niet nodig is omdat de AP gebruik gemaakt heeft van artikel 35 lid 5. Ondanks dat is het toch raadzaam de onderstaande vragen even na te lopen om te bepalen of het niet toch beter is een PIA te doen. | H29: AVG art 35 lid 5: De toezichthoudende autoriteit kan ook een lijst opstellen en openbaar maken van het soort verwerking waarvoor geen gegevensbeschermingseffectbeoordeling is vereist. De toezichthoudende autoriteit deelt deze lijst mee aan het Comité. De vragen P1 en verder staan ook op: https://autoriteitpersoonsgegevens.nl/nl/onderwerpen/Europese-privacywetgeving/data-protection-impact-assessment-dpia#in-welke-gevallen-moet-ik-een-dpia-uitvoeren-5879 Als verantwoordelijke (in de AVG: ‘verwerkingsverantwoordelijke’ genoemd) moet u een data protection impact assessment (DPIA) uitvoeren wanneer uw gegevensverwerking waarschijnlijk een hoog privacy risico oplevert. Dit moet u zelf bepalen. De werkgroep van Europese privacytoezichthouders (WP29) heeft een lijst van 10 criteria opgesteld om u hierbij te helpen. Aan hoe meer criteria uw verwerking voldoet, hoe waarschijnlijker het is dat deze een hoog risico oplevert.
B30: P1 | C30: Beoordelen van mensen op basis van persoonskenmerken Het gaat hierbij onder meer om profiling en het maken van prognoses, met name op basis van kenmerken als iemands beroepsprestaties, economische situatie, gezondheid, persoonlijke voorkeuren of interesses, betrouwbaarheid of gedrag, locatie of verplaatsingen. | D30: nee | E30: =IF(D30="nee",0,3) -> 0 | F30: <Uitleg> | H30: Voorbeelden hiervan zijn een bank die de kredietwaardigheid van klanten bepaalt (creditscoring), een bedrijf dat DNA-testen aan consumenten levert om gezondheidsrisico’s te testen en een bedrijf dat bezoekers van zijn website volgt en op basis daarvan profielen van deze mensen opstelt.
B31: P2 | C31: Geautomatiseerde beslissingen Het gaat hierbij om beslissingen die voor de betrokkene rechtsgevolgen of vergelijkbare wezenlijke gevolgen hebben. Zo’n gegevensverwerking kan er bijvoorbeeld toe leiden dat mensen worden uitgesloten of gediscrimineerd. | D31: nee | E31: =IF(D31="nee",0,3) -> 0 | F31: <uitleg> | H31: Gegevensverwerkingen met geringe of geen gevolgen voor mensen vallen niet onder dit criterium. In de aankomende WP29-guidelines over profiling volgt hierover meer uitleg.
B32: P3 | C32: 3. Stelselmatige en grootschalige monitoring Het gaat hierbij om monitoring van openbaar toegankelijke ruimten, bijvoorbeeld met cameratoezicht. | D32: nee | E32: =IF(D32="nee",0,3) -> 0 | F32: <uitleg> | H32: Hierbij kunnen persoonsgegevens worden verzameld zonder dat betrokkenen weten wie hun gegevens verzamelt en wat daar vervolgens mee gebeurt. Bovendien kan het onmogelijk zijn voor mensen om zich in openbare ruimten aan deze gegevensverwerking te onttrekken.
B33: P4 | C33: Gevoelige gegevens Het gaat hierbij om bijzondere categorieën van persoonsgegevens (zie artikel 9 van de AVG). | D33: nee | E33: =IF(D33="nee",0,3) -> 0 | F33: <uitleg> | H33: Zoals informatie over iemands politieke voorkeuren. Ook strafrechtelijke gegevens vallen hieronder. Tot slot gaat het hier ook om gegevens die over het algemeen als privacygevoelig worden beschouwd, zoals gegevens over elektronische communicatie, locatiegegevens en financiële gegevens.
B34: P5 | C34: Grootschalige gegevensverwerkingen | D34: nee | E34: =IF(D34="nee",0,3) -> 0 | F34: https://autoriteitpersoonsgegevens.nl/nl/onderwerpen/Europese-privacywetgeving/algemene-verordening-gegevensbescherming#wat-ziet-de-avg-als-een-grootschalige-verwerking-van-persoonsgegevens-6019 | H34: De AVG geeft geen definitie van ‘grootschalige gegevensverwerkingen’. WP29 adviseert om met de volgende criteria te bepalen of hiervan sprake is: de hoeveelheid mensen van wie gegevens worden verwerkt; de hoeveelheid gegevens en/of de verscheidenheid aan gegevens die worden verwerkt; de tijdsduur van de gegevensverwerking; de geografische reikwijdte van de gegevensverwerking.
B35: P6 | C35: Gekoppelde databases Het gaat hierbij om gegevensverzamelingen die aan elkaar gekoppeld of met elkaar gecombineerd zijn. | D35: nee | E35: =IF(D35="nee",0,3) -> 0 | F35: <uitleg> | H35: Bijvoorbeeld databases die voortkomen uit twee of meer verschillende gegevensverwerkingen met verschillende doelen en/of uitgevoerd door verschillende verantwoordelijken, op een manier die betrokkenen niet redelijkerwijs kunnen verwachten.
B36: P7 | C36: Gegevens over kwetsbare personen Bij het verwerken van dit type gegevens kan een DPIA nodig zijn omdat er sprake is van een ongelijke machtsverhouding tussen de betrokkene en de verantwoordelijke. Dit heeft als gevolg dat betrokkenen niet in vrijheid toestemming kunnen geven of weigeren voor het verwerken van hun gegevens. | D36: nee | E36: =IF(D36="nee",0,3) -> 0 | F36: <uitleg> | H36: Het kan hierbij om bijvoorbeeld werknemers, kinderen en patiënten gaan.
B37: P8 | C37: Gebruik van nieuwe technologieën De AVG is er duidelijk over dat een PIA nodig kan zijn bij het gebruik van een nieuwe technologie. De reden hiervoor is dat dit gebruik gepaard kan gaan met nieuwe manieren om gegevens te verzamelen en gebruiken, met mogelijk grote privacy risico's. | D37: nee | E37: =IF(D37="nee",0,3) -> 0 | F37: <Uitleg> | H37: De persoonlijke en maatschappelijke gevolgen van het gebruik van een nieuwe technologie kunnen zelfs nog onbekend zijn. Een DPIA helpt de verantwoordelijke dan om de risico’s te begrijpen en te verhelpen. Sommige ‘Internet of Things’-toepassingen bijvoorbeeld kunnen een grote impact hebben op het dagelijks leven en de privacy van mensen, waardoor hierbij een DPIA nodig is.
B38: P9 | C38: Doorgifte van persoonsgegevens buiten de EU De bescherming van persoonsgegevens is niet in alle landen hetzelfde geregeld. Buiten de EU is het daarom niet zeker dat een land voldoende bescherming biedt. | D38: nee | E38: =IF(D38="nee",0,3) -> 0 | F38: <uitleg> | H38: Spreekt voor zich, let op: kan het soms zo zijn dat men zicht niet bewust is van doorgifte buiten de EU, bijvoorbeeld als een SaaS leverancier gebruik maakt van een of meerdere PaaS en/of IaaS leveranciers. Of bij overige diensten van derden waarbij persoonsgegevens in het spel zijn.
B39: P10 | C39: Blokkering van een recht, dienst of contract Het gaat hierbij om gegevensverwerkingen die tot gevolg hebben dat betrokkenen een recht niet kunnen uitoefenen, dat zij een dienst niet kunnen gebruiken of dat zij een contract niet kunnen afsluiten. | D39: nee | E39: =IF(D39="nee",0,3) -> 0 | F39: <uitleg> | H39: Bijvoorbeeld gegevensverwerkingen die plaatsvinden in de openbare ruimte en die mensen niet kunnen vermijden. Of een bank die de kredietwaardigheid van klanten toetsen om te bepalen of zij een lening krijgen.
C41: Totaal | E41: =SUM(E28:E39) -> 0 | H41: Als bij vraag P1 tot en met vraag P10 - tweemaal of vaker een ja is geantwoord dan moet een PIA worden uitgevoerd.
D42: =IF(E41>5,"DPIA Verplicht","Er is geen DPIA noodzakelijk. ") -> Er is geen DPIA noodzakelijk. | F42: Tel de waardes van de gekozen antwoorden bij elkaar op, alle waardes groter of gelijk aan 6 betekenen dat een DPIA moet worden gedaan. | H42: Bedenk ook dat er een privacy functionaris zou moeten zijn binnen de gemeente waar alle verzamelingen van persoonsgegevens gemeld moeten worden, en waar voorafgaand aan de PIA advies gevraagd wordt.
B43: Totaal Persoonsgegevens (P0-P10):

Sheet 8. Resultaat
C2: Resultaat Baselinetoets BIO gemeenten
C4: Datum: | D4: ='3. Algemene Vragen'!B17 -> 45303 | H4: (inhoud van deze vragen komt van het blad "Algemene vragen")
C5: Invuller: | D5: ='3. Algemene Vragen'!B11 -> xxx
C6: Organisatie: | D6: ='3. Algemene Vragen'!B5 -> Hwwerkt!
C7: Afdeling: | D7: ='3. Algemene Vragen'!B8 -> Het werkbedrijf Hwwerkt!
C8: Proces: | D8: =IF('3. Algemene Vragen'!B40<>"<Om welk proces gaat het, wat is het doel?>",'3. Algemene Vragen'!B40,0) -> Verkooporder: 4. beschikbaarheid
C11: Resultaat Baselinetoets BIO
C12: Niveau \ Kwaliteitsaspect | D12: Beschikbaarheid | E12: Integriteit | F12: Vertrouwelijkheid
C13: Hoog | D13: =IF('4. Beschikbaarheid'!D26="Hoog",CONCATENATE(F15,F14,F13," + Aanvullende maatregelen Beschikbaarheid"," ")," ") | E13: =IF('5. Integriteit'!D19="hoog",CONCATENATE(F15,F14,F13," + Aanvullende maatregelen Integriteit"," ")," ") | F13: =IF('6. Vertrouwelijkheid'!D22="BBN3","BBN3"," ")
C14: Midden | D14: =IF('4. Beschikbaarheid'!D26="Midden",CONCATENATE(F15,F14,F13," "," ")," ") | E14: =IF('5. Integriteit'!D20="Midden",CONCATENATE(F15,F14,F13," "," ",)," ") | F14: =IF('6. Vertrouwelijkheid'!D22="BBN2","BBN2"," ")
C15: Laag | D15: =IF('4. Beschikbaarheid'!D26="Laag","Geen aanvullende maatregelen nodig voor beschikbaarheid"," ") -> Geen aanvullende maatregelen nodig voor beschikbaarheid | E15: =IF('5. Integriteit'!D20="laag","Geen aanvullende maatregelen nodig voor integriteit"," ") -> Geen aanvullende maatregelen nodig voor integriteit | F15: =IF('6. Vertrouwelijkheid'!D22="BBN1","BBN1"," ") -> BBN1
C21: Resultaat privacy vragen Baselinetoets BIG
D22: Totaal score | E22: Aantal "ja"
C23: Verplichte DPIA?
C24: Verwerking Persoonsgegevens (P1-P10) | D24: ='7. DPIA Vragenlijst'!E41 -> 0 | E24: ='7. DPIA Vragenlijst'!E41/3 -> 0
C25: TOTAAL SCORE: | E25: =E24 -> 0
C27: Uitvoeren DPIA? | E27: =IF(E25>1,"JA", "Nee") -> Nee

Sheet Waarderingstabellen
A1: Tabellen | U1: BIR Basissets
C2: Waarderings en keuze tabellen gebruikt in de overige sheets, niet wijzigen! | O2: Keuze tabellen | U2: basisset 1 integriteit
O3: beschikbaarheid | Q3: Beschikbaar keuze alternatief | V3: Wet en regegeving
Q4: x | V4: Algemeen geldende principes
O5: 0 | V5: Ondersteunende processen
O6: 1
U7: basisset 2 vertrouwelijkheid, persoonsgegevens
V8: Incl Basisset 1
V9: Afhankelijkheden ketens en netwerken
V10: Primaire processen
O11: Keuze tabellen integriteit
O13: 0 | U13: basisset 3 dep-v informatie
O14: 1 | V14: incl Basisset 2
V15: VIR-BI dep V
V16: eu/nato restricted
U18: Basisset 4 | V18: nvt
O20: Keuze tabellen vertrouwelijkheid
O22: 0 | U22: Open info
O23: 1 | U23: geen hoge beschikbaarheids eisen
U24: risicomanagement met baselineset
U25: nato stelt, beleid mbt noodvernietiging
U26: en bcm nato eis
O28: Privacy keuzetabel | Q28: keuzep2 | U28: kritiek versus essentieel systeem vragen
O29: 0 | Q29: ja
O30: 1 | Q30: nee
O31: 2
O32: 3
Q34: Ja
Q35: Nee

Sheet Kladblok
