Workbook
Name ign: '[1]General Info'!$C$6
Name igo: '[1]General Info'!$C$7
Name iin: '[1]General Info'!$C$8
Name iio: '[1]General Info'!$C$9
Name pg: '[1]General Info'!$C$15
Name premie2007: '[1]General Info'!$C$20
Name premie2008: '[1]General Info'!$C$22

Sheet Totaal
A1: De Gemeente Lingewaard
B2: Na indexering
B3: Gebouwen | C3: Inventaris | D3: Kunstvoorwerpen
A5: Totaal Gemeentelijk Bezit: | B5: ='Gem Bezit'!N87 -> 156206000 | C5: ='Gem Bezit'!O87 -> 9672300
A6: Totaal Onderwijs: | B6: ='PO en VO'!U31 -> 169368000 | C6: ='PO en VO'!V31 -> 21920800
A7: Totaal Kunst: | D7: =kunst!F19 -> 1038300
A9: Totaal per 31-03-2025 | B9: =SUM(B5:B8) -> 325574000 | C9: =SUM(C5:C8) -> 31593100 | D9: =SUM(D5:D8) -> 1038300
C15: =B9+C9+D9 -> 358205400

Sheet Gem Bezit
A1: Kostenplaats | B1: Omschrijving: | C1: Alarm | E1: Adres: | F1: Postcode: | G1: Plaats: | H1: Gebouwen 31-03-2022 | I1: Inventaris 31-03-2022 | J1: Gebouwen 31-03-2023 | K1: Inventaris 31-03-2023 | L1: Gebouwen 31-03-2024 | M1: Inventaris 31-03-2024 | N1: Gebouwen 31-03-2025 | O1: Inventaris 31-03-2025 | S1: beveiligingsmaatregel | W1: asbest | X1: zonnepanelen | Z1: gevelbekleding anders dan metselwerk | AA1: NEN 3140
B2: Gemeentelijk Bezit: | H2: indexcijfer 159,8 | I2: indexcijfer 131,5 | J2: indexcijfer 124,0 | K2: indexcijfer 122,3 | L2: indexcijfer 128,4 | M2: indexcijfer 124,4 | N2: indexcijfer 133,4 | O2: indexcijfer 129,6 | S2: sprinkler | T2: bliksem | U2: bmi | V2: inbraak | W2: aanwezig | X2: aanwezig | Y2: toekomst | AA2: uitgevoerd op
A3: 60608 | B3: Sport en cultuurcentrum dorpshuis Angeren | C3: 0 | D3: } | E3: Emmastraat 23, Julianastraat 16, Wilhelminastraat 4 | F3: 6687 BP | G3: Angeren | H3: 6189500 | I3: 86100 | J3: =ROUND(H3/159.8*174,-2) -> 6739500 | K3: =ROUND(I3/131.5*147.3,-2) -> 96400 | L3: =ROUND(J3/124*128.4,-2) -> 6978600 | M3: =ROUND(K3/122.3*124.4,-2) -> 98100 | N3: =ROUND(L3/128.4*133.4,-2) -> 7250400 | O3: =ROUND(M3/124.4*129.6,-2) -> 102200 | P3: Lengkeek, rapport 4054879-1 dd 13-4-2021 (incl. fundering) | Q3: inventaris Lengkeek, rapport 4054878-1 dd 13-4-2021 | U3: ja | V3: ja | X3: ja | Y3: ja | Z3: gedeeltelijk Trespa gevelbekleding | AA3: 42846
A4: 60506 | B4: Tennisvereniging Angeren | C4: SD | E4: Irenestraat 18 | F4: 6687 BN | G4: Angeren | H4: 490600 | J4: =ROUND(H4/159.8*174,-2) -> 534200 | K4: =ROUND(I4/131.5*147.3,-2) -> 0 | L4: =ROUND(J4/124*128.4,-2) -> 553200 | M4: =ROUND(K4/122.3*124.4,-2) -> 0 | N4: =ROUND(L4/128.4*133.4,-2) -> 574700 | O4: =ROUND(M4/124.4*129.6,-2) -> 0 | P4: Lengkeek, rapport 4054879-1 dd 13-4-2021 (incl. fundering) | Z4: houtskeletbouw | AA4: 43283
A5: 60506 | B5: Jeu de boules vereniging De Poel | E5: Poelsestraat 42 | F5: 6687 BJ | G5: Angeren | H5: 62600 | J5: =ROUND(H5/159.8*174,-2) -> 68200 | K5: =ROUND(I5/131.5*147.3,-2) -> 0 | L5: =ROUND(J5/124*128.4,-2) -> 70600 | M5: =ROUND(K5/122.3*124.4,-2) -> 0 | N5: =ROUND(L5/128.4*133.4,-2) -> 73300 | O5: =ROUND(M5/124.4*129.6,-2) -> 0 | P5: Lengkeek, rapport 4054879-1 dd 13-4-2021 (incl. fundering) | R5: geen onderhoudsverplichting | Z5: houtskeletbouw | AA5: -
A6: 60506 | B6: Sportcomplex 'De Poel' gebouwen | C6: SD | E6: Poelsestraat 52 | F6: 6687 BJ | G6: Angeren | H6: 1430000 | J6: =ROUND(H6/159.8*174,-2) -> 1557100 | K6: =ROUND(I6/131.5*147.3,-2) -> 0 | L6: =ROUND(J6/124*128.4,-2) -> 1612400 | M6: =ROUND(K6/122.3*124.4,-2) -> 0 | N6: =ROUND(L6/128.4*133.4,-2) -> 1675200 | O6: =ROUND(M6/124.4*129.6,-2) -> 0 | P6: Lengkeek, rapport 4054879-1 dd 13-4-2021 (incl. fundering) | AA6: 43283
A7: 60517 | B7: Hertenpark "Groene Park" opstallen | C7: 0 | E7: Cuperstraat | F7: 6681 AR | G7: Bemmel | H7: 93900 | J7: =ROUND(H7/159.8*174,-2) -> 102200 | K7: =ROUND(I7/131.5*147.3,-2) -> 0 | L7: =ROUND(J7/124*128.4,-2) -> 105800 | M7: =ROUND(K7/122.3*124.4,-2) -> 0 | N7: =ROUND(L7/128.4*133.4,-2) -> 109900 | O7: =ROUND(M7/124.4*129.6,-2) -> 0 | P7: Lengkeek, rapport 4054879-4 dd 30-4-2021 (incl. fundering) | Z7: houtskeletbouw | AA7: 44117
A8: 60004 | B8: voormalige schoollruimte | C8: 0 | E8: Cuperstraat 9 | F8: 6681 AR | G8: Bemmel | H8: 2056200 | J8: =ROUND(H8/159.8*174,-2) -> 2238900 | K8: =ROUND(I8/131.5*147.3,-2) -> 0 | L8: =ROUND(J8/124*128.4,-2) -> 2318300 | M8: =ROUND(K8/122.3*124.4,-2) -> 0 | N8: =ROUND(L8/128.4*133.4,-2) -> 2408600 | O8: =ROUND(M8/124.4*129.6,-2) -> 0 | P8: Lengkeek, rapport 4054879-4 dd 30-4-2021 (incl. fundering) | V8: ja | W8: verdacht | AA8: 41589
A9: 60004 | B9: Tuinmuur voormalige kloostertuin | E9: Flierenhofstraat ong. | F9: 6681 BW | G9: Bemmel | H9: 78300 | J9: =ROUND(H9/159.8*174,-2) -> 85300 | K9: =ROUND(I9/131.5*147.3,-2) -> 0 | L9: =ROUND(J9/124*128.4,-2) -> 88300 | M9: =ROUND(K9/122.3*124.4,-2) -> 0 | N9: =ROUND(L9/128.4*133.4,-2) -> 91700 | O9: =ROUND(M9/124.4*129.6,-2) -> 0 | P9: Lengkeek, rapport 4054879-4 dd 30-4-2021 (incl. fundering) | AA9: n.v.t.
A10: 60004 | B10: Carillon Plantsoen Groene Hart | C10: 0 | E10: Flierenhofstraat ong. | F10: 6681 BW | G10: Bemmel | H10: 80400 | J10: =ROUND(H10/159.8*174,-2) -> 87500 | K10: =ROUND(I10/131.5*147.3,-2) -> 0 | L10: =ROUND(J10/124*128.4,-2) -> 90600 | M10: =ROUND(K10/122.3*124.4,-2) -> 0 | N10: =ROUND(L10/128.4*133.4,-2) -> 94100 | O10: =ROUND(M10/124.4*129.6,-2) -> 0 | P10: Lengkeek, rapport 4054879-4 dd 30-4-2021 (incl. fundering) | T10: ja | AA10: zie tabaksschuur
B11: Uitrukpost | E11: Karstraat 18 | F11: 6681 LB | G11: Bemmel | H11: 3291900 | J11: =ROUND(H11/163.4*174,-2) -> 3505500 | K11: =ROUND(I11/131.5*147.3,-2) -> 0 | L11: =ROUND(J11/124*128.4,-2) -> 3629900 | M11: =ROUND(K11/122.3*124.4,-2) -> 0 | N11: =ROUND(L11/128.4*133.4,-2) -> 3771300 | O11: =ROUND(M11/124.4*129.6,-2) -> 0 | P11: Lengkeek, rapport 4017707-6 dd 09-10-2017 (incl. fundering) | Q11: per 010822 meeverzek. zie mail 240522
A12: 60057 | B12: Gemeentehuis Bemmel (Kinkelenburg) | C12: SD | D12: M | E12: Kinkelenburglaan 1 | F12: 6681 BJ | G12: Bemmel | H12: 6492200 | I12: 409600 | J12: =ROUND(H12/159.8*174,-2) -> 7069100 | K12: =ROUND(I12/131.5*147.3,-2) -> 458800 | L12: =ROUND(J12/124*128.4,-2) -> 7319900 | M12: =ROUND(K12/122.3*124.4,-2) -> 466700 | N12: =ROUND(L12/128.4*133.4,-2) -> 7604900 | O12: =ROUND(M12/124.4*129.6,-2) -> 486200 | P12: Lengkeek, rapport 4054879-4 dd 30-4-2021 (incl. fundering) | Q12: inventaris Lengkeek, rapport 4054878-2 dd 13-4-2021 | T12: ja | U12: ja | V12: ja | W12: verdacht | AA12: antwoord FZ
A13: 60057 | B13: Gemeentekantoor Bemmel | C13: SD | E13: Kinkelenburglaan 6 | F13: 6681 BJ | G13: Bemmel | H13: 19236500 | I13: 3003900 | J13: =ROUND(H13/159.8*174,-2) -> 20945900 | K13: =ROUND(I13/131.5*147.3,-2) -> 3364800 | L13: =ROUND(J13/124*128.4,-2) -> 21689100 | M13: =ROUND(K13/122.3*124.4,-2) -> 3422600 | N13: =ROUND(L13/128.4*133.4,-2) -> 22533700 | O13: =ROUND(M13/124.4*129.6,-2) -> 3565700 | P13: Lengkeek, rapport 4054879-4 dd 30-4-2021 (incl. fundering) | Q13: inventaris Lengkeek, rapport 4054878-7 dd 23-6-2021 | T13: ja | U13: ja | V13: ja | X13: ja | Z13: fietsenstalling; open staafmatten | AA13: antwoord FZ
A14: 60057 | B14: Gemeentekantoor (Tabaksschuur) | C14: G | D14: M | E14: Kinkelenburglaan 6A | F14: 6681 BJ | G14: Bemmel | H14: 855900 | I14: 115500 | J14: =ROUND(H14/159.8*174,-2) -> 932000 | K14: =ROUND(I14/131.5*147.3,-2) -> 129400 | L14: =ROUND(J14/124*128.4,-2) -> 965100 | M14: =ROUND(K14/122.3*124.4,-2) -> 131600 | N14: =ROUND(L14/128.4*133.4,-2) -> 1002700 | O14: =ROUND(M14/124.4*129.6,-2) -> 137100 | P14: Lengkeek, rapport 4054879-4 dd 30-4-2021 (incl. fundering) | Q14: inventaris Lengkeek, rapport 4054878-2 dd 13-4-2021 | T14: ja | U14: ja | V14: ja | AA14: antwoord FZ
A15: 60517 | B15: Voilère Bemmel | C15: 0 | E15: Kinkelenburglaan nabij 4 | F15: 6681 BJ | G15: Bemmel | H15: 36500 | J15: =ROUND(H15/159.8*174,-2) -> 39700 | K15: =ROUND(I15/131.5*147.3,-2) -> 0 | L15: =ROUND(J15/124*128.4,-2) -> 41100 | M15: =ROUND(K15/122.3*124.4,-2) -> 0 | N15: =ROUND(L15/128.4*133.4,-2) -> 42700 | O15: =ROUND(M15/124.4*129.6,-2) -> 0 | P15: Lengkeek, rapport 4054879-4 dd 30-4-2021 (incl. fundering) | Z15: gedeeltelijk gaashekwerk | AA15: 43773
B16: Jongeren ontmoetingsplek | E16: Kinkelplein | G16: Bemmel | H16: 40700 | J16: =ROUND(H16/159.8*174,-2) -> 44300 | K16: =ROUND(I16/131.5*147.3,-2) -> 0 | L16: =ROUND(J16/124*128.4,-2) -> 45900 | M16: =ROUND(K16/122.3*124.4,-2) -> 0 | N16: =ROUND(L16/128.4*133.4,-2) -> 47700 | O16: =ROUND(M16/124.4*129.6,-2) -> 0 | P16: Lengkeek, rapport 4054879-4 dd 30-4-2021 (incl. fundering) | Z16: volledig beton | AA16: n.v.t.
A17: 60057 | B17: Gemeentewerf Bemmel (bestaat uit 4 gebouwen, kantoor met werkplaats/ werkplaats/ zoutloods/ open stalling) | E17: Lingewal 6A | F17: 6681 LJ | G17: Bemmel | H17: 3287900 | I17: 409600 | J17: =ROUND(H17/159.8*174,-2) -> 3580100 | K17: =ROUND(I17/131.5*147.3,-2) -> 458800 | L17: =ROUND(J17/124*128.4,-2) -> 3707100 | M17: =ROUND(K17/122.3*124.4,-2) -> 466700 | N17: =ROUND(L17/128.4*133.4,-2) -> 3851500 | O17: =ROUND(M17/124.4*129.6,-2) -> 486200 | P17: Lengkeek, rapport 4054879-4 dd 30-4-2021 (incl. fundering) | Q17: inventaris Lengkeek, rapport 4054878-2 dd 13-4-2021 | U17: ja | V17: ja | Y17: ja | Z17: werkplaats, zoutloods en openstalling; stalen damwand | AA17: antwoord FZ
A18: 60005 | B18: Hervormde Kerk toren | C18: G | D18: M | E18: Oude Kerkhof 13 | F18: 6681 BR | G18: Bemmel | H18: 1461300 | J18: =ROUND(H18/159.8*174,-2) -> 1591200 | K18: =ROUND(I18/131.5*147.3,-2) -> 0 | L18: =ROUND(J18/124*128.4,-2) -> 1647700 | M18: =ROUND(K18/122.3*124.4,-2) -> 0 | N18: =ROUND(L18/128.4*133.4,-2) -> 1711900 | O18: =ROUND(M18/124.4*129.6,-2) -> 0 | P18: Lengkeek, rapport 4054879-4 dd 30-4-2021 (incl. fundering) | T18: ja | W18: verdacht | AA18: 43307
A19: 60808 | B19: Woonwagencentrum Plakselaan, 5 plaatsen | C19: 0 | E19: Plakselaan 22-26-30-32 en 34 | F19: 6681 DS | G19: Bemmel | H19: 214000 | J19: =ROUND(H19/159.8*174,-2) -> 233000 | K19: =ROUND(I19/131.5*147.3,-2) -> 0 | L19: =ROUND(J19/124*128.4,-2) -> 241300 | M19: =ROUND(K19/122.3*124.4,-2) -> 0 | N19: =ROUND(L19/128.4*133.4,-2) -> 250700 | O19: =ROUND(M19/124.4*129.6,-2) -> 0 | P19: Lengkeek, rapport 4054879-4 dd 30-4-2021 (incl. fundering) | Z19: berging prefab beton | AA19: 2016 nwe mk
A20: 60505 | B20: Gymzaal De Hoenderik | C20: 0 | E20: Ponylaan 6 | F20: 6681 AR | G20: Bemmel | H20: 1242100 | J20: =ROUND(H20/159.8*174,-2) -> 1352500 | K20: =ROUND(I20/131.5*147.3,-2) -> 0 | L20: =ROUND(J20/124*128.4,-2) -> 1400500 | M20: =ROUND(K20/122.3*124.4,-2) -> 0 | N20: =ROUND(L20/128.4*133.4,-2) -> 1455000 | O20: =ROUND(M20/124.4*129.6,-2) -> 0 | P20: Lengkeek, rapport 4054879-4 dd 30-4-2021 (incl. fundering) | Y20: ja | AA20: 43118
A21: 60505 | B21: Sporthal de Bongerd | C21: G | E21: Sportlaan 1 | F21: 6681 CD | G21: Bemmel | H21: 4060200 | J21: =ROUND(H21/159.8*174,-2) -> 4421000 | K21: =ROUND(I21/131.5*147.3,-2) -> 0 | L21: =ROUND(J21/124*128.4,-2) -> 4577900 | M21: =ROUND(K21/122.3*124.4,-2) -> 0 | N21: =ROUND(L21/128.4*133.4,-2) -> 4756200 | O21: =ROUND(M21/124.4*129.6,-2) -> 0 | P21: Lengkeek, rapport 4054879-4 dd 30-4-2021 (incl. fundering) | U21: ja | Y21: ja | Z21: sporthal; stalen damwand | AA21: 43276
A22: 60510 | B22: Drumband ESKA gebouw | C22: G | E22: Sportlaan 1C | F22: 6681 CD | G22: Bemmel | H22: 401800 | J22: =ROUND(H22/159.8*174,-2) -> 437500 | K22: =ROUND(I22/131.5*147.3,-2) -> 0 | L22: =ROUND(J22/124*128.4,-2) -> 453000 | M22: =ROUND(K22/122.3*124.4,-2) -> 0 | N22: =ROUND(L22/128.4*133.4,-2) -> 470600 | O22: =ROUND(M22/124.4*129.6,-2) -> 0 | P22: Lengkeek, rapport 4054879-4 dd 30-4-2021 (incl. fundering) | W22: ja | Z22: vezelcemntplaat | AA22: 44355
A23: 60608 | B23: Kulit Bia opstal | C23: G | E23: Sportlaan 1D | F23: 6681 CD | G23: Bemmel | H23: 767200 | J23: =ROUND(H23/159.8*174,-2) -> 835400 | K23: =ROUND(I23/131.5*147.3,-2) -> 0 | L23: =ROUND(J23/124*128.4,-2) -> 865000 | M23: =ROUND(K23/122.3*124.4,-2) -> 0 | N23: =ROUND(L23/128.4*133.4,-2) -> 898700 | O23: =ROUND(M23/124.4*129.6,-2) -> 0 | P23: Lengkeek, rapport 4054879-4 dd 30-4-2021 (incl. fundering) | Z23: kopgevels schuine dak; Trespa | AA23: 43066
A24: 60730 | B24: Begraafplaats Teselaar collumbarium | C24: G | E24: Teselaar ong | F24: 6681 BD | G24: Bemmel | H24: 57400 | J24: =ROUND(H24/159.8*174,-2) -> 62500 | K24: =ROUND(I24/131.5*147.3,-2) -> 0 | L24: =ROUND(J24/124*128.4,-2) -> 64700 | M24: =ROUND(K24/122.3*124.4,-2) -> 0 | N24: =ROUND(L24/128.4*133.4,-2) -> 67200 | O24: =ROUND(M24/124.4*129.6,-2) -> 0 | P24: Lengkeek, rapport 4054879-4 dd 30-4-2021 (incl. fundering) | AA24: n.v.t.
A25: 60608 | B25: Ontmoetingscentrum De Kinkel | C25: SD | E25: van Ambestraat 1 | F25: 6681 AK | G25: Bemmel | H25: 7567300 | J25: =ROUND(H25/159.8*174,-2) -> 8239700 | K25: =ROUND(I25/131.5*147.3,-2) -> 0 | L25: =ROUND(J25/124*128.4,-2) -> 8532100 | M25: =ROUND(K25/122.3*124.4,-2) -> 0 | N25: =ROUND(L25/128.4*133.4,-2) -> 8864300 | O25: =ROUND(M25/124.4*129.6,-2) -> 0 | P25: Lengkeek, rapport 4054879-4 dd 30-4-2021 (incl. fundering) | T25: ja | U25: ja | V25: ja | Y25: ja | Z25: gedeeltelijk stalen damwand, Trespa en metselwerk | AA25: 43276
A26: 60404 | B26: NME Centrum (inventaris dijkmagazijn) | E26: Waaldijk 4 | F26: 6691 MB | G26: Bemmel | H26: 67800 | I26: 36800 | J26: =ROUND(H26/159.8*174,-2) -> 73800 | K26: =ROUND(I26/131.5*147.3,-2) -> 41200 | L26: =ROUND(J26/124*128.4,-2) -> 76400 | M26: =ROUND(K26/122.3*124.4,-2) -> 41900 | N26: =ROUND(L26/128.4*133.4,-2) -> 79400 | O26: =ROUND(M26/124.4*129.6,-2) -> 43700 | P26: huurdersbelang Lengkeek, rapport 4054878-2 dd 13-4-2021 | Q26: inventaris Lengkeek, rapport 4054878-2 dd 13-4-2021 | W26: verdacht | AA26: 43348
A27: 60505 | B27: Gymnastieklokaal "Doornick" | E27: Clara van Delwigstraat 3 | F27: 6686 AH | G27: Doornenburg | H27: 1022900 | I27: 78800 | J27: =ROUND(H27/159.8*174,-2) -> 1113800 | K27: =ROUND(I27/131.5*147.3,-2) -> 88300 | L27: =ROUND(J27/124*128.4,-2) -> 1153300 | M27: =ROUND(K27/122.3*124.4,-2) -> 89800 | N27: =ROUND(L27/128.4*133.4,-2) -> 1198200 | O27: =ROUND(M27/124.4*129.6,-2) -> 93600 | P27: Lengkeek, rapport 4054879-5 dd 30-4-2021 (incl. fundering) | Q27: inventaris Lengkeek, rapport 4054878-3 dd 13-4-2021 | Y27: ja | Z27: één langsgevel gymzaal; gedeeltelijk stalen damwand | AA27: 43780
A28: 60608 | B28: Ontmoetingscentrum Doornenburg | C28: G | E28: Kerkstraat 3,3a | F28: 6686 BS | G28: Doornenburg | H28: 2724200 | J28: =ROUND(H28/159.8*174,-2) -> 2966300 | K28: =ROUND(I28/131.5*147.3,-2) -> 0 | L28: =ROUND(J28/124*128.4,-2) -> 3071600 | M28: =ROUND(K28/122.3*124.4,-2) -> 0 | N28: =ROUND(L28/128.4*133.4,-2) -> 3191200 | O28: =ROUND(M28/124.4*129.6,-2) -> 0 | P28: Lengkeek, rapport 4054879-5 dd 30-4-2021 (incl. fundering) | U28: ja | V28: ja | Y28: ja | Z28: kopgevels schuine dak; trespa | AA28: 43780
A29: 60506 | B29: Sportcomplex 'De Vijzel' gebouwen GVA en EDV hierop recht van opstal | C29: SD | E29: Vijzelpad 11 | F29: 6686 BV | G29: Doornenburg | H29: 2411100 | J29: =ROUND(H29/159.8*174,-2) -> 2625400 | K29: =ROUND(I29/131.5*147.3,-2) -> 0 | L29: =ROUND(J29/124*128.4,-2) -> 2718600 | M29: =ROUND(K29/122.3*124.4,-2) -> 0 | N29: =ROUND(L29/128.4*133.4,-2) -> 2824500 | O29: =ROUND(M29/124.4*129.6,-2) -> 0 | P29: Lengkeek, rapport 4054879-5 dd 30-4-2021 (incl. fundering) | W29: ja | Y29: ja | Z29: kopgevels schuine dak; hout, tribunegebouw gedeeltelijk stalen damwand | AA29: 43116
A30: 60506 | B30: Tenniscomplex 'De Vijzel' | C30: SD | E30: Vijzelpad 5 | F30: 6686 BV | G30: Doornenburg | H30: 553200 | J30: =ROUND(H30/159.8*174,-2) -> 602400 | K30: =ROUND(I30/131.5*147.3,-2) -> 0 | L30: =ROUND(J30/124*128.4,-2) -> 623800 | M30: =ROUND(K30/122.3*124.4,-2) -> 0 | N30: =ROUND(L30/128.4*133.4,-2) -> 648100 | O30: =ROUND(M30/124.4*129.6,-2) -> 0 | P30: Lengkeek, rapport 4054879-5 dd 30-4-2021 (incl. fundering) | Z30: houtskeletbouw | AA30: 43283
A31: 60103 | B31: Brandweergarage Doornenburg | C31: G | E31: Vijzelpad 9 | F31: 6686 BV | G31: Doornenburg | H31: 782800 | I31: 162800 | J31: =ROUND(H31/159.8*174,-2) -> 852400 | K31: =ROUND(I31/131.5*147.3,-2) -> 182400 | L31: =ROUND(J31/124*128.4,-2) -> 882600 | M31: =ROUND(K31/122.3*124.4,-2) -> 185500 | N31: =ROUND(L31/128.4*133.4,-2) -> 917000 | O31: =ROUND(M31/124.4*129.6,-2) -> 193300 | P31: Lengkeek, rapport 4054879-5 dd 30-4-2021 (incl. fundering) | Q31: inventaris Lengkeek, rapport 4054878-3 dd 13-4-2021 | V31: ja | Z31: remise; stalen damwand | AA31: 44055
A32: 60005 | B32: Fort Pannerden | E32: Waaldijk 1 | F32: 6686 MV | G32: Doornenburg | H32: 5114400 | J32: =ROUND(H32/159.8*174,-2) -> 5568900 | K32: =ROUND(I32/131.5*147.3,-2) -> 0 | L32: =ROUND(J32/124*128.4,-2) -> 5766500 | M32: =ROUND(K32/122.3*124.4,-2) -> 0 | N32: =ROUND(L32/128.4*133.4,-2) -> 5991100 | O32: =ROUND(M32/124.4*129.6,-2) -> 0 | P32: Lengkeek, rapport 4054879-5 dd 30-4-2021 | U32: ja | V32: ja | W32: verdacht | AA32: 43747
A33: 60808 | B33: Huurwoonwagen | E33: Binnendries 5 | F33: 6691 AZ | G33: Gendt | H33: 88700 | J33: =ROUND(H33/159.8*174,-2) -> 96600 | K33: =ROUND(I33/131.5*147.3,-2) -> 0 | L33: =ROUND(J33/124*128.4,-2) -> 100000 | M33: =ROUND(K33/122.3*124.4,-2) -> 0 | N33: =ROUND(L33/128.4*133.4,-2) -> 103900 | O33: =ROUND(M33/124.4*129.6,-2) -> 0 | P33: Lengkeek, rapport 4054879-6 dd 30-4-2021 (incl. fundering) | Z33: berging prefab beton | AA33: -
A34: 60808 | B34: Woonwagen, standplaatsen, toilet en douchevoorzieningen | C34: 0 | E34: Binnendries 5, 7, 9 | F34: 6691 AZ | G34: Gendt | H34: 125300 | J34: =ROUND(H34/159.8*174,-2) -> 136400 | K34: =ROUND(I34/131.5*147.3,-2) -> 0 | L34: =ROUND(J34/124*128.4,-2) -> 141200 | M34: =ROUND(K34/122.3*124.4,-2) -> 0 | N34: =ROUND(L34/128.4*133.4,-2) -> 146700 | O34: =ROUND(M34/124.4*129.6,-2) -> 0 | P34: Lengkeek, rapport 4054879-6 dd 30-4-2021 (incl. fundering) | Z34: berging prefab beton | AA34: -
A35: 60608 | B35: Sociaal cultureel centrum De Leemhof | C35: 0 | E35: Dorpstraat 1 | F35: 6691 AV | G35: Gendt | H35: 2348500 | J35: =ROUND(H35/159.8*174,-2) -> 2557200 | K35: =ROUND(I35/131.5*147.3,-2) -> 0 | L35: =ROUND(J35/124*128.4,-2) -> 2647900 | M35: =ROUND(K35/122.3*124.4,-2) -> 0 | N35: =ROUND(L35/128.4*133.4,-2) -> 2751000 | O35: =ROUND(M35/124.4*129.6,-2) -> 0 | P35: Lengkeek, rapport 4054879-6 dd 30-4-2021 (incl. fundering) | U35: ja | V35: ja | Y35: ja | Z35: berging; Trespa | AA35: 43116
A36: 60103 | B36: Brandweergarage met opslag | C36: 0 | E36: Dorpstraat 72A | F36: 6691 BA | G36: Gendt | H36: 824600 | I36: 131300 | J36: =ROUND(H36/159.8*174,-2) -> 897900 | K36: =ROUND(I36/131.5*147.3,-2) -> 147100 | L36: =ROUND(J36/124*128.4,-2) -> 929800 | M36: =ROUND(K36/122.3*124.4,-2) -> 149600 | N36: =ROUND(L36/128.4*133.4,-2) -> 966000 | O36: =ROUND(M36/124.4*129.6,-2) -> 155900 | P36: Lengkeek, rapport 4054879-6 dd 30-4-2021 (incl. fundering) | Q36: inventaris Lengkeek, rapport 4054878-4 dd 12-4-2021 | V36: ja | AA36: 43276
A37: 60004 | B37: Gemeentewerf Gendt + woning/garage en garageboxen | C37: 0 | E37: Dorpstraat 74 + 74A | F37: 6691 BA | G37: Gendt | H37: 949800 | I37: 15800 | J37: =ROUND(H37/159.8*174,-2) -> 1034200 | K37: =ROUND(I37/131.5*147.3,-2) -> 17700 | L37: =ROUND(J37/124*128.4,-2) -> 1070900 | M37: =ROUND(K37/122.3*124.4,-2) -> 18000 | N37: =ROUND(L37/128.4*133.4,-2) -> 1112600 | O37: =ROUND(M37/124.4*129.6,-2) -> 18800 | P37: Lengkeek, rapport 4054879-6 dd 30-4-2021 (incl. fundering) | Q37: inventaris Lengkeek, rapport 4054878-4 dd 12-4-2021 | W37: verdacht | AA37: 43769
A38: 60004 | B38: Muziek-kiosk | E38: Julianaplein | G38: Gendt | H38: 75200 | J38: =ROUND(H38/159.8*174,-2) -> 81900 | K38: =ROUND(I38/131.5*147.3,-2) -> 0 | L38: =ROUND(J38/124*128.4,-2) -> 84800 | M38: =ROUND(K38/122.3*124.4,-2) -> 0 | N38: =ROUND(L38/128.4*133.4,-2) -> 88100 | O38: =ROUND(M38/124.4*129.6,-2) -> 0 | P38: Lengkeek, rapport 4054879-6 dd 30-4-2021 (incl. fundering) | Z38: open gevel | AA38: -
A39: 60005 | B39: Historische Kring, KDV en museum | C39: 0 | E39: Nijmeegsestraat 19, 19a t/m d | F39: 6691 CK | G39: Gendt | H39: 3444400 | J39: =ROUND(H39/159.8*174,-2) -> 3750500 | K39: =ROUND(I39/131.5*147.3,-2) -> 0 | L39: =ROUND(J39/124*128.4,-2) -> 3883600 | M39: =ROUND(K39/122.3*124.4,-2) -> 0 | N39: =ROUND(L39/128.4*133.4,-2) -> 4034800 | O39: =ROUND(M39/124.4*129.6,-2) -> 0 | P39: Lengkeek, rapport 4054879-6 dd 30-4-2021 (incl. fundering) | U39: ja | V39: ja | AA39: 43769
A40: 60505 | B40: Gymnstieklokaal Nijmeegsestraat | E40: Nijmeegsestraat 1a | F40: 6691 CJ | G40: Gendt | H40: 1137700 | I40: 63000 | J40: =ROUND(H40/159.8*174,-2) -> 1238800 | K40: =ROUND(I40/131.5*147.3,-2) -> 70600 | L40: =ROUND(J40/124*128.4,-2) -> 1282800 | M40: =ROUND(K40/122.3*124.4,-2) -> 71800 | N40: =ROUND(L40/128.4*133.4,-2) -> 1332800 | O40: =ROUND(M40/124.4*129.6,-2) -> 74800 | P40: Lengkeek, rapport 4054879-6 dd 30-4-2021 (incl. fundering) | Q40: inventaris Lengkeek, rapport 4054878-4 dd 12-4-2021 | Y40: ja | AA40: 44363
A41: 60506 | B41: clubgebouw Thetis | E41: Nijmeegsestraat 65 B | F41: 6691 CM | G41: Gendt | H41: 521900 | J41: =ROUND(H41/159.8*174,-2) -> 568300 | K41: =ROUND(I41/131.5*147.3,-2) -> 0 | L41: =ROUND(J41/124*128.4,-2) -> 588500 | M41: =ROUND(K41/122.3*124.4,-2) -> 0 | N41: =ROUND(L41/128.4*133.4,-2) -> 611400 | O41: =ROUND(M41/124.4*129.6,-2) -> 0 | P41: Lengkeek, rapport 4054879-6 dd 30-4-2021 (incl. fundering) | Q41: inventaris inbegrepen bij zwembad hieronder | AA41: 44363
A42: 60506 | B42: Natuurzwembad Walburgen kiosk | E42: Nijmeegsestraat 65 B | F42: 6691 CM | G42: Gendt | I42: 68300 | J42: =ROUND(H42/159.8*174,-2) -> 0 | K42: =ROUND(I42/131.5*147.3,-2) -> 76500 | L42: =ROUND(J42/124*128.4,-2) -> 0 | M42: =ROUND(K42/122.3*124.4,-2) -> 77800 | N42: =ROUND(L42/128.4*133.4,-2) -> 0 | O42: =ROUND(M42/124.4*129.6,-2) -> 81100 | Q42: inventaris Lengkeek, rapport 4054878-4 dd 12-4-2021 | AA42: 44363
A43: 60505 | B43: Sporthal Walburgen en Voetbalclub de Bataven | E43: Nijmeegsestraat 65A/C | F43: 6691 CM | G43: Gendt | H43: 6387800 | I43: 315100 | J43: =ROUND(H43/159.8*174,-2) -> 6955400 | K43: =ROUND(I43/131.5*147.3,-2) -> 353000 | L43: =ROUND(J43/124*128.4,-2) -> 7202200 | M43: =ROUND(K43/122.3*124.4,-2) -> 359100 | N43: =ROUND(L43/128.4*133.4,-2) -> 7482700 | O43: =ROUND(M43/124.4*129.6,-2) -> 374100 | P43: Lengkeek, rapport 4054879-6 dd 30-4-2021 (incl. fundering) | Q43: inventaris Lengkeek, rapport 4054878-4 dd 12-4-2021 (95c) | U43: ja | V43: ja | Y43: ja | Z43: sporthal; stalen damwand | AA43: 43119
B44: Zorgunit (huurdersbelang) | E44: Olyhorststraat 2 | F44: 6691 HD | G44: Gendt | H44: 66750 | J44: =H44 -> 66750 | K44: =ROUND(I44/131.5*147.3,-2) -> 0 | L44: =ROUND(J44/124*128.4,-2) -> 69100 | M44: =ROUND(K44/122.3*124.4,-2) -> 0 | N44: =ROUND(L44/128.4*133.4,-2) -> 71800 | O44: =ROUND(M44/124.4*129.6,-2) -> 0 | Q44: nieuw zie mail 051222, Wilbert heeft nog aanvullende vragen gesteld + aanvullende mail 201222
A45: 60506 | B45: Clubgebouw VV De Bataven (kleedkamer 9 en 10) | E45: Poelwijklaan 12c | F45: 6691 MH | G45: Gendt | H45: 130500 | J45: =ROUND(H45/159.8*174,-2) -> 142100 | K45: =ROUND(I45/131.5*147.3,-2) -> 0 | L45: =ROUND(J45/124*128.4,-2) -> 147100 | M45: =ROUND(K45/122.3*124.4,-2) -> 0 | N45: =ROUND(L45/128.4*133.4,-2) -> 152800 | O45: =ROUND(M45/124.4*129.6,-2) -> 0 | P45: Lengkeek, rapport 4054879-6 dd 30-4-2021 (incl. fundering) | AA45: 43117
A46: 60005 | B46: Toren NH-Kerk | E46: Torenlaan 14 | F46: 6691 BM | G46: Gendt | H46: 1450800 | J46: =ROUND(H46/159.8*174,-2) -> 1579700 | K46: =ROUND(I46/131.5*147.3,-2) -> 0 | L46: =ROUND(J46/124*128.4,-2) -> 1635800 | M46: =ROUND(K46/122.3*124.4,-2) -> 0 | N46: =ROUND(L46/128.4*133.4,-2) -> 1699500 | O46: =ROUND(M46/124.4*129.6,-2) -> 0 | P46: Lengkeek, rapport 4054879-6 dd 30-4-2021 (incl. fundering) | W46: verdacht | AA46: 43276
A47: 60730 | B47: Begraafplaats Gendt aula en kleedruimte/berging | C47: 0 | E47: Zandvoortsestraat 1 | F47: 6691 EN | G47: Gendt | H47: 198300 | I47: 10500 | J47: =ROUND(H47/159.8*174,-2) -> 215900 | K47: =ROUND(I47/131.5*147.3,-2) -> 11800 | L47: =ROUND(J47/124*128.4,-2) -> 223600 | M47: =ROUND(K47/122.3*124.4,-2) -> 12000 | N47: =ROUND(L47/128.4*133.4,-2) -> 232300 | O47: =ROUND(M47/124.4*129.6,-2) -> 12500 | P47: Lengkeek, rapport 4054879-6 dd 30-4-2021 (incl. fundering) | Q47: inventaris Lengkeek, rapport 4054878-4 dd 12-4-2021 | AA47: 43115
A48: 60608 | B48: Dorpshuis De Tichel, KDV en PSZ | E48: Kolkweg 5 a en c | F48: 6685 BC | G48: Haalderen | H48: 2807700 | J48: =ROUND(H48/159.8*174,-2) -> 3057200 | K48: =ROUND(I48/131.5*147.3,-2) -> 0 | L48: =ROUND(J48/124*128.4,-2) -> 3165700 | M48: =ROUND(K48/122.3*124.4,-2) -> 0 | N48: =ROUND(L48/128.4*133.4,-2) -> 3289000 | O48: =ROUND(M48/124.4*129.6,-2) -> 0 | P48: Lengkeek, rapport 4054879-2 dd 13-4-2021 (incl. fundering) | T48: ja | U48: ja | V48: ja | X48: ja | AA48: 43122
A49: 60506 | B49: Tenniscomplex 'De Notenboom' | C49: SD | E49: Notenboomstraat 20 | F49: 6685 AK | G49: Haalderen | H49: 480100 | J49: =ROUND(H49/159.8*174,-2) -> 522800 | K49: =ROUND(I49/131.5*147.3,-2) -> 0 | L49: =ROUND(J49/124*128.4,-2) -> 541400 | M49: =ROUND(K49/122.3*124.4,-2) -> 0 | N49: =ROUND(L49/128.4*133.4,-2) -> 562500 | O49: =ROUND(M49/124.4*129.6,-2) -> 0 | P49: Lengkeek, rapport 4054879-2 dd 13-4-2021 (incl. fundering) | Z49: houtskeletbouw | AA49: 42865
A50: 60506 | B50: Sportcomplex 'De Notenboom' gebouwen | C50: SD | E50: Notenboomstraat 60 | F50: 6685 AK | G50: Haalderen | H50: 1576100 | J50: =ROUND(H50/159.8*174,-2) -> 1716200 | K50: =ROUND(I50/131.5*147.3,-2) -> 0 | L50: =ROUND(J50/124*128.4,-2) -> 1777100 | M50: =ROUND(K50/122.3*124.4,-2) -> 0 | N50: =ROUND(L50/128.4*133.4,-2) -> 1846300 | O50: =ROUND(M50/124.4*129.6,-2) -> 0 | P50: Lengkeek, rapport 4054879-2 dd 13-4-2021 (incl. fundering) | W50: verdacht | Z50: opbouw bestuurskamer; Trespa | AA50: 43390
A51: 60517 | B51: Dierenhoeve Park Slingerbos | E51: Angerensedijk 2 | G51: Huissen | H51: 180500 | J51: =ROUND(H51/159.8*174,-2) -> 196500 | K51: =ROUND(I51/131.5*147.3,-2) -> 0 | L51: =ROUND(J51/124*128.4,-2) -> 203500 | M51: =ROUND(K51/122.3*124.4,-2) -> 0 | N51: =ROUND(L51/128.4*133.4,-2) -> 211400 | O51: =ROUND(M51/124.4*129.6,-2) -> 0 | P51: Lengkeek, rapport 4054879-7 dd 12-7-2021 (incl. fundering) | Z51: houtbouw | AA51: 44355
A52: 60612 | B52: Kinderdagverblijf De Toverbal | C52: S | E52: Appelbongerd 21 | F52: 6852 BH | G52: Huissen | H52: 1021300 | J52: =ROUND(H52/159.8*174,-2) -> 1112100 | K52: =ROUND(I52/131.5*147.3,-2) -> 0 | L52: =ROUND(J52/124*128.4,-2) -> 1151600 | M52: =ROUND(K52/122.3*124.4,-2) -> 0 | N52: =ROUND(L52/128.4*133.4,-2) -> 1196400 | O52: =ROUND(M52/124.4*129.6,-2) -> 0 | P52: Lengkeek, rapport 4054879-7 dd 12-7-2021 (incl. fundering) | U52: ja | W52: verdacht | AA52: 43887
A53: 60005 | B53: Fragment stadsmuur Arnhemse Poort en poortwachter | E53: Arnhemsepoort/ Langestraat | G53: Huissen | H53: 309500 | J53: =ROUND(H53/159.8*174,-2) -> 337000 | K53: =ROUND(I53/131.5*147.3,-2) -> 0 | L53: =ROUND(J53/124*128.4,-2) -> 349000 | M53: =ROUND(K53/122.3*124.4,-2) -> 0 | N53: =ROUND(L53/128.4*133.4,-2) -> 362600 | O53: =ROUND(M53/124.4*129.6,-2) -> 0 | P53: Lengkeek, rapport 4054879-7 dd 12-7-2021 | AA53: n.v.t.
A54: 60506 | B54: Sportcomplex - Blauwenburcht | C54: 0 | E54: Blauwenburcht 1 | F54: 6852 NS | G54: Huissen | H54: 3146500 | I54: 241600 | J54: =ROUND(H54/159.8*174,-2) -> 3426100 | K54: =ROUND(I54/131.5*147.3,-2) -> 270600 | L54: =ROUND(J54/124*128.4,-2) -> 3547700 | M54: =ROUND(K54/122.3*124.4,-2) -> 275200 | N54: =ROUND(L54/128.4*133.4,-2) -> 3685900 | O54: =ROUND(M54/124.4*129.6,-2) -> 286700 | P54: Lengkeek, rapport 4054879-7 dd 12-7-2021 (incl. fundering) | Q54: inventaris Lengkeek, rapport 4054878-6 dd 20-4-2021 | AA54: 43367
A55: nieuw? | B55: Gymzaal Turnvereniging SGS | E55: De Jongstraat 1B | F55: 6851 KR | G55: Huissen | H55: 464200 | J55: =ROUND(H55/159.8*174,-2) -> 505400 | K55: =ROUND(I55/131.5*147.3,-2) -> 0 | L55: =ROUND(J55/124*128.4,-2) -> 523300 | M55: =ROUND(K55/122.3*124.4,-2) -> 0 | N55: =ROUND(L55/128.4*133.4,-2) -> 543700 | O55: =ROUND(M55/124.4*129.6,-2) -> 0 | P55: Lengkeek, rapport 4054879-7 dd 12-7-2021 (incl. fundering)
A56: 60802 | B56: Appartement | C56: SD | E56: Doelenstraat 10A | F56: 6851 BT | G56: Huissen | H56: 221800 | J56: =ROUND(H56/159.8*174,-2) -> 241500 | K56: =ROUND(I56/131.5*147.3,-2) -> 0 | L56: =ROUND(J56/124*128.4,-2) -> 250100 | M56: =ROUND(K56/122.3*124.4,-2) -> 0 | N56: =ROUND(L56/128.4*133.4,-2) -> 259800 | O56: =ROUND(M56/124.4*129.6,-2) -> 0 | P56: Lengkeek, rapport 4054879-7 dd 12-7-2021 (incl. fundering) | AA56: -
A57: 60802 | B57: Appartementen | C57: SD | E57: Doelenstraat 6 | F57: 6851 BT | G57: Huissen | H57: 175400 | J57: =ROUND(H57/159.8*174,-2) -> 191000 | K57: =ROUND(I57/131.5*147.3,-2) -> 0 | L57: =ROUND(J57/124*128.4,-2) -> 197800 | M57: =ROUND(K57/122.3*124.4,-2) -> 0 | N57: =ROUND(L57/128.4*133.4,-2) -> 205500 | O57: =ROUND(M57/124.4*129.6,-2) -> 0 | P57: Lengkeek, rapport 4054879-7 dd 12-7-2021 (incl. fundering) | AA57: -
A58: 60802 | B58: Appartementen | C58: SD | E58: Doelenstraat 8 | F58: 6851 BT | G58: Huissen | H58: 165100 | J58: =ROUND(H58/159.8*174,-2) -> 179800 | K58: =ROUND(I58/131.5*147.3,-2) -> 0 | L58: =ROUND(J58/124*128.4,-2) -> 186200 | M58: =ROUND(K58/122.3*124.4,-2) -> 0 | N58: =ROUND(L58/128.4*133.4,-2) -> 193500 | O58: =ROUND(M58/124.4*129.6,-2) -> 0 | P58: Lengkeek, rapport 4054879-7 dd 12-7-2021 (incl. fundering) | AA58: -
A59: 60730 | B59: Begraafplaats Huissen-Stad, toegangpoort | C59: 0 | E59: Doelenstraat, | F59: 6851 BT | G59: Huissen | H59: 30900 | J59: =ROUND(H59/159.8*174,-2) -> 33600 | K59: =ROUND(I59/131.5*147.3,-2) -> 0 | L59: =ROUND(J59/124*128.4,-2) -> 34800 | M59: =ROUND(K59/122.3*124.4,-2) -> 0 | N59: =ROUND(L59/128.4*133.4,-2) -> 36200 | O59: =ROUND(M59/124.4*129.6,-2) -> 0 | P59: Lengkeek, rapport 4054879-7 dd 12-7-2021 (incl. fundering) | AA59: n.v.t.
A60: 60506 | B60: Tennisclub sportpark Hazekamp | E60: Hazekamp 2a | F60: 6851 JK | G60: Huissen | H60: 1413300 | J60: =ROUND(H60/159.8*174,-2) -> 1538900 | K60: =ROUND(I60/131.5*147.3,-2) -> 0 | L60: =ROUND(J60/124*128.4,-2) -> 1593500 | M60: =ROUND(K60/122.3*124.4,-2) -> 0 | N60: =ROUND(L60/128.4*133.4,-2) -> 1655600 | O60: =ROUND(M60/124.4*129.6,-2) -> 0 | P60: Lengkeek, rapport 4054879-7 dd 12-7-2021 (incl. fundering) | Z60: houtskeletbouw | AA60: lichtmast 17-2-2020
A61: 60721 | B61: pompgemaal | E61: Hoeve | G61: Huissen | H61: 206300 | J61: =ROUND(H61/159.8*174,-2) -> 224600 | K61: =ROUND(I61/131.5*147.3,-2) -> 0 | L61: =ROUND(J61/124*128.4,-2) -> 232600 | M61: =ROUND(K61/122.3*124.4,-2) -> 0 | N61: =ROUND(L61/128.4*133.4,-2) -> 241700 | O61: =ROUND(M61/124.4*129.6,-2) -> 0 | P61: Lengkeek, rapport 4054879-7.1 dd 12-7-2021 (incl. fundering) | AA61: 43276
A62: 60730 | B62: Beheerdersgebouw Begraafplaats De Hoeve | E62: Hoeve 15 | F62: 6851 EP | G62: Huissen | H62: 211500 | J62: =ROUND(H62/159.8*174,-2) -> 230300 | K62: =ROUND(I62/131.5*147.3,-2) -> 0 | L62: =ROUND(J62/124*128.4,-2) -> 238500 | M62: =ROUND(K62/122.3*124.4,-2) -> 0 | N62: =ROUND(L62/128.4*133.4,-2) -> 247800 | O62: =ROUND(M62/124.4*129.6,-2) -> 0 | P62: Lengkeek, rapport 4054879-7 dd 12-7-2021 (incl. fundering) | AA62: 43115
A63: 60730 | B63: Urnenmuur begraafplaats De Hoeve | E63: Hoeve 15 | F63: 6851 EP | G63: Huissen | H63: 56700 | J63: =ROUND(H63/159.8*174,-2) -> 61700 | K63: =ROUND(I63/131.5*147.3,-2) -> 0 | L63: =ROUND(J63/124*128.4,-2) -> 63900 | M63: =ROUND(K63/122.3*124.4,-2) -> 0 | N63: =ROUND(L63/128.4*133.4,-2) -> 66400 | O63: =ROUND(M63/124.4*129.6,-2) -> 0 | P63: Lengkeek, rapport 4054879-7 dd 12-7-2021 (incl. fundering) | AA63: n.v.t.
A64: 60721 | B64: pompgemaal | C64: 0 | E64: Huttenstraat | G64: Huissen | H64: 216600 | J64: =ROUND(H64/159.8*174,-2) -> 235800 | K64: =ROUND(I64/131.5*147.3,-2) -> 0 | L64: =ROUND(J64/124*128.4,-2) -> 244200 | M64: =ROUND(K64/122.3*124.4,-2) -> 0 | N64: =ROUND(L64/128.4*133.4,-2) -> 253700 | O64: =ROUND(M64/124.4*129.6,-2) -> 0 | P64: Lengkeek, rapport 4054879-7.1 dd 12-7-2021 (incl. fundering) | AA64: 43276
A65: 60506 | B65: Sportcomplex 't Rosendael handbalvereniging | C65: 0 | E65: Julianastraat 19 | F65: 6851 KJ | G65: Huissen | H65: 753100 | J65: =ROUND(H65/159.8*174,-2) -> 820000 | K65: =ROUND(I65/131.5*147.3,-2) -> 0 | L65: =ROUND(J65/124*128.4,-2) -> 849100 | M65: =ROUND(K65/122.3*124.4,-2) -> 0 | N65: =ROUND(L65/128.4*133.4,-2) -> 882200 | O65: =ROUND(M65/124.4*129.6,-2) -> 0 | P65: Lengkeek, rapport 4054879-7 dd 12-7-2021 (incl. fundering) | W65: verdacht | AA65: 43413
A66: 60103 | B66: Brandweerkazerne en voormalige gemeentewerf | C66: 0 | E66: Kampstuk 21 | F66: 6852 AC | G66: Huissen | H66: 1279200 | I66: 189100 | J66: =ROUND(H66/159.8*174,-2) -> 1392900 | K66: =ROUND(I66/131.5*147.3,-2) -> 211800 | L66: =ROUND(J66/124*128.4,-2) -> 1442300 | M66: =ROUND(K66/122.3*124.4,-2) -> 215400 | N66: =ROUND(L66/128.4*133.4,-2) -> 1498500 | O66: =ROUND(M66/124.4*129.6,-2) -> 224400 | P66: Lengkeek, rapport 4054879-7 dd 12-7-2021 (incl. fundering) | Q66: inventaris Lengkeek, rapport 4054878-6 dd 20-4-2021 | V66: ja | AA66: 44117
A67: 60606 | B67: Jeugd- en jongerenwerk gebouw | C67: 0 | E67: Kardinaal de Jongstraat 1 | F67: 6851 KR | G67: Huissen | H67: 412700 | J67: =ROUND(H67/159.8*174,-2) -> 449400 | K67: =ROUND(I67/131.5*147.3,-2) -> 0 | L67: =ROUND(J67/124*128.4,-2) -> 465300 | M67: =ROUND(K67/122.3*124.4,-2) -> 0 | N67: =ROUND(L67/128.4*133.4,-2) -> 483400 | O67: =ROUND(M67/124.4*129.6,-2) -> 0 | P67: Lengkeek, rapport 4054879-7 dd 12-7-2021 (incl. fundering) | AA67: 39377
A68: 60505 | B68: Koelhuis, verenigingsgebouw | C68: 0 | E68: Koelhuisstraat 3 | F68: 6851 NB | G68: Huissen | H68: 1753800 | J68: =ROUND(H68/159.8*174,-2) -> 1909600 | K68: =ROUND(I68/131.5*147.3,-2) -> 0 | L68: =ROUND(J68/124*128.4,-2) -> 1977400 | M68: =ROUND(K68/122.3*124.4,-2) -> 0 | N68: =ROUND(L68/128.4*133.4,-2) -> 2054400 | O68: =ROUND(M68/124.4*129.6,-2) -> 0 | P68: Lengkeek, rapport 4054879-7 dd 12-7-2021 (incl. fundering) | U68: ja | V68: ja | AA68: 43123
A69: 60004 | B69: Carillon in kerktoren | C69: 0 | E69: Langekerkstraat 10 | F69: 6851 BM | G69: Huissen | H69: 768600 | J69: =ROUND(H69/159.8*174,-2) -> 836900 | K69: =ROUND(I69/131.5*147.3,-2) -> 0 | L69: =ROUND(J69/124*128.4,-2) -> 866600 | M69: =ROUND(K69/122.3*124.4,-2) -> 0 | N69: =ROUND(L69/128.4*133.4,-2) -> 900300 | O69: =ROUND(M69/124.4*129.6,-2) -> 0 | P69: Lengkeek, rapport 4054879-7 dd 12-7-2021 | Z69: glazenpui | AA69: -
A70: 60057 | B70: Voormalig Raadzaal | E70: Langekerkstraat 15 en 17 | F70: 6851 BM | G70: Huissen | H70: 2341800 | J70: =ROUND(H70/159.8*174,-2) -> 2549900 | K70: =ROUND(I70/131.5*147.3,-2) -> 0 | L70: =ROUND(J70/124*128.4,-2) -> 2640400 | M70: =ROUND(K70/122.3*124.4,-2) -> 0 | N70: =ROUND(L70/128.4*133.4,-2) -> 2743200 | O70: =ROUND(M70/124.4*129.6,-2) -> 0 | P70: Lengkeek, rapport 4054879-7 dd 12-7-2021 (incl. fundering) | AA70: 43129
B71: Podium Odeon | E71: Markt (ong.) | F71: 6851 BL | G71: Huissen | H71: 237300 | J71: =ROUND(H71/159.8*174,-2) -> 258400 | K71: =ROUND(I71/131.5*147.3,-2) -> 0 | L71: =ROUND(J71/124*128.4,-2) -> 267600 | M71: =ROUND(K71/122.3*124.4,-2) -> 0 | N71: =ROUND(L71/128.4*133.4,-2) -> 278000 | O71: =ROUND(M71/124.4*129.6,-2) -> 0 | P71: Lengkeek, rapport 4054879-7 dd 12-7-2021 (incl. fundering)
B72: Jonge Kracht (inclusief 272 zonnepanelen) | E72: Polseweg 15b | F72: 6851 DA | G72: Huissen | H72: 2231000 | J72: =ROUND(H72/161.5*174,-2)+80658 -> 2484358 | K72: =ROUND(I72/131.5*147.3,-2) -> 0 | L72: 4350000 | M72: =ROUND(K72/122.3*124.4,-2) -> 0 | N72: =ROUND(L72/128.4*133.4,-2) -> 4519400 | O72: =ROUND(M72/124.4*129.6,-2) -> 0 | P72: Lengkeek, rapport 4089884 dd 09-02-2024 (incl. fundering) | R72: aanpassing vs ivm taxatie zie mail
A73: 60808 | B73: 14 Woonwagenstandplaatsen, toilet en douchevoorzieningen, berging en meterkast | C73: 0 | E73: Terpweide 1 t/m 9, 11 t/m 14 en 16 | F73: 6851 PA | G73: Huissen | H73: 557100 | J73: =ROUND(H73/159.8*174,-2) -> 606600 | K73: =ROUND(I73/131.5*147.3,-2) -> 0 | L73: =ROUND(J73/124*128.4,-2) -> 628100 | M73: =ROUND(K73/122.3*124.4,-2) -> 0 | N73: =ROUND(L73/128.4*133.4,-2) -> 652600 | O73: =ROUND(M73/124.4*129.6,-2) -> 0 | P73: Lengkeek, rapport 4054879-7 dd 12-7-2021 (incl. fundering) | Z73: berging prefab beton | AA73: 2018
A74: 60505 | B74: Gymlokaal | E74: Van Gelrestraat 2E | F74: 6851 LG | G74: Huissen | H74: 1083200 | I74: 78800 | J74: =ROUND(H74/159.8*174,-2) -> 1179500 | K74: =ROUND(I74/131.5*147.3,-2) -> 88300 | L74: =ROUND(J74/124*128.4,-2) -> 1221400 | M74: =ROUND(K74/122.3*124.4,-2) -> 89800 | N74: =ROUND(L74/128.4*133.4,-2) -> 1269000 | O74: =ROUND(M74/124.4*129.6,-2) -> 93600 | P74: Lengkeek, rapport 4054879-7 dd 12-7-2021 (incl. fundering) | Q74: inventaris Lengkeek, rapport 4054878-6 dd 20-4-2021 | V74: ja | AA74: 43795
A75: 60721 | B75: pompgemaal | E75: Van Voorststraat 27 | F75: 6851 LG | G75: Huissen | H75: 376500 | J75: =ROUND(H75/159.8*174,-2) -> 410000 | K75: =ROUND(I75/131.5*147.3,-2) -> 0 | L75: =ROUND(J75/124*128.4,-2) -> 424500 | M75: =ROUND(K75/122.3*124.4,-2) -> 0 | N75: =ROUND(L75/128.4*133.4,-2) -> 441000 | O75: =ROUND(M75/124.4*129.6,-2) -> 0 | P75: Lengkeek, rapport 4054879-7 dd 12-7-2021 (incl. fundering) | AA75: 43066
A76: 60608 | B76: St. Gemeenschapsraad Huissen Zand recreatiezaal en peuterspeelzaal Zandkabouter | C76: 0 | E76: van Wijkstraat 29/31 | F76: 6851 GL | G76: Huissen | H76: 2898900 | J76: =ROUND(H76/159.8*174,-2) -> 3156500 | K76: =ROUND(I76/131.5*147.3,-2) -> 0 | L76: =ROUND(J76/124*128.4,-2) -> 3268500 | M76: =ROUND(K76/122.3*124.4,-2) -> 0 | N76: =ROUND(L76/128.4*133.4,-2) -> 3395800 | O76: =ROUND(M76/124.4*129.6,-2) -> 0 | P76: Lengkeek, rapport 4054879-7 dd 12-7-2021 (incl. fundering) | U76: ja | V76: ja | W76: verdacht | AA76: 43118
A77: 60005 | B77: Historische Kring gebouw Huissen | C77: 0 | E77: Vierakkerstraat 39 | F77: 6851 BB | G77: Huissen | H77: 1145100 | J77: =ROUND(H77/159.8*174,-2) -> 1246900 | K77: =ROUND(I77/131.5*147.3,-2) -> 0 | L77: =ROUND(J77/124*128.4,-2) -> 1291100 | M77: =ROUND(K77/122.3*124.4,-2) -> 0 | N77: =ROUND(L77/128.4*133.4,-2) -> 1341400 | O77: =ROUND(M77/124.4*129.6,-2) -> 0 | P77: Lengkeek, rapport 4054879-7 dd 12-7-2021 (incl. fundering) | V77: ja | W77: verdacht | AA77: 43115
A78: 60505 | B78: Sport- en ontmoetingsruimte, De Kuul, Soc. Cult. centrum De Brink | C78: S | E78: Wagenweg 12c, d en e | F78: 6852 FE | G78: Huissen | H78: 6839700 | I78: 210100 | J78: =ROUND(H78/159.8*174,-2) -> 7447500 | K78: =ROUND(I78/131.5*147.3,-2) -> 235300 | L78: =ROUND(J78/124*128.4,-2) -> 7711800 | M78: =ROUND(K78/122.3*124.4,-2) -> 239300 | N78: =ROUND(L78/128.4*133.4,-2) -> 8012100 | O78: =ROUND(M78/124.4*129.6,-2) -> 249300 | P78: Lengkeek, rapport 4054879-7 dd 12-7-2021 (incl. fundering) | Q78: inventaris Lengkeek, rapport 4054878-6 dd 20-4-2021 | U78: ja | V78: ja | Y78: ja | Z78: sporthal; Trespa | AA78: 43034
B79: Jongeren ontmoetingsplek | E79: Zilverkamp | G79: Huissen | H79: 46400 | J79: =ROUND(H79/159.8*174,-2) -> 50500 | K79: =ROUND(I79/131.5*147.3,-2) -> 0 | L79: =ROUND(J79/124*128.4,-2) -> 52300 | M79: =ROUND(K79/122.3*124.4,-2) -> 0 | N79: =ROUND(L79/128.4*133.4,-2) -> 54300 | O79: =ROUND(M79/124.4*129.6,-2) -> 0 | P79: Lengkeek, rapport 4054879-7 dd 12-7-2021 (incl. fundering) | Z79: volledig beton | AA79: n.v.t.
A80: 60057 | B80: Casco Computerapparatuur | C80: SD | E80: Gemeentehuis, -kantoren | G80: Lingewaard | I80: 1028500 | J80: =ROUND(H80/159.8*174,-2) -> 0 | K80: =ROUND(I80/131.5*147.3,-2) -> 1152100 | L80: =ROUND(J80/124*128.4,-2) -> 0 | M80: =ROUND(K80/122.3*124.4,-2) -> 1171900 | N80: =ROUND(L80/128.4*133.4,-2) -> 0 | O80: =ROUND(M80/124.4*129.6,-2) -> 1220900
B81: Lingewaard ICT (conform tabblad) | E81: Gemeentehuis, -kantoren | G81: Lingewaard | K81: ='Lingewaard ICT'!D31 -> 931500 | M81: =ROUND(K81/122.3*124.4,-2) -> 947500 | N81: =ROUND(L81/128.4*133.4,-2) -> 0 | O81: ='Lingewaard ICT'!F31 -> 970400
B82: Dataplace ICT (conform tabblad) | G82: Lingewaard | K82: ='Dataplace ICT'!D18 -> 769500 | M82: =ROUND(K82/122.3*124.4,-2) -> 782700 | N82: =ROUND(L82/128.4*133.4,-2) -> 0 | O82: ='Dataplace ICT'!F18 -> 801800
A83: 60506 | B83: Sportpark Ressen Voetbalcub | C83: G | E83: Ressensestraat 30B | F83: 6684 DA | G83: Ressen | H83: 3674000 | J83: =ROUND(H83/159.8*174,-2) -> 4000500 | K83: =ROUND(I83/131.5*147.3,-2) -> 0 | L83: =ROUND(J83/124*128.4,-2) -> 4142500 | M83: =ROUND(K83/122.3*124.4,-2) -> 0 | N83: =ROUND(L83/128.4*133.4,-2) -> 4303800 | O83: =ROUND(M83/124.4*129.6,-2) -> 0 | P83: Lengkeek, rapport 4054879-3 dd 7-4-2021 | V83: ja | Z83: houtskeletbouw | AA83: 43171
A84: 60506 | B84: Sportpark Ressen Hockeyclub | C84: G | E84: Ressensestraat 30C | F84: 6684 DA | G84: Ressen | H84: 2609400 | J84: =ROUND(H84/159.8*174,-2) -> 2841300 | K84: =ROUND(I84/131.5*147.3,-2) -> 0 | L84: =ROUND(J84/124*128.4,-2) -> 2942100 | M84: =ROUND(K84/122.3*124.4,-2) -> 0 | N84: =ROUND(L84/128.4*133.4,-2) -> 3056700 | O84: =ROUND(M84/124.4*129.6,-2) -> 0 | P84: Lengkeek, rapport 4054879-3 dd 7-4-2021 | V84: ja | Y84: ja | Z84: houtskeletbouw | AA84: 43122
B85: Bibliotheek | E85: Schoolstraat 2 | F85: 6691 XS | G85: Gendt | L85: 205000 | N85: =ROUND(L85/124.9*133.4,-2) -> 219000 | P85: mail 060624 -> 140624 nr Siebe voor nadere instructies
B87: Totaal Gemeentelijk Bezit: | H87: 131612350 | I87: 6655200 | J87: =SUM(J3:J84) -> 143278208 | K87: =SUM(K3:K84) -> 9155900 | L87: =SUM(L3:L85) -> 150345100 | M87: =SUM(M3:M85) -> 9313000 | N87: =SUM(N3:N85) -> 156206000 | O87: =SUM(O3:O85) -> 9672300

Sheet PO en VO
A1: Kostenplaats | B1: Omschrijving: | C1: Alarm | E1: Adres: | F1: Postcode: | G1: Plaats: | H1: Bouwaard: | I1: Gebouwen 31-03-2020 | J1: Inventaris 31-03-2020 | K1: Indexcijfer | L1: Gebouwen 31-03-2021 | M1: Indexcijfer | N1: Inventaris 31-03-2021 | O1: Gebouwen 31-03-2022 | P1: Inventaris 31-03-2022 | Q1: Gebouwen 31-03-2023 | R1: Inventaris 31-03-2023 | S1: Gebouwen 31-03-2024 | T1: Inventaris 31-03-2024 | U1: Gebouwen 31-03-2025 | V1: Inventaris 31-03-2025 | Y1: beveiligingsmaatregel | AC1: asbest | AD1: zonnepanelen | AF1: gevelbekleding anders dan metselwerk | AG1: NEN 3140
B2: Primair en Voortgezet Onderwijs: | I2: indexcijfer 144,3 | J2: indexcijfer 122,3 | N2: indexcijfer 125,2 | O2: indexcijfer 159,8 | P2: indexcijfer 131,5 | Q2: indexcijfer 124,0 | R2: indexcijfer 122,3 | S2: indexcijfer 128,4 | T2: indexcijfer 124,4 | U2: indexcijfer 133,4 | V2: indexcijfer 129,6 | Y2: sprinkler | Z2: bliksem | AA2: bmi | AB2: inbraak | AC2: aanwezig | AD2: ja | AE2: toekomst | AG2: uitgevoerd op
A3: 60403 | B3: IKC Marang | C3: 0 | E3: Wilhelminastraat 2 - 4 | F3: 6687 BA | G3: Angeren | I3: 3859600 | J3: 204800 | K3: 153.1 | L3: 7790000 | M3: 125.2 | N3: 305000 | O3: =ROUND(L3/K3*159.8,-2) -> 8130900 | P3: =ROUND(N3/M3*131.5,-2) -> 320300 | Q3: =ROUND(O3/159.8*174,-2) -> 8853400 | R3: =ROUND(P3/131.5*147.3,-2) -> 358800 | S3: =ROUND(Q3/124*128.4,-2) -> 9167600 | T3: =ROUND(R3/122.3*124.4,-2) -> 365000 | U3: =ROUND(S3/128.4*133.4,-2) -> 9524600 | V3: =ROUND(T3/124.4*129.6,-2) -> 380300 | W3: Lengkeek, rapport 4054879-1 dd 13-4-2021 (incl. fundering) | X3: inventaris Lengkeek, rapport 4054878-1 dd 13-4-2021
A4: 60403 | B4: OBS De Regenboog (recht van opstal op het dak) | E4: Bloemenstraat 2 en Fruitlaan 6 | F4: 6681 NN | G4: Bemmel | H4: St/hrd | I4: 4917900 | J4: 202400 | K4: 153.1 | L4: 5230000 | M4: 125.2 | N4: =430000+300000 -> 730000 | O4: =ROUND(L4/K4*161.5,-2) -> 5516900 | P4: =ROUND(N4/M4*131.5,-2) -> 766700 | Q4: =ROUND(O4/159.8*174,-2) -> 6007100 | R4: =ROUND(P4/131.5*147.3,-2) -> 858800 | S4: =ROUND(Q4/124*128.4,-2) -> 6220300 | T4: =ROUND(R4/122.3*124.4,-2) -> 873500 | U4: =ROUND(S4/128.4*133.4,-2) -> 6462500 | V4: =ROUND(T4/124.4*129.6,-2) -> 910000 | W4: Lengkeek, rapport 4054879-4 dd 30-4-2021 (incl. fundering) | X4: inventaris Lengkeek, rapport 4054878-2 dd 13-4-2021 | AA4: ja | AB4: ja | AD4: ja
A5: 60403 | B5: IKC Pius X | C5: 0 | E5: Cuperstraat 7 | F5: 6681 AR | G5: Bemmel | I5: 3691600 | J5: 285500 | K5: 153.1 | L5: 4030000 | M5: 125.2 | N5: =540000+360000 -> 900000 | O5: =ROUND(L5/K5*161.5,-2) -> 4251100 | P5: =ROUND(N5/M5*131.5,-2) -> 945300 | Q5: =ROUND(O5/159.8*174,-2) -> 4628900 | R5: =ROUND(P5/131.5*147.3,-2) -> 1058900 | S5: =ROUND(Q5/124*128.4,-2) -> 4793200 | T5: =ROUND(R5/122.3*124.4,-2) -> 1077100 | U5: =ROUND(S5/128.4*133.4,-2) -> 4979900 | V5: =ROUND(T5/124.4*129.6,-2) -> 1122100 | W5: Lengkeek, rapport 4054879-4 dd 30-4-2021 (incl. fundering) | X5: inventaris Lengkeek, rapport 4054878-2 dd 13-4-2021 | AA5: ja | AC5: verdacht
A6: 60403 | B6: IKC de Kinkelink | E6: Cuperstraat 9a | F6: 6681 AR | G6: Bemmel | I6: 342400 | J6: 0 | K6: 153.1 | L6: 605000 | O6: =ROUND(L6/K6*161.5,-2) -> 638200 | Q6: =ROUND(O6/159.8*174,-2) -> 694900 | R6: =ROUND(P6/131.5*147.3,-2) -> 0 | S6: =ROUND(Q6/124*128.4,-2) -> 719600 | T6: =ROUND(R6/122.3*124.4,-2) -> 0 | U6: =ROUND(S6/128.4*133.4,-2) -> 747600 | V6: =ROUND(T6/124.4*129.6,-2) -> 0 | W6: Lengkeek, rapport 4054879-4 dd 30-4-2021 (incl. fundering) | AA6: ja
A7: 60403 | B7: OBC Bemmel (hoofdgebouw) | C7: 0 | E7: De Heister 1 | F7: 6681 CV | G7: Bemmel | I7: 18519800 | J7: 1967500 | K7: 153.1 | L7: 22950000 | M7: 124.6 | N7: =ROUND(J7/122.3*124.6,-2) -> 2004500 | O7: =ROUND(L7/K7*161.5,-2) -> 24209200 | P7: =ROUND(N7/M7*131.5,-2) -> 2115500 | Q7: =ROUND(O7/159.8*174,-2) -> 26360500 | R7: =ROUND(P7/131.5*147.3,-2) -> 2369700 | S7: =ROUND(Q7/124*128.4,-2) -> 27295900 | T7: =ROUND(R7/122.3*124.4,-2) -> 2410400 | U7: =ROUND(S7/128.4*133.4,-2) -> 28358800 | V7: =ROUND(T7/124.4*129.6,-2) -> 2511200 | W7: Lengkeek, rapport 4054879-4 dd 30-4-2021 (incl. fundering) | AA7: ja | AB7: ja | AC7: verdacht
A8: 60403 | B8: SBBO-school De Vlinderboom incl.gymzaal | C8: 0 | E8: Dorpsstraat 10 | F8: 6681 BN | G8: Bemmel | I8: 6903700 | J8: 225800 | K8: 153.1 | L8: 7790000 | M8: 125.2 | N8: =600000+370000 -> 970000 | O8: =ROUND(L8/K8*161.5,-2) -> 8217400 | P8: =ROUND(N8/M8*131.5,-2) -> 1018800 | Q8: =ROUND(O8/159.8*174,-2) -> 8947600 | R8: =ROUND(P8/131.5*147.3,-2) -> 1141200 | S8: =ROUND(Q8/124*128.4,-2) -> 9265100 | T8: =ROUND(R8/122.3*124.4,-2) -> 1160800 | U8: =ROUND(S8/128.4*133.4,-2) -> 9625900 | V8: =ROUND(T8/124.4*129.6,-2) -> 1209300 | W8: Lengkeek, rapport 4054879-4 dd 30-4-2021 (incl. fundering) | X8: inventaris Lengkeek, rapport 4054878-2 dd 13-4-2021 | AA8: ja | AB8: ja | AF8: berging; Trespa
A9: 60403 | B9: Over-Betuwe College Essenpas | E9: Drieske 4 | F9: 6681 CX | G9: Bemmel | H9: Bouwaard | I9: 10894000 | J9: 983600 | K9: 153.1 | L9: 12640000 | M9: 124.6 | N9: =ROUND(J9/122.3*124.6,-2) -> 1002100 | O9: =ROUND(L9/K9*161.5,-2) -> 13333500 | P9: =ROUND(N9/M9*131.5,-2) -> 1057600 | Q9: =ROUND(O9/159.8*174,-2) -> 14518300 | R9: =ROUND(P9/131.5*147.3,-2) -> 1184700 | S9: =ROUND(Q9/124*128.4,-2) -> 15033500 | T9: =ROUND(R9/122.3*124.4,-2) -> 1205000 | U9: =ROUND(S9/128.4*133.4,-2) -> 15618900 | V9: =ROUND(T9/124.4*129.6,-2) -> 1255400 | W9: Lengkeek, rapport 4054879-4 dd 30-4-2021 (incl. fundering) | Z9: ja | AA9: ja | AB9: ja | AE9: ja
A10: 60403 | B10: IKC Donatushof | C10: 0 | E10: Flierenhofstraat 34 | F10: 6681 BZ | G10: Bemmel | I10: 3187200 | J10: 258700 | K10: 153.1 | L10: 4310000 | M10: 125.2 | N10: =665000+405000 -> 1070000 | O10: =ROUND(L10/K10*161.5,-2) -> 4546500 | P10: =ROUND(N10/M10*131.5,-2) -> 1123800 | Q10: =ROUND(O10/159.8*174,-2) -> 4950500 | R10: =ROUND(P10/131.5*147.3,-2) -> 1258800 | S10: =ROUND(Q10/124*128.4,-2) -> 5126200 | T10: =ROUND(R10/122.3*124.4,-2) -> 1280400 | U10: =ROUND(S10/128.4*133.4,-2) -> 5325800 | V10: =ROUND(T10/124.4*129.6,-2) -> 1333900 | W10: Lengkeek, rapport 4054879-4 dd 30-4-2021 (incl. fundering) | X10: inventaris Lengkeek, rapport 4054878-2 dd 13-4-2021 | AA10: ja | AB10: ja | AC10: verdacht | AE10: ja
A11: 60403 | B11: IKC De Borgwal | C11: 0 | E11: Het Hoog 20 | F11: 6681 DE | G11: Bemmel | I11: 1680600 | J11: 177700 | K11: 153.1 | L11: 2080000 | M11: 125.2 | N11: =305000+235000 -> 540000 | O11: =ROUND(L11/K11*161.5,-2) -> 2194100 | P11: =ROUND(N11/M11*131.5,-2) -> 567200 | Q11: =ROUND(O11/159.8*174,-2) -> 2389100 | R11: =ROUND(P11/131.5*147.3,-2) -> 635400 | S11: =ROUND(Q11/124*128.4,-2) -> 2473900 | T11: =ROUND(R11/122.3*124.4,-2) -> 646300 | U11: =ROUND(S11/128.4*133.4,-2) -> 2570200 | V11: =ROUND(T11/124.4*129.6,-2) -> 673300 | W11: Lengkeek, rapport 4054879-4 dd 30-4-2021 (incl. fundering) | X11: inventaris Lengkeek, rapport 4054878-2 dd 13-4-2021 | AA11: ja | AB11: ja
A12: 60403 | B12: IKC De Borgwal noodlokalen | E12: Het Hoog 20 | F12: 6681 DE | G12: Bemmel | H12: Bouwaard | I12: 161800 | J12: 0 | K12: 153.1 | L12: 175000 | M12: 125.2 | N12: =ROUND(J12/122.3*124.6,-2) -> 0 | O12: =ROUND(L12/K12*161.5,-2) -> 184600 | P12: =ROUND(N12/M12*131.5,-2) -> 0 | Q12: =ROUND(O12/159.8*174,-2) -> 201000 | R12: =ROUND(P12/131.5*147.3,-2) -> 0 | S12: =ROUND(Q12/124*128.4,-2) -> 208100 | T12: =ROUND(R12/122.3*124.4,-2) -> 0 | U12: =ROUND(S12/128.4*133.4,-2) -> 216200 | V12: =ROUND(T12/124.4*129.6,-2) -> 0 | W12: Lengkeek, rapport 4054879-4 dd 30-4-2021 (incl. fundering) | X12: inventaris inbegrepen hierboven
A13: 60403 | B13: IKC Donatushof (dependance) inclusief berging van naastgelegen 'Torteltuin' | E13: Dr. Hoijngstraat 5 | F13: 6681 XL | G13: Bemmel | I13: 591500 | J13: 0 | K13: 153.1 | L13: 3190000 | M13: 125.2 | N13: =ROUND(J13/122.3*124.6,-2) -> 0 | O13: =ROUND(L13/K13*161.5,-2) -> 3365000 | P13: =ROUND(N13/M13*131.5,-2) -> 0 | Q13: =ROUND(O13/159.8*174,-2) -> 3664000 | R13: =ROUND(P13/131.5*147.3,-2) -> 0 | S13: =ROUND(Q13/124*128.4,-2) -> 3794000 | T13: =ROUND(R13/122.3*124.4,-2) -> 0 | U13: =ROUND(S13/128.4*133.4,-2) -> 3941700 | V13: =ROUND(T13/124.4*129.6,-2) -> 0 | W13: Lengkeek, rapport 4054879-4 dd 30-4-2021 (incl. fundering) | X13: inventaris inbegrepen bij regel Flierenhofstraat 34) | AA13: ja | AF13: buiten berging; hout
A14: 60403 | B14: Pro College | E14: Sportlaan 1 K | F14: 6681 CD | G14: Bemmel | H14: Bouwaard | I14: 2260000 | J14: 448200 | K14: 153.1 | L14: 2790000 | M14: 125.2 | N14: =450000+190000 -> 640000 | O14: =ROUND(L14/K14*161.5,-2) -> 2943100 | P14: =ROUND(N14/M14*131.5,-2) -> 672200 | Q14: =ROUND(O14/159.8*174,-2) -> 3204600 | R14: =ROUND(P14/131.5*147.3,-2) -> 753000 | S14: =ROUND(Q14/124*128.4,-2) -> 3318300 | T14: =ROUND(R14/122.3*124.4,-2) -> 765900 | U14: =ROUND(S14/128.4*133.4,-2) -> 3447500 | V14: =ROUND(T14/124.4*129.6,-2) -> 797900 | W14: Lengkeek, rapport 4054879-4 dd 30-4-2021 (incl. fundering) | X14: inventaris Lengkeek, rapport 4054878-2 dd 13-4-2021 | AD14: ja
A15: 60403 | B15: IKC De Doornick (voormalig bibliotheek) | C15: 0 | E15: Blauwe Hoek 40 | F15: 6686 AE | G15: Doornenburg | I15: 0 | J15: 164200 | K15: 153.1 | L15: 850000 | M15: 125.2 | N15: =275000+14000 -> 289000 | O15: =ROUND(L15/K15*161.5,-2) -> 896600 | P15: =ROUND(N15/M15*131.5,-2) -> 303500 | Q15: =ROUND(O15/159.8*174,-2) -> 976300 | R15: =ROUND(P15/131.5*147.3,-2) -> 340000 | S15: =ROUND(Q15/124*128.4,-2) -> 1010900 | T15: =ROUND(R15/122.3*124.4,-2) -> 345800 | U15: =ROUND(S15/128.4*133.4,-2) -> 1050300 | V15: =ROUND(T15/124.4*129.6,-2) -> 360300 | W15: Lengkeek, rapport 4054879-5 dd 30-4-2021 (incl. fundering) | X15: inventaris Lengkeek, rapport 4054878-3 dd 13-4-2021 | AA15: ja | AB15: ja | AC15: verdacht
A16: 60403 | B16: IKC De Tichelaar op dak systeem zonnepanelen | C16: 0 | E16: Nijmeegsestraat 1 | F16: 6691 CJ | G16: Gendt | I16: 0 | J16: 121500 | K16: 153.1 | L16: 4210000 | M16: 125.2 | N16: =360000+265000 -> 625000 | O16: =ROUND(L16/K16*161.5,-2) -> 4441000 | P16: =ROUND(N16/M16*131.5,-2) -> 656400 | Q16: =ROUND(O16/159.8*174,-2) -> 4835600 | R16: =ROUND(P16/131.5*147.3,-2) -> 735300 | S16: =ROUND(Q16/124*128.4,-2) -> 5007200 | T16: =ROUND(R16/122.3*124.4,-2) -> 747900 | U16: =ROUND(S16/128.4*133.4,-2) -> 5202200 | V16: =ROUND(T16/124.4*129.6,-2) -> 779200 | W16: Lengkeek, rapport 4054879-6 dd 30-4-2021 (incl. fundering) | X16: inventaris Lengkeek, rapport 4054878-4 dd 12-4-2021 | AA16: ja | AC16: verdacht
A17: 60403 | B17: IKC De Vonkenmorgen | C17: 0 | E17: Nijmeegsestraat 3 | F17: 6691 CJ | G17: Gendt | I17: 0 | J17: 326300 | K17: 153.1 | L17: 3410000 | M17: 124.6 | N17: =ROUND(J17/122.3*124.6,-2) -> 332400 | O17: =ROUND(L17/K17*161.5,-2) -> 3597100 | P17: =ROUND(N17/M17*131.5,-2) -> 350800 | Q17: =ROUND(O17/159.8*174,-2) -> 3916700 | R17: =ROUND(P17/131.5*147.3,-2) -> 392900 | S17: =ROUND(Q17/124*128.4,-2) -> 4055700 | T17: =ROUND(R17/122.3*124.4,-2) -> 399600 | U17: =ROUND(S17/128.4*133.4,-2) -> 4213600 | V17: =ROUND(T17/124.4*129.6,-2) -> 416300 | W17: Lengkeek, rapport 4054879-6 dd 30-4-2021 (incl. fundering)
B18: IKC De Vonkenmorgen Basisschool De Vonkenmorgen | E18: Nijmeegsestraat 3 en Schoolstraat 1 | F18: 6691 CJ 6691 XP | G18: Gendt Gendt | M18: 125.2 | N18: =775000+355000 -> 1130000 | P18: =ROUND(N18/M18*131.5,-2) -> 1186900 | Q18: =ROUND(O18/159.8*174,-2) -> 0 | R18: =ROUND(P18/131.5*147.3,-2) -> 1329500 | S18: =ROUND(Q18/124*128.4,-2) -> 0 | T18: =ROUND(R18/122.3*124.4,-2) -> 1352300 | U18: =ROUND(S18/128.4*133.4,-2) -> 0 | V18: =ROUND(T18/124.4*129.6,-2) -> 1408800 | X18: inventaris Lengkeek, rapport 4054878-4 dd 12-4-2021 | AA18: ja | AC18: verdacht
A19: 60403 | B19: Basisschool De Vonkenmorgen | C19: 0 | E19: Schoolstraat 1 | F19: 6691 XP | G19: Gendt | I19: 3249700 | K19: 153.1 | L19: 3980000 | O19: =ROUND(L19/K19*161.5,-2) -> 4198400 | Q19: =ROUND(O19/159.8*174,-2) -> 4571500 | R19: =ROUND(P19/131.5*147.3,-2) -> 0 | S19: =ROUND(Q19/124*128.4,-2) -> 4733700 | T19: =ROUND(R19/122.3*124.4,-2) -> 0 | U19: =ROUND(S19/128.4*133.4,-2) -> 4918000 | V19: =ROUND(T19/124.4*129.6,-2) -> 0 | W19: Lengkeek, rapport 4054879-6 dd 30-4-2021 (incl. fundering) | AA19: ja | AC19: verdacht
A20: 64230090 | B20: IKC De Wieling | E20: Kolkweg 5 | F20: 6685 BC | G20: Haalderen | I20: 2863600 | J20: 191200 | K20: 153.1 | L20: 3260000 | M20: 125.2 | N20: =375000+145000 -> 520000 | O20: =ROUND(L20/K20*161.5,-2) -> 3438900 | P20: =ROUND(N20/M20*131.5,-2) -> 546200 | Q20: =ROUND(O20/159.8*174,-2) -> 3744500 | R20: =ROUND(P20/131.5*147.3,-2) -> 611800 | S20: =ROUND(Q20/124*128.4,-2) -> 3877400 | T20: =ROUND(R20/122.3*124.4,-2) -> 622300 | U20: =ROUND(S20/128.4*133.4,-2) -> 4028400 | V20: =ROUND(T20/124.4*129.6,-2) -> 648300 | W20: Lengkeek, rapport 4054879-2 dd 13-4-2021 (incl. fundering) | X20: inventaris Lengkeek 4054878-5 dd 13-4-2021 | AA20: ja
A21: 60403 | B21: IKC De Tichelaar, gymzaal | E21: Kolkweg 5 | F21: 6685 BC | G21: Haalderen | I21: 0 | J21: 71000 | L21: =ROUND(I21/144.3*151.5,-2) -> 0 | M21: 125.2 | N21: 75000 | P21: =ROUND(N21/M21*131.5,-2) -> 78800 | Q21: =ROUND(O21/159.8*174,-2) -> 0 | R21: =ROUND(P21/131.5*147.3,-2) -> 88300 | S21: =ROUND(Q21/124*128.4,-2) -> 0 | T21: =ROUND(R21/122.3*124.4,-2) -> 89800 | U21: =ROUND(S21/128.4*133.4,-2) -> 0 | V21: =ROUND(T21/124.4*129.6,-2) -> 93600 | X21: inventaris Lengkeek, rapport 4054878-5 dd 13-4-2021 | AA21: ja | AF21: één langsgevel stalen damwand
A22: 60403 | B22: OBC Huissen | E22: Julianastraat 17 | F22: 6851 KJ | G22: Huissen | H22: Bouwaard | I22: 17990800 | J22: 2513800 | K22: 154.9 | L22: 20850000 | M22: 124.6 | N22: =ROUND(J22/122.3*124.6,-2) -> 2561100 | O22: =ROUND(L22/K22*161.5,-2) -> 21738400 | P22: =ROUND(N22/M22*131.5,-2) -> 2702900 | Q22: =ROUND(O22/159.8*174,-2) -> 23670100 | R22: =ROUND(P22/131.5*147.3,-2) -> 3027700 | S22: =ROUND(Q22/124*128.4,-2) -> 24510000 | T22: =ROUND(R22/122.3*124.4,-2) -> 3079700 | U22: =ROUND(S22/128.4*133.4,-2) -> 25464400 | V22: =ROUND(T22/124.4*129.6,-2) -> 3208400 | W22: Lengkeek, rapport 4054879-7 dd 12-7-2021 (incl. fundering) | Z22: ja | AA22: ja | AB22: ja | AC22: verdacht
A23: 60403 | B23: IKC 't Holthuus (gerenoveerd in 2018) | E23: Ot en Sienpad 9 | F23: 6852 EG | G23: Huissen | H23: St/hrd | I23: 0 | J23: 392300 | L23: =ROUND(I23/144.3*151.5,-2) -> 0 | M23: 125.2 | N23: 370000 | P23: =ROUND(N23/M23*131.5,-2) -> 388600 | Q23: =ROUND(O23/159.8*174,-2) -> 0 | R23: =ROUND(P23/131.5*147.3,-2) -> 435300 | S23: =ROUND(Q23/124*128.4,-2) -> 0 | T23: =ROUND(R23/122.3*124.4,-2) -> 442800 | U23: =ROUND(S23/128.4*133.4,-2) -> 0 | V23: =ROUND(T23/124.4*129.6,-2) -> 461300 | X23: inventaris Lengkeek, rapport 4054878-6 dd 20-4-2021 | AA23: ja | AB23: ja
A24: 60403 | B24: De geschakelde basisscholen Het Drieluik (nr. 3), 't Holthuus (nr. 9), Kinderopvang Skar (nr. 7) en consultatiebureau (nr. 5) | E24: Ot en Sienpad 3 - 5 - 7 - 9 | F24: 6852 EG | G24: Huissen | I24: 6362000 | K24: 154.9 | L24: 8910000 | O24: =ROUND(L24/K24*161.5,-2) -> 9289600 | Q24: =ROUND(O24/159.8*174,-2) -> 10115100 | R24: =ROUND(P24/131.5*147.3,-2) -> 0 | S24: =ROUND(Q24/124*128.4,-2) -> 10474000 | T24: =ROUND(R24/122.3*124.4,-2) -> 0 | U24: =ROUND(S24/128.4*133.4,-2) -> 10881900 | V24: =ROUND(T24/124.4*129.6,-2) -> 0 | W24: Lengkeek, rapport 4054879-7 dd 12-7-2021 (incl. fundering) | AA24: ja | AB24: ja
A25: 60403 | B25: IKC Het Drieluik | E25: Ot en Sienpad 3 | F25: 6852 EG | G25: Huissen | I25: 0 | J25: 424300 | L25: =ROUND(I25/144.3*151.5,-2) -> 0 | M25: 125.2 | N25: 375000 | P25: =ROUND(N25/M25*131.5,-2) -> 393900 | Q25: =ROUND(O25/159.8*174,-2) -> 0 | R25: =ROUND(P25/131.5*147.3,-2) -> 441200 | S25: =ROUND(Q25/124*128.4,-2) -> 0 | T25: =ROUND(R25/122.3*124.4,-2) -> 448800 | U25: =ROUND(S25/128.4*133.4,-2) -> 0 | V25: =ROUND(T25/124.4*129.6,-2) -> 467600 | X25: inventaris Lengkeek, rapport 4054878-6 dd 20-4-2021
A26: 60403 | B26: IKC Binnestebuiten met 4 noodlokalen (zonnepanelen op Binnestebuiten) | E26: Plaza 123-125-127 en Hazekamp 2E | F26: 6852 RM | G26: Huissen | H26: Bouwaard | I26: 5135800 | J26: 161900 | K26: 154.9 | L26: 7200000 | M26: 125.2 | N26: 1095000 | O26: =ROUND(L26/K26*161.5,-2) -> 7506800 | P26: =ROUND(N26/M26*131.5,-2) -> 1150100 | Q26: =ROUND(O26/159.8*174,-2) -> 8173900 | R26: =ROUND(P26/131.5*147.3,-2) -> 1288300 | S26: =ROUND(Q26/124*128.4,-2) -> 8463900 | T26: =ROUND(R26/122.3*124.4,-2) -> 1310400 | U26: =ROUND(S26/128.4*133.4,-2) -> 8793500 | V26: =ROUND(T26/124.4*129.6,-2) -> 1365200 | W26: Lengkeek, rapport 4054879-7 dd 12-7-2021 (incl. fundering) | X26: inventaris Lengkeek, rapport 4054878-6 dd 20-4-2021 | Z26: ja | AA26: ja | AB26: ja | AD26: ja
A27: 60403 | B27: IKC De Abacus met KDV en BSO + 4 noodlokalen | C27: S | D27: 0039 | E27: van Voorststraat 21, van Gelrestraat 2a | F27: 6851 LT | G27: Huissen | I27: 5098300 | J27: 229400 | K27: 154.9 | L27: 6400000 | M27: 125.2 | N27: 1110000 | O27: =ROUND(L27/K27*161.5,-2) -> 6672700 | P27: =ROUND(N27/M27*131.5,-2) -> 1165900 | Q27: =ROUND(O27/159.8*174,-2) -> 7265600 | R27: =ROUND(P27/131.5*147.3,-2) -> 1306000 | S27: =ROUND(Q27/124*128.4,-2) -> 7523400 | T27: =ROUND(R27/122.3*124.4,-2) -> 1328400 | U27: =ROUND(S27/128.4*133.4,-2) -> 7816400 | V27: =ROUND(T27/124.4*129.6,-2) -> 1383900 | W27: Lengkeek, rapport 4054879-7 dd 12-7-2021 (incl. fundering) | X27: inventaris Lengkeek, rapport 4054878-6 dd 20-4-2021 | AA27: ja
A28: 60403 | B28: IKC Sterrenbos | E28: Van Wijkstraat 16a | F28: 6851 GM | G28: Huissen | I28: 4183400 | J28: 243000 | K28: 154.9 | L28: 4890000 | M28: 125.2 | N28: 910000 | O28: =ROUND(L28/K28*161.5,-2) -> 5098400 | P28: =ROUND(N28/M28*131.5,-2) -> 955800 | Q28: =ROUND(O28/159.8*174,-2) -> 5551400 | R28: =ROUND(P28/131.5*147.3,-2) -> 1070600 | S28: =ROUND(Q28/124*128.4,-2) -> 5748400 | T28: =ROUND(R28/122.3*124.4,-2) -> 1089000 | U28: =ROUND(S28/128.4*133.4,-2) -> 5972200 | V28: =ROUND(T28/124.4*129.6,-2) -> 1134500 | W28: Lengkeek, rapport 4054879-7 dd 12-7-2021 (incl. fundering) | X28: inventaris Lengkeek, rapport 4054878-6 dd 20-4-2021 | AA28: ja | AD28: ja | AF28: Trespa
A29: 60403 | B29: KDV/BSO Morgenster | E29: Van Wijkstraat 16b | F29: 6851 GM | G29: Huissen | I29: 161800 | J29: 0 | K29: 154.9 | L29: 170000 | M29: 125.2 | N29: =ROUND(J29/122.3*124.6,-2) -> 0 | O29: =ROUND(L29/K29*161.5,-2) -> 177200 | P29: =ROUND(N29/M29*131.5,-2) -> 0 | Q29: =ROUND(O29/159.8*174,-2) -> 192900 | R29: =ROUND(P29/131.5*147.3,-2) -> 0 | S29: =ROUND(Q29/124*128.4,-2) -> 199700 | T29: =ROUND(R29/122.3*124.4,-2) -> 0 | U29: =ROUND(S29/128.4*133.4,-2) -> 207500 | V29: =ROUND(T29/124.4*129.6,-2) -> 0 | W29: Lengkeek, rapport 4054879-7 dd 12-7-2021 (incl. fundering) | AG29: 43315
B31: Totaal Onderwijs: | I31: 102055500 | J31: 9593100 | L31: =SUM(L3:L29) -> 137710000 | N31: =SUM(N3:N29) -> 17554100 | O31: =SUM(O3:O29) -> 144585600 | P31: =SUM(P3:P29) -> 18467200 | Q31: =SUM(Q3:Q29) -> 157433500 | R31: =SUM(R3:R29) -> 20686200 | S31: =SUM(S3:S29) -> 163020000 | T31: =SUM(T3:T29) -> 21041200 | U31: =SUM(U3:U29) -> 169368000 | V31: =SUM(V3:V29) -> 21920800

Sheet kunst
A1: Kostenplaats | B1: Omschrijving: | C1: Adres: | D1: Postcode: | E1: Plaats: | F1: Kunst- voorwerpen: | G1: Taxatie | I1: beveiligingsmaatregel | M1: asbest | N1: zonnepanelen
B2: KOSTBAARHEDEN (all-risk dekking) | I2: sprinkler | J2: bliksem | K2: bmi | L2: inbraak | M2: aanwezig | N2: ja | O2: toekomst
A3: 60510 | B3: Bronzen beeld, "De Gent' | C3: Hoek Waaldijk/Dijkstraat | D3: 6691 MB | E3: Gendt | F3: 18000
A4: 60510 | B4: Bronzen beeld, herdenkingsmonument | C4: Kinkelenburglaan | D4: 6681 BJ | E4: Bemmel | F4: 15000
A5: 60510 | B5: Bronzen beeld, twee pony's bij waterpomp | C5: Marktterrein | D5: 6681 AE | E5: Bemmel | F5: 21000
A6: 60510 | B6: Object "Fontein" | C6: Nijmeegsestraat nabij 19 | D6: 6691 CK | E6: Gendt | F6: 30000
A7: 60510 | B7: Stenen standbeeld, pony met meisje | C7: Plantsoen Vossenhol | D7: 6681 DJ | E7: Bemmel | F7: 9000
A8: 60510 | B8: Stoepsteen fragmenten 16e + 17e eeuw | C8: Langestraat 61-A | D8: 6851 AM | E8: Huissen | F8: 30000
A9: 60510 | B9: Fresco wand | C9: Dorpstraat 84 (binnenmuur bibliotheek) | E9: Bemmel | F9: 25000
B10: Gemeentehuis Bemmel (Kinkelenburg) (kunst/kostbaarheden) | C10: Kinkelenburglaan 1 | D10: 6681 BJ | E10: Bemmel | F10: 755300 | G10: Lengkeek, rapport 4054876 dd 21-5-2021
A11: 60510 | B11: Oorlogsmonument | C11: Pannerdenseweg/ Blauwe Hoek | E11: Doornenburg | F11: 15000
A12: 60510 | B12: Liggende Tors | C12: Europalaan | E12: Gendt | F12: 20000
A13: 60510 | B13: Oorlogsmonument Gendt | C13: Pastoor Pelgromlaan | E13: Gendt | F13: 15000
A14: 60510 | B14: Twee Leeuwtjes | C14: Markt/ Huis te Gendt | E14: Gendt | F14: 40000
A15: 60510 | B15: De Kraonige Zwaon | C15: Markt | E15: Huissen | F15: 20000
A16: 60510 | B16: Grafmonument | C16: Begraafplaats Doelenstraat | E16: Huissen | F16: 10000
A17: 60510 | B17: Priestergraf | C17: Begraafplaats Doelenstraat | E17: Huissen | F17: 10000
A18: 60510 | B18: Sint Elisabeth | C18: Langekerkstraat | E18: Huissen | F18: 5000
B19: Totaal Kunstvoorwerpen | F19: =SUM(F3:F18) -> 1038300
A22: totaal 19 objecten

Sheet Dataplace ICT
A2: Apparatuur (hardware), investeringsbedragen en jaren op de locatie Dataplace
A5: Locatie | B5: Apparatuur | C5: Investerings- jaar | D5: Investerings-bedrag | G5: Afschrijvings-termijn (jr) | H5: Opmerking
A6: Gemeentehuis
B7: Backup | C7: 2022 | D7: 13000 | E7: =ROUND(D7/122.3*124.4,-2) -> 13200 | F7: =ROUND(D7/124.4*129.6,-2) -> 13500 | G7: 5-7 | H7: Staat op locatie Elst
B8: Frontend servers + 2x A16 GPU | C8: 2022 | D8: 140000 | E8: =ROUND(D8/122.3*124.4,-2) -> 142400 | F8: =ROUND(D8/124.4*129.6,-2) -> 145900 | G8: 5-7 | H8: Staat op locaties Bemmel en Dataplace
B9: Backend servers | C9: 2022 | D9: 55000 | E9: =ROUND(D9/122.3*124.4,-2) -> 55900 | F9: =ROUND(D9/124.4*129.6,-2) -> 57300 | G9: 5-7 | H9: Staat op locaties Bemmel en Dataplace
B10: Oracle servers | C10: 2022 | D10: 11000 | E10: =ROUND(D10/122.3*124.4,-2) -> 11200 | F10: =ROUND(D10/124.4*129.6,-2) -> 11500 | G10: 5-7 | H10: Staat op locaties Bemmel en Dataplace
B11: Core switches + DWDM | C11: 2022 | D11: 73000 | E11: =ROUND(D11/122.3*124.4,-2) -> 74300 | F11: =ROUND(D11/124.4*129.6,-2) -> 76100 | G11: 5-7 | H11: Totale investering gedeeld over 3 MER's
B12: Access Switches (2x24) | C12: 2022 | D12: 7500 | E12: =ROUND(D12/122.3*124.4,-2) -> 7600 | F12: =ROUND(D12/124.4*129.6,-2) -> 7800 | G12: 5-7
B13: MER (Racks, kabels, UPS, etc.) | C13: 2022 | D13: 0 | E13: =ROUND(D13/122.3*124.4,-2) -> 0 | F13: =ROUND(D13/124.4*129.6,-2) -> 0 | G13: 5-7
B14: SAN Switches (2x) | C14: 2022 | D14: 35000 | E14: =ROUND(D14/122.3*124.4,-2) -> 35600 | F14: =ROUND(D14/124.4*129.6,-2) -> 36500 | G14: 5-7
B15: SAN | C15: 2022 | D15: 400000 | E15: =ROUND(D15/122.3*124.4,-2) -> 406900 | F15: =ROUND(D15/124.4*129.6,-2) -> 416700 | G15: 5-7
B16: Firewall 1x | D16: 35000 | E16: =ROUND(D16/122.3*124.4,-2) -> 35600 | F16: =ROUND(D16/124.4*129.6,-2) -> 36500
A18: TOTAAL | D18: =SUM(D7:D17) -> 769500 | E18: =SUM(E7:E17) -> 782700 | F18: =SUM(F7:F16) -> 801800

Sheet Lingewaard ICT
A1: Apparatuur (hardware), investeringsbedragen en jaren op de verschillende locaties van gemeente Lingewaard
A4: Locatie | B4: Apparatuur | C4: Investerings-jaar | D4: Investerings-bedrag | G4: Afschrijvings-termijn (jr) | H4: Opmerking
A5: Gemeentehuis
B6: Backup | C6: 2022 | D6: 13000 | E6: =ROUND(D6/122.3*124.4,-1) -> 13220 | F6: =ROUND(D6/124.4*129.6,-2) -> 13500 | G6: 5-7 | H6: Staat op locatie Elst
B7: Frontend servers + 2x A16 GPU | C7: 2022 | D7: 140000 | E7: =ROUND(D7/122.3*124.4,-1) -> 142400 | F7: =ROUND(D7/124.4*129.6,-2) -> 145900 | G7: 5-7 | H7: Staat op locaties Bemmel en Dataplace
B8: Backend servers | C8: 2022 | D8: 55000 | E8: =ROUND(D8/122.3*124.4,-1) -> 55940 | F8: =ROUND(D8/124.4*129.6,-2) -> 57300 | G8: 5-7 | H8: Staat op locaties Bemmel en Dataplace
B9: Oracle servers | C9: 2022 | D9: 11000 | E9: =ROUND(D9/122.3*124.4,-1) -> 11190 | F9: =ROUND(D9/124.4*129.6,-2) -> 11500 | G9: 5-7 | H9: Staat op locaties Bemmel en Dataplace
B10: Core switches + DWDM | C10: 2022 | D10: 73000 | E10: =ROUND(D10/122.3*124.4,-1) -> 74250 | F10: =ROUND(D10/124.4*129.6,-2) -> 76100 | G10: 5-7 | H10: Totale investering gedeeld over 3 MER's
B11: Access Switches (14x48+2x24) | C11: 2022 | D11: 77500 | E11: =ROUND(D11/122.3*124.4,-1) -> 78830 | F11: =ROUND(D11/124.4*129.6,-2) -> 80700 | G11: 7 | H11: Verdelen over andere locaties gemeente
B12: Wifi AP’s (51) | C12: 2022 | D12: 28000 | E12: =ROUND(D12/122.3*124.4,-1) -> 28480 | F12: =ROUND(D12/124.4*129.6,-2) -> 29200 | G12: 5-7 | H12: Verdelen over andere locaties gemeente
B13: MER (Racks, kabels, UPS, etc.) | C13: 2022 | D13: 20000 | E13: =ROUND(D13/122.3*124.4,-1) -> 20340 | F13: =ROUND(D13/124.4*129.6,-2) -> 20800 | G13: 5-7
B14: SAN Switches (2x) | C14: 2022 | D14: 35000 | E14: =ROUND(D14/122.3*124.4,-1) -> 35600 | F14: =ROUND(D14/124.4*129.6,-2) -> 36500
B15: SAN | C15: 2022 | D15: 400000 | E15: =ROUND(D15/122.3*124.4,-1) -> 406870 | F15: =ROUND(D15/124.4*129.6,-2) -> 416700
B16: Firewall 1x | D16: 35000 | E16: =ROUND(D16/122.3*124.4,-1) -> 35600 | F16: =ROUND(D16/124.4*129.6,-2) -> 36500
B17: MikroTik 2x | D17: 1000 | E17: =ROUND(D17/122.3*124.4,-1) -> 1020 | F17: =ROUND(D17/124.4*129.6,-2) -> 1000
E18: =ROUND(D18/122.3*124.4,-1) -> 0 | F18: =ROUND(D18/124.4*129.6,-2) -> 0
A19: Kasteel | E19: =ROUND(D19/122.3*124.4,-1) -> 0 | F19: =ROUND(D19/124.4*129.6,-2) -> 0
B20: Access Switches (4x24) | C20: 2022 | D20: 15000 | E20: =ROUND(D20/122.3*124.4,-1) -> 15260 | F20: =ROUND(D20/124.4*129.6,-2) -> 15600
B21: Wifi AP’s (8) | C21: 2022 | D21: 5000 | E21: =ROUND(D21/122.3*124.4,-1) -> 5090 | F21: =ROUND(D21/124.4*129.6,-2) -> 5200
E22: =ROUND(D22/122.3*124.4,-1) -> 0 | F22: =ROUND(D22/124.4*129.6,-2) -> 0
A23: Gemeentewerf | E23: =ROUND(D23/122.3*124.4,-1) -> 0 | F23: =ROUND(D23/124.4*129.6,-2) -> 0
B24: Access Switches (2x24) | C24: 2022 | D24: 7500 | E24: =ROUND(D24/122.3*124.4,-1) -> 7630 | F24: =ROUND(D24/124.4*129.6,-2) -> 7800
B25: Wifi AP’s (8+1) | C25: 2022 | D25: 5500 | E25: =ROUND(D25/122.3*124.4,-1) -> 5590 | F25: =ROUND(D25/124.4*129.6,-2) -> 5700
E26: =ROUND(D26/122.3*124.4,-1) -> 0 | F26: =ROUND(D26/124.4*129.6,-2) -> 0
A27: Tabaksschuur | E27: =ROUND(D27/122.3*124.4,-1) -> 0 | F27: =ROUND(D27/124.4*129.6,-2) -> 0
B28: Access Switches (2x24) | C28: 2022 | D28: 7500 | E28: =ROUND(D28/122.3*124.4,-1) -> 7630 | F28: =ROUND(D28/124.4*129.6,-2) -> 7800
B29: Wifi AP’s (4) | C29: 2022 | D29: 2500 | E29: =ROUND(D29/122.3*124.4,-1) -> 2540 | F29: =ROUND(D29/124.4*129.6,-2) -> 2600
A31: TOTAAL | D31: =SUM(D6:D30) -> 931500 | E31: =SUM(E6:E30)+20 -> 947500 | F31: =SUM(F6:F29) -> 970400
