Workbook
Name Bouwaard: Data!$B$2:$B$6
Name CAD: Data!$C$2:$C$3
Name courtage: 'Verrekening Jaarpremie'!#REF!
Name Interest: Data!$A$2:$A$18
Name Taxatie: Data!$D$2:$D$4

Sheet Overzicht
A1: Totaaloverzicht
A2: Polisnummer | B2: B0100010124-0
A3: Verzekeringsnemer | B3: Amsterdamse Hogeschool vd Kunsten
A4: VNAB-nummer | B4: 542716609
A5: Behorende bij | B5: Aanhangsel 6.1
B6: Van | C6: Tot
A7: Periode | B7: 45292 | C7: 45658
A10: Rijlabels | B10: Verzekerde waarde | C10: Jaarpremie
A11: Amsterdamse Hogeschool vd Kunsten
A12: Gebouwen | B12: 0 | C12: 159757.8
A13: Huurdersbelang | B13: 0 | C13: 533.748
A14: Bedrijfsuitrusting | B14: 0 | C14: 34717.744
A15: Bijzondere kosten | B15: 0 | C15: 0
A16: Exploitatiekosten | B16: 0 | C16: 0
A17: Reconstructiekosten | B17: 0 | C17: 0
A18: Eindtotaal | B18: 0 | C18: 195009.29

Sheet Specificatie
D1: Specificatie | T1: Mutaties | U1: Situatie voorgaande polis | AA1: TOTAAL AANDEEL
D2: Polisnummer | J2: =Overzicht!B2 -> B0100010124-0 | U2: Vervangende polis 5 | AA2: VERZEKERAARS:
D3: Verzekeringsnemer | J3: =Overzicht!B3 -> Amsterdamse Hogeschool vd Kunsten | AA3: =SUM(V9:AA9) -> 1
D4: VNAB-nummer | J4: =Overzicht!B4 -> 542716609
D5: Periode | J5: =Overzicht!B7 -> 45292 | K5: Tot | L5: =Overzicht!C7 -> 45658
A6: Verzekerde | B6: Certificaat | C6: Sub | D6: Verzekerde interest | E6: Bestemming | F6: Omschrijving | G6: Schadevergoedingstermijn | H6: Bouwaard | I6: Getaxeerd? | J6: Adres | K6: Postcode | L6: Plaats | M6: Land | N6: Verzekerde waarde | O6: Index Q1 2024 | P6: Vorkbedrag | Q6: Premiegrondslag | R6: Verzekerde waarde | S6: Index nieuw | T6: Verzekerde waarde | U6: Verz. Waarde Oud: | V6: Index oud | W6: XL Insurance SE | X6: Allianz Nederland | Y6: ERGO Versicherung AG | Z6: Nationale Nederlanden | AA6: Veerhaven Assuradeuren | AB6: Jaarpremie | AC6: Jaarpremie | AD6: Jaarpremie | AE6: Jaarpremie | AF6: Jaarpremie | AG6: Totale jaarpremie:
I7: Ja/Nee | N7: 45292 | T7: inclusief mutaties | W7: 118858 | X7: 230159 | Y7: 380267 | Z7: 916 | AA7: 413707 | AB7: =W6 -> XL Insurance SE | AC7: =X6 -> Allianz Nederland | AD7: =Y6 -> ERGO Versicherung AG | AE7: =Z6 -> Nationale Nederlanden | AF7: =AA6 -> Veerhaven Assuradeuren
W8: Aandeel: | X8: Aandeel: | Y8: Aandeel: | Z8: Aandeel: | AA8: Aandeel: | AB8: =W7 -> 118858 | AC8: =X7 -> 230159 | AD8: =Y7 -> 380267 | AE8: =Z7 -> 916 | AF8: =AA7 -> 413707
W9: 0.4 | X9: 0.25 | Y9: 0.15 | Z9: 0.125 | AA9: 0.075
A10: Verzekerde | B10: Certificaat | C10: Sub | D10: Verzekerde interest | E10: Bestemming | F10: Omschrijving | G10: Schadevergoedingstermijn | H10: Bouwaard | I10: Getaxeerd | J10: Adres | K10: Postcode | L10: Plaats | M10: Land | N10: Verzekerde waarde | O10: Index Q1 2024 | P10: Vorkbedrag | Q10: Premiegrondslag | R10: Verzekerde Waarde2 | S10: Index nieuw | T10: Mutaties | U10: Verz. Waarde Oud: | V10: Index oud | W10: Promillage 1 | X10: Promillage 2 | Y10: Promillage 3 | Z10: Promillage 4 | AA10: Promillage 5 | AB10: Jaarpremie 1 | AC10: Jaarpremie 2 | AD10: Jaarpremie 3 | AE10: Jaarpremie 4 | AF10: Jaarpremie 5 | AG10: Totale jaarpremie:
A11: Amsterdamse Hogeschool vd Kunsten | B11: 0 | C11: 1 | D11: Gebouwen | F11: Monument | H11: - | I11: Ja | J11: Waterlooplein 211-219/Nieuwe Amstelstraat 2-4 | K11: 1011 PG | L11: Amsterdam | M11: Nederland | N11: =ROUNDUP(Table3[[#This Row],[Verzekerde Waarde2]]/Table3[[#This Row],[Index nieuw]]*Table3[[#This Row],[Index Q1 2024]],-3) -> 13215000 | O11: 128.4 | P11: 0 | Q11: =IF(P11=0,R11,(R11+P11)/2) -> 12762000 | R11: =IF(S11=V11,T11,ROUNDUP(T11/V11*S11,-3)) -> 12762000 | S11: 124 | T11: =U11+SUMIF(Table4[Subnummer],Table3[[#This Row],[Sub]],Table4[Som mutaties]) -> 12000000 | U11: 10898000 | V11: 116.6 | W11: 0.65 | X11: 0.7 | Y11: 0.747 | Z11: 0.75 | AA11: 0.82 | AB11: =$Q11*W11/1000*W$9 -> 3318.12 | AC11: =$Q11*X11/1000*X$9 -> 2233.35 | AD11: =$Q11*Y11/1000*Y$9 -> 1429.9821 | AE11: =$Q11*Z11/1000*Z$9 -> 1196.4375 | AF11: =$Q11*AA11/1000*AA$9 -> 784.863 | AG11: =SUM(AB11:AF11) -> 8962.7526
A12: Amsterdamse Hogeschool vd Kunsten | B12: 0 | C12: 2 | D12: Bedrijfsuitrusting | F12: Monument | H12: - | I12: Ja | J12: Waterlooplein 211-219/Nieuwe Amstelstraat 2-4 | K12: 1011 PG | L12: Amsterdam | M12: Nederland | N12: =ROUNDUP(Table3[[#This Row],[Verzekerde Waarde2]]/Table3[[#This Row],[Index nieuw]]*Table3[[#This Row],[Index Q1 2024]],-3) -> 1973000 | O12: 124.4 | P12: 0 | Q12: =IF(P12=0,R12,(R12+P12)/2) -> 1934000 | R12: =IF(S12=V12,T12,ROUNDUP(T12/V12*S12,-3)) -> 1934000 | S12: 122 | T12: =U12+SUMIF(Table4[Subnummer],Table3[[#This Row],[Sub]],Table4[Som mutaties]) -> 1770000 | U12: 1487000 | V12: 111.7 | W12: 0.65 | X12: 0.7 | Y12: 0.747 | Z12: 0.75 | AA12: 0.82 | AB12: =$Q12*W12/1000*W$9 -> 502.84 | AC12: =$Q12*X12/1000*X$9 -> 338.45 | AD12: =$Q12*Y12/1000*Y$9 -> 216.7047 | AE12: =$Q12*Z12/1000*Z$9 -> 181.3125 | AF12: =$Q12*AA12/1000*AA$9 -> 118.941 | AG12: =SUM(AB12:AF12) -> 1358.2482
A13: Amsterdamse Hogeschool vd Kunsten | B13: 0 | C13: 3 | D13: Gebouwen | H13: - | I13: Ja | J13: Oosterdokskade 151 | K13: 1011 DL | L13: Amsterdam | M13: Nederland | N13: =ROUNDUP(Table3[[#This Row],[Verzekerde Waarde2]]/Table3[[#This Row],[Index nieuw]]*Table3[[#This Row],[Index Q1 2024]],-3) -> 84463000 | O13: 128.4 | P13: 0 | Q13: =IF(P13=0,R13,(R13+P13)/2) -> 81568000 | R13: =IF(S13=V13,T13,ROUNDUP(T13/V13*S13,-3)) -> 81568000 | S13: 124 | T13: =U13+SUMIF(Table4[Subnummer],Table3[[#This Row],[Sub]],Table4[Som mutaties]) -> 76700000 | U13: 56098000 | V13: 116.6 | W13: 0.65 | X13: 0.7 | Y13: 0.747 | Z13: 0.75 | AA13: 0.82 | AB13: =$Q13*W13/1000*W$9 -> 21207.68 | AC13: =$Q13*X13/1000*X$9 -> 14274.4 | AD13: =$Q13*Y13/1000*Y$9 -> 9139.6944 | AE13: =$Q13*Z13/1000*Z$9 -> 7647 | AF13: =$Q13*AA13/1000*AA$9 -> 5016.432 | AG13: =SUM(AB13:AF13) -> 57285.206
A14: Amsterdamse Hogeschool vd Kunsten | B14: 0 | C14: 4 | D14: Bedrijfsuitrusting | H14: - | I14: Ja | J14: Oosterdokskade 151 | K14: 1011 DL | L14: Amsterdam | M14: Nederland | N14: =ROUNDUP(Table3[[#This Row],[Verzekerde Waarde2]]/Table3[[#This Row],[Index nieuw]]*Table3[[#This Row],[Index Q1 2024]],-3) -> 17597000 | O14: 124.4 | P14: 0 | Q14: =IF(P14=0,R14,(R14+P14)/2) -> 17257000 | R14: =IF(S14=V14,T14,ROUNDUP(T14/V14*S14,-3)) -> 17257000 | S14: 122 | T14: =U14+SUMIF(Table4[Subnummer],Table3[[#This Row],[Sub]],Table4[Som mutaties]) -> 15800000 | U14: 13560000 | V14: 111.7 | W14: 0.65 | X14: 0.7 | Y14: 0.747 | Z14: 0.75 | AA14: 0.82 | AB14: =$Q14*W14/1000*W$9 -> 4486.82 | AC14: =$Q14*X14/1000*X$9 -> 3019.975 | AD14: =$Q14*Y14/1000*Y$9 -> 1933.6468 | AE14: =$Q14*Z14/1000*Z$9 -> 1617.8438 | AF14: =$Q14*AA14/1000*AA$9 -> 1061.3055 | AG14: =SUM(AB14:AF14) -> 12119.591
A15: Amsterdamse Hogeschool vd Kunsten | B15: 0 | C15: 5 | D15: Gebouwen | H15: - | I15: Ja | J15: Markenplein 1 | K15: 1011 MV | L15: Amsterdam | M15: Nederland | N15: =ROUNDUP(Table3[[#This Row],[Verzekerde Waarde2]]/Table3[[#This Row],[Index nieuw]]*Table3[[#This Row],[Index Q1 2024]],-3) -> 35074000 | O15: 128.4 | P15: 0 | Q15: =IF(P15=0,R15,(R15+P15)/2) -> 33872000 | R15: =IF(S15=V15,T15,ROUNDUP(T15/V15*S15,-3)) -> 33872000 | S15: 124 | T15: =U15+SUMIF(Table4[Subnummer],Table3[[#This Row],[Sub]],Table4[Som mutaties]) -> 31850000 | U15: 28052000 | V15: 116.6 | W15: 0.65 | X15: 0.7 | Y15: 0.747 | Z15: 0.75 | AA15: 0.82 | AB15: =$Q15*W15/1000*W$9 -> 8806.72 | AC15: =$Q15*X15/1000*X$9 -> 5927.6 | AD15: =$Q15*Y15/1000*Y$9 -> 3795.3576 | AE15: =$Q15*Z15/1000*Z$9 -> 3175.5 | AF15: =$Q15*AA15/1000*AA$9 -> 2083.128 | AG15: =SUM(AB15:AF15) -> 23788.306
A16: Amsterdamse Hogeschool vd Kunsten | B16: 0 | C16: 6 | D16: Bedrijfsuitrusting | H16: - | I16: Ja | J16: Markenplein 1 | K16: 1011 MV | L16: Amsterdam | M16: Nederland | N16: =ROUNDUP(Table3[[#This Row],[Verzekerde Waarde2]]/Table3[[#This Row],[Index nieuw]]*Table3[[#This Row],[Index Q1 2024]],-3) -> 9913000 | O16: 124.4 | P16: 0 | Q16: =IF(P16=0,R16,(R16+P16)/2) -> 9721000 | R16: =IF(S16=V16,T16,ROUNDUP(T16/V16*S16,-3)) -> 9721000 | S16: 122 | T16: =U16+SUMIF(Table4[Subnummer],Table3[[#This Row],[Sub]],Table4[Som mutaties]) -> 8900000 | U16: 8808000 | V16: 111.7 | W16: 0.65 | X16: 0.7 | Y16: 0.747 | Z16: 0.75 | AA16: 0.82 | AB16: =$Q16*W16/1000*W$9 -> 2527.46 | AC16: =$Q16*X16/1000*X$9 -> 1701.175 | AD16: =$Q16*Y16/1000*Y$9 -> 1089.238 | AE16: =$Q16*Z16/1000*Z$9 -> 911.34375 | AF16: =$Q16*AA16/1000*AA$9 -> 597.8415 | AG16: =SUM(AB16:AF16) -> 6827.0583
A17: Amsterdamse Hogeschool vd Kunsten | B17: 0 | C17: 7 | D17: Gebouwen | F17: Monument | H17: - | I17: Ja | J17: Hortusplantsoen 1-3 | K17: 1018 TZ | L17: Amsterdam | M17: Nederland | N17: =ROUNDUP(Table3[[#This Row],[Verzekerde Waarde2]]/Table3[[#This Row],[Index nieuw]]*Table3[[#This Row],[Index Q1 2024]],-3) -> 19107000 | O17: 128.4 | P17: 0 | Q17: =IF(P17=0,R17,(R17+P17)/2) -> 18452000 | R17: =IF(S17=V17,T17,ROUNDUP(T17/V17*S17,-3)) -> 18452000 | S17: 124 | T17: =U17+SUMIF(Table4[Subnummer],Table3[[#This Row],[Sub]],Table4[Som mutaties]) -> 17350000 | U17: 13908000 | V17: 116.6 | W17: 0.65 | X17: 0.7 | Y17: 0.747 | Z17: 0.75 | AA17: 0.82 | AB17: =$Q17*W17/1000*W$9 -> 4797.52 | AC17: =$Q17*X17/1000*X$9 -> 3229.1 | AD17: =$Q17*Y17/1000*Y$9 -> 2067.5466 | AE17: =$Q17*Z17/1000*Z$9 -> 1729.875 | AF17: =$Q17*AA17/1000*AA$9 -> 1134.798 | AG17: =SUM(AB17:AF17) -> 12958.84
A18: Amsterdamse Hogeschool vd Kunsten | B18: 0 | C18: 8 | D18: Bedrijfsuitrusting | F18: Monument | H18: - | I18: Ja | J18: Hortusplantsoen 1-3 | K18: 1018 TZ | L18: Amsterdam | M18: Nederland | N18: =ROUNDUP(Table3[[#This Row],[Verzekerde Waarde2]]/Table3[[#This Row],[Index nieuw]]*Table3[[#This Row],[Index Q1 2024]],-3) -> 2563000 | O18: 124.4 | P18: 0 | Q18: =IF(P18=0,R18,(R18+P18)/2) -> 2513000 | R18: =IF(S18=V18,T18,ROUNDUP(T18/V18*S18,-3)) -> 2513000 | S18: 122 | T18: =U18+SUMIF(Table4[Subnummer],Table3[[#This Row],[Sub]],Table4[Som mutaties]) -> 2300000 | U18: 1699000 | V18: 111.7 | W18: 0.65 | X18: 0.7 | Y18: 0.747 | Z18: 0.75 | AA18: 0.82 | AB18: =$Q18*W18/1000*W$9 -> 653.38 | AC18: =$Q18*X18/1000*X$9 -> 439.775 | AD18: =$Q18*Y18/1000*Y$9 -> 281.58165 | AE18: =$Q18*Z18/1000*Z$9 -> 235.59375 | AF18: =$Q18*AA18/1000*AA$9 -> 154.5495 | AG18: =SUM(AB18:AF18) -> 1764.8799
A19: Amsterdamse Hogeschool vd Kunsten | B19: 0 | C19: 9 | D19: Gebouwen | H19: - | I19: Ja | J19: Agamemnonstraat 44 | K19: 1076 LW | L19: Amsterdam | M19: Nederland | N19: =ROUNDUP(Table3[[#This Row],[Verzekerde Waarde2]]/Table3[[#This Row],[Index nieuw]]*Table3[[#This Row],[Index Q1 2024]],-3) -> 5066000 | O19: 128.4 | P19: 0 | Q19: =IF(P19=0,R19,(R19+P19)/2) -> 4892000 | R19: =IF(S19=V19,T19,ROUNDUP(T19/V19*S19,-3)) -> 4892000 | S19: 124 | T19: =U19+SUMIF(Table4[Subnummer],Table3[[#This Row],[Sub]],Table4[Som mutaties]) -> 4600000 | U19: 3889000 | V19: 116.6 | W19: 0.65 | X19: 0.7 | Y19: 0.747 | Z19: 0.75 | AA19: 0.82 | AB19: =$Q19*W19/1000*W$9 -> 1271.92 | AC19: =$Q19*X19/1000*X$9 -> 856.1 | AD19: =$Q19*Y19/1000*Y$9 -> 548.1486 | AE19: =$Q19*Z19/1000*Z$9 -> 458.625 | AF19: =$Q19*AA19/1000*AA$9 -> 300.858 | AG19: =SUM(AB19:AF19) -> 3435.6516
A20: Amsterdamse Hogeschool vd Kunsten | B20: 0 | C20: 10 | D20: Bedrijfsuitrusting | H20: - | I20: Ja | J20: Agamemnonstraat 44 | K20: 1076 LW | L20: Amsterdam | M20: Nederland | N20: =ROUNDUP(Table3[[#This Row],[Verzekerde Waarde2]]/Table3[[#This Row],[Index nieuw]]*Table3[[#This Row],[Index Q1 2024]],-3) -> 257000 | O20: 124.4 | P20: 0 | Q20: =IF(P20=0,R20,(R20+P20)/2) -> 252000 | R20: =IF(S20=V20,T20,ROUNDUP(T20/V20*S20,-3)) -> 252000 | S20: 122 | T20: =U20+SUMIF(Table4[Subnummer],Table3[[#This Row],[Sub]],Table4[Som mutaties]) -> 230000 | U20: 257000 | V20: 111.7 | W20: 0.65 | X20: 0.7 | Y20: 0.747 | Z20: 0.75 | AA20: 0.82 | AB20: =$Q20*W20/1000*W$9 -> 65.52 | AC20: =$Q20*X20/1000*X$9 -> 44.1 | AD20: =$Q20*Y20/1000*Y$9 -> 28.2366 | AE20: =$Q20*Z20/1000*Z$9 -> 23.625 | AF20: =$Q20*AA20/1000*AA$9 -> 15.498 | AG20: =SUM(AB20:AF20) -> 176.9796
A21: Amsterdamse Hogeschool vd Kunsten | B21: 0 | C21: 11 | D21: Gebouwen | H21: - | I21: Ja | J21: Jodenbreestraat 3 | K21: 1011 NG | L21: Amsterdam | M21: Nederland | N21: =ROUNDUP(Table3[[#This Row],[Verzekerde Waarde2]]/Table3[[#This Row],[Index nieuw]]*Table3[[#This Row],[Index Q1 2024]],-3) -> 57814000 | O21: 128.4 | P21: 0 | Q21: =IF(P21=0,R21,(R21+P21)/2) -> 55832000 | R21: =IF(S21=V21,T21,ROUNDUP(T21/V21*S21,-3)) -> 55832000 | S21: 124 | T21: =U21+SUMIF(Table4[Subnummer],Table3[[#This Row],[Sub]],Table4[Som mutaties]) -> 52500000 | U21: 40756000 | V21: 116.6 | W21: 0.65 | X21: 0.7 | Y21: 0.747 | Z21: 0.75 | AA21: 0.82 | AB21: =$Q21*W21/1000*W$9 -> 14516.32 | AC21: =$Q21*X21/1000*X$9 -> 9770.6 | AD21: =$Q21*Y21/1000*Y$9 -> 6255.9756 | AE21: =$Q21*Z21/1000*Z$9 -> 5234.25 | AF21: =$Q21*AA21/1000*AA$9 -> 3433.668 | AG21: =SUM(AB21:AF21) -> 39210.814
A22: Amsterdamse Hogeschool vd Kunsten | B22: 0 | C22: 12 | D22: Bedrijfsuitrusting | H22: - | I22: Ja | J22: Jodenbreestraat 3 | K22: 1011 NG | L22: Amsterdam | M22: Nederland | N22: =ROUNDUP(Table3[[#This Row],[Verzekerde Waarde2]]/Table3[[#This Row],[Index nieuw]]*Table3[[#This Row],[Index Q1 2024]],-3) -> 10748000 | O22: 124.4 | P22: 0 | Q22: =IF(P22=0,R22,(R22+P22)/2) -> 10540000 | R22: =IF(S22=V22,T22,ROUNDUP(T22/V22*S22,-3)) -> 10540000 | S22: 122 | T22: =U22+SUMIF(Table4[Subnummer],Table3[[#This Row],[Sub]],Table4[Som mutaties]) -> 9650000 | U22: 8719000 | V22: 111.7 | W22: 0.65 | X22: 0.7 | Y22: 0.747 | Z22: 0.75 | AA22: 0.82 | AB22: =$Q22*W22/1000*W$9 -> 2740.4 | AC22: =$Q22*X22/1000*X$9 -> 1844.5 | AD22: =$Q22*Y22/1000*Y$9 -> 1181.007 | AE22: =$Q22*Z22/1000*Z$9 -> 988.125 | AF22: =$Q22*AA22/1000*AA$9 -> 648.21 | AG22: =SUM(AB22:AF22) -> 7402.242
A23: Amsterdamse Hogeschool vd Kunsten | B23: 0 | C23: 13 | D23: Bedrijfsuitrusting | H23: - | I23: Ja | J23: Waterlooplein 73 | K23: 1011 PB | L23: Amsterdam | M23: Nederland | N23: =ROUNDUP(Table3[[#This Row],[Verzekerde Waarde2]]/Table3[[#This Row],[Index nieuw]]*Table3[[#This Row],[Index Q1 2024]],-3) -> 53000 | O23: 124.4 | P23: 0 | Q23: =IF(P23=0,R23,(R23+P23)/2) -> 51000 | R23: =IF(S23=V23,T23,ROUNDUP(T23/V23*S23,-3)) -> 51000 | S23: 122 | T23: =U23+SUMIF(Table4[Subnummer],Table3[[#This Row],[Sub]],Table4[Som mutaties]) -> 45000 | U23: 86000 | V23: 109.4 | W23: 0.65 | X23: 0.7 | Y23: 0.747 | Z23: 0.75 | AA23: 0.82 | AB23: =$Q23*W23/1000*W$9 -> 13.26 | AC23: =$Q23*X23/1000*X$9 -> 8.925 | AD23: =$Q23*Y23/1000*Y$9 -> 5.71455 | AE23: =$Q23*Z23/1000*Z$9 -> 4.78125 | AF23: =$Q23*AA23/1000*AA$9 -> 3.1365 | AG23: =SUM(AB23:AF23) -> 35.8173
A24: Amsterdamse Hogeschool vd Kunsten | B24: 0 | C24: 14 | D24: Gebouwen | F24: Monument Eigenarenbelang | H24: - | I24: Ja | J24: Overhoeksplein 2 | K24: 1031 KS | L24: Amsterdam | M24: Nederland | N24: =ROUNDUP(Table3[[#This Row],[Verzekerde Waarde2]]/Table3[[#This Row],[Index nieuw]]*Table3[[#This Row],[Index Q1 2024]],-3) -> 20814000 | O24: 128.4 | P24: 0 | Q24: =IF(P24=0,R24,(R24+P24)/2) -> 20100000 | R24: =IF(S24=V24,T24,ROUNDUP(T24/V24*S24,-3)) -> 20100000 | S24: 124 | T24: =U24+SUMIF(Table4[Subnummer],Table3[[#This Row],[Sub]],Table4[Som mutaties]) -> 18900000 | U24: 7794000 | V24: 116.6 | W24: 0.65 | X24: 0.7 | Y24: 0.747 | Z24: 0.75 | AA24: 0.82 | AB24: =$Q24*W24/1000*W$9 -> 5226 | AC24: =$Q24*X24/1000*X$9 -> 3517.5 | AD24: =$Q24*Y24/1000*Y$9 -> 2252.205 | AE24: =$Q24*Z24/1000*Z$9 -> 1884.375 | AF24: =$Q24*AA24/1000*AA$9 -> 1236.15 | AG24: =SUM(AB24:AF24) -> 14116.23
A25: Amsterdamse Hogeschool vd Kunsten | B25: 0 | C25: 15 | D25: Bedrijfsuitrusting | F25: Monument Theater en Dans | H25: - | I25: Ja | J25: Overhoeksplein 2 | K25: 1031 KS | L25: Amsterdam | M25: Nederland | N25: =ROUNDUP(Table3[[#This Row],[Verzekerde Waarde2]]/Table3[[#This Row],[Index nieuw]]*Table3[[#This Row],[Index Q1 2024]],-3) -> 1561000 | O25: 124.4 | P25: 0 | Q25: =IF(P25=0,R25,(R25+P25)/2) -> 1530000 | R25: =IF(S25=V25,T25,ROUNDUP(T25/V25*S25,-3)) -> 1530000 | S25: 122 | T25: =U25+SUMIF(Table4[Subnummer],Table3[[#This Row],[Sub]],Table4[Som mutaties]) -> 1400000 | U25: 1264000 | V25: 111.7 | W25: 0.65 | X25: 0.7 | Y25: 0.747 | Z25: 0.75 | AA25: 0.82 | AB25: =$Q25*W25/1000*W$9 -> 397.8 | AC25: =$Q25*X25/1000*X$9 -> 267.75 | AD25: =$Q25*Y25/1000*Y$9 -> 171.4365 | AE25: =$Q25*Z25/1000*Z$9 -> 143.4375 | AF25: =$Q25*AA25/1000*AA$9 -> 94.095 | AG25: =SUM(AB25:AF25) -> 1074.519
A26: Amsterdamse Hogeschool vd Kunsten | B26: 0 | C26: 16 | D26: Bedrijfsuitrusting | F26: BreitnerAcademie | H26: - | I26: Ja | J26: Overhoeksplein 2 | K26: 1031 KS | L26: Amsterdam | M26: Nederland | N26: =ROUNDUP(Table3[[#This Row],[Verzekerde Waarde2]]/Table3[[#This Row],[Index nieuw]]*Table3[[#This Row],[Index Q1 2024]],-3) -> 1738000 | O26: 124.4 | P26: 0 | Q26: =IF(P26=0,R26,(R26+P26)/2) -> 1704000 | R26: =IF(S26=V26,T26,ROUNDUP(T26/V26*S26,-3)) -> 1704000 | S26: 122 | T26: =U26+SUMIF(Table4[Subnummer],Table3[[#This Row],[Sub]],Table4[Som mutaties]) -> 1560000 | U26: 1448000 | V26: 111.7 | W26: 0.65 | X26: 0.7 | Y26: 0.747 | Z26: 0.75 | AA26: 0.82 | AB26: =$Q26*W26/1000*W$9 -> 443.04 | AC26: =$Q26*X26/1000*X$9 -> 298.2 | AD26: =$Q26*Y26/1000*Y$9 -> 190.9332 | AE26: =$Q26*Z26/1000*Z$9 -> 159.75 | AF26: =$Q26*AA26/1000*AA$9 -> 104.796 | AG26: =SUM(AB26:AF26) -> 1196.7192
A27: Amsterdamse Hogeschool vd Kunsten | B27: 0 | C27: 17 | D27: Bedrijfsuitrusting | H27: - | I27: Ja | J27: Distelweg 80 F-G | K27: 1031 HH | L27: Amsterdam | M27: Nederland | N27: =ROUNDUP(Table3[[#This Row],[Verzekerde Waarde2]]/Table3[[#This Row],[Index nieuw]]*Table3[[#This Row],[Index Q1 2024]],-3) -> 154000 | O27: 124.4 | P27: 0 | Q27: =IF(P27=0,R27,(R27+P27)/2) -> 151000 | R27: =IF(S27=V27,T27,ROUNDUP(T27/V27*S27,-3)) -> 151000 | S27: 122 | T27: =U27+SUMIF(Table4[Subnummer],Table3[[#This Row],[Sub]],Table4[Som mutaties]) -> 135000 | U27: 0 | V27: 109.4 | W27: 0.65 | X27: 0.7 | Y27: 0.747 | Z27: 0.75 | AA27: 0.82 | AB27: =$Q27*W27/1000*W$9 -> 39.26 | AC27: =$Q27*X27/1000*X$9 -> 26.425 | AD27: =$Q27*Y27/1000*Y$9 -> 16.91955 | AE27: =$Q27*Z27/1000*Z$9 -> 14.15625 | AF27: =$Q27*AA27/1000*AA$9 -> 9.2865 | AG27: =SUM(AB27:AF27) -> 106.0473
A28: Amsterdamse Hogeschool vd Kunsten | B28: 0 | C28: 18 | D28: Bedrijfsuitrusting | H28: - | I28: Ja | J28: Kattenburgerstraat 7 | K28: 1017 JA | L28: Amsterdam | M28: Nederland | N28: =ROUNDUP(Table3[[#This Row],[Verzekerde Waarde2]]/Table3[[#This Row],[Index nieuw]]*Table3[[#This Row],[Index Q1 2024]],-3) -> 468000 | O28: 124.4 | P28: 0 | Q28: =IF(P28=0,R28,(R28+P28)/2) -> 458000 | R28: =IF(S28=V28,T28,ROUNDUP(T28/V28*S28,-3)) -> 458000 | S28: 122 | T28: =U28+SUMIF(Table4[Subnummer],Table3[[#This Row],[Sub]],Table4[Som mutaties]) -> 410000 | U28: 0 | V28: 109.4 | W28: 0.65 | X28: 0.7 | Y28: 0.747 | Z28: 0.75 | AA28: 0.82 | AB28: =$Q28*W28/1000*W$9 -> 119.08 | AC28: =$Q28*X28/1000*X$9 -> 80.15 | AD28: =$Q28*Y28/1000*Y$9 -> 51.3189 | AE28: =$Q28*Z28/1000*Z$9 -> 42.9375 | AF28: =$Q28*AA28/1000*AA$9 -> 28.167 | AG28: =SUM(AB28:AF28) -> 321.6534
A29: Amsterdamse Hogeschool vd Kunsten | B29: 0 | C29: 19 | D29: Bedrijfsuitrusting | H29: - | I29: Ja | J29: Atlantisplein 1 | K29: 1093 NE | L29: Amsterdam | M29: Nederland | N29: =ROUNDUP(Table3[[#This Row],[Verzekerde Waarde2]]/Table3[[#This Row],[Index nieuw]]*Table3[[#This Row],[Index Q1 2024]],-3) -> 393000 | O29: 124.4 | P29: 0 | Q29: =IF(P29=0,R29,(R29+P29)/2) -> 385000 | R29: =IF(S29=V29,T29,ROUNDUP(T29/V29*S29,-3)) -> 385000 | S29: 122 | T29: =U29+SUMIF(Table4[Subnummer],Table3[[#This Row],[Sub]],Table4[Som mutaties]) -> 345000 | U29: 0 | V29: 109.4 | W29: 0.65 | X29: 0.7 | Y29: 0.747 | Z29: 0.75 | AA29: 0.82 | AB29: =$Q29*W29/1000*W$9 -> 100.1 | AC29: =$Q29*X29/1000*X$9 -> 67.375 | AD29: =$Q29*Y29/1000*Y$9 -> 43.13925 | AE29: =$Q29*Z29/1000*Z$9 -> 36.09375 | AF29: =$Q29*AA29/1000*AA$9 -> 23.6775 | AG29: =SUM(AB29:AF29) -> 270.3855
A30: Amsterdamse Hogeschool vd Kunsten | B30: 0 | C30: 20 | D30: Bedrijfsuitrusting | F30: Computerapparatuur | H30: - | I30: Ja | J30: Diverse locaties | L30: Amsterdam | M30: Nederland | N30: =ROUNDUP(Table3[[#This Row],[Verzekerde Waarde2]]/Table3[[#This Row],[Index nieuw]]*Table3[[#This Row],[Index Q1 2024]],-3) -> 2563000 | O30: 124.4 | P30: 0 | Q30: =IF(P30=0,R30,(R30+P30)/2) -> 2513000 | R30: =IF(S30=V30,T30,ROUNDUP(T30/V30*S30,-3)) -> 2513000 | S30: 122 | T30: =U30+SUMIF(Table4[Subnummer],Table3[[#This Row],[Sub]],Table4[Som mutaties]) -> 2300210 | U30: 2287000 | V30: 111.7 | W30: 0.65 | X30: 0.7 | Y30: 0.747 | Z30: 0.75 | AA30: 0.82 | AB30: =$Q30*W30/1000*W$9 -> 653.38 | AC30: =$Q30*X30/1000*X$9 -> 439.775 | AD30: =$Q30*Y30/1000*Y$9 -> 281.58165 | AE30: =$Q30*Z30/1000*Z$9 -> 235.59375 | AF30: =$Q30*AA30/1000*AA$9 -> 154.5495 | AG30: =SUM(AB30:AF30) -> 1764.8799
A31: Amsterdamse Hogeschool vd Kunsten | B31: 0 | C31: 21 | D31: Bedrijfsuitrusting | F31: Kunst, antiek en kostbaarheden | H31: - | I31: Ja | J31: Overhoeksplein 2 | K31: 1031 KS | L31: Amsterdam | M31: Nederland | O31: 124.4 | P31: 0 | Q31: =IF(P31=0,R31,(R31+P31)/2) -> 425350 | R31: =IF(S31=V31,T31,ROUNDUP(T31/V31*S31,-3)) -> 425350 | T31: =U31+SUMIF(Table4[Subnummer],Table3[[#This Row],[Sub]],Table4[Som mutaties]) -> 425350 | U31: 0 | W31: 0.65 | X31: 0.7 | Y31: 0.747 | Z31: 0.75 | AA31: 0.82 | AB31: =$Q31*W31/1000*W$9 -> 110.591 | AC31: =$Q31*X31/1000*X$9 -> 74.43625 | AD31: =$Q31*Y31/1000*Y$9 -> 47.660467 | AE31: =$Q31*Z31/1000*Z$9 -> 39.876562 | AF31: =$Q31*AA31/1000*AA$9 -> 26.159025 | AG31: =SUM(AB31:AF31) -> 298.7233
A32: Amsterdamse Hogeschool vd Kunsten | B32: 0 | C32: 22 | D32: Huurdersbelang | H32: - | I32: Ja | J32: Kattenburgerstraat 7 | K32: 1017 JA | L32: Amsterdam | M32: Nederland | N32: =ROUNDUP(Table3[[#This Row],[Verzekerde Waarde2]]/Table3[[#This Row],[Index nieuw]]*Table3[[#This Row],[Index Q1 2024]],-3) -> 596000 | O32: 128.4 | P32: 0 | Q32: =IF(P32=0,R32,(R32+P32)/2) -> 575000 | R32: =IF(S32=V32,T32,ROUNDUP(T32/V32*S32,-3)) -> 575000 | S32: 124 | T32: =U32+SUMIF(Table4[Subnummer],Table3[[#This Row],[Sub]],Table4[Som mutaties]) -> 530000 | U32: 0 | V32: 114.3 | W32: 0.65 | X32: 0.7 | Y32: 0.747 | Z32: 0.75 | AA32: 0.82 | AB32: =$Q32*W32/1000*W$9 -> 149.5 | AC32: =$Q32*X32/1000*X$9 -> 100.625 | AD32: =$Q32*Y32/1000*Y$9 -> 64.42875 | AE32: =$Q32*Z32/1000*Z$9 -> 53.90625 | AF32: =$Q32*AA32/1000*AA$9 -> 35.3625 | AG32: =SUM(AB32:AF32) -> 403.8225
A33: Amsterdamse Hogeschool vd Kunsten | B33: 0 | C33: 23 | D33: Huurdersbelang | H33: - | I33: Ja | J33: Distelweg 80 F-G | K33: 1031 HH | L33: Amsterdam | M33: Nederland | N33: =ROUNDUP(Table3[[#This Row],[Verzekerde Waarde2]]/Table3[[#This Row],[Index nieuw]]*Table3[[#This Row],[Index Q1 2024]],-3) -> 130000 | O33: 128.4 | P33: 0 | Q33: =IF(P33=0,R33,(R33+P33)/2) -> 125000 | R33: =IF(S33=V33,T33,ROUNDUP(T33/V33*S33,-3)) -> 125000 | S33: 124 | T33: =U33+SUMIF(Table4[Subnummer],Table3[[#This Row],[Sub]],Table4[Som mutaties]) -> 115000 | U33: 0 | V33: 114.3 | W33: 0.65 | X33: 0.7 | Y33: 0.747 | Z33: 0.75 | AA33: 0.82 | AB33: =$Q33*W33/1000*W$9 -> 32.5 | AC33: =$Q33*X33/1000*X$9 -> 21.875 | AD33: =$Q33*Y33/1000*Y$9 -> 14.00625 | AE33: =$Q33*Z33/1000*Z$9 -> 11.71875 | AF33: =$Q33*AA33/1000*AA$9 -> 7.6875 | AG33: =SUM(AB33:AF33) -> 87.7875
A34: Amsterdamse Hogeschool vd Kunsten | B34: 0 | C34: 24 | D34: Huurdersbelang | H34: - | I34: Ja | J34: Waterlooplein 73 | K34: 1011 PB | L34: Amsterdam | M34: Nederland | N34: =ROUNDUP(Table3[[#This Row],[Verzekerde Waarde2]]/Table3[[#This Row],[Index nieuw]]*Table3[[#This Row],[Index Q1 2024]],-3) -> 63000 | O34: 128.4 | P34: 0 | Q34: =IF(P34=0,R34,(R34+P34)/2) -> 60000 | R34: =IF(S34=V34,T34,ROUNDUP(T34/V34*S34,-3)) -> 60000 | S34: 124 | T34: =U34+SUMIF(Table4[Subnummer],Table3[[#This Row],[Sub]],Table4[Som mutaties]) -> 55000 | U34: 0 | V34: 114.3 | W34: 0.65 | X34: 0.7 | Y34: 0.747 | Z34: 0.75 | AA34: 0.82 | AB34: =$Q34*W34/1000*W$9 -> 15.6 | AC34: =$Q34*X34/1000*X$9 -> 10.5 | AD34: =$Q34*Y34/1000*Y$9 -> 6.723 | AE34: =$Q34*Z34/1000*Z$9 -> 5.625 | AF34: =$Q34*AA34/1000*AA$9 -> 3.69 | AG34: =SUM(AB34:AF34) -> 42.138
A35: Amsterdamse Hogeschool vd Kunsten | B35: 0 | C35: 25 | D35: Reconstructiekosten | F35: zijnde het maximum bedrag per gebeurtenis als premier risque gedurende een maximum termijn van schadevergoeding van 156 weken tot dekking van reconstructiekosten (als omschreven in clausule Reconstructiekostendekking BM031-013/2). | G35: 156 weken | H35: - | I35: Nee | M35: Nederland | N35: 1000000 | P35: 0 | Q35: =IF(P35=0,R35,(R35+P35)/2) -> 1000000 | R35: =IF(S35=V35,T35,ROUNDUP(T35/V35*S35,-3)) -> 1000000 | T35: =U35+SUMIF(Table4[Subnummer],Table3[[#This Row],[Sub]],Table4[Som mutaties]) -> 1000000 | U35: 0 | W35: 0 | X35: 0 | Y35: 0 | Z35: 0 | AA35: 0 | AB35: =$Q35*W35/1000*W$9 -> 0 | AC35: =$Q35*X35/1000*X$9 -> 0 | AD35: =$Q35*Y35/1000*Y$9 -> 0 | AE35: =$Q35*Z35/1000*Z$9 -> 0 | AF35: =$Q35*AA35/1000*AA$9 -> 0 | AG35: =SUM(AB35:AF35) -> 0
A36: Amsterdamse Hogeschool vd Kunsten | B36: 0 | C36: 26 | D36: Bijzondere kosten | F36: zijnde het maximum bedrag per gebeurtenis als premier risque gedurende een maximum termijn van schadevergoeding van 156 weken tot dekking van bijzondere kosten (als omschreven in clausule Bijzondere kosten BM021-016). | G36: 156 weken | H36: - | I36: Nee | M36: Nederland | N36: 10000000 | P36: 0 | Q36: =IF(P36=0,R36,(R36+P36)/2) -> 10000000 | R36: =IF(S36=V36,T36,ROUNDUP(T36/V36*S36,-3)) -> 10000000 | T36: =U36+SUMIF(Table4[Subnummer],Table3[[#This Row],[Sub]],Table4[Som mutaties]) -> 10000000 | U36: 0 | W36: 0 | X36: 0 | Y36: 0 | Z36: 0 | AA36: 0 | AB36: =$Q36*W36/1000*W$9 -> 0 | AC36: =$Q36*X36/1000*X$9 -> 0 | AD36: =$Q36*Y36/1000*Y$9 -> 0 | AE36: =$Q36*Z36/1000*Z$9 -> 0 | AF36: =$Q36*AA36/1000*AA$9 -> 0 | AG36: =SUM(AB36:AF36) -> 0
A37: Amsterdamse Hogeschool vd Kunsten | B37: 0 | C37: 27 | D37: Exploitatiekosten | F37: zijnde het maximum bedrag per gebeurtenis als premier risque gedurende een maximum termijn van schadevergoeding van 156 weken tot dekking van exploitatiekosten conform clausule B 051-028/2 verzekering van exploitatiekosten. | G37: 156 weken | H37: - | I37: Nee | M37: Nederland | N37: 2500000 | P37: 0 | Q37: =IF(P37=0,R37,(R37+P37)/2) -> 2500000 | R37: =IF(S37=V37,T37,ROUNDUP(T37/V37*S37,-3)) -> 2500000 | T37: =U37+SUMIF(Table4[Subnummer],Table3[[#This Row],[Sub]],Table4[Som mutaties]) -> 2500000 | U37: 0 | W37: 0 | X37: 0 | Y37: 0 | Z37: 0 | AA37: 0 | AB37: =$Q37*W37/1000*W$9 -> 0 | AC37: =$Q37*X37/1000*X$9 -> 0 | AD37: =$Q37*Y37/1000*Y$9 -> 0 | AE37: =$Q37*Z37/1000*Z$9 -> 0 | AF37: =$Q37*AA37/1000*AA$9 -> 0 | AG37: =SUM(AB37:AF37) -> 0
A38: Total | N38: =SUBTOTAL(109,Table3[Verzekerde waarde]) -> 299823000 | P38: =SUBTOTAL(109,Table3[Vorkbedrag]) -> 0 | Q38: =SUBTOTAL(109,Table3[Premiegrondslag]) -> 291172350 | R38: =SUBTOTAL(109,Table3[Verzekerde Waarde2]) -> 291172350 | T38: =SUBTOTAL(109,Table3[Mutaties]) -> 273370560 | U38: =SUBTOTAL(109,Table3[Verz. Waarde Oud:]) -> 201010000 | AB38: =SUBTOTAL(109,Table3[Jaarpremie 1]) -> 72194.811 | AC38: =SUBTOTAL(109,Table3[Jaarpremie 2]) -> 48592.661 | AD38: =SUBTOTAL(109,Table3[Jaarpremie 3]) -> 31113.187 | AE38: =SUBTOTAL(109,Table3[Jaarpremie 4]) -> 26031.783 | AF38: =SUBTOTAL(109,Table3[Jaarpremie 5]) -> 17076.85 | AG38: =SUBTOTAL(109,Table3[Totale jaarpremie:]) -> 195009.29
A41: Hide | B41: Hide | E41: Hide | F41: Hide | G41: Hide | H41: Hide | M41: Hide | P41: Hide | Q41: Hide | T41: Hide | U41: Hide | V41: Hide

Sheet Taxaties
A1: Getaxeerde objecten
A2: Sub | B2: Soort interest | C2: Taxateur | D2: Taxatiedatum | E2: Rapportnummer | F2: Vervalt op
A3: 1 | B3: =IFERROR(_xlfn.XLOOKUP(Table8[[#This Row],[Sub]],Table3[Sub],Table3[Verzekerde interest]),"-") -> Gebouwen | C3: Lengkeek | D3: 44813 | E3: 4079638-1 | F3: 47005
A4: 2 | B4: =IFERROR(_xlfn.XLOOKUP(Table8[[#This Row],[Sub]],Table3[Sub],Table3[Verzekerde interest]),"-") -> Bedrijfsuitrusting | C4: Lengkeek | D4: 44804 | E4: 4071975-2 | F4: 45900
A5: 3 | B5: =IFERROR(_xlfn.XLOOKUP(Table8[[#This Row],[Sub]],Table3[Sub],Table3[Verzekerde interest]),"-") -> Gebouwen | C5: Lengkeek | D5: 44813 | E5: 4079638-5 | F5: 47005
A6: 4 | B6: =IFERROR(_xlfn.XLOOKUP(Table8[[#This Row],[Sub]],Table3[Sub],Table3[Verzekerde interest]),"-") -> Bedrijfsuitrusting | C6: Lengkeek | D6: 44803 | E6: 4071975-3 | F6: 45899
A7: 5 | B7: =IFERROR(_xlfn.XLOOKUP(Table8[[#This Row],[Sub]],Table3[Sub],Table3[Verzekerde interest]),"-") -> Gebouwen | C7: Lengkeek | D7: 44813 | E7: 4079638-3 | F7: 47005
A8: 6 | B8: =IFERROR(_xlfn.XLOOKUP(Table8[[#This Row],[Sub]],Table3[Sub],Table3[Verzekerde interest]),"-") -> Bedrijfsuitrusting | C8: Lengkeek | D8: 44811 | E8: 4071975-8 | F8: 45907
A9: 7 | B9: =IFERROR(_xlfn.XLOOKUP(Table8[[#This Row],[Sub]],Table3[Sub],Table3[Verzekerde interest]),"-") -> Gebouwen | C9: Lengkeek | D9: 44813 | E9: 4071975-5 | F9: 47005
A10: 8 | B10: =IFERROR(_xlfn.XLOOKUP(Table8[[#This Row],[Sub]],Table3[Sub],Table3[Verzekerde interest]),"-") -> Bedrijfsuitrusting | C10: Lengkeek | D10: 44797 | E10: 4071975-5 | F10: 45893
A11: 9 | B11: =IFERROR(_xlfn.XLOOKUP(Table8[[#This Row],[Sub]],Table3[Sub],Table3[Verzekerde interest]),"-") -> Gebouwen | C11: Lengkeek | D11: 44818 | E11: 4079638-7 | F11: 47010
A12: 10 | B12: =IFERROR(_xlfn.XLOOKUP(Table8[[#This Row],[Sub]],Table3[Sub],Table3[Verzekerde interest]),"-") -> Bedrijfsuitrusting | C12: Lengkeek | D12: 44804 | E12: 4071975-1 | F12: 45900
A13: 11 | B13: =IFERROR(_xlfn.XLOOKUP(Table8[[#This Row],[Sub]],Table3[Sub],Table3[Verzekerde interest]),"-") -> Gebouwen | C13: Lengkeek | D13: 44813 | E13: 4079638-2 | F13: 47005
A14: 12 | B14: =IFERROR(_xlfn.XLOOKUP(Table8[[#This Row],[Sub]],Table3[Sub],Table3[Verzekerde interest]),"-") -> Bedrijfsuitrusting | C14: Lengkeek | D14: 44809 | E14: 4071975-9 | F14: 45905
... A26: 24 | B26: =IFERROR(_xlfn.XLOOKUP(Table8[[#This Row],[Sub]],Table3[Sub],Table3[Verzekerde interest]),"-") -> Huurdersbelang | C26: Lengkeek | D26: 44725 | E26: 4171975-4 | F26: 45821

Sheet Mutaties
A1: Mutatielijst
A2: =Overzicht!A2 -> Polisnummer | B2: =Overzicht!B2 -> B0100010124-0
A3: =Overzicht!A3 -> Verzekeringsnemer | B3: =Overzicht!B3 -> Amsterdamse Hogeschool vd Kunsten
A4: =Overzicht!A4 -> VNAB-nummer | B4: =Overzicht!B4 -> 542716609
A5: Klant | B5: Omschrijving mutatie: | C5: Certificaat | D5: Sub | E5: Verzekerd bedrag | L5: Mutatiedatum | M5: Vervaldatum | N5: Dagen | O5: Dagen per jaar | P5: Sprake van CAD? | Q5: Verrekeningen | V5: Aandelen | AA5: Premieverrekening
V6: =Specificatie!W6 -> XL Insurance SE | W6: =Specificatie!X6 -> Allianz Nederland | X6: =Specificatie!Y6 -> ERGO Versicherung AG | Y6: =Specificatie!Z6 -> Nationale Nederlanden | Z6: =Specificatie!AA6 -> Veerhaven Assuradeuren | AA6: =Specificatie!W6 -> XL Insurance SE | AB6: =Specificatie!X6 -> Allianz Nederland | AC6: =Specificatie!Y6 -> ERGO Versicherung AG | AD6: =Specificatie!Z6 -> Nationale Nederlanden | AE6: =Specificatie!AA6 -> Veerhaven Assuradeuren
V7: =Specificatie!W9 -> 0.4 | W7: =Specificatie!X9 -> 0.25 | X7: =Specificatie!Y9 -> 0.15 | Y7: =Specificatie!Z9 -> 0.125 | Z7: =Specificatie!AA9 -> 0.075 | AF7: Totaal
A8: Klant | B8: Omschrijving mutatie | C8: Certificaat | D8: Subnummer | E8: Oud | F8: Investering Nieuw | G8: Investering bestaand | H8: Verlaging | I8: Afvoer | J8: Inclusief mutatie | K8: Som mutaties | L8: Mutatiedatum | M8: Vervaldatum | N8: Dagen | O8: Dagen per jaar | P8: Sprake van CAD? | Q8: Investering nieuw2 | R8: Investering bestaand2 | S8: Verlaging2 | T8: Afvoer2 | U8: Totaal | V8: Verzekeraar 1 | W8: Verzekeraar 2 | X8: Verzekeraar 3 | Y8: Verzekeraar 4 | Z8: Verzekeraar 5 | AA8: Verzekeraar 12 | AB8: Verzekeraar 23 | AC8: Verzekeraar 34 | AD8: Verzekeraar 45 | AE8: Verzekeraar 56 | AF8: Totaal2 | AG8: Boeking
A9: =IFERROR(_xlfn.XLOOKUP(D9,Specificatie!C:C,Specificatie!A:A),"-") -> Amsterdamse Hogeschool vd Kunsten | B9: Verlaging verzekerd bedrag op bedrijfsuitrusting in verband met hertaxatie | C9: =IFERROR(_xlfn.XLOOKUP(Table4[[#This Row],[Subnummer]],Table3[Sub],Table3[Certificaat]),"-") -> 0 | D9: 13 | E9: =IFERROR(_xlfn.XLOOKUP(Table4[[#This Row],[Subnummer]],Table3[Sub],Table3[Verz. Waarde Oud:]),0) -> 86000 | F9: 0 | G9: 0 | H9: 41000 | I9: 0 | J9: =E9+F9+G9-H9-I9 -> 45000 | K9: =J9-E9 -> -41000 | L9: 44725 | M9: 44725 | N9: =M9-L9 -> 0 | O9: 365 | P9: Nee | Q9: =F9*N9/O9 -> 0 | R9: {=_xlfn.IFS($P9="Nee",G9*$N9/$O9,$P9="Ja",G9*0.5)} -> 0 | S9: {=_xlfn.IFS($P9="Nee",-(H9*$N9/$O9),$P9="Ja",-(H9*0.5))} -> 0 | T9: =-I9*N9/O9 -> 0 | U9: =SUM(Q9:T9) -> 0 | V9: =IFERROR(_xlfn.XLOOKUP(Table4[[#This Row],[Subnummer]],Table3[Sub],Table3[Promillage 1]),0) -> 0.65 | W9: =IFERROR(_xlfn.XLOOKUP(Table4[[#This Row],[Subnummer]],Table3[Sub],Table3[Promillage 2]),0) -> 0.7 | X9: =IFERROR(_xlfn.XLOOKUP(Table4[[#This Row],[Subnummer]],Table3[Sub],Table3[Promillage 3]),0) -> 0.747 | Y9: =IFERROR(_xlfn.XLOOKUP(Table4[[#This Row],[Subnummer]],Table3[Sub],Table3[Promillage 4]),0) -> 0.75 | Z9: =IFERROR(_xlfn.XLOOKUP(Table4[[#This Row],[Subnummer]],Table3[Sub],Table3[Promillage 5]),0) -> 0.82 | AA9: =$U9*V9/1000*V$7 -> 0 | AB9: =$U9*W9/1000*W$7 -> 0 | AC9: =$U9*X9/1000*X$7 -> 0 | AD9: =$U9*Y9/1000*Y$7 -> 0 | AE9: =$U9*Z9/1000*Z$7 -> 0 | AF9: =SUM(AA9:AE9) -> 0 | AG9: {=_xlfn.IFS(AF9=0,"Nihil",AF9>0,"Suppletie",AF9<0,"Restitutie")} -> Nihil
A10: =IFERROR(_xlfn.XLOOKUP(D10,Specificatie!C:C,Specificatie!A:A),"-") -> Amsterdamse Hogeschool vd Kunsten | B10: Bijverzekering bedrijfsuitrusting conform hertaxatierapport | C10: =IFERROR(_xlfn.XLOOKUP(Table4[[#This Row],[Subnummer]],Table3[Sub],Table3[Certificaat]),"-") -> 0 | D10: 17 | E10: =IFERROR(_xlfn.XLOOKUP(Table4[[#This Row],[Subnummer]],Table3[Sub],Table3[Verz. Waarde Oud:]),0) -> 0 | F10: 135000 | G10: 0 | H10: 0 | I10: 0 | J10: =E10+F10+G10-H10-I10 -> 135000 | K10: =J10-E10 -> 135000 | L10: 44725 | M10: 44725 | N10: =M10-L10 -> 0 | O10: 365 | P10: Nee | Q10: =F10*N10/O10 -> 0 | R10: {=_xlfn.IFS($P10="Nee",G10*$N10/$O10,$P10="Ja",G10*0.5)} -> 0 | S10: {=_xlfn.IFS($P10="Nee",-(H10*$N10/$O10),$P10="Ja",-(H10*0.5))} -> 0 | T10: =-I10*N10/O10 -> 0 | U10: =SUM(Q10:T10) -> 0 | V10: =IFERROR(_xlfn.XLOOKUP(Table4[[#This Row],[Subnummer]],Table3[Sub],Table3[Promillage 1]),0) -> 0.65 | W10: =IFERROR(_xlfn.XLOOKUP(Table4[[#This Row],[Subnummer]],Table3[Sub],Table3[Promillage 2]),0) -> 0.7 | X10: =IFERROR(_xlfn.XLOOKUP(Table4[[#This Row],[Subnummer]],Table3[Sub],Table3[Promillage 3]),0) -> 0.747 | Y10: =IFERROR(_xlfn.XLOOKUP(Table4[[#This Row],[Subnummer]],Table3[Sub],Table3[Promillage 4]),0) -> 0.75 | Z10: =IFERROR(_xlfn.XLOOKUP(Table4[[#This Row],[Subnummer]],Table3[Sub],Table3[Promillage 5]),0) -> 0.82 | AA10: =$U10*V10/1000*V$7 -> 0 | AB10: =$U10*W10/1000*W$7 -> 0 | AC10: =$U10*X10/1000*X$7 -> 0 | AD10: =$U10*Y10/1000*Y$7 -> 0 | AE10: =$U10*Z10/1000*Z$7 -> 0 | AF10: =SUM(AA10:AE10) -> 0 | AG10: {=_xlfn.IFS(AF10=0,"Nihil",AF10>0,"Suppletie",AF10<0,"Restitutie")} -> Nihil
A11: =IFERROR(_xlfn.XLOOKUP(D11,Specificatie!C:C,Specificatie!A:A),"-") -> Amsterdamse Hogeschool vd Kunsten | B11: Bijverzekering bedrijfsuitrusting conform hertaxatierapport | C11: =IFERROR(_xlfn.XLOOKUP(Table4[[#This Row],[Subnummer]],Table3[Sub],Table3[Certificaat]),"-") -> 0 | D11: 18 | E11: =IFERROR(_xlfn.XLOOKUP(Table4[[#This Row],[Subnummer]],Table3[Sub],Table3[Verz. Waarde Oud:]),0) -> 0 | F11: 410000 | G11: 0 | H11: 0 | I11: 0 | J11: =E11+F11+G11-H11-I11 -> 410000 | K11: =J11-E11 -> 410000 | L11: 44725 | M11: 44725 | N11: =M11-L11 -> 0 | O11: 365 | P11: Nee | Q11: =F11*N11/O11 -> 0 | R11: {=_xlfn.IFS($P11="Nee",G11*$N11/$O11,$P11="Ja",G11*0.5)} -> 0 | S11: {=_xlfn.IFS($P11="Nee",-(H11*$N11/$O11),$P11="Ja",-(H11*0.5))} -> 0 | T11: =-I11*N11/O11 -> 0 | U11: =SUM(Q11:T11) -> 0 | V11: =IFERROR(_xlfn.XLOOKUP(Table4[[#This Row],[Subnummer]],Table3[Sub],Table3[Promillage 1]),0) -> 0.65 | W11: =IFERROR(_xlfn.XLOOKUP(Table4[[#This Row],[Subnummer]],Table3[Sub],Table3[Promillage 2]),0) -> 0.7 | X11: =IFERROR(_xlfn.XLOOKUP(Table4[[#This Row],[Subnummer]],Table3[Sub],Table3[Promillage 3]),0) -> 0.747 | Y11: =IFERROR(_xlfn.XLOOKUP(Table4[[#This Row],[Subnummer]],Table3[Sub],Table3[Promillage 4]),0) -> 0.75 | Z11: =IFERROR(_xlfn.XLOOKUP(Table4[[#This Row],[Subnummer]],Table3[Sub],Table3[Promillage 5]),0) -> 0.82 | AA11: =$U11*V11/1000*V$7 -> 0 | AB11: =$U11*W11/1000*W$7 -> 0 | AC11: =$U11*X11/1000*X$7 -> 0 | AD11: =$U11*Y11/1000*Y$7 -> 0 | AE11: =$U11*Z11/1000*Z$7 -> 0 | AF11: =SUM(AA11:AE11) -> 0 | AG11: {=_xlfn.IFS(AF11=0,"Nihil",AF11>0,"Suppletie",AF11<0,"Restitutie")} -> Nihil
A12: =IFERROR(_xlfn.XLOOKUP(D12,Specificatie!C:C,Specificatie!A:A),"-") -> Amsterdamse Hogeschool vd Kunsten | B12: Bijverzekering bedrijfsuitrusting conform hertaxatierapport | C12: =IFERROR(_xlfn.XLOOKUP(Table4[[#This Row],[Subnummer]],Table3[Sub],Table3[Certificaat]),"-") -> 0 | D12: 19 | E12: =IFERROR(_xlfn.XLOOKUP(Table4[[#This Row],[Subnummer]],Table3[Sub],Table3[Verz. Waarde Oud:]),0) -> 0 | F12: 345000 | G12: 0 | H12: 0 | I12: 0 | J12: =E12+F12+G12-H12-I12 -> 345000 | K12: =J12-E12 -> 345000 | L12: 44725 | M12: 44725 | N12: =M12-L12 -> 0 | O12: 365 | P12: Nee | Q12: =F12*N12/O12 -> 0 | R12: {=_xlfn.IFS($P12="Nee",G12*$N12/$O12,$P12="Ja",G12*0.5)} -> 0 | S12: {=_xlfn.IFS($P12="Nee",-(H12*$N12/$O12),$P12="Ja",-(H12*0.5))} -> 0 | T12: =-I12*N12/O12 -> 0 | U12: =SUM(Q12:T12) -> 0 | V12: =IFERROR(_xlfn.XLOOKUP(Table4[[#This Row],[Subnummer]],Table3[Sub],Table3[Promillage 1]),0) -> 0.65 | W12: =IFERROR(_xlfn.XLOOKUP(Table4[[#This Row],[Subnummer]],Table3[Sub],Table3[Promillage 2]),0) -> 0.7 | X12: =IFERROR(_xlfn.XLOOKUP(Table4[[#This Row],[Subnummer]],Table3[Sub],Table3[Promillage 3]),0) -> 0.747 | Y12: =IFERROR(_xlfn.XLOOKUP(Table4[[#This Row],[Subnummer]],Table3[Sub],Table3[Promillage 4]),0) -> 0.75 | Z12: =IFERROR(_xlfn.XLOOKUP(Table4[[#This Row],[Subnummer]],Table3[Sub],Table3[Promillage 5]),0) -> 0.82 | AA12: =$U12*V12/1000*V$7 -> 0 | AB12: =$U12*W12/1000*W$7 -> 0 | AC12: =$U12*X12/1000*X$7 -> 0 | AD12: =$U12*Y12/1000*Y$7 -> 0 | AE12: =$U12*Z12/1000*Z$7 -> 0 | AF12: =SUM(AA12:AE12) -> 0 | AG12: {=_xlfn.IFS(AF12=0,"Nihil",AF12>0,"Suppletie",AF12<0,"Restitutie")} -> Nihil
A13: =IFERROR(_xlfn.XLOOKUP(D13,Specificatie!C:C,Specificatie!A:A),"-") -> Amsterdamse Hogeschool vd Kunsten | B13: Bijverzekering huurdersbelang conform hertaxatierapport | C13: =IFERROR(_xlfn.XLOOKUP(Table4[[#This Row],[Subnummer]],Table3[Sub],Table3[Certificaat]),"-") -> 0 | D13: 22 | E13: =IFERROR(_xlfn.XLOOKUP(Table4[[#This Row],[Subnummer]],Table3[Sub],Table3[Verz. Waarde Oud:]),0) -> 0 | F13: 530000 | G13: 0 | H13: 0 | I13: 0 | J13: =E13+F13+G13-H13-I13 -> 530000 | K13: =J13-E13 -> 530000 | L13: 44725 | M13: 44725 | N13: =M13-L13 -> 0 | O13: 365 | P13: Nee | Q13: =F13*N13/O13 -> 0 | R13: {=_xlfn.IFS($P13="Nee",G13*$N13/$O13,$P13="Ja",G13*0.5)} -> 0 | S13: {=_xlfn.IFS($P13="Nee",-(H13*$N13/$O13),$P13="Ja",-(H13*0.5))} -> 0 | T13: =-I13*N13/O13 -> 0 | U13: =SUM(Q13:T13) -> 0 | V13: =IFERROR(_xlfn.XLOOKUP(Table4[[#This Row],[Subnummer]],Table3[Sub],Table3[Promillage 1]),0) -> 0.65 | W13: =IFERROR(_xlfn.XLOOKUP(Table4[[#This Row],[Subnummer]],Table3[Sub],Table3[Promillage 2]),0) -> 0.7 | X13: =IFERROR(_xlfn.XLOOKUP(Table4[[#This Row],[Subnummer]],Table3[Sub],Table3[Promillage 3]),0) -> 0.747 | Y13: =IFERROR(_xlfn.XLOOKUP(Table4[[#This Row],[Subnummer]],Table3[Sub],Table3[Promillage 4]),0) -> 0.75 | Z13: =IFERROR(_xlfn.XLOOKUP(Table4[[#This Row],[Subnummer]],Table3[Sub],Table3[Promillage 5]),0) -> 0.82 | AA13: =$U13*V13/1000*V$7 -> 0 | AB13: =$U13*W13/1000*W$7 -> 0 | AC13: =$U13*X13/1000*X$7 -> 0 | AD13: =$U13*Y13/1000*Y$7 -> 0 | AE13: =$U13*Z13/1000*Z$7 -> 0 | AF13: =SUM(AA13:AE13) -> 0 | AG13: {=_xlfn.IFS(AF13=0,"Nihil",AF13>0,"Suppletie",AF13<0,"Restitutie")} -> Nihil
A14: =IFERROR(_xlfn.XLOOKUP(D14,Specificatie!C:C,Specificatie!A:A),"-") -> Amsterdamse Hogeschool vd Kunsten | B14: Bijverzekering huurdersbelang conform hertaxatierapport | C14: =IFERROR(_xlfn.XLOOKUP(Table4[[#This Row],[Subnummer]],Table3[Sub],Table3[Certificaat]),"-") -> 0 | D14: 23 | E14: =IFERROR(_xlfn.XLOOKUP(Table4[[#This Row],[Subnummer]],Table3[Sub],Table3[Verz. Waarde Oud:]),0) -> 0 | F14: 115000 | G14: 0 | H14: 0 | I14: 0 | J14: =E14+F14+G14-H14-I14 -> 115000 | K14: =J14-E14 -> 115000 | L14: 44725 | M14: 44725 | N14: =M14-L14 -> 0 | O14: 365 | P14: Nee | Q14: =F14*N14/O14 -> 0 | R14: {=_xlfn.IFS($P14="Nee",G14*$N14/$O14,$P14="Ja",G14*0.5)} -> 0 | S14: {=_xlfn.IFS($P14="Nee",-(H14*$N14/$O14),$P14="Ja",-(H14*0.5))} -> 0 | T14: =-I14*N14/O14 -> 0 | U14: =SUM(Q14:T14) -> 0 | V14: =IFERROR(_xlfn.XLOOKUP(Table4[[#This Row],[Subnummer]],Table3[Sub],Table3[Promillage 1]),0) -> 0.65 | W14: =IFERROR(_xlfn.XLOOKUP(Table4[[#This Row],[Subnummer]],Table3[Sub],Table3[Promillage 2]),0) -> 0.7 | X14: =IFERROR(_xlfn.XLOOKUP(Table4[[#This Row],[Subnummer]],Table3[Sub],Table3[Promillage 3]),0) -> 0.747 | Y14: =IFERROR(_xlfn.XLOOKUP(Table4[[#This Row],[Subnummer]],Table3[Sub],Table3[Promillage 4]),0) -> 0.75 | Z14: =IFERROR(_xlfn.XLOOKUP(Table4[[#This Row],[Subnummer]],Table3[Sub],Table3[Promillage 5]),0) -> 0.82 | AA14: =$U14*V14/1000*V$7 -> 0 | AB14: =$U14*W14/1000*W$7 -> 0 | AC14: =$U14*X14/1000*X$7 -> 0 | AD14: =$U14*Y14/1000*Y$7 -> 0 | AE14: =$U14*Z14/1000*Z$7 -> 0 | AF14: =SUM(AA14:AE14) -> 0 | AG14: {=_xlfn.IFS(AF14=0,"Nihil",AF14>0,"Suppletie",AF14<0,"Restitutie")} -> Nihil
A15: =IFERROR(_xlfn.XLOOKUP(D15,Specificatie!C:C,Specificatie!A:A),"-") -> Amsterdamse Hogeschool vd Kunsten | B15: Bijverzekering huurdersbelang conform hertaxatierapport | C15: =IFERROR(_xlfn.XLOOKUP(Table4[[#This Row],[Subnummer]],Table3[Sub],Table3[Certificaat]),"-") -> 0 | D15: 24 | E15: =IFERROR(_xlfn.XLOOKUP(Table4[[#This Row],[Subnummer]],Table3[Sub],Table3[Verz. Waarde Oud:]),0) -> 0 | F15: 55000 | G15: 0 | H15: 0 | I15: 0 | J15: =E15+F15+G15-H15-I15 -> 55000 | K15: =J15-E15 -> 55000 | L15: 44725 | M15: 44725 | N15: =M15-L15 -> 0 | O15: 365 | P15: Nee | Q15: =F15*N15/O15 -> 0 | R15: {=_xlfn.IFS($P15="Nee",G15*$N15/$O15,$P15="Ja",G15*0.5)} -> 0 | S15: {=_xlfn.IFS($P15="Nee",-(H15*$N15/$O15),$P15="Ja",-(H15*0.5))} -> 0 | T15: =-I15*N15/O15 -> 0 | U15: =SUM(Q15:T15) -> 0 | V15: =IFERROR(_xlfn.XLOOKUP(Table4[[#This Row],[Subnummer]],Table3[Sub],Table3[Promillage 1]),0) -> 0.65 | W15: =IFERROR(_xlfn.XLOOKUP(Table4[[#This Row],[Subnummer]],Table3[Sub],Table3[Promillage 2]),0) -> 0.7 | X15: =IFERROR(_xlfn.XLOOKUP(Table4[[#This Row],[Subnummer]],Table3[Sub],Table3[Promillage 3]),0) -> 0.747 | Y15: =IFERROR(_xlfn.XLOOKUP(Table4[[#This Row],[Subnummer]],Table3[Sub],Table3[Promillage 4]),0) -> 0.75 | Z15: =IFERROR(_xlfn.XLOOKUP(Table4[[#This Row],[Subnummer]],Table3[Sub],Table3[Promillage 5]),0) -> 0.82 | AA15: =$U15*V15/1000*V$7 -> 0 | AB15: =$U15*W15/1000*W$7 -> 0 | AC15: =$U15*X15/1000*X$7 -> 0 | AD15: =$U15*Y15/1000*Y$7 -> 0 | AE15: =$U15*Z15/1000*Z$7 -> 0 | AF15: =SUM(AA15:AE15) -> 0 | AG15: {=_xlfn.IFS(AF15=0,"Nihil",AF15>0,"Suppletie",AF15<0,"Restitutie")} -> Nihil
A16: =IFERROR(_xlfn.XLOOKUP(D16,Table3[Sub],Table3[Verzekerde]),"-") -> Amsterdamse Hogeschool vd Kunsten | B16: Verhoging verzekerd bedrag op bedrijfsuitrusting in verband met hertaxatie | C16: =IFERROR(_xlfn.XLOOKUP(Table4[[#This Row],[Subnummer]],Table3[Sub],Table3[Certificaat]),"-") -> 0 | D16: 8 | E16: =IFERROR(_xlfn.XLOOKUP(Table4[[#This Row],[Subnummer]],Table3[Sub],Table3[Verz. Waarde Oud:]),0) -> 1699000 | F16: 0 | G16: 601000 | H16: 0 | I16: 0 | J16: =E16+F16+G16-H16-I16 -> 2300000 | K16: =J16-E16 -> 601000 | L16: 44797 | M16: 44797 | N16: =M16-L16 -> 0 | O16: 365 | P16: Nee | Q16: =F16*N16/O16 -> 0 | R16: {=_xlfn.IFS($P16="Nee",G16*$N16/$O16,$P16="Ja",G16*0.5)} -> 0 | S16: {=_xlfn.IFS($P16="Nee",-(H16*$N16/$O16),$P16="Ja",-(H16*0.5))} -> 0 | T16: =-I16*N16/O16 -> 0 | U16: =SUM(Q16:T16) -> 0 | V16: =IFERROR(_xlfn.XLOOKUP(Table4[[#This Row],[Subnummer]],Table3[Sub],Table3[Promillage 1]),0) -> 0.65 | W16: =IFERROR(_xlfn.XLOOKUP(Table4[[#This Row],[Subnummer]],Table3[Sub],Table3[Promillage 2]),0) -> 0.7 | X16: =IFERROR(_xlfn.XLOOKUP(Table4[[#This Row],[Subnummer]],Table3[Sub],Table3[Promillage 3]),0) -> 0.747 | Y16: =IFERROR(_xlfn.XLOOKUP(Table4[[#This Row],[Subnummer]],Table3[Sub],Table3[Promillage 4]),0) -> 0.75 | Z16: =IFERROR(_xlfn.XLOOKUP(Table4[[#This Row],[Subnummer]],Table3[Sub],Table3[Promillage 5]),0) -> 0.82 | AA16: =$U16*V16/1000*V$7 -> 0 | AB16: =$U16*W16/1000*W$7 -> 0 | AC16: =$U16*X16/1000*X$7 -> 0 | AD16: =$U16*Y16/1000*Y$7 -> 0 | AE16: =$U16*Z16/1000*Z$7 -> 0 | AF16: =SUM(AA16:AE16) -> 0 | AG16: {=_xlfn.IFS(AF16=0,"Nihil",AF16>0,"Suppletie",AF16<0,"Restitutie")} -> Nihil
A17: =IFERROR(_xlfn.XLOOKUP(D17,Table3[Sub],Table3[Verzekerde]),"-") -> Amsterdamse Hogeschool vd Kunsten | B17: Verhoging verzekerd bedrag op bedrijfsuitrusting in verband met hertaxatie | C17: =IFERROR(_xlfn.XLOOKUP(Table4[[#This Row],[Subnummer]],Table3[Sub],Table3[Certificaat]),"-") -> 0 | D17: 15 | E17: =IFERROR(_xlfn.XLOOKUP(Table4[[#This Row],[Subnummer]],Table3[Sub],Table3[Verz. Waarde Oud:]),0) -> 1264000 | F17: 0 | G17: 136000 | H17: 0 | I17: 0 | J17: =E17+F17+G17-H17-I17 -> 1400000 | K17: =J17-E17 -> 136000 | L17: 44799 | M17: 44799 | N17: =M17-L17 -> 0 | O17: 365 | P17: Nee | Q17: =F17*N17/O17 -> 0 | R17: {=_xlfn.IFS($P17="Nee",G17*$N17/$O17,$P17="Ja",G17*0.5)} -> 0 | S17: {=_xlfn.IFS($P17="Nee",-(H17*$N17/$O17),$P17="Ja",-(H17*0.5))} -> 0 | T17: =-I17*N17/O17 -> 0 | U17: =SUM(Q17:T17) -> 0 | V17: =IFERROR(_xlfn.XLOOKUP(Table4[[#This Row],[Subnummer]],Table3[Sub],Table3[Promillage 1]),0) -> 0.65 | W17: =IFERROR(_xlfn.XLOOKUP(Table4[[#This Row],[Subnummer]],Table3[Sub],Table3[Promillage 2]),0) -> 0.7 | X17: =IFERROR(_xlfn.XLOOKUP(Table4[[#This Row],[Subnummer]],Table3[Sub],Table3[Promillage 3]),0) -> 0.747 | Y17: =IFERROR(_xlfn.XLOOKUP(Table4[[#This Row],[Subnummer]],Table3[Sub],Table3[Promillage 4]),0) -> 0.75 | Z17: =IFERROR(_xlfn.XLOOKUP(Table4[[#This Row],[Subnummer]],Table3[Sub],Table3[Promillage 5]),0) -> 0.82 | AA17: =$U17*V17/1000*V$7 -> 0 | AB17: =$U17*W17/1000*W$7 -> 0 | AC17: =$U17*X17/1000*X$7 -> 0 | AD17: =$U17*Y17/1000*Y$7 -> 0 | AE17: =$U17*Z17/1000*Z$7 -> 0 | AF17: =SUM(AA17:AE17) -> 0 | AG17: {=_xlfn.IFS(AF17=0,"Nihil",AF17>0,"Suppletie",AF17<0,"Restitutie")} -> Nihil
A18: =IFERROR(_xlfn.XLOOKUP(D18,Table3[Sub],Table3[Verzekerde]),"-") -> Amsterdamse Hogeschool vd Kunsten | B18: Verhoging verzekerd bedrag op bedrijfsuitrusting in verband met hertaxatie | C18: =IFERROR(_xlfn.XLOOKUP(Table4[[#This Row],[Subnummer]],Table3[Sub],Table3[Certificaat]),"-") -> 0 | D18: 16 | E18: =IFERROR(_xlfn.XLOOKUP(Table4[[#This Row],[Subnummer]],Table3[Sub],Table3[Verz. Waarde Oud:]),0) -> 1448000 | F18: 0 | G18: 112000 | H18: 0 | I18: 0 | J18: =E18+F18+G18-H18-I18 -> 1560000 | K18: =J18-E18 -> 112000 | L18: 44799 | M18: 44799 | N18: =M18-L18 -> 0 | O18: 365 | P18: Nee | Q18: =F18*N18/O18 -> 0 | R18: {=_xlfn.IFS($P18="Nee",G18*$N18/$O18,$P18="Ja",G18*0.5)} -> 0 | S18: {=_xlfn.IFS($P18="Nee",-(H18*$N18/$O18),$P18="Ja",-(H18*0.5))} -> 0 | T18: =-I18*N18/O18 -> 0 | U18: =SUM(Q18:T18) -> 0 | V18: =IFERROR(_xlfn.XLOOKUP(Table4[[#This Row],[Subnummer]],Table3[Sub],Table3[Promillage 1]),0) -> 0.65 | W18: =IFERROR(_xlfn.XLOOKUP(Table4[[#This Row],[Subnummer]],Table3[Sub],Table3[Promillage 2]),0) -> 0.7 | X18: =IFERROR(_xlfn.XLOOKUP(Table4[[#This Row],[Subnummer]],Table3[Sub],Table3[Promillage 3]),0) -> 0.747 | Y18: =IFERROR(_xlfn.XLOOKUP(Table4[[#This Row],[Subnummer]],Table3[Sub],Table3[Promillage 4]),0) -> 0.75 | Z18: =IFERROR(_xlfn.XLOOKUP(Table4[[#This Row],[Subnummer]],Table3[Sub],Table3[Promillage 5]),0) -> 0.82 | AA18: =$U18*V18/1000*V$7 -> 0 | AB18: =$U18*W18/1000*W$7 -> 0 | AC18: =$U18*X18/1000*X$7 -> 0 | AD18: =$U18*Y18/1000*Y$7 -> 0 | AE18: =$U18*Z18/1000*Z$7 -> 0 | AF18: =SUM(AA18:AE18) -> 0 | AG18: {=_xlfn.IFS(AF18=0,"Nihil",AF18>0,"Suppletie",AF18<0,"Restitutie")} -> Nihil
A19: =IFERROR(_xlfn.XLOOKUP(D19,Specificatie!C:C,Specificatie!A:A),"-") -> Amsterdamse Hogeschool vd Kunsten | B19: Verhoging verzekerd bedrag op bedrijfsuitrusting in verband met hertaxatie | C19: =IFERROR(_xlfn.XLOOKUP(Table4[[#This Row],[Subnummer]],Table3[Sub],Table3[Certificaat]),"-") -> 0 | D19: 4 | E19: =IFERROR(_xlfn.XLOOKUP(Table4[[#This Row],[Subnummer]],Table3[Sub],Table3[Verz. Waarde Oud:]),0) -> 13560000 | F19: 0 | G19: 2240000 | H19: 0 | I19: 0 | J19: =E19+F19+G19-H19-I19 -> 15800000 | K19: =J19-E19 -> 2240000 | L19: 44803 | M19: 44803 | N19: =M19-L19 -> 0 | O19: 365 | P19: Nee | Q19: =F19*N19/O19 -> 0 | R19: {=_xlfn.IFS($P19="Nee",G19*$N19/$O19,$P19="Ja",G19*0.5)} -> 0 | S19: {=_xlfn.IFS($P19="Nee",-(H19*$N19/$O19),$P19="Ja",-(H19*0.5))} -> 0 | T19: =-I19*N19/O19 -> 0 | U19: =SUM(Q19:T19) -> 0 | V19: =IFERROR(_xlfn.XLOOKUP(Table4[[#This Row],[Subnummer]],Table3[Sub],Table3[Promillage 1]),0) -> 0.65 | W19: =IFERROR(_xlfn.XLOOKUP(Table4[[#This Row],[Subnummer]],Table3[Sub],Table3[Promillage 2]),0) -> 0.7 | X19: =IFERROR(_xlfn.XLOOKUP(Table4[[#This Row],[Subnummer]],Table3[Sub],Table3[Promillage 3]),0) -> 0.747 | Y19: =IFERROR(_xlfn.XLOOKUP(Table4[[#This Row],[Subnummer]],Table3[Sub],Table3[Promillage 4]),0) -> 0.75 | Z19: =IFERROR(_xlfn.XLOOKUP(Table4[[#This Row],[Subnummer]],Table3[Sub],Table3[Promillage 5]),0) -> 0.82 | AA19: =$U19*V19/1000*V$7 -> 0 | AB19: =$U19*W19/1000*W$7 -> 0 | AC19: =$U19*X19/1000*X$7 -> 0 | AD19: =$U19*Y19/1000*Y$7 -> 0 | AE19: =$U19*Z19/1000*Z$7 -> 0 | AF19: =SUM(AA19:AE19) -> 0 | AG19: {=_xlfn.IFS(AF19=0,"Nihil",AF19>0,"Suppletie",AF19<0,"Restitutie")} -> Nihil
A20: =IFERROR(_xlfn.XLOOKUP(D20,Specificatie!C:C,Specificatie!A:A),"-") -> Amsterdamse Hogeschool vd Kunsten | B20: Verhoging verzekerd bedrag op bedrijfsuitrusting in verband met hertaxatie | C20: =IFERROR(_xlfn.XLOOKUP(Table4[[#This Row],[Subnummer]],Table3[Sub],Table3[Certificaat]),"-") -> 0 | D20: 2 | E20: =IFERROR(_xlfn.XLOOKUP(Table4[[#This Row],[Subnummer]],Table3[Sub],Table3[Verz. Waarde Oud:]),0) -> 1487000 | F20: 0 | G20: 283000 | H20: 0 | I20: 0 | J20: =E20+F20+G20-H20-I20 -> 1770000 | K20: =J20-E20 -> 283000 | L20: 44804 | M20: 44804 | N20: =M20-L20 -> 0 | O20: 365 | P20: Nee | Q20: =F20*N20/O20 -> 0 | R20: {=_xlfn.IFS($P20="Nee",G20*$N20/$O20,$P20="Ja",G20*0.5)} -> 0 | S20: {=_xlfn.IFS($P20="Nee",-(H20*$N20/$O20),$P20="Ja",-(H20*0.5))} -> 0 | T20: =-I20*N20/O20 -> 0 | U20: =SUM(Q20:T20) -> 0 | V20: =IFERROR(_xlfn.XLOOKUP(Table4[[#This Row],[Subnummer]],Table3[Sub],Table3[Promillage 1]),0) -> 0.65 | W20: =IFERROR(_xlfn.XLOOKUP(Table4[[#This Row],[Subnummer]],Table3[Sub],Table3[Promillage 2]),0) -> 0.7 | X20: =IFERROR(_xlfn.XLOOKUP(Table4[[#This Row],[Subnummer]],Table3[Sub],Table3[Promillage 3]),0) -> 0.747 | Y20: =IFERROR(_xlfn.XLOOKUP(Table4[[#This Row],[Subnummer]],Table3[Sub],Table3[Promillage 4]),0) -> 0.75 | Z20: =IFERROR(_xlfn.XLOOKUP(Table4[[#This Row],[Subnummer]],Table3[Sub],Table3[Promillage 5]),0) -> 0.82 | AA20: =$U20*V20/1000*V$7 -> 0 | AB20: =$U20*W20/1000*W$7 -> 0 | AC20: =$U20*X20/1000*X$7 -> 0 | AD20: =$U20*Y20/1000*Y$7 -> 0 | AE20: =$U20*Z20/1000*Z$7 -> 0 | AF20: =SUM(AA20:AE20) -> 0 | AG20: {=_xlfn.IFS(AF20=0,"Nihil",AF20>0,"Suppletie",AF20<0,"Restitutie")} -> Nihil
A21: =IFERROR(_xlfn.XLOOKUP(D21,Specificatie!C:C,Specificatie!A:A),"-") -> Amsterdamse Hogeschool vd Kunsten | B21: Verlaging verzekerd bedrag op bedrijfsuitrusting in verband met hertaxatie | C21: =IFERROR(_xlfn.XLOOKUP(Table4[[#This Row],[Subnummer]],Table3[Sub],Table3[Certificaat]),"-") -> 0 | D21: 10 | E21: =IFERROR(_xlfn.XLOOKUP(Table4[[#This Row],[Subnummer]],Table3[Sub],Table3[Verz. Waarde Oud:]),0) -> 257000 | F21: 0 | G21: 0 | H21: 27000 | I21: 0 | J21: =E21+F21+G21-H21-I21 -> 230000 | K21: =J21-E21 -> -27000 | L21: 44804 | M21: 44804 | N21: =M21-L21 -> 0 | O21: 365 | P21: Nee | Q21: =F21*N21/O21 -> 0 | R21: {=_xlfn.IFS($P21="Nee",G21*$N21/$O21,$P21="Ja",G21*0.5)} -> 0 | S21: {=_xlfn.IFS($P21="Nee",-(H21*$N21/$O21),$P21="Ja",-(H21*0.5))} -> 0 | T21: =-I21*N21/O21 -> 0 | U21: =SUM(Q21:T21) -> 0 | V21: =IFERROR(_xlfn.XLOOKUP(Table4[[#This Row],[Subnummer]],Table3[Sub],Table3[Promillage 1]),0) -> 0.65 | W21: =IFERROR(_xlfn.XLOOKUP(Table4[[#This Row],[Subnummer]],Table3[Sub],Table3[Promillage 2]),0) -> 0.7 | X21: =IFERROR(_xlfn.XLOOKUP(Table4[[#This Row],[Subnummer]],Table3[Sub],Table3[Promillage 3]),0) -> 0.747 | Y21: =IFERROR(_xlfn.XLOOKUP(Table4[[#This Row],[Subnummer]],Table3[Sub],Table3[Promillage 4]),0) -> 0.75 | Z21: =IFERROR(_xlfn.XLOOKUP(Table4[[#This Row],[Subnummer]],Table3[Sub],Table3[Promillage 5]),0) -> 0.82 | AA21: =$U21*V21/1000*V$7 -> 0 | AB21: =$U21*W21/1000*W$7 -> 0 | AC21: =$U21*X21/1000*X$7 -> 0 | AD21: =$U21*Y21/1000*Y$7 -> 0 | AE21: =$U21*Z21/1000*Z$7 -> 0 | AF21: =SUM(AA21:AE21) -> 0 | AG21: {=_xlfn.IFS(AF21=0,"Nihil",AF21>0,"Suppletie",AF21<0,"Restitutie")} -> Nihil
A22: =IFERROR(_xlfn.XLOOKUP(D22,Table3[Sub],Table3[Verzekerde]),"-") -> Amsterdamse Hogeschool vd Kunsten | B22: Verhoging verzekerd bedrag op bedrijfsuitrusting in verband met hertaxatie | C22: =IFERROR(_xlfn.XLOOKUP(Table4[[#This Row],[Subnummer]],Table3[Sub],Table3[Certificaat]),"-") -> 0 | D22: 12 | E22: =IFERROR(_xlfn.XLOOKUP(Table4[[#This Row],[Subnummer]],Table3[Sub],Table3[Verz. Waarde Oud:]),0) -> 8719000 | F22: 0 | G22: 931000 | H22: 0 | I22: 0 | J22: =E22+F22+G22-H22-I22 -> 9650000 | K22: =J22-E22 -> 931000 | L22: 44809 | M22: 44809 | N22: =M22-L22 -> 0 | O22: 365 | P22: Nee | Q22: =F22*N22/O22 -> 0 | R22: {=_xlfn.IFS($P22="Nee",G22*$N22/$O22,$P22="Ja",G22*0.5)} -> 0 | S22: {=_xlfn.IFS($P22="Nee",-(H22*$N22/$O22),$P22="Ja",-(H22*0.5))} -> 0 | T22: =-I22*N22/O22 -> 0 | U22: =SUM(Q22:T22) -> 0 | V22: =IFERROR(_xlfn.XLOOKUP(Table4[[#This Row],[Subnummer]],Table3[Sub],Table3[Promillage 1]),0) -> 0.65 | W22: =IFERROR(_xlfn.XLOOKUP(Table4[[#This Row],[Subnummer]],Table3[Sub],Table3[Promillage 2]),0) -> 0.7 | X22: =IFERROR(_xlfn.XLOOKUP(Table4[[#This Row],[Subnummer]],Table3[Sub],Table3[Promillage 3]),0) -> 0.747 | Y22: =IFERROR(_xlfn.XLOOKUP(Table4[[#This Row],[Subnummer]],Table3[Sub],Table3[Promillage 4]),0) -> 0.75 | Z22: =IFERROR(_xlfn.XLOOKUP(Table4[[#This Row],[Subnummer]],Table3[Sub],Table3[Promillage 5]),0) -> 0.82 | AA22: =$U22*V22/1000*V$7 -> 0 | AB22: =$U22*W22/1000*W$7 -> 0 | AC22: =$U22*X22/1000*X$7 -> 0 | AD22: =$U22*Y22/1000*Y$7 -> 0 | AE22: =$U22*Z22/1000*Z$7 -> 0 | AF22: =SUM(AA22:AE22) -> 0 | AG22: {=_xlfn.IFS(AF22=0,"Nihil",AF22>0,"Suppletie",AF22<0,"Restitutie")} -> Nihil
A23: =IFERROR(_xlfn.XLOOKUP(D23,Table3[Sub],Table3[Verzekerde]),"-") -> Amsterdamse Hogeschool vd Kunsten | B23: Verhoging verzekerd bedrag op bedrijfsuitrusting in verband met hertaxatie | C23: =IFERROR(_xlfn.XLOOKUP(Table4[[#This Row],[Subnummer]],Table3[Sub],Table3[Certificaat]),"-") -> 0 | D23: 6 | E23: =IFERROR(_xlfn.XLOOKUP(Table4[[#This Row],[Subnummer]],Table3[Sub],Table3[Verz. Waarde Oud:]),0) -> 8808000 | F23: 0 | G23: 92000 | H23: 0 | I23: 0 | J23: =E23+F23+G23-H23-I23 -> 8900000 | K23: =J23-E23 -> 92000 | L23: 44811 | M23: 44811 | N23: =M23-L23 -> 0 | O23: 365 | P23: Nee | Q23: =F23*N23/O23 -> 0 | R23: {=_xlfn.IFS($P23="Nee",G23*$N23/$O23,$P23="Ja",G23*0.5)} -> 0 | S23: {=_xlfn.IFS($P23="Nee",-(H23*$N23/$O23),$P23="Ja",-(H23*0.5))} -> 0 | T23: =-I23*N23/O23 -> 0 | U23: =SUM(Q23:T23) -> 0 | V23: =IFERROR(_xlfn.XLOOKUP(Table4[[#This Row],[Subnummer]],Table3[Sub],Table3[Promillage 1]),0) -> 0.65 | W23: =IFERROR(_xlfn.XLOOKUP(Table4[[#This Row],[Subnummer]],Table3[Sub],Table3[Promillage 2]),0) -> 0.7 | X23: =IFERROR(_xlfn.XLOOKUP(Table4[[#This Row],[Subnummer]],Table3[Sub],Table3[Promillage 3]),0) -> 0.747 | Y23: =IFERROR(_xlfn.XLOOKUP(Table4[[#This Row],[Subnummer]],Table3[Sub],Table3[Promillage 4]),0) -> 0.75 | Z23: =IFERROR(_xlfn.XLOOKUP(Table4[[#This Row],[Subnummer]],Table3[Sub],Table3[Promillage 5]),0) -> 0.82 | AA23: =$U23*V23/1000*V$7 -> 0 | AB23: =$U23*W23/1000*W$7 -> 0 | AC23: =$U23*X23/1000*X$7 -> 0 | AD23: =$U23*Y23/1000*Y$7 -> 0 | AE23: =$U23*Z23/1000*Z$7 -> 0 | AF23: =SUM(AA23:AE23) -> 0 | AG23: {=_xlfn.IFS(AF23=0,"Nihil",AF23>0,"Suppletie",AF23<0,"Restitutie")} -> Nihil
A24: =IFERROR(_xlfn.XLOOKUP(D24,Specificatie!C:C,Specificatie!A:A),"-") -> Amsterdamse Hogeschool vd Kunsten | B24: Verhoging verzekerd bedrag op bedrijfsuitrusting in verband met hertaxatie | C24: =IFERROR(_xlfn.XLOOKUP(Table4[[#This Row],[Subnummer]],Table3[Sub],Table3[Certificaat]),"-") -> 0 | D24: 20 | E24: =IFERROR(_xlfn.XLOOKUP(Table4[[#This Row],[Subnummer]],Table3[Sub],Table3[Verz. Waarde Oud:]),0) -> 2287000 | F24: 0 | G24: 13210 | H24: 0 | I24: 0 | J24: =E24+F24+G24-H24-I24 -> 2300210 | K24: =J24-E24 -> 13210 | L24: 44811 | M24: 44811 | N24: =M24-L24 -> 0 | O24: 365 | P24: Nee | Q24: =F24*N24/O24 -> 0 | R24: {=_xlfn.IFS($P24="Nee",G24*$N24/$O24,$P24="Ja",G24*0.5)} -> 0 | S24: {=_xlfn.IFS($P24="Nee",-(H24*$N24/$O24),$P24="Ja",-(H24*0.5))} -> 0 | T24: =-I24*N24/O24 -> 0 | U24: =SUM(Q24:T24) -> 0 | V24: =IFERROR(_xlfn.XLOOKUP(Table4[[#This Row],[Subnummer]],Table3[Sub],Table3[Promillage 1]),0) -> 0.65 | W24: =IFERROR(_xlfn.XLOOKUP(Table4[[#This Row],[Subnummer]],Table3[Sub],Table3[Promillage 2]),0) -> 0.7 | X24: =IFERROR(_xlfn.XLOOKUP(Table4[[#This Row],[Subnummer]],Table3[Sub],Table3[Promillage 3]),0) -> 0.747 | Y24: =IFERROR(_xlfn.XLOOKUP(Table4[[#This Row],[Subnummer]],Table3[Sub],Table3[Promillage 4]),0) -> 0.75 | Z24: =IFERROR(_xlfn.XLOOKUP(Table4[[#This Row],[Subnummer]],Table3[Sub],Table3[Promillage 5]),0) -> 0.82 | AA24: =$U24*V24/1000*V$7 -> 0 | AB24: =$U24*W24/1000*W$7 -> 0 | AC24: =$U24*X24/1000*X$7 -> 0 | AD24: =$U24*Y24/1000*Y$7 -> 0 | AE24: =$U24*Z24/1000*Z$7 -> 0 | AF24: =SUM(AA24:AE24) -> 0 | AG24: {=_xlfn.IFS(AF24=0,"Nihil",AF24>0,"Suppletie",AF24<0,"Restitutie")} -> Nihil
A25: =IFERROR(_xlfn.XLOOKUP(D25,Table3[Sub],Table3[Verzekerde]),"-") -> Amsterdamse Hogeschool vd Kunsten | B25: Verhoging verzekerd bedrag op gebouwen in verband met hertaxatie | C25: =IFERROR(_xlfn.XLOOKUP(Table4[[#This Row],[Subnummer]],Table3[Sub],Table3[Certificaat]),"-") -> 0 | D25: 1 | E25: =IFERROR(_xlfn.XLOOKUP(Table4[[#This Row],[Subnummer]],Table3[Sub],Table3[Verz. Waarde Oud:]),0) -> 10898000 | F25: 0 | G25: 1102000 | H25: 0 | I25: 0 | J25: =E25+F25+G25-H25-I25 -> 12000000 | K25: =J25-E25 -> 1102000 | L25: 44813 | M25: 44813 | N25: =M25-L25 -> 0 | O25: 365 | P25: Nee | Q25: =F25*N25/O25 -> 0 | R25: {=_xlfn.IFS($P25="Nee",G25*$N25/$O25,$P25="Ja",G25*0.5)} -> 0 | S25: {=_xlfn.IFS($P25="Nee",-(H25*$N25/$O25),$P25="Ja",-(H25*0.5))} -> 0 | T25: =-I25*N25/O25 -> 0 | U25: =SUM(Q25:T25) -> 0 | V25: =IFERROR(_xlfn.XLOOKUP(Table4[[#This Row],[Subnummer]],Table3[Sub],Table3[Promillage 1]),0) -> 0.65 | W25: =IFERROR(_xlfn.XLOOKUP(Table4[[#This Row],[Subnummer]],Table3[Sub],Table3[Promillage 2]),0) -> 0.7 | X25: =IFERROR(_xlfn.XLOOKUP(Table4[[#This Row],[Subnummer]],Table3[Sub],Table3[Promillage 3]),0) -> 0.747 | Y25: =IFERROR(_xlfn.XLOOKUP(Table4[[#This Row],[Subnummer]],Table3[Sub],Table3[Promillage 4]),0) -> 0.75 | Z25: =IFERROR(_xlfn.XLOOKUP(Table4[[#This Row],[Subnummer]],Table3[Sub],Table3[Promillage 5]),0) -> 0.82 | AA25: =$U25*V25/1000*V$7 -> 0 | AB25: =$U25*W25/1000*W$7 -> 0 | AC25: =$U25*X25/1000*X$7 -> 0 | AD25: =$U25*Y25/1000*Y$7 -> 0 | AE25: =$U25*Z25/1000*Z$7 -> 0 | AF25: =SUM(AA25:AE25) -> 0 | AG25: {=_xlfn.IFS(AF25=0,"Nihil",AF25>0,"Suppletie",AF25<0,"Restitutie")} -> Nihil
A26: =IFERROR(_xlfn.XLOOKUP(D26,Table3[Sub],Table3[Verzekerde]),"-") -> Amsterdamse Hogeschool vd Kunsten | B26: Verhoging verzekerd bedrag op gebouwen in verband met hertaxatie | C26: =IFERROR(_xlfn.XLOOKUP(Table4[[#This Row],[Subnummer]],Table3[Sub],Table3[Certificaat]),"-") -> 0 | D26: 3 | E26: =IFERROR(_xlfn.XLOOKUP(Table4[[#This Row],[Subnummer]],Table3[Sub],Table3[Verz. Waarde Oud:]),0) -> 56098000 | F26: 0 | G26: 20602000 | H26: 0 | I26: 0 | J26: =E26+F26+G26-H26-I26 -> 76700000 | K26: =J26-E26 -> 20602000 | L26: 44813 | M26: 44927 | N26: =M26-L26 -> 114 | O26: 365 | P26: Nee | Q26: =F26*N26/O26 -> 0 | R26: {=_xlfn.IFS($P26="Nee",G26*$N26/$O26,$P26="Ja",G26*0.5)} -> 6434597.3 | S26: {=_xlfn.IFS($P26="Nee",-(H26*$N26/$O26),$P26="Ja",-(H26*0.5))} -> 0 | T26: =-I26*N26/O26 -> 0 | U26: =SUM(Q26:T26) -> 6434597.3 | V26: =IFERROR(_xlfn.XLOOKUP(Table4[[#This Row],[Subnummer]],Table3[Sub],Table3[Promillage 1]),0) -> 0.65 | W26: =IFERROR(_xlfn.XLOOKUP(Table4[[#This Row],[Subnummer]],Table3[Sub],Table3[Promillage 2]),0) -> 0.7 | X26: =IFERROR(_xlfn.XLOOKUP(Table4[[#This Row],[Subnummer]],Table3[Sub],Table3[Promillage 3]),0) -> 0.747 | Y26: =IFERROR(_xlfn.XLOOKUP(Table4[[#This Row],[Subnummer]],Table3[Sub],Table3[Promillage 4]),0) -> 0.75 | Z26: =IFERROR(_xlfn.XLOOKUP(Table4[[#This Row],[Subnummer]],Table3[Sub],Table3[Promillage 5]),0) -> 0.82 | AA26: =$U26*V26/1000*V$7 -> 1672.9953 | AB26: =$U26*W26/1000*W$7 -> 1126.0545 | AC26: =$U26*X26/1000*X$7 -> 720.99662 | AD26: =$U26*Y26/1000*Y$7 -> 603.24349 | AE26: =$U26*Z26/1000*Z$7 -> 395.72773 | AF26: =SUM(AA26:AE26) -> 4519.0177 | AG26: {=_xlfn.IFS(AF26=0,"Nihil",AF26>0,"Suppletie",AF26<0,"Restitutie")} -> Suppletie
A27: =IFERROR(_xlfn.XLOOKUP(D27,Table3[Sub],Table3[Verzekerde]),"-") -> Amsterdamse Hogeschool vd Kunsten | B27: Verhoging verzekerd bedrag op gebouwen in verband met hertaxatie | C27: =IFERROR(_xlfn.XLOOKUP(Table4[[#This Row],[Subnummer]],Table3[Sub],Table3[Certificaat]),"-") -> 0 | D27: 5 | E27: =IFERROR(_xlfn.XLOOKUP(Table4[[#This Row],[Subnummer]],Table3[Sub],Table3[Verz. Waarde Oud:]),0) -> 28052000 | F27: 0 | G27: 3798000 | H27: 0 | I27: 0 | J27: =E27+F27+G27-H27-I27 -> 31850000 | K27: =J27-E27 -> 3798000 | L27: 44813 | M27: 44813 | N27: =M27-L27 -> 0 | O27: 365 | P27: Nee | Q27: =F27*N27/O27 -> 0 | R27: {=_xlfn.IFS($P27="Nee",G27*$N27/$O27,$P27="Ja",G27*0.5)} -> 0 | S27: {=_xlfn.IFS($P27="Nee",-(H27*$N27/$O27),$P27="Ja",-(H27*0.5))} -> 0 | T27: =-I27*N27/O27 -> 0 | U27: =SUM(Q27:T27) -> 0 | V27: =IFERROR(_xlfn.XLOOKUP(Table4[[#This Row],[Subnummer]],Table3[Sub],Table3[Promillage 1]),0) -> 0.65 | W27: =IFERROR(_xlfn.XLOOKUP(Table4[[#This Row],[Subnummer]],Table3[Sub],Table3[Promillage 2]),0) -> 0.7 | X27: =IFERROR(_xlfn.XLOOKUP(Table4[[#This Row],[Subnummer]],Table3[Sub],Table3[Promillage 3]),0) -> 0.747 | Y27: =IFERROR(_xlfn.XLOOKUP(Table4[[#This Row],[Subnummer]],Table3[Sub],Table3[Promillage 4]),0) -> 0.75 | Z27: =IFERROR(_xlfn.XLOOKUP(Table4[[#This Row],[Subnummer]],Table3[Sub],Table3[Promillage 5]),0) -> 0.82 | AA27: =$U27*V27/1000*V$7 -> 0 | AB27: =$U27*W27/1000*W$7 -> 0 | AC27: =$U27*X27/1000*X$7 -> 0 | AD27: =$U27*Y27/1000*Y$7 -> 0 | AE27: =$U27*Z27/1000*Z$7 -> 0 | AF27: =SUM(AA27:AE27) -> 0 | AG27: {=_xlfn.IFS(AF27=0,"Nihil",AF27>0,"Suppletie",AF27<0,"Restitutie")} -> Nihil
A28: =IFERROR(_xlfn.XLOOKUP(D28,Table3[Sub],Table3[Verzekerde]),"-") -> Amsterdamse Hogeschool vd Kunsten | B28: Verhoging verzekerd bedrag op gebouwen in verband met hertaxatie | C28: =IFERROR(_xlfn.XLOOKUP(Table4[[#This Row],[Subnummer]],Table3[Sub],Table3[Certificaat]),"-") -> 0 | D28: 7 | E28: =IFERROR(_xlfn.XLOOKUP(Table4[[#This Row],[Subnummer]],Table3[Sub],Table3[Verz. Waarde Oud:]),0) -> 13908000 | F28: 0 | G28: 3442000 | H28: 0 | I28: 0 | J28: =E28+F28+G28-H28-I28 -> 17350000 | K28: =J28-E28 -> 3442000 | L28: 44813 | M28: 44813 | N28: =M28-L28 -> 0 | O28: 365 | P28: Nee | Q28: =F28*N28/O28 -> 0 | R28: {=_xlfn.IFS($P28="Nee",G28*$N28/$O28,$P28="Ja",G28*0.5)} -> 0 | S28: {=_xlfn.IFS($P28="Nee",-(H28*$N28/$O28),$P28="Ja",-(H28*0.5))} -> 0 | T28: =-I28*N28/O28 -> 0 | U28: =SUM(Q28:T28) -> 0 | V28: =IFERROR(_xlfn.XLOOKUP(Table4[[#This Row],[Subnummer]],Table3[Sub],Table3[Promillage 1]),0) -> 0.65 | W28: =IFERROR(_xlfn.XLOOKUP(Table4[[#This Row],[Subnummer]],Table3[Sub],Table3[Promillage 2]),0) -> 0.7 | X28: =IFERROR(_xlfn.XLOOKUP(Table4[[#This Row],[Subnummer]],Table3[Sub],Table3[Promillage 3]),0) -> 0.747 | Y28: =IFERROR(_xlfn.XLOOKUP(Table4[[#This Row],[Subnummer]],Table3[Sub],Table3[Promillage 4]),0) -> 0.75 | Z28: =IFERROR(_xlfn.XLOOKUP(Table4[[#This Row],[Subnummer]],Table3[Sub],Table3[Promillage 5]),0) -> 0.82 | AA28: =$U28*V28/1000*V$7 -> 0 | AB28: =$U28*W28/1000*W$7 -> 0 | AC28: =$U28*X28/1000*X$7 -> 0 | AD28: =$U28*Y28/1000*Y$7 -> 0 | AE28: =$U28*Z28/1000*Z$7 -> 0 | AF28: =SUM(AA28:AE28) -> 0 | AG28: {=_xlfn.IFS(AF28=0,"Nihil",AF28>0,"Suppletie",AF28<0,"Restitutie")} -> Nihil
A29: =IFERROR(_xlfn.XLOOKUP(D29,Table3[Sub],Table3[Verzekerde]),"-") -> Amsterdamse Hogeschool vd Kunsten | B29: Verhoging verzekerd bedrag op gebouwen in verband met hertaxatie | C29: =IFERROR(_xlfn.XLOOKUP(Table4[[#This Row],[Subnummer]],Table3[Sub],Table3[Certificaat]),"-") -> 0 | D29: 11 | E29: =IFERROR(_xlfn.XLOOKUP(Table4[[#This Row],[Subnummer]],Table3[Sub],Table3[Verz. Waarde Oud:]),0) -> 40756000 | F29: 0 | G29: 11744000 | H29: 0 | I29: 0 | J29: =E29+F29+G29-H29-I29 -> 52500000 | K29: =J29-E29 -> 11744000 | L29: 44813 | M29: 44927 | N29: =M29-L29 -> 114 | O29: 365 | P29: Nee | Q29: =F29*N29/O29 -> 0 | R29: {=_xlfn.IFS($P29="Nee",G29*$N29/$O29,$P29="Ja",G29*0.5)} -> 3667989 | S29: {=_xlfn.IFS($P29="Nee",-(H29*$N29/$O29),$P29="Ja",-(H29*0.5))} -> 0 | T29: =-I29*N29/O29 -> 0 | U29: =SUM(Q29:T29) -> 3667989 | V29: =IFERROR(_xlfn.XLOOKUP(Table4[[#This Row],[Subnummer]],Table3[Sub],Table3[Promillage 1]),0) -> 0.65 | W29: =IFERROR(_xlfn.XLOOKUP(Table4[[#This Row],[Subnummer]],Table3[Sub],Table3[Promillage 2]),0) -> 0.7 | X29: =IFERROR(_xlfn.XLOOKUP(Table4[[#This Row],[Subnummer]],Table3[Sub],Table3[Promillage 3]),0) -> 0.747 | Y29: =IFERROR(_xlfn.XLOOKUP(Table4[[#This Row],[Subnummer]],Table3[Sub],Table3[Promillage 4]),0) -> 0.75 | Z29: =IFERROR(_xlfn.XLOOKUP(Table4[[#This Row],[Subnummer]],Table3[Sub],Table3[Promillage 5]),0) -> 0.82 | AA29: =$U29*V29/1000*V$7 -> 953.67715 | AB29: =$U29*W29/1000*W$7 -> 641.89808 | AC29: =$U29*X29/1000*X$7 -> 410.99817 | AD29: =$U29*Y29/1000*Y$7 -> 343.87397 | AE29: =$U29*Z29/1000*Z$7 -> 225.58133 | AF29: =SUM(AA29:AE29) -> 2576.0287 | AG29: {=_xlfn.IFS(AF29=0,"Nihil",AF29>0,"Suppletie",AF29<0,"Restitutie")} -> Suppletie
A30: =IFERROR(_xlfn.XLOOKUP(D30,Table3[Sub],Table3[Verzekerde]),"-") -> Amsterdamse Hogeschool vd Kunsten | B30: Verhoging verzekerd bedrag op gebouwen in verband met hertaxatie | C30: =IFERROR(_xlfn.XLOOKUP(Table4[[#This Row],[Subnummer]],Table3[Sub],Table3[Certificaat]),"-") -> 0 | D30: 9 | E30: =IFERROR(_xlfn.XLOOKUP(Table4[[#This Row],[Subnummer]],Table3[Sub],Table3[Verz. Waarde Oud:]),0) -> 3889000 | F30: 0 | G30: 711000 | H30: 0 | I30: 0 | J30: =E30+F30+G30-H30-I30 -> 4600000 | K30: =J30-E30 -> 711000 | L30: 44818 | M30: 44818 | N30: =M30-L30 -> 0 | O30: 365 | P30: Nee | Q30: =F30*N30/O30 -> 0 | R30: {=_xlfn.IFS($P30="Nee",G30*$N30/$O30,$P30="Ja",G30*0.5)} -> 0 | S30: {=_xlfn.IFS($P30="Nee",-(H30*$N30/$O30),$P30="Ja",-(H30*0.5))} -> 0 | T30: =-I30*N30/O30 -> 0 | U30: =SUM(Q30:T30) -> 0 | V30: =IFERROR(_xlfn.XLOOKUP(Table4[[#This Row],[Subnummer]],Table3[Sub],Table3[Promillage 1]),0) -> 0.65 | W30: =IFERROR(_xlfn.XLOOKUP(Table4[[#This Row],[Subnummer]],Table3[Sub],Table3[Promillage 2]),0) -> 0.7 | X30: =IFERROR(_xlfn.XLOOKUP(Table4[[#This Row],[Subnummer]],Table3[Sub],Table3[Promillage 3]),0) -> 0.747 | Y30: =IFERROR(_xlfn.XLOOKUP(Table4[[#This Row],[Subnummer]],Table3[Sub],Table3[Promillage 4]),0) -> 0.75 | Z30: =IFERROR(_xlfn.XLOOKUP(Table4[[#This Row],[Subnummer]],Table3[Sub],Table3[Promillage 5]),0) -> 0.82 | AA30: =$U30*V30/1000*V$7 -> 0 | AB30: =$U30*W30/1000*W$7 -> 0 | AC30: =$U30*X30/1000*X$7 -> 0 | AD30: =$U30*Y30/1000*Y$7 -> 0 | AE30: =$U30*Z30/1000*Z$7 -> 0 | AF30: =SUM(AA30:AE30) -> 0 | AG30: {=_xlfn.IFS(AF30=0,"Nihil",AF30>0,"Suppletie",AF30<0,"Restitutie")} -> Nihil
A31: =IFERROR(_xlfn.XLOOKUP(D31,Table3[Sub],Table3[Verzekerde]),"-") -> Amsterdamse Hogeschool vd Kunsten | B31: Verhoging verzekerd bedrag op gebouwen in verband met hertaxatie | C31: =IFERROR(_xlfn.XLOOKUP(Table4[[#This Row],[Subnummer]],Table3[Sub],Table3[Certificaat]),"-") -> 0 | D31: 14 | E31: =IFERROR(_xlfn.XLOOKUP(Table4[[#This Row],[Subnummer]],Table3[Sub],Table3[Verz. Waarde Oud:]),0) -> 7794000 | F31: 0 | G31: 11106000 | H31: 0 | I31: 0 | J31: =E31+F31+G31-H31-I31 -> 18900000 | K31: =J31-E31 -> 11106000 | L31: 44818 | M31: 44927 | N31: =M31-L31 -> 109 | O31: 365 | P31: Nee | Q31: =F31*N31/O31 -> 0 | R31: {=_xlfn.IFS($P31="Nee",G31*$N31/$O31,$P31="Ja",G31*0.5)} -> 3316586.3 | S31: {=_xlfn.IFS($P31="Nee",-(H31*$N31/$O31),$P31="Ja",-(H31*0.5))} -> 0 | T31: =-I31*N31/O31 -> 0 | U31: =SUM(Q31:T31) -> 3316586.3 | V31: =IFERROR(_xlfn.XLOOKUP(Table4[[#This Row],[Subnummer]],Table3[Sub],Table3[Promillage 1]),0) -> 0.65 | W31: =IFERROR(_xlfn.XLOOKUP(Table4[[#This Row],[Subnummer]],Table3[Sub],Table3[Promillage 2]),0) -> 0.7 | X31: =IFERROR(_xlfn.XLOOKUP(Table4[[#This Row],[Subnummer]],Table3[Sub],Table3[Promillage 3]),0) -> 0.747 | Y31: =IFERROR(_xlfn.XLOOKUP(Table4[[#This Row],[Subnummer]],Table3[Sub],Table3[Promillage 4]),0) -> 0.75 | Z31: =IFERROR(_xlfn.XLOOKUP(Table4[[#This Row],[Subnummer]],Table3[Sub],Table3[Promillage 5]),0) -> 0.82 | AA31: =$U31*V31/1000*V$7 -> 862.31244 | AB31: =$U31*W31/1000*W$7 -> 580.4026 | AC31: =$U31*X31/1000*X$7 -> 371.6235 | AD31: =$U31*Y31/1000*Y$7 -> 310.92997 | AE31: =$U31*Z31/1000*Z$7 -> 203.97006 | AF31: =SUM(AA31:AE31) -> 2329.2386 | AG31: {=_xlfn.IFS(AF31=0,"Nihil",AF31>0,"Suppletie",AF31<0,"Restitutie")} -> Suppletie
A32: =IFERROR(_xlfn.XLOOKUP(D32,Specificatie!C:C,Specificatie!A:A),"-") -> Amsterdamse Hogeschool vd Kunsten | B32: Bijverzekering bedrijfsuitrusting (kunst, antiek en kostbaarheden) conform hertaxatierapport | C32: =IFERROR(_xlfn.XLOOKUP(Table4[[#This Row],[Subnummer]],Table3[Sub],Table3[Certificaat]),"-") -> 0 | D32: 21 | E32: =IFERROR(_xlfn.XLOOKUP(Table4[[#This Row],[Subnummer]],Table3[Sub],Table3[Verz. Waarde Oud:]),0) -> 0 | F32: 425350 | G32: 0 | H32: 0 | I32: 0 | J32: =E32+F32+G32-H32-I32 -> 425350 | K32: =J32-E32 -> 425350 | L32: 44825 | M32: 44825 | N32: =M32-L32 -> 0 | O32: 365 | P32: Nee | Q32: =F32*N32/O32 -> 0 | R32: {=_xlfn.IFS($P32="Nee",G32*$N32/$O32,$P32="Ja",G32*0.5)} -> 0 | S32: {=_xlfn.IFS($P32="Nee",-(H32*$N32/$O32),$P32="Ja",-(H32*0.5))} -> 0 | T32: =-I32*N32/O32 -> 0 | U32: =SUM(Q32:T32) -> 0 | V32: =IFERROR(_xlfn.XLOOKUP(Table4[[#This Row],[Subnummer]],Table3[Sub],Table3[Promillage 1]),0) -> 0.65 | W32: =IFERROR(_xlfn.XLOOKUP(Table4[[#This Row],[Subnummer]],Table3[Sub],Table3[Promillage 2]),0) -> 0.7 | X32: =IFERROR(_xlfn.XLOOKUP(Table4[[#This Row],[Subnummer]],Table3[Sub],Table3[Promillage 3]),0) -> 0.747 | Y32: =IFERROR(_xlfn.XLOOKUP(Table4[[#This Row],[Subnummer]],Table3[Sub],Table3[Promillage 4]),0) -> 0.75 | Z32: =IFERROR(_xlfn.XLOOKUP(Table4[[#This Row],[Subnummer]],Table3[Sub],Table3[Promillage 5]),0) -> 0.82 | AA32: =$U32*V32/1000*V$7 -> 0 | AB32: =$U32*W32/1000*W$7 -> 0 | AC32: =$U32*X32/1000*X$7 -> 0 | AD32: =$U32*Y32/1000*Y$7 -> 0 | AE32: =$U32*Z32/1000*Z$7 -> 0 | AF32: =SUM(AA32:AE32) -> 0 | AG32: {=_xlfn.IFS(AF32=0,"Nihil",AF32>0,"Suppletie",AF32<0,"Restitutie")} -> Nihil
A33: Amsterdamse Hogeschool vd Kunsten | B33: Bijverzekering bedrijfsuitrusting (kunst, antiek en kostbaarheden) conform hertaxatierapport | C33: 0 | D33: 25 | E33: 0 | F33: 1000000 | G33: 0 | H33: 0 | I33: 0 | J33: =E33+F33+G33-H33-I33 -> 1000000 | K33: =J33-E33 -> 1000000 | L33: 44705 | M33: 44927 | N33: =M33-L33 -> 222 | O33: 365 | P33: Nee | Q33: =F33*N33/O33 -> 608219.18 | R33: {=_xlfn.IFS($P33="Nee",G33*$N33/$O33,$P33="Ja",G33*0.5)} -> 0 | S33: {=_xlfn.IFS($P33="Nee",-(H33*$N33/$O33),$P33="Ja",-(H33*0.5))} -> 0 | T33: =-I33*N33/O33 -> 0 | U33: =SUM(Q33:T33) -> 608219.18 | V33: =IFERROR(_xlfn.XLOOKUP(Table4[[#This Row],[Subnummer]],Table3[Sub],Table3[Promillage 1]),0) -> 0 | W33: =IFERROR(_xlfn.XLOOKUP(Table4[[#This Row],[Subnummer]],Table3[Sub],Table3[Promillage 2]),0) -> 0 | X33: =IFERROR(_xlfn.XLOOKUP(Table4[[#This Row],[Subnummer]],Table3[Sub],Table3[Promillage 3]),0) -> 0 | Y33: =IFERROR(_xlfn.XLOOKUP(Table4[[#This Row],[Subnummer]],Table3[Sub],Table3[Promillage 4]),0) -> 0 | Z33: =IFERROR(_xlfn.XLOOKUP(Table4[[#This Row],[Subnummer]],Table3[Sub],Table3[Promillage 5]),0) -> 0 | AA33: =$U33*V33/1000*V$7 -> 0 | AB33: =$U33*W33/1000*W$7 -> 0 | AC33: =$U33*X33/1000*X$7 -> 0 | AD33: =$U33*Y33/1000*Y$7 -> 0 | AE33: =$U33*Z33/1000*Z$7 -> 0 | AF33: =SUM(AA33:AE33) -> 0 | AG33: {=_xlfn.IFS(AF33=0,"Nihil",AF33>0,"Suppletie",AF33<0,"Restitutie")} -> Nihil
A34: Amsterdamse Hogeschool vd Kunsten | B34: Bijverzekering bedrijfsuitrusting (kunst, antiek en kostbaarheden) conform hertaxatierapport | C34: 0 | D34: 26 | E34: 0 | F34: 10000000 | G34: 0 | H34: 0 | I34: 0 | J34: =E34+F34+G34-H34-I34 -> 10000000 | K34: =J34-E34 -> 10000000 | L34: 44705 | M34: 44927 | N34: =M34-L34 -> 222 | O34: 365 | P34: Nee | Q34: =F34*N34/O34 -> 6082191.8 | R34: {=_xlfn.IFS($P34="Nee",G34*$N34/$O34,$P34="Ja",G34*0.5)} -> 0 | S34: {=_xlfn.IFS($P34="Nee",-(H34*$N34/$O34),$P34="Ja",-(H34*0.5))} -> 0 | T34: =-I34*N34/O34 -> 0 | U34: =SUM(Q34:T34) -> 6082191.8 | V34: =IFERROR(_xlfn.XLOOKUP(Table4[[#This Row],[Subnummer]],Table3[Sub],Table3[Promillage 1]),0) -> 0 | W34: =IFERROR(_xlfn.XLOOKUP(Table4[[#This Row],[Subnummer]],Table3[Sub],Table3[Promillage 2]),0) -> 0 | X34: =IFERROR(_xlfn.XLOOKUP(Table4[[#This Row],[Subnummer]],Table3[Sub],Table3[Promillage 3]),0) -> 0 | Y34: =IFERROR(_xlfn.XLOOKUP(Table4[[#This Row],[Subnummer]],Table3[Sub],Table3[Promillage 4]),0) -> 0 | Z34: =IFERROR(_xlfn.XLOOKUP(Table4[[#This Row],[Subnummer]],Table3[Sub],Table3[Promillage 5]),0) -> 0 | AA34: =$U34*V34/1000*V$7 -> 0 | AB34: =$U34*W34/1000*W$7 -> 0 | AC34: =$U34*X34/1000*X$7 -> 0 | AD34: =$U34*Y34/1000*Y$7 -> 0 | AE34: =$U34*Z34/1000*Z$7 -> 0 | AF34: =SUM(AA34:AE34) -> 0 | AG34: {=_xlfn.IFS(AF34=0,"Nihil",AF34>0,"Suppletie",AF34<0,"Restitutie")} -> Nihil
A35: Amsterdamse Hogeschool vd Kunsten | B35: Bijverzekering bedrijfsuitrusting (kunst, antiek en kostbaarheden) conform hertaxatierapport | C35: 0 | D35: 27 | E35: 0 | F35: 2500000 | G35: 0 | H35: 0 | I35: 0 | J35: =E35+F35+G35-H35-I35 -> 2500000 | K35: =J35-E35 -> 2500000 | L35: 44705 | M35: 44927 | N35: =M35-L35 -> 222 | O35: 365 | P35: Nee | Q35: =F35*N35/O35 -> 1520547.9 | R35: {=_xlfn.IFS($P35="Nee",G35*$N35/$O35,$P35="Ja",G35*0.5)} -> 0 | S35: {=_xlfn.IFS($P35="Nee",-(H35*$N35/$O35),$P35="Ja",-(H35*0.5))} -> 0 | T35: =-I35*N35/O35 -> 0 | U35: =SUM(Q35:T35) -> 1520547.9 | V35: =IFERROR(_xlfn.XLOOKUP(Table4[[#This Row],[Subnummer]],Table3[Sub],Table3[Promillage 1]),0) -> 0 | W35: =IFERROR(_xlfn.XLOOKUP(Table4[[#This Row],[Subnummer]],Table3[Sub],Table3[Promillage 2]),0) -> 0 | X35: =IFERROR(_xlfn.XLOOKUP(Table4[[#This Row],[Subnummer]],Table3[Sub],Table3[Promillage 3]),0) -> 0 | Y35: =IFERROR(_xlfn.XLOOKUP(Table4[[#This Row],[Subnummer]],Table3[Sub],Table3[Promillage 4]),0) -> 0 | Z35: =IFERROR(_xlfn.XLOOKUP(Table4[[#This Row],[Subnummer]],Table3[Sub],Table3[Promillage 5]),0) -> 0 | AA35: =$U35*V35/1000*V$7 -> 0 | AB35: =$U35*W35/1000*W$7 -> 0 | AC35: =$U35*X35/1000*X$7 -> 0 | AD35: =$U35*Y35/1000*Y$7 -> 0 | AE35: =$U35*Z35/1000*Z$7 -> 0 | AF35: =SUM(AA35:AE35) -> 0 | AG35: {=_xlfn.IFS(AF35=0,"Nihil",AF35>0,"Suppletie",AF35<0,"Restitutie")} -> Nihil
A36: Totaal | E36: =SUBTOTAL(109,Table4[Oud]) -> 201010000 | F36: =SUBTOTAL(109,Table4[Investering Nieuw]) -> 15515350 | G36: =SUBTOTAL(109,Table4[Investering bestaand]) -> 56913210 | H36: =SUBTOTAL(109,Table4[Verlaging]) -> 68000 | I36: =SUBTOTAL(109,Table4[Afvoer]) -> 0 | J36: =SUBTOTAL(109,Table4[Inclusief mutatie]) -> 273370560 | K36: =SUBTOTAL(109,Table4[Som mutaties]) -> 72360560 | Q36: =SUBTOTAL(109,Table4[Investering nieuw2]) -> 8210958.9 | R36: =SUBTOTAL(109,Table4[Investering bestaand2]) -> 13419173 | S36: =SUBTOTAL(109,Table4[Verlaging2]) -> 0 | T36: =SUBTOTAL(109,Table4[Afvoer2]) -> 0 | U36: =SUBTOTAL(109,Table4[Totaal]) -> 21630132 | AA36: =SUBTOTAL(109,Table4[Verzekeraar 12]) -> 3488.9849 | AB36: =SUBTOTAL(109,Table4[Verzekeraar 23]) -> 2348.3552 | AC36: =SUBTOTAL(109,Table4[Verzekeraar 34]) -> 1503.6183 | AD36: =SUBTOTAL(109,Table4[Verzekeraar 45]) -> 1258.0474 | AE36: =SUBTOTAL(109,Table4[Verzekeraar 56]) -> 825.27912 | AF36: =SUBTOTAL(109,Table4[Totaal2]) -> 9424.2849

Sheet Verrekening Jaarpremie
A1: Verrekening Jaarpremie
A2: =Overzicht!B2 -> B0100010124-0
A3: =Overzicht!B3 -> Amsterdamse Hogeschool vd Kunsten
A4: =Overzicht!B4 -> 542716609
A7: Termijn: | B7: Datum
A8: Van | B8: =Overzicht!B7 -> 45292
A9: Tot | B9: =Overzicht!C7 -> 45658
A11: Certificaat | B11: 0
A12: Verzekeraar | B12: Relatienummer | C12: Aandeel | D12: Jaarpremie | E12: Al geboekt met nota 6807390 d.d. 29-03-2023 | F12: Nog te boeken
A13: =Specificatie!$W$6 -> XL Insurance SE | B13: =Specificatie!$W$7 -> 118858 | C13: =Specificatie!$W$9 -> 0.4 | D13: =SUMIF(Table3[Certificaat],$B11,Table3[Jaarpremie 1]) -> 72194.811 | E13: 60078.2 | F13: =D13-E13 -> 12116.611
A14: =Specificatie!$X$6 -> Allianz Nederland | B14: =Specificatie!$X$7 -> 230159 | C14: =Specificatie!$X$9 -> 0.25 | D14: =SUMIF(Table3[Certificaat],$B11,Table3[Jaarpremie 2]) -> 48592.661 | E14: 40437.25 | F14: =D14-E14 -> 8155.4113
A15: =Specificatie!$Y$6 -> ERGO Versicherung AG | B15: =Specificatie!$Y$7 -> 380267 | C15: =Specificatie!$Y$9 -> 0.15 | D15: =SUMIF(Table3[Certificaat],$B11,Table3[Jaarpremie 3]) -> 31113.187 | E15: 25891.39 | F15: =D15-E15 -> 5221.7968
A16: =Specificatie!$Z$6 -> Nationale Nederlanden | B16: =Specificatie!$Z$7 -> 916 | C16: =Specificatie!$Z$9 -> 0.125 | D16: =SUMIF(Table3[Certificaat],$B11,Table3[Jaarpremie 4]) -> 26031.783 | E16: 21662.81 | F16: =D16-E16 -> 4368.9728
A17: =Specificatie!$AA$6 -> Veerhaven Assuradeuren | B17: =Specificatie!$AA$7 -> 413707 | C17: =Specificatie!$AA$9 -> 0.075 | D17: =SUMIF(Table3[Certificaat],$B11,Table3[Jaarpremie 5]) -> 17076.85 | E17: 14210.81 | F17: =D17-E17 -> 2866.0395
A18: Total | C18: =SUBTOTAL(109,Table1[Aandeel]) -> 1 | D18: =SUBTOTAL(109,Table1[Jaarpremie]) -> 195009.29 | E18: =SUBTOTAL(109,Table1[Al geboekt met nota 6807390 d.d. 29-03-2023]) -> 162280.46 | F18: =SUBTOTAL(109,Table1[Nog te boeken]) -> 32728.831

Sheet Verrekening Pro Rata-CAD
A1: Verrekening Mutaties
A2: =Overzicht!B2 -> B0100010124-0
A3: =Overzicht!B3 -> Amsterdamse Hogeschool vd Kunsten
A4: =Overzicht!B4 -> 542716609
A7: Termijn: | B7: Datum
A8: Van | B8: 44813
A9: Tot | B9: 44927
A11: Certificaat | B11: 0
A12: Verzekeraar | B12: Relatienummer | C12: Aandeel | D12: Boeking/restitutie | E12: Reeds geboekt | F12: Nog te boeken
A13: =Specificatie!$W$6 -> XL Insurance SE | B13: =Specificatie!$W$7 -> 118858 | C13: =Specificatie!$W$9 -> 0.4 | D13: =SUMIFS(Table4[Verzekeraar 12],Table4[Mutatiedatum],$B8,Table4[Certificaat],$B11) -> 2626.6724 | E13: 0 | F13: =Table2[[#This Row],[Boeking/restitutie]]-Table2[[#This Row],[Reeds geboekt]] -> 2626.6724
A14: =Specificatie!$X$6 -> Allianz Nederland | B14: =Specificatie!$X$7 -> 230159 | C14: =Specificatie!$X$9 -> 0.25 | D14: =SUMIFS(Table4[Verzekeraar 23],Table4[Mutatiedatum],$B8,Table4[Certificaat],$B11) -> 1767.9526 | E14: 0 | F14: =Table2[[#This Row],[Boeking/restitutie]]-Table2[[#This Row],[Reeds geboekt]] -> 1767.9526
A15: =Specificatie!$Y$6 -> ERGO Versicherung AG | B15: =Specificatie!$Y$7 -> 380267 | C15: =Specificatie!$Y$9 -> 0.15 | D15: =SUMIFS(Table4[Verzekeraar 34],Table4[Mutatiedatum],$B8,Table4[Certificaat],$B11) -> 1131.9948 | E15: 0 | F15: =Table2[[#This Row],[Boeking/restitutie]]-Table2[[#This Row],[Reeds geboekt]] -> 1131.9948
A16: =Specificatie!$Z$6 -> Nationale Nederlanden | B16: =Specificatie!$Z$7 -> 916 | C16: =Specificatie!$Z$9 -> 0.125 | D16: =SUMIFS(Table4[Verzekeraar 45],Table4[Mutatiedatum],$B8,Table4[Certificaat],$B11) -> 947.11747 | E16: 0 | F16: =Table2[[#This Row],[Boeking/restitutie]]-Table2[[#This Row],[Reeds geboekt]] -> 947.11747
A17: =Specificatie!$AA$6 -> Veerhaven Assuradeuren | B17: =Specificatie!$AA$7 -> 413707 | C17: =Specificatie!$AA$9 -> 0.075 | D17: =SUMIFS(Table4[Verzekeraar 56],Table4[Mutatiedatum],$B8,Table4[Certificaat],$B11) -> 621.30906 | E17: 0 | F17: =Table2[[#This Row],[Boeking/restitutie]]-Table2[[#This Row],[Reeds geboekt]] -> 621.30906
A18: Total | C18: =SUBTOTAL(109,Table2[Aandeel]) -> 1 | D18: =SUBTOTAL(109,Table2[Boeking/restitutie]) -> 7095.0464 | E18: =SUBTOTAL(109,Table2[Reeds geboekt]) -> 0 | F18: =SUBTOTAL(109,Table2[Nog te boeken]) -> 7095.0464
A21: Termijn: | B21: Datum
A22: Van | B22: 44818
A23: Tot | B23: 44927
A25: Certificaat | B25: 0
A26: Verzekeraar | B26: Relatienummer | C26: Aandeel | D26: Boeking/restitutie | E26: Reeds geboekt | F26: Nog te boeken
A27: =Specificatie!$W$6 -> XL Insurance SE | B27: =Specificatie!$W$7 -> 118858 | C27: =Specificatie!$W$9 -> 0.4 | D27: =SUMIFS(Table4[Verzekeraar 12],Table4[Mutatiedatum],$B22,Table4[Certificaat],$B25) -> 862.31244 | E27: 0 | F27: =Table26[[#This Row],[Boeking/restitutie]]-Table26[[#This Row],[Reeds geboekt]] -> 862.31244
A28: =Specificatie!$X$6 -> Allianz Nederland | B28: =Specificatie!$X$7 -> 230159 | C28: =Specificatie!$X$9 -> 0.25 | D28: =SUMIFS(Table4[Verzekeraar 23],Table4[Mutatiedatum],$B22,Table4[Certificaat],$B25) -> 580.4026 | E28: 0 | F28: =Table26[[#This Row],[Boeking/restitutie]]-Table26[[#This Row],[Reeds geboekt]] -> 580.4026
A29: =Specificatie!$Y$6 -> ERGO Versicherung AG | B29: =Specificatie!$Y$7 -> 380267 | C29: =Specificatie!$Y$9 -> 0.15 | D29: =SUMIFS(Table4[Verzekeraar 34],Table4[Mutatiedatum],$B22,Table4[Certificaat],$B25) -> 371.6235 | E29: 0 | F29: =Table26[[#This Row],[Boeking/restitutie]]-Table26[[#This Row],[Reeds geboekt]] -> 371.6235
A30: =Specificatie!$Z$6 -> Nationale Nederlanden | B30: =Specificatie!$Z$7 -> 916 | C30: =Specificatie!$Z$9 -> 0.125 | D30: =SUMIFS(Table4[Verzekeraar 45],Table4[Mutatiedatum],$B22,Table4[Certificaat],$B25) -> 310.92997 | E30: 0 | F30: =Table26[[#This Row],[Boeking/restitutie]]-Table26[[#This Row],[Reeds geboekt]] -> 310.92997
A31: =Specificatie!$AA$6 -> Veerhaven Assuradeuren | B31: =Specificatie!$AA$7 -> 413707 | C31: =Specificatie!$AA$9 -> 0.075 | D31: =SUMIFS(Table4[Verzekeraar 56],Table4[Mutatiedatum],$B22,Table4[Certificaat],$B25) -> 203.97006 | E31: 0 | F31: =Table26[[#This Row],[Boeking/restitutie]]-Table26[[#This Row],[Reeds geboekt]] -> 203.97006
A32: Total | C32: =SUBTOTAL(109,Table26[Aandeel]) -> 1 | D32: =SUBTOTAL(109,Table26[Boeking/restitutie]) -> 2329.2386 | E32: =SUBTOTAL(109,Table26[Reeds geboekt]) -> 0 | F32: =SUBTOTAL(109,Table26[Nog te boeken]) -> 2329.2386
A35: Totaal te boeken premie
A37: Certificaat | B37: 0
A38: Verzekeraar | B38: Relatienummer | C38: Aandeel | D38: Boeking/restitutie | E38: Reeds geboekt | F38: Nog te boeken
A39: =Specificatie!$W$6 -> XL Insurance SE | B39: =Specificatie!$W$7 -> 118858 | C39: =Specificatie!$W$9 -> 0.4 | D39: =D13+D27 -> 3488.9849 | E39: =E13+E27 -> 0 | F39: =Table267[[#This Row],[Boeking/restitutie]]-Table267[[#This Row],[Reeds geboekt]] -> 3488.9849
A40: =Specificatie!$X$6 -> Allianz Nederland | B40: =Specificatie!$X$7 -> 230159 | C40: =Specificatie!$X$9 -> 0.25 | D40: =D14+D28 -> 2348.3552 | E40: =E14+E28 -> 0 | F40: =Table267[[#This Row],[Boeking/restitutie]]-Table267[[#This Row],[Reeds geboekt]] -> 2348.3552
A41: =Specificatie!$Y$6 -> ERGO Versicherung AG | B41: =Specificatie!$Y$7 -> 380267 | C41: =Specificatie!$Y$9 -> 0.15 | D41: =D15+D29 -> 1503.6183 | E41: =E15+E29 -> 0 | F41: =Table267[[#This Row],[Boeking/restitutie]]-Table267[[#This Row],[Reeds geboekt]] -> 1503.6183
A42: =Specificatie!$Z$6 -> Nationale Nederlanden | B42: =Specificatie!$Z$7 -> 916 | C42: =Specificatie!$Z$9 -> 0.125 | D42: =D16+D30 -> 1258.0474 | E42: =E16+E30 -> 0 | F42: =Table267[[#This Row],[Boeking/restitutie]]-Table267[[#This Row],[Reeds geboekt]] -> 1258.0474
A43: =Specificatie!$AA$6 -> Veerhaven Assuradeuren | B43: =Specificatie!$AA$7 -> 413707 | C43: =Specificatie!$AA$9 -> 0.075 | D43: =D17+D31 -> 825.27912 | E43: =E17+E31 -> 0 | F43: =Table267[[#This Row],[Boeking/restitutie]]-Table267[[#This Row],[Reeds geboekt]] -> 825.27912
A44: Total | C44: =SUBTOTAL(109,Table267[Aandeel]) -> 1 | D44: =SUBTOTAL(109,Table267[Boeking/restitutie]) -> 9424.2849 | E44: =SUBTOTAL(109,Table267[Reeds geboekt]) -> 0 | F44: =SUBTOTAL(109,Table267[Nog te boeken]) -> 9424.2849

Sheet Data
A1: Interest | B1: Bouwaard | C1: CAD | D1: Taxatie
A2: - | B2: - | C2: Ja | D2: -
A3: Bedrijfsschade | B3: Hout, harde dekking | C3: Nee | D3: Ja
A4: Bedrijfsuitrusting | B4: Hout, rieten dekking | D4: Nee
A5: Bedrijfsuitrusting (ongetaxeerd) | B5: Steen, harde dekking
A6: Bijzondere kosten | B6: Steen, rieten dekking
A7: Exploitatiekosten
A8: Extra kosten
A9: Gebouwen
A10: Gebouwen (ongetaxeerd)
A11: Goederen
A12: Goederen van derden
A13: Huurdersbelang
A14: Huurderving
A15: Opruimingskosten
A16: Overig
A17: Reconstructiekosten
A18: Woningverbetering
