Workbook
Name AutNrStOv: [1]StoringsOverzicht!$H$1:$H$65536
Name AutNrTijdPeriode: '[1]Dagen beschikbaar'!$F$1:$F$65536
Name ResponseTijd: [1]StoringsOverzicht!$V$1:$V$65536
Name StoringsTijd: [1]StoringsOverzicht!$U$1:$U$65536
Name Tijd_beschikbaar_in_periode: '[1]Dagen beschikbaar'!$L$1:$L$65536

Sheet Totaal
B1: Prijs excl. btw
A2: Automaten | B2: =Automaten!H34 -> 0
A3: Service en onderhoud | B3: ='Service en onderhoud'!E11 -> 0
A4: Ingrediënten en toebehoren | B4: ='Ingrediënten en toebehoren'!E16+'Ingrediënten en toebehoren'!E54 -> 0
A5: Totale inschrijfprijs (excl. btw) | B5: =SUM(B2:B4) -> 0
A8: Toelichting:
A9: -U dient alleen de geel gemarkeerde cellen (in alle werkbladen) in te vullen.
A10: -De prijzen zijn excl. btw.
A11: -De prijzen in euro's en worden afgerond op maximaal twee (2) cijfers achter de komma.
A12: {=- Aantallen zijn per jaar 'Ingrediënten en toebehoren'!A9} -> #NAME?
A14: Aanbestedende dienst: | B14: GGD Regio Utrecht
A15: Versie: | B15: 1.0
A16: Datum:
A17: Naam Inschrijver:
A18: Rechtsgeldige ondertekening:

Sheet Automaten
A2: Prijzenblad Warme drankenvoorziening
A4: Aangeboden model type 1a: | B4: 0
A5: Aangeboden model type 1b: | B5: 0
A6: Aangeboden model type 2a: | B6: 0
A7: Aangeboden model type 2b: | B7: 0
A8: Aangeboden model type 2c: | B8: 0
A9: Aangeboden model type 3: | B9: 0
A11: Locatie | D11: Aanvullende info locatie | E11: Type machine | F11: Aantal* | G11: Huurprijs per automaat per jaar (excl. service en onderhoud en excl. btw) | H11: Totaal per jaar (excl. btw)
A12: Wervershoofstraat 365 | B12: 3826 EM | C12: AMERSFOORT | D12: 2e etage teamkamer | E12: 1b | F12: 1 | G12: =B5 -> 0 | H12: =SUM(F12*G12) -> 0
A13: Velduil 61 | B13: 3815 XT | C13: AMERSFOORT | D13: Begane grond | E13: 1b | F13: 1 | G13: =B5 -> 0 | H13: =SUM(F13*G13) -> 0
A14: Utrechtseweg 3e | B14: 3811 NA | C14: AMERSFOORT | D14: 1e vedieping (afdeling Reizigers) | E14: 1b | F14: 1 | G14: =B5 -> 0 | H14: =SUM(F14*G14) -> 0
A15: Utrechtseweg 3e | B15: 3811 NA | C15: AMERSFOORT | D15: Kantoor | E15: 1a | F15: 1 | G15: =B4 -> 0 | H15: =SUM(F15*G15) -> 0
A16: Planetenplein 2 | B16: 3721 LH | C16: BILTHOVEN | D16: 2e etage pantry keuken (lift) | E16: 1b | F16: 1 | G16: =B5 -> 0 | H16: =SUM(F16*G16) -> 0
A17: Chopinstraat 1i | B17: 3752 HR | C17: BUNSCHOTEN | D17: Begane grond | E17: 1a | F17: 1 | G17: =B4 -> 0 | H17: =SUM(F17*G17) -> 0
A18: Onderdoor 158-160 | B18: 3995 DX | C18: HOUTEN | D18: Begane grond | E18: 1a | F18: 1 | G18: =B4 -> 0 | H18: =SUM(F18*G18) -> 0
A19: Merkelbachlaan 2 | B19: 3404 EX | C19: IJSSELSTEIN | D19: Begane grond | E19: 1b | F19: 1 | G19: =B5 -> 0 | H19: =SUM(F19*G19) -> 0
A20: Hoefijzer 18 | B20: 3833 XB | C20: LEUSDEN | D20: Begane grond | E20: 1b | F20: 1 | G20: =B5 -> 0 | H20: =SUM(F20*G20) -> 0
A21: Keizer Ottolaan 13 | B21: 3632 BV | C21: LOENEN AAN DE VECHT | D21: Begane grond pantry | E21: 1b | F21: 1 | G21: =B5 -> 0 | H21: =SUM(F21*G21) -> 0
A22: Binnenweg 2 | B22: 3604 AC | C22: MAARSSEN | D22: 1e verdieping | E22: 1b | F22: 1 | G22: =B5 -> 0 | H22: =SUM(F22*G22) -> 0
A23: Overijsselhaven 17 | B23: 3433 PH | C23: NIEUWEGEIN | D23: Begane grond keuken | E23: 1b | F23: 1 | G23: =B5 -> 0 | H23: =SUM(F23*G23) -> 0
A24: Verlaat 20e | B24: 3901 RG | C24: VEENENDAAL | D24: Sourerrain pauzeruimte | E24: 1a | F24: 1 | G24: =B4 -> 0 | H24: =SUM(F24*G24) -> 0
A25: Hof van Batenstein 6 | B25: 4131 ZB | C25: VIANEN | D25: Begane grond souterrain | E25: 1b | F25: 1 | G25: =B5 -> 0 | H25: =SUM(F25*G25) -> 0
A26: Polanerbaan 2 | B26: 3447 GN | C26: WOERDEN | D26: 2e etage | E26: 1b | F26: 1 | G26: =B5 -> 0 | H26: =SUM(F26*G26) -> 0
A27: Bergweg 1 | B27: 3701 JJ | C27: ZEIST | D27: Automaat 85334 | E27: 1b | F27: 1 | G27: =B5 -> 0 | H27: =SUM(F27*G27) -> 0
A28: Bergweg 1 | B28: 3701 JJ | C28: ZEIST | D28: 1e verdieping teamkamer | E28: 1b | F28: 1 | G28: =B5 -> 0 | H28: =SUM(F28*G28) -> 0
A29: De Dreef 21 | B29: 3706 BR | C29: ZEIST | D29: 1e verdieping keuken | E29: 1a | F29: 1 | G29: =B4 -> 0 | H29: =SUM(F29*G29) -> 0
A30: De Dreef 5 | B30: 3706 BR | C30: ZEIST | D30: Begane grond links | E30: 1a | F30: 1 | G30: =B4 -> 0 | H30: =SUM(F30*G30) -> 0
A31: De Dreef 5 | B31: 3706 BR | C31: ZEIST | D31: Begane grond centrale hal | E31: 1a | F31: 1 | G31: =B4 -> 0 | H31: =SUM(F31*G31) -> 0
A32: De Dreef 5 | B32: 3706 BR | C32: ZEIST | D32: 1e verdieping links | E32: 1a | F32: 1 | G32: =B4 -> 0 | H32: =SUM(F32*G32) -> 0
A33: De Dreef 5 | B33: 3706 BR | C33: ZEIST | D33: 1e verdieping rechts | E33: 1a | F33: 1 | G33: =B4 -> 0 | H33: =SUM(F33*G33) -> 0
A34: Totaal | H34: =SUM(H12:H33) -> 0
A36: *Kolom C bevat een indicatie van het aantal machines. U kunt geen rechten ontlenen aan de genoemde aantallen.
A37: * Alleen de geel gearceerde velden dienen worden ingevuld.

Sheet Service en onderhoud
A2: Prijzenblad Warme drankenvoorziening
A8: Type machine | B8: Aangeboden model: | C8: Aantal* | D8: Service en onderhoud per automaat per jaar (excl. btw)** | E8: Totaal per jaar (excl. btw)
A9: Type 1a | B9: =Automaten!B4 -> 0 | C9: 9 | D9: 0 | E9: =SUM(C9*D9) -> 0
A10: Type 1b | B10: =Automaten!B5 -> 0 | C10: 13 | D10: 0 | E10: =SUM(C10*D10) -> 0
A11: Totaal | E11: =SUM(E9:E10) -> 0
A13: *Kolom C bevat een indicatie van het aantal machines. U kunt geen rechten ontlenen aan de genoemde aantallen.
A14: ** Zie programma van eisen onderdeel 3.

Sheet Ingrediënten en toebehoren
A2: Prijzenblad Warme drankenvoorziening
A4: Indicatie van afname is gebaseerd op 1 jaar
A7: Ingedriënten | B7: Indicatie is op jaarbasis
A8: Omschrijving artikel | B8: Eenheid | C8: Indicatie van afname* | D8: Prijs per eenheid (excl. btw) | E8: Totaalprijs per jaar (excl. btw)
A9: Koffiebonen | B9: Pak (1KG) | C9: 600 | D9: 0 | E9: =SUM(C9*D9) -> 0
A10: Koffiebonen decaf | B10: Pak (1KG) | C10: 60 | D10: 0 | E10: =SUM(C10*D10) -> 0
A11: Instant | B11: Pak (1KG) | C11: 60 | D11: 0 | E11: =SUM(C11*D11) -> 0
A12: Melktopping | B12: Pak (500gr) | C12: 60 | D12: 0 | E12: =SUM(C12*D12) -> 0
A13: Melktopping (plantaardig) | B13: Pak (500gr) | C13: 10 | D13: 0 | E13: =SUM(C13*D13) -> 0
A14: Cacao/chocopoeder | B14: Pak (1KG) | C14: 250 | D14: 0 | E14: =SUM(C14*D14) -> 0
A15: Automatensuiker | B15: Pak (1KG) | C15: 50 | D15: 0 | E15: =SUM(C15*D15) -> 0
A16: Totaal | E16: =SUM(E9:E15) -> 0
A18: Toebehoren | B18: Indicatie is op jaarbasis
A19: Omschrijving artikel | B19: Eenheid | C19: Indicatie van afname* | D19: Prijs per eenheid (excl. btw) | E19: Totaalprijs per jaar (excl. btw)
A20: Creamer sticks 4gr/doos 500 | B20: doos 500 | C20: 13 | D20: 0 | E20: =SUM(C20*D20) -> 0
A21: Drinkbouillon kip/tuinkr/pk 80 | B21: pk 80 | C21: 80 | D21: 0 | E21: =SUM(C21*D21) -> 0
A22: Drinkbouillon rundvlees/pk 80 | B22: pk 80 | C22: 25 | D22: 0 | E22: =SUM(C22*D22) -> 0
A23: Drinkbouillon tomaat/pk 80 | B23: pk 80 | C23: 117 | D23: 0 | E23: =SUM(C23*D23) -> 0
A24: Drinkbouillon tuinkruiden/pk 80 | B24: pk 80 | C24: 42 | D24: 0 | E24: =SUM(C24*D24) -> 0
A25: Koffie snelfiltermaling/pk 500gr | B25: pk 500 gr | C25: 100 | D25: 0 | E25: =SUM(C25*D25) -> 0
A26: Koffie snelfiltermaling decaf/pk 500gr | B26: pk 500 gr | C26: 15 | D26: 0 | E26: =SUM(C26*D26) -> 0
A27: Koffie regular /pak 36pads | B27: pak 36 pads | C27: 60 | D27: 0 | E27: =SUM(C27*D27) -> 0
A28: Koffie dark strong/pak 36pads | B28: pak 36 pads | C28: 30 | D28: 0 | E28: =SUM(C28*D28) -> 0
A29: Koffie decaf/pak 36pads | B29: pak 36 pads | C29: 10 | D29: 0 | E29: =SUM(C29*D29) -> 0
A30: Koffie regular/pak 20cups | B30: pak 20 cups | C30: 30 | D30: 0 | E30: =SUM(C30*D30) -> 0
A31: Koffie strong/pak 20cups | B31: pak 20 cups | C31: 30 | D31: 0 | E31: =SUM(C31*D31) -> 0
... A51: Zoetjes 1 per zakje/doos 500 | B51: doos 500 | C51: 13 | D51: 0 | E51: =SUM(C51*D51) -> 0
A52: Zoutsticks 1 gram/doos 1000 | B52: doos 1000 | C52: 3 | D52: 0 | E52: 0
A53: Schoonmaaktabletten | B53: doos 100/200 | D53: 0 | E53: 0
E54: =SUM(E21:E50) -> 0
A55: *Kolom C bevat een indicatie van de afname. U kunt geen rechten ontlenen aan de genoemde aantallen.
