Workbook
Name fases: #REF!

Sheet Tellijst Theresiastraat 8
B3: Projectnaam: | C3: Inholland, locatie Den Haag, Theresiastraat 8
B4: Kenmerk: | C4: Tellijst armaturen
B5: Datum: | C5: ..-..-2024
B8: Code | C8: Vermogen | D8: Aantal | E8: Aantal | F8: Aantal | G8: Aantal | H8: Aantal | I8: Aantal | J8: Aantal | K8: Aantal | L8: Aantal | M8: Aantal | N8: Aantal | O8: Aantal | P8: Aantal | Q8: Aantal | R8: Aantal | S8: Aantal | T8: Aantal | U8: Aantal | V8: Totaal
C9: Lamp | D9: kelder | E9: kelder | F9: Parkeergarage | G9: bg | H9: bg | I9: bg | J9: bg | K9: 1e verd. | L9: 1e verd. | M9: 1e verd. | N9: 2e verd. | O9: 2e verd. | P9: 2e verd. | Q9: 3e verd. | R9: 3e verd. | S9: 3e verd. | T9: Terrein | U9: Totaal | V9: vermogen (W)
D10: Verbindingsgang | E10: (deel 1+2) | F10: (deel 0) | G10: (receptie) | H10: (deel 0) | I10: (deel 1+2) | J10: (deel 3+4+5) | K10: (deel 0) | L10: (deel 1+2) | M10: (deel 3+4+5) | N10: (deel 0) | O10: (deel 1+2) | P10: (deel 3+4+5) | Q10: (deel 0) | R10: (deel 1+2) | S10: (deel 3+4+5)
B11: Bestaande symbolen:
B12: A | C12: 35 | H12: 36 | I12: 82 | J12: 4 | K12: 36 | L12: 85 | M12: 62 | N12: 36 | O12: 84 | P12: 64 | Q12: 36 | R12: 81 | S12: 6 | U12: =SUM(D12:T12) -> 612 | V12: =C12*U12 -> 21420
B13: A/N | C13: 35 | M13: 6 | P13: 4 | U13: =SUM(D13:T13) -> 10 | V13: =C13*U13 -> 350
B14: A2 | C14: 150 | T14: 3 | U14: =SUM(D14:T14) -> 3 | V14: =C14*U14 -> 450
B15: AB | C15: 35 | I15: 50 | J15: 5 | L15: 50 | M15: 34 | O15: 50 | P15: 34 | R15: 50 | S15: 3 | U15: =SUM(D15:T15) -> 276 | V15: =C15*U15 -> 9660
B16: AF2 | C16: 150 | J16: 1 | T16: 6 | U16: =SUM(D16:T16) -> 7 | V16: =C16*U16 -> 1050
B17: AG | C17: 32 | T17: 4 | U17: =SUM(D17:T17) -> 4 | V17: =C17*U17 -> 128
B18: AH | C18: 150 | T18: 3 | U18: =SUM(D18:T18) -> 3 | V18: =C18*U18 -> 450
B19: AI | C19: 50 | T19: 4 | U19: =SUM(D19:T19) -> 4 | V19: =C19*U19 -> 200
B20: B | C20: 18 | H20: 38 | I20: 58 | J20: 15 | K20: 38 | L20: 39 | M20: 28 | N20: 38 | O20: 41 | P20: 24 | Q20: 38 | R20: 43 | S20: 12 | U20: =SUM(D20:T20) -> 412 | V20: =C20*U20 -> 7416
B21: B/N | C21: 18 | I21: 12 | J21: 6 | L21: 13 | M21: 8 | O21: 13 | P21: 7 | R21: 12 | S21: 4 | U21: =SUM(D21:T21) -> 75 | V21: =C21*U21 -> 1350
B22: B1 | C22: 18 | J22: 16 | U22: =SUM(D22:T22) -> 16 | V22: =C22*U22 -> 288
B23: B2 | C23: 50 | J23: 9 | U23: =SUM(D23:T23) -> 9 | V23: =C23*U23 -> 450
B24: C | C24: 10 | I24: 8 | J24: 5 | L24: 8 | O24: 8 | R24: 4 | U24: =SUM(D24:T24) -> 33 | V24: =C24*U24 -> 330
B25: D1 | C25: 28 | I25: 10 | J25: 1 | L25: 8 | M25: 4 | O25: 9 | P25: 5 | R25: 9 | S25: 4 | U25: =SUM(D25:T25) -> 50 | V25: =C25*U25 -> 1400
B26: DD | C26: 28 | I26: 4 | J26: 1 | L26: 5 | M26: 2 | O26: 4 | P26: 5 | R26: 4 | S26: 1 | U26: =SUM(D26:T26) -> 26 | V26: =C26*U26 -> 728
B27: E1 | C27: 36 | J27: 7 | U27: =SUM(D27:T27) -> 7 | V27: =C27*U27 -> 252
B28: E2 | C28: 36 | J28: 2 | U28: =SUM(D28:T28) -> 2 | V28: =C28*U28 -> 72
B29: F | C29: 70 | F29: 22 | S29: 8 | U29: =SUM(D29:T29) -> 30 | V29: =C29*U29 -> 2100
B30: F1 | F30: 6 | U30: =SUM(D30:T30) -> 6 | V30: =C30*U30 -> 0
B31: K | C31: 13 | F31: 6 | H31: 29 | I31: 9 | J31: 5 | K31: 30 | L31: 9 | N31: 30 | O31: 9 | Q31: 35 | R31: 5 | U31: =SUM(D31:T31) -> 167 | V31: =C31*U31 -> 2171
B32: K1 | F32: 2 | H32: 8 | K32: 13 | N32: 8 | Q32: 8 | U32: =SUM(D32:T32) -> 39 | V32: =C32*U32 -> 0
B33: L | H33: 10 | K33: 8 | N33: 8 | U33: =SUM(D33:T33) -> 26 | V33: =C33*U33 -> 0
B34: L/N | C34: 36 | E34: 4 | I34: 2 | J34: 4 | L34: 2 | M34: 3 | O34: 2 | P34: 2 | U34: =SUM(D34:T34) -> 19 | V34: =C34*U34 -> 684
B35: M | C35: 116 | E35: 13 | F35: 7 | U35: =SUM(D35:T35) -> 20 | V35: =C35*U35 -> 2320
B36: M (pendel) | C36: 40 | D36: 6 | U36: =SUM(D36:T36) -> 6 | V36: =C36*U36 -> 240
B37: M1 | F37: 4 | H37: 2 | K37: 2 | N37: 2 | Q37: 2 | U37: =SUM(D37:T37) -> 12 | V37: =C37*U37 -> 0
B38: M/N | C38: 116 | E38: 12 | U38: =SUM(D38:T38) -> 12 | V38: =C38*U38 -> 1392
B39: N | F39: 11 | U39: =SUM(D39:T39) -> 11 | V39: =C39*U39 -> 0
B40: N1/N | C40: 14 | J40: 5 | U40: =SUM(D40:T40) -> 5 | V40: =C40*U40 -> 70
B41: P | F41: 1 | H41: 1 | K41: 1 | N41: 1 | Q41: 1 | U41: =SUM(D41:T41) -> 5 | V41: =C41*U41 -> 0
B42: P1 | F42: 1 | U42: =SUM(D42:T42) -> 1 | V42: =C42*U42 -> 0
B43: T | C43: 250 | S43: 3 | U43: =SUM(D43:T43) -> 3 | V43: =C43*U43 -> 750
B44: W | C44: 52 | J44: 18 | U44: =SUM(D44:T44) -> 18 | V44: =C44*U44 -> 936
...

Sheet Uren en materiaal  
B3: Projectnaam: | C3: Inholland, locatie Den Haag, Theresiastraat 8
B4: Kenmerk: | C4: Uren en materialen armaturen
B5: Datum: | C5: ..-..-2024
B8: Code | C8: Totaal | D8: Fabrikant | E8: Armatuur code | F8: Netto stuksprijs | G8: Sub totaal materiaal
E9: nieuw | F9: (excl. staart opslagen) | G9: (€)
E10: (uit armatuurstaat) | F10: (€)
B11: Bestaande symbolen:
B12: A | C12: ='Tellijst Theresiastraat 8'!U12 -> 612 | F12: 0 | G12: =C12*F12 -> 0
B13: A/N | C13: ='Tellijst Theresiastraat 8'!U13 -> 10 | F13: 0 | G13: =C13*F13 -> 0
B14: A2 | C14: ='Tellijst Theresiastraat 8'!U14 -> 3 | F14: 0 | G14: =C14*F14 -> 0
B15: AB | C15: ='Tellijst Theresiastraat 8'!U15 -> 276 | F15: 0 | G15: =C15*F15 -> 0
B16: AF2 | C16: ='Tellijst Theresiastraat 8'!U16 -> 7 | F16: 0 | G16: =C16*F16 -> 0
B17: AG | C17: ='Tellijst Theresiastraat 8'!U17 -> 4 | F17: 0 | G17: =C17*F17 -> 0
B18: AH | C18: ='Tellijst Theresiastraat 8'!U18 -> 3 | F18: 0 | G18: =C18*F18 -> 0
B19: AI | C19: ='Tellijst Theresiastraat 8'!U19 -> 4 | F19: 0 | G19: =C19*F19 -> 0
B20: B | C20: ='Tellijst Theresiastraat 8'!U20 -> 412 | F20: 0 | G20: =C20*F20 -> 0
B21: B/N | C21: ='Tellijst Theresiastraat 8'!U21 -> 75 | F21: 0 | G21: =C21*F21 -> 0
B22: B1 | C22: ='Tellijst Theresiastraat 8'!U22 -> 16 | F22: 0 | G22: =C22*F22 -> 0
B23: B2 | C23: ='Tellijst Theresiastraat 8'!U23 -> 9 | F23: 0 | G23: =C23*F23 -> 0
... B35: M | C35: ='Tellijst Theresiastraat 8'!U35 -> 20 | F35: 0 | G35: =C35*F35 -> 0
B36: M (pendel) | C36: ='Tellijst Theresiastraat 8'!U36 -> 6
B37: M1 | C37: ='Tellijst Theresiastraat 8'!U37 -> 12 | F37: 0 | G37: =C37*F37 -> 0
B38: M/N | C38: ='Tellijst Theresiastraat 8'!U38 -> 12 | F38: 0 | G38: =C38*F38 -> 0
B39: N | C39: ='Tellijst Theresiastraat 8'!U39 -> 11 | F39: 0 | G39: =C39*F39 -> 0
B40: N1/N | C40: ='Tellijst Theresiastraat 8'!U40 -> 5 | F40: 0 | G40: =C40*F40 -> 0
B41: P | C41: ='Tellijst Theresiastraat 8'!U41 -> 5 | F41: 0 | G41: =C41*F41 -> 0
B42: P1 | C42: ='Tellijst Theresiastraat 8'!U42 -> 1 | F42: 0 | G42: =C42*F42 -> 0
B43: T | C43: ='Tellijst Theresiastraat 8'!U43 -> 3 | F43: 0 | G43: =C43*F43 -> 0
B44: W | C44: ='Tellijst Theresiastraat 8'!U44 -> 18 | F44: 0 | G44: =C44*F44 -> 0
B45: W/N | C45: ='Tellijst Theresiastraat 8'!U45 -> 6 | F45: 0 | G45: =C45*F45 -> 0
B46: X1 | C46: ='Tellijst Theresiastraat 8'!U46 -> 24 | F46: 0 | G46: =C46*F46 -> 0
B47: X2 | C47: ='Tellijst Theresiastraat 8'!U47 -> 1 | F47: 0 | G47: =C47*F47 -> 0
B48: X4 | C48: ='Tellijst Theresiastraat 8'!U48 -> 7 | F48: 0 | G48: =C48*F48 -> 0
... B90: Draaideur spots | C90: ='Tellijst Theresiastraat 8'!U90 -> 14 | F90: 0 | G90: =C90*F90 -> 0
B91: Bestaand NV:
B92: NV | C92: ='Tellijst Theresiastraat 8'!U92 -> 15 | F92: 0 | G92: =C92*F92 -> 0
B93: NV1 | C93: ='Tellijst Theresiastraat 8'!U93 -> 1 | F93: 0 | G93: =C93*F93 -> 0
B94: NV2 | C94: ='Tellijst Theresiastraat 8'!U94 -> 51 | F94: 0 | G94: =C94*F94 -> 0
B95: NV3 | C95: ='Tellijst Theresiastraat 8'!U95 -> 1 | F95: 0 | G95: =C95*F95 -> 0
B96: NV4 | C96: ='Tellijst Theresiastraat 8'!U96 -> 4 | F96: 0 | G96: =C96*F96 -> 0
...

Sheet Raming
A3: Projectnaam: | C3: Inholland, locatie Den Haag, Theresiastraat 8
A4: Kenmerk: | C4: Raming E-installaties
A5: Datum: | C5: ..-..-2024
A8: 01. | B8: ARBEID EN MATERIAAL (ARMATUREN)
B9: Onderdeel | C9: Aantal | D9: Arbeid eenheid | E9: Uurloon | F9: Sub totaal uren | G9: Sub totaal onderaannemer | H9: Sub totaal materiaal | I9: Totaal kosten
B10: Arbeid demontage bestaand | C10: ='Uren en materiaal '!C105 -> 2415 | D10: 0 | E10: 0 | F10: =C10*D10*E10 -> 0
B11: Arbeid montage nieuw | C11: ='Uren en materiaal '!C105 -> 2415 | D11: 0 | E11: 0 | F11: =C11*D11*E11 -> 0
B12: Uitvoerder | C12: 0 | E12: 0 | F12: =C12*E12 -> 0
B13: Service monteur | C13: 0 | E13: 0 | F13: =C13*E13 -> 0
B14: Specialist | C14: 0 | E14: 0 | F14: =C14*E14 -> 0
B15: Onderaannemer / inhuren derden | G15: 0
B16: Materiaal | H16: ='Uren en materiaal '!G105 -> 0
B17: Overige kosten leverancier materiaal | H17: 0
B18: Sub totaal | F18: =SUM(F10:F17) -> 0 | G18: =SUM(G10:G17) -> 0 | H18: =SUM(H10:H17) -> 0
B19: Toeslag onderaanneming (%) | C19: 0 | G19: =G18*C19 -> 0
B20: Toeslag materiaal (%) | C20: 0 | H20: =C20*H18 -> 0
B21: Totaal | I21: =SUM(F18:H20) -> 0
A23: 02. | B23: ARBEID EN MATERIAAL (SENSOREN)
B24: Onderdeel | C24: Aantal | D24: Arbeid eenheid | E24: Uurloon | F24: Sub totaal uren | G24: Sub totaal onderaannemer | H24: Sub totaal materiaal | I24: Totaal kosten
B25: Arbeid demontage bestaand | C25: 0 | D25: 0 | E25: 0 | F25: =C25*D25*E25 -> 0
B26: Arbeid montage nieuw | C26: 0 | D26: 0 | E26: 0 | F26: =C26*D26*E26 -> 0
B27: Uitvoerder | C27: 0 | E27: 0 | F27: =C27*E27 -> 0
B28: Service monteur | C28: 0 | E28: 0 | F28: =C28*E28 -> 0
B29: Specialist | C29: 0 | E29: 0 | F29: =C29*E29 -> 0
B30: Onderaannemer / inhuren derden | G30: 0
B31: Materiaal | H31: 0
B32: Overige kosten leverancier materiaal | H32: 0
B33: Sub totaal | F33: =SUM(F25:F32) -> 0 | G33: =SUM(G25:G32) -> 0 | H33: =SUM(H25:H32) -> 0
B34: Toeslag onderaanneming (%) | C34: 0 | G34: =G33*C34 -> 0
B35: Toeslag materiaal (%) | C35: 0 | H35: =C35*H33 -> 0
B36: Totaal | I36: =SUM(F33:H35) -> 0
A38: 03. | B38: ARBEID EN MATERIAAL (BEDIENPANELEN)
B39: Onderdeel | C39: Aantal | D39: Arbeid eenheid | E39: Uurloon | F39: Sub totaal uren | G39: Sub totaal onderaannemer | H39: Sub totaal materiaal | I39: Totaal kosten
B40: Arbeid demontage bestaand | C40: 0 | D40: 0 | E40: 0 | F40: =C40*D40*E40 -> 0
B41: Arbeid montage nieuw | C41: 0 | D41: 0 | E41: 0 | F41: =C41*D41*E41 -> 0
B42: Uitvoerder | C42: 10 | E42: 1000 | F42: =C42*D42*E42 -> 0
B43: Service monteur | C43: 0 | E43: 0 | F43: =C43*E43 -> 0
B44: Specialist | C44: 0 | E44: 0 | F44: =C44*E44 -> 0
B45: Onderaannemer / inhuren derden | G45: 0
B46: Materiaal | H46: 0
...
