Workbook
Name fases: #REF!

Sheet Tellijst Theresiastraat 8
B3: Projectnaam: | C3: Inholland, locatie Den Haag, Theresiastraat 8
B4: Kenmerk: | C4: Tellijst armaturen
B5: Datum: | C5: ..-..-2024
B8: Code | C8: Vermogen | D8: Aantal | E8: Aantal | F8: Aantal | G8: Aantal | H8: Aantal | I8: Aantal | J8: Aantal | K8: Aantal | L8: Aantal | M8: Aantal | N8: Aantal | O8: Aantal | P8: Aantal | Q8: Aantal | R8: Aantal | S8: Aantal | T8: Aantal | U8: Aantal | V8: Totaal
C9: Lamp | D9: kelder | E9: kelder | F9: Parkeergarage | G9: bg | H9: bg | I9: bg | J9: bg | K9: 1e verd. | L9: 1e verd. | M9: 1e verd. | N9: 2e verd. | O9: 2e verd. | P9: 2e verd. | Q9: 3e verd. | R9: 3e verd. | S9: 3e verd. | T9: Terrein | U9: Totaal | V9: vermogen (W)
D10: Verbindingsgang | E10: (deel 1+2) | F10: (deel 0) | G10: (receptie) | H10: (deel 0) | I10: (deel 1+2) | J10: (deel 3+4+5) | K10: (deel 0) | L10: (deel 1+2) | M10: (deel 3+4+5) | N10: (deel 0) | O10: (deel 1+2) | P10: (deel 3+4+5) | Q10: (deel 0) | R10: (deel 1+2) | S10: (deel 3+4+5)
B11: Bestaande symbolen:
B12: A | C12: 35 | H12: 36 | I12: 82 | J12: 4 | K12: 36 | L12: 85 | M12: 62 | N12: 36 | O12: 84 | P12: 64 | Q12: 36 | R12: 81 | S12: 6 | U12: =SUM(D12:T12) -> 612 | V12: =C12*U12 -> 21420
B13: A/N | C13: 35 | M13: 6 | P13: 4 | U13: =SUM(D13:T13) -> 10 | V13: =C13*U13 -> 350
B14: A2 | C14: 150 | T14: 3 | U14: =SUM(D14:T14) -> 3 | V14: =C14*U14 -> 450
B15: AB | C15: 35 | I15: 50 | J15: 5 | L15: 50 | M15: 34 | O15: 50 | P15: 34 | R15: 50 | S15: 3 | U15: =SUM(D15:T15) -> 276 | V15: =C15*U15 -> 9660
B16: AF2 | C16: 150 | J16: 1 | T16: 6 | U16: =SUM(D16:T16) -> 7 | V16: =C16*U16 -> 1050
B17: AG | C17: 32 | T17: 4 | U17: =SUM(D17:T17) -> 4 | V17: =C17*U17 -> 128
B18: AH | C18: 150 | T18: 3 | U18: =SUM(D18:T18) -> 3 | V18: =C18*U18 -> 450
B19: AI | C19: 50 | T19: 4 | U19: =SUM(D19:T19) -> 4 | V19: =C19*U19 -> 200
B20: B | C20: 18 | H20: 38 | I20: 58 | J20: 15 | K20: 38 | L20: 39 | M20: 28 | N20: 38 | O20: 41 | P20: 24 | Q20: 38 | R20: 43 | S20: 12 | U20: =SUM(D20:T20) -> 412 | V20: =C20*U20 -> 7416
B21: B/N | C21: 18 | I21: 12 | J21: 6 | L21: 13 | M21: 8 | O21: 13 | P21: 7 | R21: 12 | S21: 4 | U21: =SUM(D21:T21) -> 75 | V21: =C21*U21 -> 1350
B22: B1 | C22: 18 | J22: 16 | U22: =SUM(D22:T22) -> 16 | V22: =C22*U22 -> 288
B23: B2 | C23: 50 | J23: 9 | U23: =SUM(D23:T23) -> 9 | V23: =C23*U23 -> 450
B24: C | C24: 10 | I24: 8 | J24: 5 | L24: 8 | O24: 8 | R24: 4 | U24: =SUM(D24:T24) -> 33 | V24: =C24*U24 -> 330
B25: D1 | C25: 28 | I25: 10 | J25: 1 | L25: 8 | M25: 4 | O25: 9 | P25: 5 | R25: 9 | S25: 4 | U25: =SUM(D25:T25) -> 50 | V25: =C25*U25 -> 1400
B26: DD | C26: 28 | I26: 4 | J26: 1 | L26: 5 | M26: 2 | O26: 4 | P26: 5 | R26: 4 | S26: 1 | U26: =SUM(D26:T26) -> 26 | V26: =C26*U26 -> 728
B27: E1 | C27: 36 | J27: 7 | U27: =SUM(D27:T27) -> 7 | V27: =C27*U27 -> 252
B28: E2 | C28: 36 | J28: 2 | U28: =SUM(D28:T28) -> 2 | V28: =C28*U28 -> 72
B29: F | C29: 70 | F29: 22 | S29: 8 | U29: =SUM(D29:T29) -> 30 | V29: =C29*U29 -> 2100
B30: F1 | F30: 6 | U30: =SUM(D30:T30) -> 6 | V30: =C30*U30 -> 0
B31: K | C31: 13 | F31: 6 | H31: 29 | I31: 9 | J31: 5 | K31: 30 | L31: 9 | N31: 30 | O31: 9 | Q31: 35 | R31: 5 | U31: =SUM(D31:T31) -> 167 | V31: =C31*U31 -> 2171
B32: K1 | F32: 2 | H32: 8 | K32: 13 | N32: 8 | Q32: 8 | U32: =SUM(D32:T32) -> 39 | V32: =C32*U32 -> 0
B33: L | H33: 10 | K33: 8 | N33: 8 | U33: =SUM(D33:T33) -> 26 | V33: =C33*U33 -> 0
B34: L/N | C34: 36 | E34: 4 | I34: 2 | J34: 4 | L34: 2 | M34: 3 | O34: 2 | P34: 2 | U34: =SUM(D34:T34) -> 19 | V34: =C34*U34 -> 684
B35: M | C35: 116 | E35: 13 | F35: 7 | U35: =SUM(D35:T35) -> 20 | V35: =C35*U35 -> 2320
B36: M (pendel) | C36: 40 | D36: 6 | U36: =SUM(D36:T36) -> 6 | V36: =C36*U36 -> 240
B37: M1 | F37: 4 | H37: 2 | K37: 2 | N37: 2 | Q37: 2 | U37: =SUM(D37:T37) -> 12 | V37: =C37*U37 -> 0
B38: M/N | C38: 116 | E38: 12 | U38: =SUM(D38:T38) -> 12 | V38: =C38*U38 -> 1392
B39: N | F39: 11 | U39: =SUM(D39:T39) -> 11 | V39: =C39*U39 -> 0
B40: N1/N | C40: 14 | J40: 5 | U40: =SUM(D40:T40) -> 5 | V40: =C40*U40 -> 70
B41: P | F41: 1 | H41: 1 | K41: 1 | N41: 1 | Q41: 1 | U41: =SUM(D41:T41) -> 5 | V41: =C41*U41 -> 0
B42: P1 | F42: 1 | U42: =SUM(D42:T42) -> 1 | V42: =C42*U42 -> 0
B43: T | C43: 250 | S43: 3 | U43: =SUM(D43:T43) -> 3 | V43: =C43*U43 -> 750
B44: W | C44: 52 | J44: 18 | U44: =SUM(D44:T44) -> 18 | V44: =C44*U44 -> 936
B45: W/N | C45: 52 | J45: 6 | U45: =SUM(D45:T45) -> 6 | V45: =C45*U45 -> 312
B46: X1 | H46: 6 | K46: 6 | N46: 6 | Q46: 6 | U46: =SUM(D46:T46) -> 24 | V46: =C46*U46 -> 0
B47: X2 | Q47: 1 | U47: =SUM(D47:T47) -> 1
B48: X4 | F48: 7 | U48: =SUM(D48:T48) -> 7 | V48: =C48*U48 -> 0
B49: Z | C49: 52 | E49: 1 | U49: =SUM(D49:T49) -> 1 | V49: =C49*U49 -> 52
B50: Z1 | C50: 20 | J50: 39 | U50: =SUM(D50:T50) -> 39 | V50: =C50*U50 -> 780
B51: Z10 | C51: 100 | J51: 4 | U51: =SUM(D51:T51) -> 4 | V51: =C51*U51 -> 400
B52: Z11 | C52: 52 | J52: 15 | U52: =SUM(D52:T52) -> 15 | V52: =C52*U52 -> 780
B53: Z12 | C53: 116 | J53: 11 | U53: =SUM(D53:T53) -> 11 | V53: =C53*U53 -> 1276
B54: Z15/N | C54: 78 | I54: 2 | L54: 2 | O54: 2 | U54: =SUM(D54:T54) -> 6 | V54: =C54*U54 -> 468
B55: Z16 | C55: 36 | I55: 10 | J55: 20 | L55: 12 | O55: 12 | U55: =SUM(D55:T55) -> 54 | V55: =C55*U55 -> 1944
B56: Z17 | C56: 52 | S56: 6 | U56: =SUM(D56:T56) -> 6 | V56: =C56*U56 -> 312
B57: Z18 | C57: 50 | S57: 22 | U57: =SUM(D57:T57) -> 22 | V57: =C57*U57 -> 1100
B58: Z19 | C58: 52 | S58: 12 | U58: =SUM(D58:T58) -> 12 | V58: =C58*U58 -> 624
B59: Z2 | C59: 52 | J59: 18 | U59: =SUM(D59:T59) -> 18 | V59: =C59*U59 -> 936
B60: Z2/N | C60: 52 | J60: 5 | U60: =SUM(D60:T60) -> 5 | V60: =C60*U60 -> 260
B61: Z20 | C61: 50 | S61: 14 | U61: =SUM(D61:T61) -> 14 | V61: =C61*U61 -> 700
B62: Z23 | U62: =SUM(D62:T62) -> 0 | V62: =C62*U62 -> 0
B63: Z24 | C63: 100 | M63: 2 | U63: =SUM(D63:T63) -> 2 | V63: =C63*U63 -> 200
B64: Z25 | U64: =SUM(D64:T64) -> 0 | V64: =C64*U64 -> 0
B65: Z26 | U65: =SUM(D65:T65) -> 0 | V65: =C65*U65 -> 0
B66: Z3 | C66: 35 | J66: 7 | U66: =SUM(D66:T66) -> 7 | V66: =C66*U66 -> 245
B67: Z30 | C67: 18 | J67: 2 | U67: =SUM(D67:T67) -> 2 | V67: =C67*U67 -> 36
B68: Z4 | C68: 58 | J68: 16 | U68: =SUM(D68:T68) -> 16 | V68: =C68*U68 -> 928
B69: Z51 | C69: 150 | U69: =SUM(D69:T69) -> 0 | V69: =C69*U69 -> 0
B70: Z52 | C70: 50 | U70: =SUM(D70:T70) -> 0 | V70: =C70*U70 -> 0
B71: Z53 | C71: 72 | U71: =SUM(D71:T71) -> 0 | V71: =C71*U71 -> 0
B72: Z54 | U72: =SUM(D72:T72) -> 0 | V72: =C72*U72 -> 0
B73: Z55 | C73: 18 | U73: =SUM(D73:T73) -> 0 | V73: =C73*U73 -> 0
B74: Z6 | C74: 36 | J74: 4 | U74: =SUM(D74:T74) -> 4 | V74: =C74*U74 -> 144
B75: Z7 | C75: 18 | U75: =SUM(D75:T75) -> 0 | V75: =C75*U75 -> 0
B76: Z8 | C76: 36 | J76: 6 | U76: =SUM(D76:T76) -> 6 | V76: =C76*U76 -> 216
B77: Z8/N | C77: 36 | U77: =SUM(D77:T77) -> 0 | V77: =C77*U77 -> 0
B78: Z9 | C78: 116 | J78: 2 | U78: =SUM(D78:T78) -> 2 | V78: =C78*U78 -> 232
B79: Berging opbouw | C79: 20 | D79: 1 | U79: =SUM(D79:T79) -> 1 | V79: =C79*U79 -> 20
B80: Keuken, RA | C80: 20 | J80: 18 | U80: =SUM(D80:T80) -> 18 | V80: =C80*U80 -> 360
B81: Keuken, RB | C81: 20 | J81: 10 | U81: =SUM(D81:T81) -> 10 | V81: =C81*U81 -> 200
B82: Keuken, RC | C82: 20 | J82: 11 | U82: =SUM(D82:T82) -> 11 | V82: =C82*U82 -> 220
B83: Draaideur spots | C83: 10 | J83: 10 | U83: =SUM(D83:T83) -> 10 | V83: =C83*U83 -> 100
B84: Downlighter | C84: 15 | G84: 17 | U84: =SUM(D84:T84) -> 17 | V84: =C84*U84 -> 255
B85: Opbouw rond | C85: 15 | G85: 12 | U85: =SUM(D85:T85) -> 12 | V85: =C85*U85 -> 180
B86: Rail met spots receptie | C86: 15 | G86: 4 | U86: =SUM(D86:T86) -> 4 | V86: =C86*U86 -> 60
B87: Rail met spots trap | C87: 15 | G87: 4 | U87: =SUM(D87:T87) -> 4 | V87: =C87*U87 -> 60
B88: Inbouw rechthoekig | C88: 25 | G88: 4 | U88: =SUM(D88:T88) -> 4 | V88: =C88*U88 -> 100
B89: Opbouw rechthoekig | C89: 25 | G89: 4 | U89: =SUM(D89:T89) -> 4 | V89: =C89*U89 -> 100
B90: Draaideur spots | C90: 10 | H90: 14 | U90: =SUM(D90:T90) -> 14 | V90: =C90*U90 -> 140
B91: Bestaand NV: | V91: =C91*U91 -> 0
B92: NV | C92: 66 | D92: 3 | G92: 8 | J92: 4 | U92: =SUM(D92:T92) -> 15 | V92: =C92*U92 -> 990
B93: NV1 | C93: 66 | J93: 1 | U93: =SUM(D93:T93) -> 1 | V93: =C93*U93 -> 66
B94: NV2 | C94: 66 | E94: 2 | I94: 6 | J94: 14 | L94: 5 | M94: 5 | O94: 5 | P94: 7 | R94: 5 | S94: 2 | U94: =SUM(D94:T94) -> 51 | V94: =C94*U94 -> 3366
B95: NV3 | C95: 66 | P95: 1 | U95: =SUM(D95:T95) -> 1 | V95: =C95*U95 -> 66
B96: NV4 | C96: 66 | I96: 1 | L96: 1 | M96: 1 | O96: 1 | U96: =SUM(D96:T96) -> 4 | V96: =C96*U96 -> 264
B97: NV5 | C97: 66 | G97: 4 | M97: 1 | U97: =SUM(D97:T97) -> 5 | V97: =C97*U97 -> 330
B98: Aanvullend (rood): | V98: =C98*U98 -> 0
B99: Downlighter | C99: 25 | U99: =SUM(D99:T99) -> 0 | V99: =C99*U99 -> 0
B100: vierkante inbouw | C100: 30 | U100: =SUM(D100:T100) -> 0 | V100: =C100*U100 -> 0
B101: Rechthoekige inbouw | C101: 30 | I101: 4 | U101: =SUM(D101:T101) -> 4 | V101: =C101*U101 -> 120
B102: Wand NV (*1) | C102: 20 | U102: =SUM(D102:T102) -> 0 | V102: =C102*U102 -> 0
B103: NV (*1) | C103: 15 | H103: 1 | I103: 1 | J103: 5 | U103: =SUM(D103:T103) -> 7 | V103: =C103*U103 -> 105
B104: Nood Uit (pijl) (*1) | C104: 15 | D104: 1 | H104: 1 | I104: 1 | J104: 2 | U104: =SUM(D104:T104) -> 5 | V104: =C104*U104 -> 75
...

Sheet Uren en materiaal  
B3: Projectnaam: | C3: Inholland, locatie Den Haag, Theresiastraat 8
B4: Kenmerk: | C4: Uren en materialen armaturen
B5: Datum: | C5: ..-..-2024
B8: Code | C8: Totaal | D8: Fabrikant | E8: Armatuur code | F8: Netto stuksprijs | G8: Sub totaal materiaal
E9: nieuw | F9: (excl. staart opslagen) | G9: (€)
E10: (uit armatuurstaat) | F10: (€)
B11: Bestaande symbolen:
B12: A | C12: ='Tellijst Theresiastraat 8'!U12 -> 612 | F12: 0 | G12: =C12*F12 -> 0
B13: A/N | C13: ='Tellijst Theresiastraat 8'!U13 -> 10 | F13: 0 | G13: =C13*F13 -> 0
B14: A2 | C14: ='Tellijst Theresiastraat 8'!U14 -> 3 | F14: 0 | G14: =C14*F14 -> 0
B15: AB | C15: ='Tellijst Theresiastraat 8'!U15 -> 276 | F15: 0 | G15: =C15*F15 -> 0
B16: AF2 | C16: ='Tellijst Theresiastraat 8'!U16 -> 7 | F16: 0 | G16: =C16*F16 -> 0
B17: AG | C17: ='Tellijst Theresiastraat 8'!U17 -> 4 | F17: 0 | G17: =C17*F17 -> 0
B18: AH | C18: ='Tellijst Theresiastraat 8'!U18 -> 3 | F18: 0 | G18: =C18*F18 -> 0
B19: AI | C19: ='Tellijst Theresiastraat 8'!U19 -> 4 | F19: 0 | G19: =C19*F19 -> 0
B20: B | C20: ='Tellijst Theresiastraat 8'!U20 -> 412 | F20: 0 | G20: =C20*F20 -> 0
B21: B/N | C21: ='Tellijst Theresiastraat 8'!U21 -> 75 | F21: 0 | G21: =C21*F21 -> 0
B22: B1 | C22: ='Tellijst Theresiastraat 8'!U22 -> 16 | F22: 0 | G22: =C22*F22 -> 0
B23: B2 | C23: ='Tellijst Theresiastraat 8'!U23 -> 9 | F23: 0 | G23: =C23*F23 -> 0
... B35: M | C35: ='Tellijst Theresiastraat 8'!U35 -> 20 | F35: 0 | G35: =C35*F35 -> 0
B36: M (pendel) | C36: ='Tellijst Theresiastraat 8'!U36 -> 6
B37: M1 | C37: ='Tellijst Theresiastraat 8'!U37 -> 12 | F37: 0 | G37: =C37*F37 -> 0
B38: M/N | C38: ='Tellijst Theresiastraat 8'!U38 -> 12 | F38: 0 | G38: =C38*F38 -> 0
B39: N | C39: ='Tellijst Theresiastraat 8'!U39 -> 11 | F39: 0 | G39: =C39*F39 -> 0
B40: N1/N | C40: ='Tellijst Theresiastraat 8'!U40 -> 5 | F40: 0 | G40: =C40*F40 -> 0
B41: P | C41: ='Tellijst Theresiastraat 8'!U41 -> 5 | F41: 0 | G41: =C41*F41 -> 0
B42: P1 | C42: ='Tellijst Theresiastraat 8'!U42 -> 1 | F42: 0 | G42: =C42*F42 -> 0
B43: T | C43: ='Tellijst Theresiastraat 8'!U43 -> 3 | F43: 0 | G43: =C43*F43 -> 0
B44: W | C44: ='Tellijst Theresiastraat 8'!U44 -> 18 | F44: 0 | G44: =C44*F44 -> 0
B45: W/N | C45: ='Tellijst Theresiastraat 8'!U45 -> 6 | F45: 0 | G45: =C45*F45 -> 0
B46: X1 | C46: ='Tellijst Theresiastraat 8'!U46 -> 24 | F46: 0 | G46: =C46*F46 -> 0
B47: X2 | C47: ='Tellijst Theresiastraat 8'!U47 -> 1 | F47: 0 | G47: =C47*F47 -> 0
B48: X4 | C48: ='Tellijst Theresiastraat 8'!U48 -> 7 | F48: 0 | G48: =C48*F48 -> 0
... B90: Draaideur spots | C90: ='Tellijst Theresiastraat 8'!U90 -> 14 | F90: 0 | G90: =C90*F90 -> 0
B91: Bestaand NV:
B92: NV | C92: ='Tellijst Theresiastraat 8'!U92 -> 15 | F92: 0 | G92: =C92*F92 -> 0
B93: NV1 | C93: ='Tellijst Theresiastraat 8'!U93 -> 1 | F93: 0 | G93: =C93*F93 -> 0
B94: NV2 | C94: ='Tellijst Theresiastraat 8'!U94 -> 51 | F94: 0 | G94: =C94*F94 -> 0
B95: NV3 | C95: ='Tellijst Theresiastraat 8'!U95 -> 1 | F95: 0 | G95: =C95*F95 -> 0
B96: NV4 | C96: ='Tellijst Theresiastraat 8'!U96 -> 4 | F96: 0 | G96: =C96*F96 -> 0
B97: NV5 | C97: ='Tellijst Theresiastraat 8'!U97 -> 5 | F97: 0 | G97: =C97*F97 -> 0
B98: Aanvullend (rood):
B99: Downlighter | C99: ='Tellijst Theresiastraat 8'!U99 -> 0 | F99: 0 | G99: =C99*F99 -> 0
B100: vierkante inbouw | C100: ='Tellijst Theresiastraat 8'!U100 -> 0 | F100: 0 | G100: =C100*F100 -> 0
B101: Rechthoekige inbouw | C101: ='Tellijst Theresiastraat 8'!U101 -> 4 | F101: 0 | G101: =C101*F101 -> 0
B102: Wand NV (*1) | C102: ='Tellijst Theresiastraat 8'!U102 -> 0 | F102: 0 | G102: =C102*F102 -> 0
B103: NV (*1) | C103: ='Tellijst Theresiastraat 8'!U103 -> 7 | F103: 0 | G103: =C103*F103 -> 0
B104: Nood Uit (pijl) (*1) | C104: ='Tellijst Theresiastraat 8'!U104 -> 5 | F104: 0 | G104: =C104*F104 -> 0
B105: Totaal | C105: =SUM(C12:C104) -> 2415 | G105: =SUM(G12:G104) -> 0
B107: Verklaring:
C108: = | D108: Cellen zelf in te vullen
C109: = | D109: Cellen worden automatisch ingevuld

Sheet Raming
A3: Projectnaam: | C3: Inholland, locatie Den Haag, Theresiastraat 8
A4: Kenmerk: | C4: Raming E-installaties
A5: Datum: | C5: ..-..-2024
A8: 01. | B8: ARBEID EN MATERIAAL (ARMATUREN)
B9: Onderdeel | C9: Aantal | D9: Arbeid eenheid | E9: Uurloon | F9: Sub totaal uren | G9: Sub totaal onderaannemer | H9: Sub totaal materiaal | I9: Totaal kosten
B10: Arbeid demontage bestaand | C10: ='Uren en materiaal '!C105 -> 2415 | D10: 0 | E10: 0 | F10: =C10*D10*E10 -> 0
B11: Arbeid montage nieuw | C11: ='Uren en materiaal '!C105 -> 2415 | D11: 0 | E11: 0 | F11: =C11*D11*E11 -> 0
B12: Uitvoerder | C12: 0 | E12: 0 | F12: =C12*E12 -> 0
B13: Service monteur | C13: 0 | E13: 0 | F13: =C13*E13 -> 0
B14: Specialist | C14: 0 | E14: 0 | F14: =C14*E14 -> 0
B15: Onderaannemer / inhuren derden | G15: 0
B16: Materiaal | H16: ='Uren en materiaal '!G105 -> 0
B17: Overige kosten leverancier materiaal | H17: 0
B18: Sub totaal | F18: =SUM(F10:F17) -> 0 | G18: =SUM(G10:G17) -> 0 | H18: =SUM(H10:H17) -> 0
B19: Toeslag onderaanneming (%) | C19: 0 | G19: =G18*C19 -> 0
B20: Toeslag materiaal (%) | C20: 0 | H20: =C20*H18 -> 0
B21: Totaal | I21: =SUM(F18:H20) -> 0
A23: 02. | B23: ARBEID EN MATERIAAL (SENSOREN)
B24: Onderdeel | C24: Aantal | D24: Arbeid eenheid | E24: Uurloon | F24: Sub totaal uren | G24: Sub totaal onderaannemer | H24: Sub totaal materiaal | I24: Totaal kosten
B25: Arbeid demontage bestaand | C25: 0 | D25: 0 | E25: 0 | F25: =C25*D25*E25 -> 0
B26: Arbeid montage nieuw | C26: 0 | D26: 0 | E26: 0 | F26: =C26*D26*E26 -> 0
B27: Uitvoerder | C27: 0 | E27: 0 | F27: =C27*E27 -> 0
B28: Service monteur | C28: 0 | E28: 0 | F28: =C28*E28 -> 0
B29: Specialist | C29: 0 | E29: 0 | F29: =C29*E29 -> 0
B30: Onderaannemer / inhuren derden | G30: 0
B31: Materiaal | H31: 0
B32: Overige kosten leverancier materiaal | H32: 0
B33: Sub totaal | F33: =SUM(F25:F32) -> 0 | G33: =SUM(G25:G32) -> 0 | H33: =SUM(H25:H32) -> 0
B34: Toeslag onderaanneming (%) | C34: 0 | G34: =G33*C34 -> 0
B35: Toeslag materiaal (%) | C35: 0 | H35: =C35*H33 -> 0
B36: Totaal | I36: =SUM(F33:H35) -> 0
A38: 03. | B38: ARBEID EN MATERIAAL (BEDIENPANELEN)
B39: Onderdeel | C39: Aantal | D39: Arbeid eenheid | E39: Uurloon | F39: Sub totaal uren | G39: Sub totaal onderaannemer | H39: Sub totaal materiaal | I39: Totaal kosten
B40: Arbeid demontage bestaand | C40: 0 | D40: 0 | E40: 0 | F40: =C40*D40*E40 -> 0
B41: Arbeid montage nieuw | C41: 0 | D41: 0 | E41: 0 | F41: =C41*D41*E41 -> 0
B42: Uitvoerder | C42: 10 | E42: 1000 | F42: =C42*D42*E42 -> 0
B43: Service monteur | C43: 0 | E43: 0 | F43: =C43*E43 -> 0
B44: Specialist | C44: 0 | E44: 0 | F44: =C44*E44 -> 0
B45: Onderaannemer / inhuren derden | G45: 0
B46: Materiaal | H46: 0
B47: Overige kosten leverancier materiaal | H47: 0
B48: Sub totaal | F48: =SUM(F40:F47) -> 0 | G48: =SUM(G40:G47) -> 0 | H48: =SUM(H40:H47) -> 0
B49: Toeslag onderaanneming (%) | C49: 0 | G49: =G48*C49 -> 0
B50: Toeslag materiaal (%) | C50: 0 | H50: =C50*H48 -> 0
B51: Totaal | I51: =SUM(F48:H50) -> 0
A53: 04. | B53: ARBEID EN MATERIAAL (OVERIGE INSTALLATIES)
B54: Onderdeel | C54: Aantal | D54: Arbeid eenheid | E54: Uurloon | F54: Sub totaal uren | G54: Sub totaal onderaannemer | H54: Sub totaal materiaal | I54: Totaal kosten
B55: Aarding | C55: 0 | D55: 0 | E55: 0 | F55: =C55*D55*E55 -> 0 | G55: 0 | H55: 0
B56: Kabelwegen (kabelgoot, kabbelladder) | C56: 0 | D56: 0 | E56: 0 | F56: =C56*D56*E56 -> 0 | G56: 0 | H56: 0
B57: Verdeelkasten (aanpassingen, uitbreidingen) | C57: 0 | D57: 0 | E57: 0 | F57: =C57*D57*E57 -> 0 | G57: 0 | H57: 0
B58: Installaties (kabels, pijp, draad, snoer etc.) | C58: 0 | D58: 0 | E58: 0 | F58: =C58*D58*E58 -> 0 | G58: 0 | H58: 0
B59: ….................. | C59: 0 | E59: 0 | F59: =C59*D59*E59 -> 0 | G59: 0 | H59: 0
B60: ….................. | C60: 0 | E60: 0 | F60: =C60*D60*E60 -> 0 | G60: 0 | H60: 0
B61: Onderaannemer / inhuren derden | G61: 0
B62: Onderaannemer / inhuren derden | G62: 0
B63: Monteur | C63: 0 | E63: 0 | F63: =C63*E63 -> 0
B64: Uitvoerder | C64: 0 | E64: 0 | F64: =C64*E64 -> 0
B65: Service monteur | C65: 0 | E65: 0 | F65: =C65*E65 -> 0
B66: Specialist | C66: 0 | E66: 0 | F66: =C66*E66 -> 0
B67: Sub totaal | F67: =SUM(F55:F66) -> 0 | G67: =SUM(G55:G66) -> 0 | H67: =SUM(H55:H66) -> 0
B68: Toeslag onderaanneming (%) | C68: 0 | G68: =G67*C68 -> 0
B69: Toeslag materiaal (%) | C69: 0 | H69: =C69*H67 -> 0
B70: Totaal | I70: =SUM(F67:H69) -> 0
A72: 05. | B72: ARBEID EN MATERIAAL (BOUWKUNDIG)
B73: Onderdeel | C73: Aantal | E73: Uurloon | F73: Sub totaal uren | G73: Sub totaal onderaannemer | H73: Sub totaal materiaal | I73: Totaal kosten
B74: Bouwkundige voorzieningen | C74: 0 | E74: 0 | F74: =C74*E74 -> 0 | G74: =C74 -> 0 | H74: 0
B75: Plafond | C75: 0 | E75: 0 | F75: =C75*E75 -> 0 | G75: =C75 -> 0 | H75: 0
B76: Schilderwerk | C76: 0 | E76: 0 | F76: =C76*E76 -> 0 | G76: =C76 -> 0 | H76: 0
B77: Bouwkundige herstelwerkzaamheden | C77: 0 | E77: 0 | F77: =C77*E77 -> 0 | G77: =C77 -> 0 | H77: 0
B78: Afwerken sparingen (brandwerend / akoestisch / waterdicht) | C78: 0 | E78: 0 | F78: =C78*E78 -> 0 | G78: =C78 -> 0 | H78: 0
B79: ….................. | C79: 0 | E79: 0 | F79: =C79*E79 -> 0 | G79: 0 | H79: 0
B80: ….................. | C80: 0 | E80: 0 | F80: =C80*E80 -> 0 | G80: 0 | H80: 0
B81: Onderaannemer / inhuren derden | G81: 0
B82: Onderaannemer / inhuren derden | G82: 0
B83: Monteur | C83: 0 | E83: 0 | F83: =C83*E83 -> 0
B84: Uitvoerder | C84: 0 | E84: 0 | F84: =C84*E84 -> 0
B85: Service monteur | C85: 0 | E85: 0 | F85: =C85*E85 -> 0
B86: Specialist | C86: 0 | E86: 0 | F86: =C86*E86 -> 0
B87: Sub totaal | F87: =SUM(F74:F86) -> 0 | G87: =SUM(G74:G86) -> 0 | H87: =SUM(H74:H86) -> 0
B88: Toeslag onderaanneming (%) | C88: 0 | G88: =G87*C88 -> 0
B89: Toeslag materiaal (%) | C89: 0 | H89: =C89*H87 -> 0
B90: Totaal | I90: =SUM(F87:H89) -> 0
A92: 06. | B92: OVERIGE KOSTEN
B93: Onderdeel | C93: Aantal | E93: Uurloon | F93: Sub totaal uren | G93: Sub totaal onderaannemer | H93: Sub totaal materiaal | I93: Totaal kosten
B94: Interim voorzieningen | C94: 0 | E94: 0 | F94: =C94*E94 -> 0 | G94: 0 | H94: 0
B95: Bouwplaats kosten (containers e.d.) | C95: 0 | E95: 0 | F95: =C95*E95 -> 0 | G95: 0
B96: Hulp materialen (steigers, hoogwerkers etc.) | C96: 0 | E96: 0 | F96: =C96*E96 -> 0 | G96: 0
B97: Milieu afvoer kosten | C97: 0 | E97: 0 | F97: =C97*E97 -> 0 | G97: 0
B98: ….................. | C98: 0 | E98: 0 | F98: =C98*E98 -> 0 | G98: 0
B99: ….................. | C99: 0 | E99: 0 | F99: =C99*E99 -> 0 | G99: 0 | H99: 0
B100: Onderaannemer / inhuren derden | G100: 0
B101: Onderaannemer / inhuren derden | G101: 0
B102: Monteur | C102: 0 | E102: 0 | F102: =C102*E102 -> 0
B103: Uitvoerder | C103: 0 | E103: 0 | F103: =C103*E103 -> 0
B104: Service monteur | C104: 0 | E104: 0 | F104: =C104*E104 -> 0
B105: Specialist | C105: 0 | E105: 0 | F105: =C105*E105 -> 0
B106: Sub totaal | F106: =SUM(F94:F105) -> 0 | G106: =SUM(G94:G105) -> 0 | H106: =SUM(H94:H105) -> 0
B107: Toeslag onderaanneming (%) | C107: 0 | G107: =G106*C107 -> 0
B108: Toeslag materiaal (%) | C108: 0 | H108: =C108*H106 -> 0
B109: Totaal | I109: =SUM(F106:H108) -> 0
...
