Workbook
Name SCORE: 'Beoordelen open vragen'!$A$8:$A$13

Sheet Beoordelen open vragen
A1: Beoordeling KWALITEIT VAN DE BEANTWOORDING VAN DE OPEN VRAGEN
A2: Om de kwaliteit van een Inschrijver te kunnen beoordelen heeft de Aanbestedende dienst gekozen voor de beoordelingsmethodiek ‘gunnen op waarde’. Per item zal de beoordelingsgroep een waarde toekennen, afhankelijk van het onderwerp en de keuzemogelijkheden die de beoordelaar heeft voor dat onderdeel. Hoe meer toegevoegde waarde en/of kwaliteit een Inschrijver biedt, hoe hoger zij op het onderdeel kwaliteit scoort (meer € waarde). Om de kwaliteit en toegevoegde waarde van de Inschrijver(s) te kunnen beoordelen dient Inschrijver haar kwaliteit aan te tonen en meerwaarde uit te werken conform onderstaande open vragen.
A3: OPEN VRAAG 8.1 "GARANTIE AFHANDELING"
A4: Zie bijlage 8 'kwaliteit'.
A5: OPEN VRAAG 8.2 "MARKTCONFORME PRIJZEN EN ONDERWIJSKORTING"
A6: Zie bijlage 8 'kwaliteit'.
A7: Wijze van beoordeling van de open vragen: | B7: 8.1 | C7: 8.2
A8: Uitmuntend | B8: 11000 | C8: 44000
A9: Goed | B9: 10000 | C9: 30000
A10: Voldoende | B10: 5000 | C10: 20000
A11: Matig | B11: 0 | C11: 0
A12: Onvoldoende | B12: KO | C12: KO
A13: SCORE

Sheet Beoordelaar 1
A1: Beoordelaar 1: <<>> | C1: Inschrijver 1 | F1: Inschrijver 2 | I1: Inschrijver 3
A2: Open vragen | C2: Score: | F2: Score: | I2: Score:
A3: ='Beoordelen open vragen'!A3 -> OPEN VRAAG 8.1 "GARANTIE AFHANDELING" | C3: SCORE | F3: SCORE | I3: SCORE
A4: ='Beoordelen open vragen'!A4 -> Zie bijlage 8 'kwaliteit'. | C4: <MOTIVATIE> | F4: <MOTIVATIE> | I4: <MOTIVATIE>
A5: ='Beoordelen open vragen'!A5 -> OPEN VRAAG 8.2 "MARKTCONFORME PRIJZEN EN ONDERWIJSKORTING" | C5: SCORE | F5: SCORE | I5: SCORE
A6: ='Beoordelen open vragen'!A6 -> Zie bijlage 8 'kwaliteit'. | C6: <MOTIVATIE> | F6: <MOTIVATIE> | I6: <MOTIVATIE>

Sheet Beoordelaar 2
A1: Beoordelaar 2: <<>> | C1: Inschrijver 1 | F1: Inschrijver 2 | I1: Inschrijver 3
A2: Open vragen | C2: Score: | F2: Score: | I2: Score:
A3: ='Beoordelen open vragen'!A3 -> OPEN VRAAG 8.1 "GARANTIE AFHANDELING" | C3: SCORE | F3: SCORE | I3: SCORE
A4: ='Beoordelen open vragen'!A4 -> Zie bijlage 8 'kwaliteit'. | C4: <MOTIVATIE> | F4: <MOTIVATIE> | I4: <MOTIVATIE>
A5: ='Beoordelen open vragen'!A5 -> OPEN VRAAG 8.2 "MARKTCONFORME PRIJZEN EN ONDERWIJSKORTING" | C5: SCORE | F5: SCORE | I5: SCORE
A6: ='Beoordelen open vragen'!A6 -> Zie bijlage 8 'kwaliteit'. | C6: <MOTIVATIE> | F6: <MOTIVATIE> | I6: <MOTIVATIE>

Sheet Beoordelaar 3
A1: Beoordelaar 3: <<>> | C1: Inschrijver 1 | F1: Inschrijver 2 | I1: Inschrijver 3
A2: Open vragen | C2: Score: | F2: Score: | I2: Score:
A3: ='Beoordelen open vragen'!A3 -> OPEN VRAAG 8.1 "GARANTIE AFHANDELING" | C3: SCORE | F3: SCORE | I3: SCORE
A4: ='Beoordelen open vragen'!A4 -> Zie bijlage 8 'kwaliteit'. | C4: <MOTIVATIE> | F4: <MOTIVATIE> | I4: <MOTIVATIE>
A5: ='Beoordelen open vragen'!A5 -> OPEN VRAAG 8.2 "MARKTCONFORME PRIJZEN EN ONDERWIJSKORTING" | C5: SCORE | F5: SCORE | I5: SCORE
A6: ='Beoordelen open vragen'!A6 -> Zie bijlage 8 'kwaliteit'. | C6: <MOTIVATIE> | F6: <MOTIVATIE> | I6: <MOTIVATIE>

Sheet Beoordelaar 4
A1: Beoordelaar 4: <<>> | C1: Inschrijver 1 | F1: Inschrijver 2 | I1: Inschrijver 3
A2: Open vragen | C2: Score: | F2: Score: | I2: Score:
A3: ='Beoordelen open vragen'!A3 -> OPEN VRAAG 8.1 "GARANTIE AFHANDELING" | C3: SCORE | F3: SCORE | I3: SCORE
A4: ='Beoordelen open vragen'!A4 -> Zie bijlage 8 'kwaliteit'. | C4: <MOTIVATIE> | F4: <MOTIVATIE> | I4: <MOTIVATIE>
A5: ='Beoordelen open vragen'!A5 -> OPEN VRAAG 8.2 "MARKTCONFORME PRIJZEN EN ONDERWIJSKORTING" | C5: SCORE | F5: SCORE | I5: SCORE
A6: ='Beoordelen open vragen'!A6 -> Zie bijlage 8 'kwaliteit'. | C6: <MOTIVATIE> | F6: <MOTIVATIE> | I6: <MOTIVATIE>

Sheet Beoordelaar 5
A1: Beoordelaar 5: <<>> | C1: Inschrijver 1 | F1: Inschrijver 2 | I1: Inschrijver 3
A2: Open vragen | C2: Score: | F2: Score: | I2: Score:
A3: ='Beoordelen open vragen'!A3 -> OPEN VRAAG 8.1 "GARANTIE AFHANDELING" | C3: SCORE | F3: SCORE | I3: SCORE
A4: ='Beoordelen open vragen'!A4 -> Zie bijlage 8 'kwaliteit'. | C4: <MOTIVATIE> | F4: <MOTIVATIE> | I4: <MOTIVATIE>
A5: ='Beoordelen open vragen'!A5 -> OPEN VRAAG 8.2 "MARKTCONFORME PRIJZEN EN ONDERWIJSKORTING" | C5: SCORE | F5: SCORE | I5: SCORE
A6: ='Beoordelen open vragen'!A6 -> Zie bijlage 8 'kwaliteit'. | C6: <MOTIVATIE> | F6: <MOTIVATIE> | I6: <MOTIVATIE>

Sheet Consensus
A1: Totaalwaardes beantwoording open vragen
A2: Open vragen | D2: ='Beoordelaar 1'!C1 -> Inschrijver 1 | E2: MOTIVATIE CONSENSUS OPEN VRAAG EN TOELICHTING | G2: ='Beoordelaar 1'!F1 -> Inschrijver 2 | H2: MOTIVATIE CONSENSUS OPEN VRAAG EN TOELICHTING | J2: ='Beoordelaar 1'!I1 -> Inschrijver 3 | K2: MOTIVATIE CONSENSUS OPEN VRAAG EN TOELICHTING
A3: ='Beoordelen open vragen'!A3 -> OPEN VRAAG 8.1 "GARANTIE AFHANDELING" | B3: Beoordelaar 1 | D3: ='Beoordelaar 1'!C3 -> SCORE | E3: <<motivatie CONSENSUS>> | G3: ='Beoordelaar 1'!F3 -> SCORE | H3: <<motivatie CONSENSUS>> | J3: ='Beoordelaar 1'!I3 -> SCORE | K3: <<motivatie CONSENSUS>>
B4: Beoordelaar 2 | D4: ='Beoordelaar 2'!C3 -> SCORE | G4: ='Beoordelaar 2'!F3 -> SCORE | J4: ='Beoordelaar 2'!I3 -> SCORE
B5: Beoordelaar 3 | D5: ='Beoordelaar 3'!C3 -> SCORE | G5: ='Beoordelaar 3'!F3 -> SCORE | J5: ='Beoordelaar 3'!I3 -> SCORE
B6: Beoordelaar 4 | D6: ='Beoordelaar 4'!C3 -> SCORE | G6: ='Beoordelaar 4'!F3 -> SCORE | J6: ='Beoordelaar 4'!I3 -> SCORE
B7: Beoordelaar 5 | D7: ='Beoordelaar 5'!C3 -> SCORE | G7: ='Beoordelaar 5'!F3 -> SCORE | J7: ='Beoordelaar 5'!I3 -> SCORE
A8: Consensus | D8: SCORE | G8: SCORE | J8: SCORE
D9: =IF(D8="Uitmuntend","€ 11.000",IF(D8="Goed","€ 10.000",IF(D8="Voldoende","€ 5000",IF(D8="Matig","€ 0",IF(D8="Onvoldoende","UITSLUITING"," "))))) | G9: =IF(G8="Uitmuntend","€ 11.000",IF(G8="Goed","€ 10.000",IF(G8="Voldoende","€ 5000",IF(G8="Matig","€ 0",IF(G8="Onvoldoende","UITSLUITING"," "))))) | J9: =IF(J8="Uitmuntend","€ 11.000",IF(J8="Goed","€ 10.000",IF(J8="Voldoende","€ 5000",IF(J8="Matig","€ 0",IF(J8="Onvoldoende","UITSLUITING"," ")))))
A10: ='Beoordelen open vragen'!A5 -> OPEN VRAAG 8.2 "MARKTCONFORME PRIJZEN EN ONDERWIJSKORTING" | B10: =B3 -> Beoordelaar 1 | D10: ='Beoordelaar 1'!C5 -> SCORE | E10: <<motivatie CONSENSUS>> | G10: ='Beoordelaar 1'!F5 -> SCORE | H10: <<motivatie CONSENSUS>> | J10: ='Beoordelaar 1'!I5 -> SCORE | K10: <<motivatie CONSENSUS>>
B11: =B4 -> Beoordelaar 2 | D11: ='Beoordelaar 2'!C5 -> SCORE | G11: ='Beoordelaar 2'!F5 -> SCORE | J11: ='Beoordelaar 2'!I5 -> SCORE
B12: =B5 -> Beoordelaar 3 | D12: ='Beoordelaar 3'!C5 -> SCORE | G12: ='Beoordelaar 3'!F5 -> SCORE | J12: ='Beoordelaar 3'!I5 -> SCORE
B13: =B6 -> Beoordelaar 4 | D13: ='Beoordelaar 4'!C5 -> SCORE | G13: ='Beoordelaar 4'!F5 -> SCORE | J13: ='Beoordelaar 4'!I5 -> SCORE
B14: =B7 -> Beoordelaar 5 | D14: ='Beoordelaar 5'!C5 -> SCORE | G14: ='Beoordelaar 5'!F5 -> SCORE | J14: ='Beoordelaar 5'!I5 -> SCORE
A15: Consensus | D15: SCORE | G15: SCORE | J15: SCORE
D16: =IF(D15="Uitmuntend","€ 44.000",IF(D15="Goed","€ 30.000",IF(D15="Voldoende","€ 20.000",IF(D15="Matig","€ 0",IF(D15="Onvoldoende","UITSLUITING"," "))))) | G16: =IF(G15="Uitmuntend","€ 44.000",IF(G15="Goed","€ 30.000",IF(G15="Voldoende","€ 20.000",IF(G15="Matig","€ 0",IF(G15="Onvoldoende","UITSLUITING"," "))))) | J16: =IF(J15="Uitmuntend","€ 44.000",IF(J15="Goed","€ 30.000",IF(J15="Voldoende","€ 20.000",IF(J15="Matig","€ 0",IF(J15="Onvoldoende","UITSLUITING"," ")))))
A18: Totaal behaalde waarde open vragen: | D18: =D9+D16 -> #VALUE! | G18: =G9+G16 -> #VALUE! | J18: =J9+J16 -> #VALUE!

Sheet Eindscores
A1: Totaalwaarde criterium kwaliteit | C1: ='Beoordelaar 1'!C1 -> Inschrijver 1 | E1: ='Beoordelaar 1'!F1 -> Inschrijver 2 | G1: ='Beoordelaar 1'!I1 -> Inschrijver 3
A2: 8. Open vragen + toelichting | C2: =Consensus!D18 -> #VALUE! | E2: =Consensus!G18 -> #VALUE! | G2: =Consensus!J18 -> #VALUE!
A5: Totaal behaalde waarde criterium prijs: | C5: 0 | E5: 0 | G5: 0
A7: FICTIEVE EINDWAARDE (prijs -/- kwaliteit): | C7: =C5-C2 -> #VALUE! | E7: =E5-E2 -> #VALUE! | G7: =G5-G2 -> #VALUE!
