Workbook
Name Bouwaard: Data!$B$2:$B$6
Name CAD: Data!$C$2:$C$3
Name courtage: 'Verrekening Jaarpremie'!#REF!
Name Interest: Data!$A$2:$A$16
Name Taxatie: Data!$D$2:$D$4

Sheet Overzicht
A1: Totaaloverzicht
A2: Polisnummer | B2: B0100130233
A3: Verzekeringsnemer | B3: Stichting AOC Terra
A4: VNAB-nummer | B4: 638439110
A5: Behorende bij | B5: Aanhangsel 2.1
B6: Van | C6: Tot
A7: Periode | B7: 45292 | C7: 45658
A10: Row Labels | B10: Verzekerde waarde | C10: Jaarpremie
A11: Gebouwen | B11: 169902000 | C11: 117911.99
A12: Inventaris | B12: 43657000 | C12: 30297.958
A13: Grand Total | B13: 213559000 | C13: 148209.95

Sheet Specificatie
D1: Specificatie | R1: Mutaties | S1: Situatie voorgaande polis | U1: TOTAAL AANDEEL
D2: Polisnummer | J2: =Overzicht!B2 -> B0100130233 | S2: Vervangende polis 2 | U2: VERZEKERAARS:
D3: Verzekeringsnemer | J3: =Overzicht!B3 -> Stichting AOC Terra | U3: =SUM(L9:U9) -> 1
D4: VNAB-nummer | J4: =Overzicht!B4 -> 638439110
D5: Periode | J5: =Overzicht!B7 -> 45292 | K5: Tot | L5: =Overzicht!C7 -> 45658
A6: Verzekerde | B6: Certificaat | C6: Sub | D6: Verzekerde interest | E6: Bestemming | F6: Omschrijving | G6: Schadevergoedingstermijn | H6: Bouwaard | I6: Getaxeerd? | J6: Adres | K6: Postcode | L6: Plaats | M6: Land | N6: Vorkbedrag | O6: Premiegrondslag | P6: Verzekerde waarde | Q6: Index nieuw | R6: Verzekerde waarde | S6: Verz. Waarde Oud: | T6: Index oud | U6: Alle Verzekeraars | V6: Jaarpremie | W6: Totale jaarpremie:
I7: Ja/Nee | R7: inclusief mutaties | V7: =U6 -> Alle Verzekeraars
U8: Aandeel: | V8: =U7 -> 0
U9: 1
A10: Verzekerde | B10: Certificaat | C10: Sub | D10: Verzekerde interest | E10: Bestemming | F10: Omschrijving | G10: Schadevergoedingstermijn | H10: Bouwaard | I10: Getaxeerd | J10: Adres | K10: Postcode | L10: Plaats | M10: Land | N10: Vorkbedrag | O10: Premiegrondslag | P10: Verzekerde Waarde | Q10: Index nieuw | R10: Mutaties | S10: Verz. Waarde Oud: | T10: Index oud | U10: Promillage 1 | V10: Jaarpremie 1 | W10: Totale jaarpremie:
A11: Stichting AOC Terra | B11: 0 | C11: 6 | D11: Gebouwen | E11: school | H11: - | I11: Ja | J11: Burg. J.G. Legroweg 29 | K11: 9761 TA | L11: Eelde | M11: Nederland | N11: 0 | O11: =IF(N11=0,P11,(P11+N11)/2) -> 13008000 | P11: =IF(Q11=T11,R11,ROUNDUP(R11/T11*Q11,-3)) -> 13008000 | Q11: 128.4 | R11: =S11+SUMIF(Table4[Subnummer],Table3[[#This Row],[Sub]],Table4[Som mutaties]) -> 12561334 | S11: 12253000 | T11: 124 | U11: 0.694 | V11: =$O11*U11/1000*U$9 -> 9027.552 | W11: =SUM(V11:V11) -> 9027.552
A12: Stichting AOC Terra | B12: 0 | C12: 18 | D12: Inventaris | E12: school | H12: - | I12: Ja | J12: Burg. J.G. Legroweg 29 | K12: 7812 BK | L12: Eelde | M12: Nederland | N12: 0 | O12: =IF(N12=0,P12,(P12+N12)/2) -> 2502000 | P12: =IF(Q12=T12,R12,ROUNDUP(R12/T12*Q12,-3)) -> 2502000 | Q12: 124.4 | R12: =S12+SUMIF(Table4[Subnummer],Table3[[#This Row],[Sub]],Table4[Som mutaties]) -> 2453462 | S12: 2399000 | T12: 122 | U12: 0.694 | V12: =$O12*U12/1000*U$9 -> 1736.388 | W12: =SUM(V12:V12) -> 1736.388
A13: Stichting AOC Terra | B13: 0 | C13: 7 | D13: Gebouwen | E13: school | H13: - | I13: Ja | J13: Burg. J.G. Legroweg 33 | K13: 9761 TA | L13: Eelde | M13: Nederland | N13: 0 | O13: =IF(N13=0,P13,(P13+N13)/2) -> 3335000 | P13: =IF(Q13=T13,R13,ROUNDUP(R13/T13*Q13,-3)) -> 3335000 | Q13: 128.4 | R13: =S13+SUMIF(Table4[Subnummer],Table3[[#This Row],[Sub]],Table4[Som mutaties]) -> 3220000 | S13: 3220000 | T13: 124 | U13: 0.694 | V13: =$O13*U13/1000*U$9 -> 2314.49 | W13: =SUM(V13:V13) -> 2314.49
A14: Stichting AOC Terra | B14: 0 | C14: 19 | D14: Inventaris | E14: school | H14: - | I14: Ja | J14: Burg. J.G. Legroweg 33 | K14: 9761 TA | L14: Eelde | M14: Nederland | N14: 0 | O14: =IF(N14=0,P14,(P14+N14)/2) -> 1128000 | P14: =IF(Q14=T14,R14,ROUNDUP(R14/T14*Q14,-3)) -> 1128000 | Q14: 124.4 | R14: =S14+SUMIF(Table4[Subnummer],Table3[[#This Row],[Sub]],Table4[Som mutaties]) -> 1106228 | S14: 1102000 | T14: 122 | U14: 0.694 | V14: =$O14*U14/1000*U$9 -> 782.832 | W14: =SUM(V14:V14) -> 782.832
A15: Stichting AOC Terra | B15: 0 | C15: 2 | D15: Gebouwen | E15: school | H15: - | I15: Ja | J15: Hamrik 4A | K15: 9951 JH | L15: Winsum | M15: Nederland | N15: 0 | O15: =IF(N15=0,P15,(P15+N15)/2) -> 13734000 | P15: =IF(Q15=T15,R15,ROUNDUP(R15/T15*Q15,-3)) -> 13734000 | Q15: 128.4 | R15: =S15+SUMIF(Table4[Subnummer],Table3[[#This Row],[Sub]],Table4[Som mutaties]) -> 13262483 | S15: 12977000 | T15: 124 | U15: 0.694 | V15: =$O15*U15/1000*U$9 -> 9531.396 | W15: =SUM(V15:V15) -> 9531.396
A16: Stichting AOC Terra | B16: 0 | C16: 15 | D16: Inventaris | E16: school | H16: - | I16: Ja | J16: Hamrik 4A | K16: 9951 JH | L16: Winsum | M16: Nederland | N16: 0 | O16: =IF(N16=0,P16,(P16+N16)/2) -> 3553000 | P16: =IF(Q16=T16,R16,ROUNDUP(R16/T16*Q16,-3)) -> 3553000 | Q16: 124.4 | R16: =S16+SUMIF(Table4[Subnummer],Table3[[#This Row],[Sub]],Table4[Som mutaties]) -> 3484212 | S16: 3465000 | T16: 122 | U16: 0.694 | V16: =$O16*U16/1000*U$9 -> 2465.782 | W16: =SUM(V16:V16) -> 2465.782
A17: Stichting AOC Terra | B17: 0 | C17: 29 | D17: Gebouwen | E17: ondersteunende diensten ten behoeve van onderwijsinstelling | F17: Opstal | H17: - | I17: Ja | J17: Hereweg 101 | K17: 9721 AA | L17: Groningen | M17: Nederland | N17: 0 | O17: =IF(N17=0,P17,(P17+N17)/2) -> 7855000 | P17: =IF(Q17=T17,R17,ROUNDUP(R17/T17*Q17,-3)) -> 7855000 | Q17: 128.4 | R17: =S17+SUMIF(Table4[Subnummer],Table3[[#This Row],[Sub]],Table4[Som mutaties]) -> 7659000 | S17: 0 | T17: 125.2 | U17: 0.694 | V17: =$O17*U17/1000*U$9 -> 5451.37 | W17: =SUM(V17:V17) -> 5451.37
A18: Stichting AOC Terra | B18: 0 | C18: 30 | D18: Inventaris | E18: ondersteunende diensten ten behoeve van onderwijsinstelling | H18: - | I18: Ja | J18: Hereweg 101 | K18: 9721 AA | L18: Groningen | M18: Nederland | N18: 0 | O18: =IF(N18=0,P18,(P18+N18)/2) -> 1960000 | P18: =IF(Q18=T18,R18,ROUNDUP(R18/T18*Q18,-3)) -> 1960000 | Q18: 124.4 | R18: =S18+SUMIF(Table4[Subnummer],Table3[[#This Row],[Sub]],Table4[Som mutaties]) -> 1942000 | S18: 0 | T18: 123.3 | U18: 0.694 | V18: =$O18*U18/1000*U$9 -> 1360.24 | W18: =SUM(V18:V18) -> 1360.24
A19: Stichting AOC Terra | B19: 0 | C19: 1 | D19: Gebouwen | E19: school | H19: - | I19: Ja | J19: Hereweg 99 | K19: 9271 AA | L19: Groningen | M19: Nederland | N19: 0 | O19: =IF(N19=0,P19,(P19+N19)/2) -> 24688000 | P19: =IF(Q19=T19,R19,ROUNDUP(R19/T19*Q19,-3)) -> 24688000 | Q19: 128.4 | R19: =S19+SUMIF(Table4[Subnummer],Table3[[#This Row],[Sub]],Table4[Som mutaties]) -> 23841400 | S19: 23757000 | T19: 124 | U19: 0.694 | V19: =$O19*U19/1000*U$9 -> 17133.472 | W19: =SUM(V19:V19) -> 17133.472
A20: Stichting AOC Terra | B20: 0 | C20: 14 | D20: Inventaris | E20: school | H20: - | I20: Ja | J20: Hereweg 99 | K20: 9271 AA | L20: Groningen | M20: Nederland | N20: 0 | O20: =IF(N20=0,P20,(P20+N20)/2) -> 8382000 | P20: =IF(Q20=T20,R20,ROUNDUP(R20/T20*Q20,-3)) -> 8382000 | Q20: 124.4 | R20: =S20+SUMIF(Table4[Subnummer],Table3[[#This Row],[Sub]],Table4[Som mutaties]) -> 8220101 | S20: 8061000 | T20: 122 | U20: 0.694 | V20: =$O20*U20/1000*U$9 -> 5817.108 | W20: =SUM(V20:V20) -> 5817.108
A21: Stichting AOC Terra | B21: 0 | C21: 5 | D21: Gebouwen | E21: school vmbo/mbo | H21: - | I21: Ja | J21: Huizingsbrinkweg 9 | K21: 7812 BK | L21: Emmen | M21: Nederland | N21: 0 | O21: =IF(N21=0,P21,(P21+N21)/2) -> 19376000 | P21: =IF(Q21=T21,R21,ROUNDUP(R21/T21*Q21,-3)) -> 19376000 | Q21: 128.4 | R21: =S21+SUMIF(Table4[Subnummer],Table3[[#This Row],[Sub]],Table4[Som mutaties]) -> 18711341 | S21: 18543000 | T21: 124 | U21: 0.694 | V21: =$O21*U21/1000*U$9 -> 13446.944 | W21: =SUM(V21:V21) -> 13446.944
A22: Stichting AOC Terra | B22: 0 | C22: 17 | D22: Inventaris | E22: school vmbo/mbo | H22: - | I22: Ja | J22: Huizingsbrinkweg 9 | K22: 9621 BZ | L22: Emmen | M22: Nederland | N22: 0 | O22: =IF(N22=0,P22,(P22+N22)/2) -> 4426000 | P22: =IF(Q22=T22,R22,ROUNDUP(R22/T22*Q22,-3)) -> 4426000 | Q22: 124.4 | R22: =S22+SUMIF(Table4[Subnummer],Table3[[#This Row],[Sub]],Table4[Som mutaties]) -> 4339954 | S22: 4261000 | T22: 122 | U22: 0.694 | V22: =$O22*U22/1000*U$9 -> 3071.644 | W22: =SUM(V22:V22) -> 3071.644
A23: Stichting AOC Terra | B23: 0 | C23: 3 | D23: Gebouwen | E23: school | H23: - | I23: Ja | J23: Molenstraat 12 | K23: 9821 PG | L23: Oldekerk | M23: Nederland | N23: 0 | O23: =IF(N23=0,P23,(P23+N23)/2) -> 11267000 | P23: =IF(Q23=T23,R23,ROUNDUP(R23/T23*Q23,-3)) -> 11267000 | Q23: 128.4 | R23: =S23+SUMIF(Table4[Subnummer],Table3[[#This Row],[Sub]],Table4[Som mutaties]) -> 10879984 | S23: 10820000 | T23: 124 | U23: 0.694 | V23: =$O23*U23/1000*U$9 -> 7819.298 | W23: =SUM(V23:V23) -> 7819.298
A24: Stichting AOC Terra | B24: 0 | C24: 16 | D24: Inventaris | E24: school | H24: - | I24: Ja | J24: Molenstraat 12 | K24: 9821 PG | L24: Oldekerk | M24: Nederland | N24: 0 | O24: =IF(N24=0,P24,(P24+N24)/2) -> 3129000 | P24: =IF(Q24=T24,R24,ROUNDUP(R24/T24*Q24,-3)) -> 3129000 | Q24: 124.4 | R24: =S24+SUMIF(Table4[Subnummer],Table3[[#This Row],[Sub]],Table4[Som mutaties]) -> 3068511 | S24: 3013000 | T24: 122 | U24: 0.694 | V24: =$O24*U24/1000*U$9 -> 2171.526 | W24: =SUM(V24:V24) -> 2171.526
A25: Stichting AOC Terra | B25: 0 | C25: 9 | D25: Gebouwen | E25: school | H25: - | I25: Ja | J25: Onderdendamsterweg 43A | K25: 9951 TD | L25: Winsum | M25: Nederland | N25: 0 | O25: =IF(N25=0,P25,(P25+N25)/2) -> 9613000 | P25: =IF(Q25=T25,R25,ROUNDUP(R25/T25*Q25,-3)) -> 9613000 | Q25: 128.4 | R25: =S25+SUMIF(Table4[Subnummer],Table3[[#This Row],[Sub]],Table4[Som mutaties]) -> 9283199 | S25: 9270000 | T25: 124 | U25: 0.694 | V25: =$O25*U25/1000*U$9 -> 6671.422 | W25: =SUM(V25:V25) -> 6671.422
A26: Stichting AOC Terra | B26: 0 | C26: 21 | D26: Inventaris | E26: school | H26: - | I26: Ja | J26: Onderdendamsterweg 43A | K26: 8471 VM | L26: Winsum | M26: Nederland | N26: 0 | O26: =IF(N26=0,P26,(P26+N26)/2) -> 2333000 | P26: =IF(Q26=T26,R26,ROUNDUP(R26/T26*Q26,-3)) -> 2333000 | Q26: 124.4 | R26: =S26+SUMIF(Table4[Subnummer],Table3[[#This Row],[Sub]],Table4[Som mutaties]) -> 2287353 | S26: 2264000 | T26: 122 | U26: 0.694 | V26: =$O26*U26/1000*U$9 -> 1619.102 | W26: =SUM(V26:V26) -> 1619.102
A27: Stichting AOC Terra | B27: 0 | C27: 8 | D27: Gebouwen | E27: school | H27: - | I27: Ja | J27: Paulus Potterstraat 33 | K27: 8471 VM | L27: Wolvega | M27: Nederland | N27: 0 | O27: =IF(N27=0,P27,(P27+N27)/2) -> 9021000 | P27: =IF(Q27=T27,R27,ROUNDUP(R27/T27*Q27,-3)) -> 9021000 | Q27: 128.4 | R27: =S27+SUMIF(Table4[Subnummer],Table3[[#This Row],[Sub]],Table4[Som mutaties]) -> 8710947 | S27: 8573000 | T27: 124 | U27: 0.694 | V27: =$O27*U27/1000*U$9 -> 6260.574 | W27: =SUM(V27:V27) -> 6260.574
A28: Stichting AOC Terra | B28: 0 | C28: 20 | D28: Inventaris | E28: school | H28: - | I28: Ja | J28: Paulus Potterstraat 33 | K28: 9761 TA | L28: Wolvega | M28: Nederland | N28: 0 | O28: =IF(N28=0,P28,(P28+N28)/2) -> 1822000 | P28: =IF(Q28=T28,R28,ROUNDUP(R28/T28*Q28,-3)) -> 1822000 | Q28: 124.4 | R28: =S28+SUMIF(Table4[Subnummer],Table3[[#This Row],[Sub]],Table4[Som mutaties]) -> 1785870 | S28: 1776000 | T28: 122 | U28: 0.694 | V28: =$O28*U28/1000*U$9 -> 1264.468 | W28: =SUM(V28:V28) -> 1264.468
A29: Stichting AOC Terra | B29: 0 | C29: 4 | D29: Gebouwen | E29: praktijkgebouw | F29: Inventaris zit bij MBO Groningen in. | H29: - | I29: Ja | J29: Stichtinglaan 26 | K29: 9621 BZ | L29: Slochteren | M29: Nederland | N29: 0 | O29: =IF(N29=0,P29,(P29+N29)/2) -> 576000 | P29: =IF(Q29=T29,R29,ROUNDUP(R29/T29*Q29,-3)) -> 576000 | Q29: 128.4 | R29: =S29+SUMIF(Table4[Subnummer],Table3[[#This Row],[Sub]],Table4[Som mutaties]) -> 556000 | S29: 556000 | T29: 124 | U29: 0.694 | V29: =$O29*U29/1000*U$9 -> 399.744 | W29: =SUM(V29:V29) -> 399.744
A30: Stichting AOC Terra | B30: 0 | C30: 27 | D30: Inventaris | E30: praktijklocatie suikerunieterrein (huur) | F30: Bedrijfsinventaris en huurdersbelang | H30: - | I30: Ja | J30: Suikerlaan 51 | K30: 9743 DA | L30: Groningen | M30: Nederland | N30: 0 | O30: =IF(N30=0,P30,(P30+N30)/2) -> 557000 | P30: =IF(Q30=T30,R30,ROUNDUP(R30/T30*Q30,-3)) -> 557000 | Q30: 124.4 | R30: =S30+SUMIF(Table4[Subnummer],Table3[[#This Row],[Sub]],Table4[Som mutaties]) -> 545280 | S30: 537000 | T30: 122 | U30: 0.694 | V30: =$O30*U30/1000*U$9 -> 386.558 | W30: =SUM(V30:V30) -> 386.558
A31: Stichting AOC Terra | B31: 0 | C31: 28 | D31: Inventaris | H31: - | I31: Ja | J31: Terra Centraal | L31: divers | M31: Nederland | N31: 0 | O31: =IF(N31=0,P31,(P31+N31)/2) -> 122000 | P31: =IF(Q31=T31,R31,ROUNDUP(R31/T31*Q31,-3)) -> 122000 | Q31: 124.4 | R31: =S31+SUMIF(Table4[Subnummer],Table3[[#This Row],[Sub]],Table4[Som mutaties]) -> 118732 | S31: 107000 | T31: 122 | U31: 0.694 | V31: =$O31*U31/1000*U$9 -> 84.668 | W31: =SUM(V31:V31) -> 84.668
A32: Stichting AOC Terra | B32: 0 | C32: 10 | D32: Gebouwen | E32: school vmbo/mbo | H32: - | I32: Ja | J32: Vredeveldseweg 55 | K32: 9404 CC | L32: Assen | M32: Nederland | N32: 0 | O32: =IF(N32=0,P32,(P32+N32)/2) -> 13691000 | P32: =IF(Q32=T32,R32,ROUNDUP(R32/T32*Q32,-3)) -> 13691000 | Q32: 128.4 | R32: =S32+SUMIF(Table4[Subnummer],Table3[[#This Row],[Sub]],Table4[Som mutaties]) -> 13221221 | S32: 13195000 | T32: 124 | U32: 0.694 | V32: =$O32*U32/1000*U$9 -> 9501.554 | W32: =SUM(V32:V32) -> 9501.554
A33: Stichting AOC Terra | B33: 0 | C33: 22 | D33: Inventaris | E33: school vmbo/mbo | H33: - | I33: Ja | J33: Vredeveldseweg 55 | K33: 9951 TD | L33: Assen | M33: Nederland | N33: 0 | O33: =IF(N33=0,P33,(P33+N33)/2) -> 3505000 | P33: =IF(Q33=T33,R33,ROUNDUP(R33/T33*Q33,-3)) -> 3505000 | Q33: 124.4 | R33: =S33+SUMIF(Table4[Subnummer],Table3[[#This Row],[Sub]],Table4[Som mutaties]) -> 3436842 | S33: 3379000 | T33: 122 | U33: 0.694 | V33: =$O33*U33/1000*U$9 -> 2432.47 | W33: =SUM(V33:V33) -> 2432.47
A34: Stichting AOC Terra | B34: 0 | C34: 13 | D34: Gebouwen | E34: school vmbo en sporthal | H34: - | I34: Ja | J34: Vredeveldseweg 57 | K34: 9404 CC | L34: Assen | M34: Nederland | N34: 0 | O34: =IF(N34=0,P34,(P34+N34)/2) -> 15892000 | P34: =IF(Q34=T34,R34,ROUNDUP(R34/T34*Q34,-3)) -> 15892000 | Q34: 128.4 | R34: =S34+SUMIF(Table4[Subnummer],Table3[[#This Row],[Sub]],Table4[Som mutaties]) -> 15347084 | S34: 15305000 | T34: 124 | U34: 0.694 | V34: =$O34*U34/1000*U$9 -> 11029.048 | W34: =SUM(V34:V34) -> 11029.048
A35: Stichting AOC Terra | B35: 0 | C35: 26 | D35: Inventaris | E35: school vmbo en sporthal | H35: - | I35: Ja | J35: Vredeveldseweg 57 | K35: 9404 CC | L35: Assen | M35: Nederland | N35: 0 | O35: =IF(N35=0,P35,(P35+N35)/2) -> 2236000 | P35: =IF(Q35=T35,R35,ROUNDUP(R35/T35*Q35,-3)) -> 2236000 | Q35: 124.4 | R35: =S35+SUMIF(Table4[Subnummer],Table3[[#This Row],[Sub]],Table4[Som mutaties]) -> 2192000 | S35: 2192000 | T35: 122 | U35: 0.694 | V35: =$O35*U35/1000*U$9 -> 1551.784 | W35: =SUM(V35:V35) -> 1551.784
A36: Stichting AOC Terra | B36: 0 | C36: 25 | D36: Inventaris | E36: kantoorruimte (huur) | F36: Betreft gehuurde kantoorruimte, alleen inventaris | H36: - | I36: Ja | J36: Werkhorst 36 | K36: 7944 AV | L36: Meppel | M36: Nederland | N36: 0 | O36: =IF(N36=0,P36,(P36+N36)/2) -> 822000 | P36: =IF(Q36=T36,R36,ROUNDUP(R36/T36*Q36,-3)) -> 822000 | Q36: 124.4 | R36: =S36+SUMIF(Table4[Subnummer],Table3[[#This Row],[Sub]],Table4[Som mutaties]) -> 806000 | S36: 806000 | T36: 122 | U36: 0.694 | V36: =$O36*U36/1000*U$9 -> 570.468 | W36: =SUM(V36:V36) -> 570.468
A37: Stichting AOC Terra | B37: 0 | C37: 11 | D37: Gebouwen | E37: school mbo | H37: - | I37: Ja | J37: Werkhorst 56 | K37: 7944 AV | L37: Meppel | M37: Nederland | N37: 0 | O37: =IF(N37=0,P37,(P37+N37)/2) -> 13165000 | P37: =IF(Q37=T37,R37,ROUNDUP(R37/T37*Q37,-3)) -> 13165000 | Q37: 128.4 | R37: =S37+SUMIF(Table4[Subnummer],Table3[[#This Row],[Sub]],Table4[Som mutaties]) -> 12713302 | S37: 12467000 | T37: 124 | U37: 0.694 | V37: =$O37*U37/1000*U$9 -> 9136.51 | W37: =SUM(V37:V37) -> 9136.51
A38: Stichting AOC Terra | B38: 0 | C38: 23 | D38: Inventaris | E38: school mbo | H38: - | I38: Ja | J38: Werkhorst 56 | K38: 9404 CC | L38: Meppel | M38: Nederland | N38: 0 | O38: =IF(N38=0,P38,(P38+N38)/2) -> 4769000 | P38: =IF(Q38=T38,R38,ROUNDUP(R38/T38*Q38,-3)) -> 4769000 | Q38: 124.4 | R38: =S38+SUMIF(Table4[Subnummer],Table3[[#This Row],[Sub]],Table4[Som mutaties]) -> 4676869 | S38: 4657000 | T38: 122 | U38: 0.694 | V38: =$O38*U38/1000*U$9 -> 3309.686 | W38: =SUM(V38:V38) -> 3309.686
A39: Stichting AOC Terra | B39: 0 | C39: 12 | D39: Gebouwen | E39: school vmbo en sporthal | H39: - | I39: Ja | J39: Werkhorst 58 | K39: 7944 AV | L39: Meppel | M39: Nederland | N39: 0 | O39: =IF(N39=0,P39,(P39+N39)/2) -> 14681000 | P39: =IF(Q39=T39,R39,ROUNDUP(R39/T39*Q39,-3)) -> 14681000 | Q39: 128.4 | R39: =S39+SUMIF(Table4[Subnummer],Table3[[#This Row],[Sub]],Table4[Som mutaties]) -> 14177403 | S39: 14132000 | T39: 124 | U39: 0.694 | V39: =$O39*U39/1000*U$9 -> 10188.614 | W39: =SUM(V39:V39) -> 10188.614
A40: Stichting AOC Terra | B40: 0 | C40: 24 | D40: Inventaris | E40: school vmbo en sporthal | H40: - | I40: Ja | J40: Werkhorst 58 | K40: 7944 AV | L40: Meppel | M40: Nederland | N40: 0 | O40: =IF(N40=0,P40,(P40+N40)/2) -> 2411000 | P40: =IF(Q40=T40,R40,ROUNDUP(R40/T40*Q40,-3)) -> 2411000 | Q40: 124.4 | R40: =S40+SUMIF(Table4[Subnummer],Table3[[#This Row],[Sub]],Table4[Som mutaties]) -> 2363724 | S40: 2287000 | T40: 122 | U40: 0.694 | V40: =$O40*U40/1000*U$9 -> 1673.234 | W40: =SUM(V40:V40) -> 1673.234
...

Sheet Taxaties
A1: Getaxeerde objecten
A2: Sub | B2: Soort interest | C2: Taxateur | D2: Taxatiedatum | E2: Rapportnummer | F2: Vervalt op
A3: 0 | B3: =IFERROR(_xlfn.XLOOKUP(Table8[[#This Row],[Sub]],Table3[Sub],Table3[Verzekerde interest]),"-") -> -
A4: 0 | B4: =IFERROR(_xlfn.XLOOKUP(Table8[[#This Row],[Sub]],Table3[Sub],Table3[Verzekerde interest]),"-") -> -
A5: 0 | B5: =IFERROR(_xlfn.XLOOKUP(Table8[[#This Row],[Sub]],Table3[Sub],Table3[Verzekerde interest]),"-") -> -
A6: 0 | B6: =IFERROR(_xlfn.XLOOKUP(Table8[[#This Row],[Sub]],Table3[Sub],Table3[Verzekerde interest]),"-") -> -
A7: 0 | B7: =IFERROR(_xlfn.XLOOKUP(Table8[[#This Row],[Sub]],Table3[Sub],Table3[Verzekerde interest]),"-") -> -
A8: 0 | B8: =IFERROR(_xlfn.XLOOKUP(Table8[[#This Row],[Sub]],Table3[Sub],Table3[Verzekerde interest]),"-") -> -
A9: 0 | B9: =IFERROR(_xlfn.XLOOKUP(Table8[[#This Row],[Sub]],Table3[Sub],Table3[Verzekerde interest]),"-") -> -

Sheet Mutaties
A1: Mutatielijst
A2: =Overzicht!A2 -> Polisnummer | B2: =Overzicht!B2 -> B0100130233
A3: =Overzicht!A3 -> Verzekeringsnemer | B3: =Overzicht!B3 -> Stichting AOC Terra
A4: =Overzicht!A4 -> VNAB-nummer | B4: =Overzicht!B4 -> 638439110
A5: Klant | B5: Omschrijving mutatie: | C5: Certificaat | D5: Sub | E5: Verzekerd bedrag | L5: Mutatiedatum | M5: Vervaldatum | N5: Dagen | O5: Dagen per jaar | P5: Sprake van CAD? | Q5: Verrekeningen | V5: Aandelen | W5: Premieverrekening
V6: =Specificatie!U6 -> Alle Verzekeraars | W6: =Specificatie!U6 -> Alle Verzekeraars
V7: =Specificatie!U$9 -> 1 | W7: =Specificatie!U$9 -> 1 | X7: Totaal
A8: Klant | B8: Omschrijving mutatie | C8: Certificaat | D8: Subnummer | E8: Oud | F8: Investering Nieuw | G8: Investering bestaand | H8: Verlaging | I8: Afvoer | J8: Inclusief mutatie | K8: Som mutaties | L8: Mutatiedatum | M8: Vervaldatum | N8: Dagen | O8: Dagen per jaar | P8: Sprake van CAD? | Q8: Investering nieuw2 | R8: Investering bestaand2 | S8: Verlaging2 | T8: Afvoer2 | U8: Totaal | V8: Verzekeraar 1 | W8: Verzekeraar 12 | X8: Totaal2 | Y8: Boeking
A9: =IFERROR(_xlfn.XLOOKUP(D9,Table3[Sub],Table3[Verzekerde]),"-") -> Stichting AOC Terra | B9: Verhoging | C9: =IFERROR(_xlfn.XLOOKUP(Table4[[#This Row],[Subnummer]],Table3[Sub],Table3[Certificaat]),"-") -> 0 | D9: 1 | E9: =IFERROR(_xlfn.XLOOKUP(Table4[[#This Row],[Subnummer]],Table3[Sub],Table3[Verz. Waarde Oud:]),0) -> 23757000 | F9: 0 | G9: 84400 | H9: 0 | I9: 0 | J9: =E9+F9+G9-H9-I9 -> 23841400 | K9: =J9-E9 -> 84400 | L9: 44927 | M9: 45292 | N9: =M9-L9 -> 365 | O9: 365 | P9: Nee | Q9: =F9*N9/O9 -> 0 | R9: {=_xlfn.IFS($P9="Nee",G9*$N9/$O9,$P9="Ja",G9*0.5)} -> 84400 | S9: {=_xlfn.IFS($P9="Nee",-(H9*$N9/$O9),$P9="Ja",-(H9*0.5))} -> 0 | T9: =-I9*N9/O9 -> 0 | U9: =SUM(Q9:T9) -> 84400 | V9: =IFERROR(_xlfn.XLOOKUP(Table4[[#This Row],[Subnummer]],Table3[Sub],Table3[Promillage 1]),0) -> 0.694 | W9: =$U9*V9/1000*V$7 -> 58.5736 | X9: =SUM(W9:W9) -> 58.5736 | Y9: {=_xlfn.IFS(X9=0,"Nihil",X9>0,"Suppletie",X9<0,"Restitutie")} -> Suppletie
A10: =IFERROR(_xlfn.XLOOKUP(D10,Table3[Sub],Table3[Verzekerde]),"-") -> Stichting AOC Terra | B10: Verhoging | C10: =IFERROR(_xlfn.XLOOKUP(Table4[[#This Row],[Subnummer]],Table3[Sub],Table3[Certificaat]),"-") -> 0 | D10: 2 | E10: =IFERROR(_xlfn.XLOOKUP(Table4[[#This Row],[Subnummer]],Table3[Sub],Table3[Verz. Waarde Oud:]),0) -> 12977000 | F10: 0 | G10: 285483 | H10: 0 | I10: 0 | J10: =E10+F10+G10-H10-I10 -> 13262483 | K10: =J10-E10 -> 285483 | L10: 44927 | M10: 45292 | N10: =M10-L10 -> 365 | O10: 365 | P10: Nee | Q10: =F10*N10/O10 -> 0 | R10: {=_xlfn.IFS($P10="Nee",G10*$N10/$O10,$P10="Ja",G10*0.5)} -> 285483 | S10: {=_xlfn.IFS($P10="Nee",-(H10*$N10/$O10),$P10="Ja",-(H10*0.5))} -> 0 | T10: =-I10*N10/O10 -> 0 | U10: =SUM(Q10:T10) -> 285483 | V10: =IFERROR(_xlfn.XLOOKUP(Table4[[#This Row],[Subnummer]],Table3[Sub],Table3[Promillage 1]),0) -> 0.694 | W10: =$U10*V10/1000*V$7 -> 198.1252 | X10: =SUM(W10:W10) -> 198.1252 | Y10: {=_xlfn.IFS(X10=0,"Nihil",X10>0,"Suppletie",X10<0,"Restitutie")} -> Suppletie
A11: =IFERROR(_xlfn.XLOOKUP(D11,Table3[Sub],Table3[Verzekerde]),"-") -> Stichting AOC Terra | B11: Verhoging | C11: =IFERROR(_xlfn.XLOOKUP(Table4[[#This Row],[Subnummer]],Table3[Sub],Table3[Certificaat]),"-") -> 0 | D11: 3 | E11: =IFERROR(_xlfn.XLOOKUP(Table4[[#This Row],[Subnummer]],Table3[Sub],Table3[Verz. Waarde Oud:]),0) -> 10820000 | F11: 0 | G11: 59984 | H11: 0 | I11: 0 | J11: =E11+F11+G11-H11-I11 -> 10879984 | K11: =J11-E11 -> 59984 | L11: 44927 | M11: 45292 | N11: =M11-L11 -> 365 | O11: 365 | P11: Nee | Q11: =F11*N11/O11 -> 0 | R11: {=_xlfn.IFS($P11="Nee",G11*$N11/$O11,$P11="Ja",G11*0.5)} -> 59984 | S11: {=_xlfn.IFS($P11="Nee",-(H11*$N11/$O11),$P11="Ja",-(H11*0.5))} -> 0 | T11: =-I11*N11/O11 -> 0 | U11: =SUM(Q11:T11) -> 59984 | V11: =IFERROR(_xlfn.XLOOKUP(Table4[[#This Row],[Subnummer]],Table3[Sub],Table3[Promillage 1]),0) -> 0.694 | W11: =$U11*V11/1000*V$7 -> 41.628896 | X11: =SUM(W11:W11) -> 41.628896 | Y11: {=_xlfn.IFS(X11=0,"Nihil",X11>0,"Suppletie",X11<0,"Restitutie")} -> Suppletie
A12: =IFERROR(_xlfn.XLOOKUP(D12,Table3[Sub],Table3[Verzekerde]),"-") -> Stichting AOC Terra | B12: Verhoging | C12: =IFERROR(_xlfn.XLOOKUP(Table4[[#This Row],[Subnummer]],Table3[Sub],Table3[Certificaat]),"-") -> 0 | D12: 5 | E12: =IFERROR(_xlfn.XLOOKUP(Table4[[#This Row],[Subnummer]],Table3[Sub],Table3[Verz. Waarde Oud:]),0) -> 18543000 | F12: 0 | G12: 168341 | H12: 0 | I12: 0 | J12: =E12+F12+G12-H12-I12 -> 18711341 | K12: =J12-E12 -> 168341 | L12: 44927 | M12: 45292 | N12: =M12-L12 -> 365 | O12: 365 | P12: Nee | Q12: =F12*N12/O12 -> 0 | R12: {=_xlfn.IFS($P12="Nee",G12*$N12/$O12,$P12="Ja",G12*0.5)} -> 168341 | S12: {=_xlfn.IFS($P12="Nee",-(H12*$N12/$O12),$P12="Ja",-(H12*0.5))} -> 0 | T12: =-I12*N12/O12 -> 0 | U12: =SUM(Q12:T12) -> 168341 | V12: =IFERROR(_xlfn.XLOOKUP(Table4[[#This Row],[Subnummer]],Table3[Sub],Table3[Promillage 1]),0) -> 0.694 | W12: =$U12*V12/1000*V$7 -> 116.82865 | X12: =SUM(W12:W12) -> 116.82865 | Y12: {=_xlfn.IFS(X12=0,"Nihil",X12>0,"Suppletie",X12<0,"Restitutie")} -> Suppletie
A13: =IFERROR(_xlfn.XLOOKUP(D13,Table3[Sub],Table3[Verzekerde]),"-") -> Stichting AOC Terra | B13: Verhoging | C13: =IFERROR(_xlfn.XLOOKUP(Table4[[#This Row],[Subnummer]],Table3[Sub],Table3[Certificaat]),"-") -> 0 | D13: 6 | E13: =IFERROR(_xlfn.XLOOKUP(Table4[[#This Row],[Subnummer]],Table3[Sub],Table3[Verz. Waarde Oud:]),0) -> 12253000 | F13: 0 | G13: 308334 | H13: 0 | I13: 0 | J13: =E13+F13+G13-H13-I13 -> 12561334 | K13: =J13-E13 -> 308334 | L13: 44927 | M13: 45292 | N13: =M13-L13 -> 365 | O13: 365 | P13: Nee | Q13: =F13*N13/O13 -> 0 | R13: {=_xlfn.IFS($P13="Nee",G13*$N13/$O13,$P13="Ja",G13*0.5)} -> 308334 | S13: {=_xlfn.IFS($P13="Nee",-(H13*$N13/$O13),$P13="Ja",-(H13*0.5))} -> 0 | T13: =-I13*N13/O13 -> 0 | U13: =SUM(Q13:T13) -> 308334 | V13: =IFERROR(_xlfn.XLOOKUP(Table4[[#This Row],[Subnummer]],Table3[Sub],Table3[Promillage 1]),0) -> 0.694 | W13: =$U13*V13/1000*V$7 -> 213.9838 | X13: =SUM(W13:W13) -> 213.9838 | Y13: {=_xlfn.IFS(X13=0,"Nihil",X13>0,"Suppletie",X13<0,"Restitutie")} -> Suppletie
A14: =IFERROR(_xlfn.XLOOKUP(D14,Table3[Sub],Table3[Verzekerde]),"-") -> Stichting AOC Terra | B14: Verhoging | C14: =IFERROR(_xlfn.XLOOKUP(Table4[[#This Row],[Subnummer]],Table3[Sub],Table3[Certificaat]),"-") -> 0 | D14: 8 | E14: =IFERROR(_xlfn.XLOOKUP(Table4[[#This Row],[Subnummer]],Table3[Sub],Table3[Verz. Waarde Oud:]),0) -> 8573000 | F14: 0 | G14: 137947 | H14: 0 | I14: 0 | J14: =E14+F14+G14-H14-I14 -> 8710947 | K14: =J14-E14 -> 137947 | L14: 44927 | M14: 45292 | N14: =M14-L14 -> 365 | O14: 365 | P14: Nee | Q14: =F14*N14/O14 -> 0 | R14: {=_xlfn.IFS($P14="Nee",G14*$N14/$O14,$P14="Ja",G14*0.5)} -> 137947 | S14: {=_xlfn.IFS($P14="Nee",-(H14*$N14/$O14),$P14="Ja",-(H14*0.5))} -> 0 | T14: =-I14*N14/O14 -> 0 | U14: =SUM(Q14:T14) -> 137947 | V14: =IFERROR(_xlfn.XLOOKUP(Table4[[#This Row],[Subnummer]],Table3[Sub],Table3[Promillage 1]),0) -> 0.694 | W14: =$U14*V14/1000*V$7 -> 95.735218 | X14: =SUM(W14:W14) -> 95.735218 | Y14: {=_xlfn.IFS(X14=0,"Nihil",X14>0,"Suppletie",X14<0,"Restitutie")} -> Suppletie
A15: =IFERROR(_xlfn.XLOOKUP(D15,Table3[Sub],Table3[Verzekerde]),"-") -> Stichting AOC Terra | B15: Verhoging | C15: =IFERROR(_xlfn.XLOOKUP(Table4[[#This Row],[Subnummer]],Table3[Sub],Table3[Certificaat]),"-") -> 0 | D15: 9 | E15: =IFERROR(_xlfn.XLOOKUP(Table4[[#This Row],[Subnummer]],Table3[Sub],Table3[Verz. Waarde Oud:]),0) -> 9270000 | F15: 0 | G15: 13199 | H15: 0 | I15: 0 | J15: =E15+F15+G15-H15-I15 -> 9283199 | K15: =J15-E15 -> 13199 | L15: 44927 | M15: 45292 | N15: =M15-L15 -> 365 | O15: 365 | P15: Nee | Q15: =F15*N15/O15 -> 0 | R15: {=_xlfn.IFS($P15="Nee",G15*$N15/$O15,$P15="Ja",G15*0.5)} -> 13199 | S15: {=_xlfn.IFS($P15="Nee",-(H15*$N15/$O15),$P15="Ja",-(H15*0.5))} -> 0 | T15: =-I15*N15/O15 -> 0 | U15: =SUM(Q15:T15) -> 13199 | V15: =IFERROR(_xlfn.XLOOKUP(Table4[[#This Row],[Subnummer]],Table3[Sub],Table3[Promillage 1]),0) -> 0.694 | W15: =$U15*V15/1000*V$7 -> 9.160106 | X15: =SUM(W15:W15) -> 9.160106 | Y15: {=_xlfn.IFS(X15=0,"Nihil",X15>0,"Suppletie",X15<0,"Restitutie")} -> Suppletie
A16: =IFERROR(_xlfn.XLOOKUP(D16,Table3[Sub],Table3[Verzekerde]),"-") -> Stichting AOC Terra | B16: Verhoging | C16: =IFERROR(_xlfn.XLOOKUP(Table4[[#This Row],[Subnummer]],Table3[Sub],Table3[Certificaat]),"-") -> 0 | D16: 10 | E16: =IFERROR(_xlfn.XLOOKUP(Table4[[#This Row],[Subnummer]],Table3[Sub],Table3[Verz. Waarde Oud:]),0) -> 13195000 | F16: 0 | G16: 26221 | H16: 0 | I16: 0 | J16: =E16+F16+G16-H16-I16 -> 13221221 | K16: =J16-E16 -> 26221 | L16: 44927 | M16: 45292 | N16: =M16-L16 -> 365 | O16: 365 | P16: Nee | Q16: =F16*N16/O16 -> 0 | R16: {=_xlfn.IFS($P16="Nee",G16*$N16/$O16,$P16="Ja",G16*0.5)} -> 26221 | S16: {=_xlfn.IFS($P16="Nee",-(H16*$N16/$O16),$P16="Ja",-(H16*0.5))} -> 0 | T16: =-I16*N16/O16 -> 0 | U16: =SUM(Q16:T16) -> 26221 | V16: =IFERROR(_xlfn.XLOOKUP(Table4[[#This Row],[Subnummer]],Table3[Sub],Table3[Promillage 1]),0) -> 0.694 | W16: =$U16*V16/1000*V$7 -> 18.197374 | X16: =SUM(W16:W16) -> 18.197374 | Y16: {=_xlfn.IFS(X16=0,"Nihil",X16>0,"Suppletie",X16<0,"Restitutie")} -> Suppletie
A17: =IFERROR(_xlfn.XLOOKUP(D17,Table3[Sub],Table3[Verzekerde]),"-") -> Stichting AOC Terra | B17: Verhoging | C17: =IFERROR(_xlfn.XLOOKUP(Table4[[#This Row],[Subnummer]],Table3[Sub],Table3[Certificaat]),"-") -> 0 | D17: 11 | E17: =IFERROR(_xlfn.XLOOKUP(Table4[[#This Row],[Subnummer]],Table3[Sub],Table3[Verz. Waarde Oud:]),0) -> 12467000 | F17: 0 | G17: 246302 | H17: 0 | I17: 0 | J17: =E17+F17+G17-H17-I17 -> 12713302 | K17: =J17-E17 -> 246302 | L17: 44927 | M17: 45292 | N17: =M17-L17 -> 365 | O17: 365 | P17: Nee | Q17: =F17*N17/O17 -> 0 | R17: {=_xlfn.IFS($P17="Nee",G17*$N17/$O17,$P17="Ja",G17*0.5)} -> 246302 | S17: {=_xlfn.IFS($P17="Nee",-(H17*$N17/$O17),$P17="Ja",-(H17*0.5))} -> 0 | T17: =-I17*N17/O17 -> 0 | U17: =SUM(Q17:T17) -> 246302 | V17: =IFERROR(_xlfn.XLOOKUP(Table4[[#This Row],[Subnummer]],Table3[Sub],Table3[Promillage 1]),0) -> 0.694 | W17: =$U17*V17/1000*V$7 -> 170.93359 | X17: =SUM(W17:W17) -> 170.93359 | Y17: {=_xlfn.IFS(X17=0,"Nihil",X17>0,"Suppletie",X17<0,"Restitutie")} -> Suppletie
A18: =IFERROR(_xlfn.XLOOKUP(D18,Table3[Sub],Table3[Verzekerde]),"-") -> Stichting AOC Terra | B18: Verhoging | C18: =IFERROR(_xlfn.XLOOKUP(Table4[[#This Row],[Subnummer]],Table3[Sub],Table3[Certificaat]),"-") -> 0 | D18: 12 | E18: =IFERROR(_xlfn.XLOOKUP(Table4[[#This Row],[Subnummer]],Table3[Sub],Table3[Verz. Waarde Oud:]),0) -> 14132000 | F18: 0 | G18: 45403 | H18: 0 | I18: 0 | J18: =E18+F18+G18-H18-I18 -> 14177403 | K18: =J18-E18 -> 45403 | L18: 44927 | M18: 45292 | N18: =M18-L18 -> 365 | O18: 365 | P18: Nee | Q18: =F18*N18/O18 -> 0 | R18: {=_xlfn.IFS($P18="Nee",G18*$N18/$O18,$P18="Ja",G18*0.5)} -> 45403 | S18: {=_xlfn.IFS($P18="Nee",-(H18*$N18/$O18),$P18="Ja",-(H18*0.5))} -> 0 | T18: =-I18*N18/O18 -> 0 | U18: =SUM(Q18:T18) -> 45403 | V18: =IFERROR(_xlfn.XLOOKUP(Table4[[#This Row],[Subnummer]],Table3[Sub],Table3[Promillage 1]),0) -> 0.694 | W18: =$U18*V18/1000*V$7 -> 31.509682 | X18: =SUM(W18:W18) -> 31.509682 | Y18: {=_xlfn.IFS(X18=0,"Nihil",X18>0,"Suppletie",X18<0,"Restitutie")} -> Suppletie
A19: =IFERROR(_xlfn.XLOOKUP(D19,Table3[Sub],Table3[Verzekerde]),"-") -> Stichting AOC Terra | B19: Verhoging | C19: =IFERROR(_xlfn.XLOOKUP(Table4[[#This Row],[Subnummer]],Table3[Sub],Table3[Certificaat]),"-") -> 0 | D19: 13 | E19: =IFERROR(_xlfn.XLOOKUP(Table4[[#This Row],[Subnummer]],Table3[Sub],Table3[Verz. Waarde Oud:]),0) -> 15305000 | F19: 0 | G19: 42084 | H19: 0 | I19: 0 | J19: =E19+F19+G19-H19-I19 -> 15347084 | K19: =J19-E19 -> 42084 | L19: 44927 | M19: 45292 | N19: =M19-L19 -> 365 | O19: 365 | P19: Nee | Q19: =F19*N19/O19 -> 0 | R19: {=_xlfn.IFS($P19="Nee",G19*$N19/$O19,$P19="Ja",G19*0.5)} -> 42084 | S19: {=_xlfn.IFS($P19="Nee",-(H19*$N19/$O19),$P19="Ja",-(H19*0.5))} -> 0 | T19: =-I19*N19/O19 -> 0 | U19: =SUM(Q19:T19) -> 42084 | V19: =IFERROR(_xlfn.XLOOKUP(Table4[[#This Row],[Subnummer]],Table3[Sub],Table3[Promillage 1]),0) -> 0.694 | W19: =$U19*V19/1000*V$7 -> 29.206296 | X19: =SUM(W19:W19) -> 29.206296 | Y19: {=_xlfn.IFS(X19=0,"Nihil",X19>0,"Suppletie",X19<0,"Restitutie")} -> Suppletie
A20: =IFERROR(_xlfn.XLOOKUP(D20,Table3[Sub],Table3[Verzekerde]),"-") -> Stichting AOC Terra | B20: Verhoging | C20: =IFERROR(_xlfn.XLOOKUP(Table4[[#This Row],[Subnummer]],Table3[Sub],Table3[Certificaat]),"-") -> 0 | D20: 14 | E20: =IFERROR(_xlfn.XLOOKUP(Table4[[#This Row],[Subnummer]],Table3[Sub],Table3[Verz. Waarde Oud:]),0) -> 8061000 | F20: 0 | G20: 159101 | H20: 0 | I20: 0 | J20: =E20+F20+G20-H20-I20 -> 8220101 | K20: =J20-E20 -> 159101 | L20: 44927 | M20: 45292 | N20: =M20-L20 -> 365 | O20: 365 | P20: Nee | Q20: =F20*N20/O20 -> 0 | R20: {=_xlfn.IFS($P20="Nee",G20*$N20/$O20,$P20="Ja",G20*0.5)} -> 159101 | S20: {=_xlfn.IFS($P20="Nee",-(H20*$N20/$O20),$P20="Ja",-(H20*0.5))} -> 0 | T20: =-I20*N20/O20 -> 0 | U20: =SUM(Q20:T20) -> 159101 | V20: =IFERROR(_xlfn.XLOOKUP(Table4[[#This Row],[Subnummer]],Table3[Sub],Table3[Promillage 1]),0) -> 0.694 | W20: =$U20*V20/1000*V$7 -> 110.41609 | X20: =SUM(W20:W20) -> 110.41609 | Y20: {=_xlfn.IFS(X20=0,"Nihil",X20>0,"Suppletie",X20<0,"Restitutie")} -> Suppletie
A21: =IFERROR(_xlfn.XLOOKUP(D21,Specificatie!C:C,Specificatie!A:A),"-") -> Stichting AOC Terra | B21: Verhoging | C21: =IFERROR(_xlfn.XLOOKUP(Table4[[#This Row],[Subnummer]],Table3[Sub],Table3[Certificaat]),"-") -> 0 | D21: 15 | E21: =IFERROR(_xlfn.XLOOKUP(Table4[[#This Row],[Subnummer]],Table3[Sub],Table3[Verz. Waarde Oud:]),0) -> 3465000 | F21: 0 | G21: 19212 | H21: 0 | I21: 0 | J21: =E21+F21+G21-H21-I21 -> 3484212 | K21: =J21-E21 -> 19212 | L21: 44927 | M21: 45292 | N21: =M21-L21 -> 365 | O21: 365 | P21: Nee | Q21: =F21*N21/O21 -> 0 | R21: {=_xlfn.IFS($P21="Nee",G21*$N21/$O21,$P21="Ja",G21*0.5)} -> 19212 | S21: {=_xlfn.IFS($P21="Nee",-(H21*$N21/$O21),$P21="Ja",-(H21*0.5))} -> 0 | T21: =-I21*N21/O21 -> 0 | U21: =SUM(Q21:T21) -> 19212 | V21: =IFERROR(_xlfn.XLOOKUP(Table4[[#This Row],[Subnummer]],Table3[Sub],Table3[Promillage 1]),0) -> 0.694 | W21: =$U21*V21/1000*V$7 -> 13.333128 | X21: =SUM(W21:W21) -> 13.333128 | Y21: {=_xlfn.IFS(X21=0,"Nihil",X21>0,"Suppletie",X21<0,"Restitutie")} -> Suppletie
A22: =IFERROR(_xlfn.XLOOKUP(D22,Specificatie!C:C,Specificatie!A:A),"-") -> Stichting AOC Terra | B22: Verhoging | C22: =IFERROR(_xlfn.XLOOKUP(Table4[[#This Row],[Subnummer]],Table3[Sub],Table3[Certificaat]),"-") -> 0 | D22: 16 | E22: =IFERROR(_xlfn.XLOOKUP(Table4[[#This Row],[Subnummer]],Table3[Sub],Table3[Verz. Waarde Oud:]),0) -> 3013000 | F22: 0 | G22: 55511 | H22: 0 | I22: 0 | J22: =E22+F22+G22-H22-I22 -> 3068511 | K22: =J22-E22 -> 55511 | L22: 44927 | M22: 45292 | N22: =M22-L22 -> 365 | O22: 365 | P22: Nee | Q22: =F22*N22/O22 -> 0 | R22: {=_xlfn.IFS($P22="Nee",G22*$N22/$O22,$P22="Ja",G22*0.5)} -> 55511 | S22: {=_xlfn.IFS($P22="Nee",-(H22*$N22/$O22),$P22="Ja",-(H22*0.5))} -> 0 | T22: =-I22*N22/O22 -> 0 | U22: =SUM(Q22:T22) -> 55511 | V22: =IFERROR(_xlfn.XLOOKUP(Table4[[#This Row],[Subnummer]],Table3[Sub],Table3[Promillage 1]),0) -> 0.694 | W22: =$U22*V22/1000*V$7 -> 38.524634 | X22: =SUM(W22:W22) -> 38.524634 | Y22: {=_xlfn.IFS(X22=0,"Nihil",X22>0,"Suppletie",X22<0,"Restitutie")} -> Suppletie
A23: =IFERROR(_xlfn.XLOOKUP(D23,Specificatie!C:C,Specificatie!A:A),"-") -> Stichting AOC Terra | B23: Verhoging | C23: =IFERROR(_xlfn.XLOOKUP(Table4[[#This Row],[Subnummer]],Table3[Sub],Table3[Certificaat]),"-") -> 0 | D23: 17 | E23: =IFERROR(_xlfn.XLOOKUP(Table4[[#This Row],[Subnummer]],Table3[Sub],Table3[Verz. Waarde Oud:]),0) -> 4261000 | F23: 0 | G23: 78954 | H23: 0 | I23: 0 | J23: =E23+F23+G23-H23-I23 -> 4339954 | K23: =J23-E23 -> 78954 | L23: 44927 | M23: 45292 | N23: =M23-L23 -> 365 | O23: 365 | P23: Nee | Q23: =F23*N23/O23 -> 0 | R23: {=_xlfn.IFS($P23="Nee",G23*$N23/$O23,$P23="Ja",G23*0.5)} -> 78954 | S23: {=_xlfn.IFS($P23="Nee",-(H23*$N23/$O23),$P23="Ja",-(H23*0.5))} -> 0 | T23: =-I23*N23/O23 -> 0 | U23: =SUM(Q23:T23) -> 78954 | V23: =IFERROR(_xlfn.XLOOKUP(Table4[[#This Row],[Subnummer]],Table3[Sub],Table3[Promillage 1]),0) -> 0.694 | W23: =$U23*V23/1000*V$7 -> 54.794076 | X23: =SUM(W23:W23) -> 54.794076 | Y23: {=_xlfn.IFS(X23=0,"Nihil",X23>0,"Suppletie",X23<0,"Restitutie")} -> Suppletie
A24: =IFERROR(_xlfn.XLOOKUP(D24,Specificatie!C:C,Specificatie!A:A),"-") -> Stichting AOC Terra | B24: Verhoging | C24: =IFERROR(_xlfn.XLOOKUP(Table4[[#This Row],[Subnummer]],Table3[Sub],Table3[Certificaat]),"-") -> 0 | D24: 18 | E24: =IFERROR(_xlfn.XLOOKUP(Table4[[#This Row],[Subnummer]],Table3[Sub],Table3[Verz. Waarde Oud:]),0) -> 2399000 | F24: 0 | G24: 54462 | H24: 0 | I24: 0 | J24: =E24+F24+G24-H24-I24 -> 2453462 | K24: =J24-E24 -> 54462 | L24: 44927 | M24: 45292 | N24: =M24-L24 -> 365 | O24: 365 | P24: Nee | Q24: =F24*N24/O24 -> 0 | R24: {=_xlfn.IFS($P24="Nee",G24*$N24/$O24,$P24="Ja",G24*0.5)} -> 54462 | S24: {=_xlfn.IFS($P24="Nee",-(H24*$N24/$O24),$P24="Ja",-(H24*0.5))} -> 0 | T24: =-I24*N24/O24 -> 0 | U24: =SUM(Q24:T24) -> 54462 | V24: =IFERROR(_xlfn.XLOOKUP(Table4[[#This Row],[Subnummer]],Table3[Sub],Table3[Promillage 1]),0) -> 0.694 | W24: =$U24*V24/1000*V$7 -> 37.796628 | X24: =SUM(W24:W24) -> 37.796628 | Y24: {=_xlfn.IFS(X24=0,"Nihil",X24>0,"Suppletie",X24<0,"Restitutie")} -> Suppletie
A25: =IFERROR(_xlfn.XLOOKUP(D25,Specificatie!C:C,Specificatie!A:A),"-") -> Stichting AOC Terra | B25: Verhoging | C25: =IFERROR(_xlfn.XLOOKUP(Table4[[#This Row],[Subnummer]],Table3[Sub],Table3[Certificaat]),"-") -> 0 | D25: 19 | E25: =IFERROR(_xlfn.XLOOKUP(Table4[[#This Row],[Subnummer]],Table3[Sub],Table3[Verz. Waarde Oud:]),0) -> 1102000 | F25: 0 | G25: 4228 | H25: 0 | I25: 0 | J25: =E25+F25+G25-H25-I25 -> 1106228 | K25: =J25-E25 -> 4228 | L25: 44927 | M25: 45292 | N25: =M25-L25 -> 365 | O25: 365 | P25: Nee | Q25: =F25*N25/O25 -> 0 | R25: {=_xlfn.IFS($P25="Nee",G25*$N25/$O25,$P25="Ja",G25*0.5)} -> 4228 | S25: {=_xlfn.IFS($P25="Nee",-(H25*$N25/$O25),$P25="Ja",-(H25*0.5))} -> 0 | T25: =-I25*N25/O25 -> 0 | U25: =SUM(Q25:T25) -> 4228 | V25: =IFERROR(_xlfn.XLOOKUP(Table4[[#This Row],[Subnummer]],Table3[Sub],Table3[Promillage 1]),0) -> 0.694 | W25: =$U25*V25/1000*V$7 -> 2.934232 | X25: =SUM(W25:W25) -> 2.934232 | Y25: {=_xlfn.IFS(X25=0,"Nihil",X25>0,"Suppletie",X25<0,"Restitutie")} -> Suppletie
A26: =IFERROR(_xlfn.XLOOKUP(D26,Specificatie!C:C,Specificatie!A:A),"-") -> Stichting AOC Terra | B26: Verhoging | C26: =IFERROR(_xlfn.XLOOKUP(Table4[[#This Row],[Subnummer]],Table3[Sub],Table3[Certificaat]),"-") -> 0 | D26: 20 | E26: =IFERROR(_xlfn.XLOOKUP(Table4[[#This Row],[Subnummer]],Table3[Sub],Table3[Verz. Waarde Oud:]),0) -> 1776000 | F26: 0 | G26: 9870 | H26: 0 | I26: 0 | J26: =E26+F26+G26-H26-I26 -> 1785870 | K26: =J26-E26 -> 9870 | L26: 44927 | M26: 45292 | N26: =M26-L26 -> 365 | O26: 365 | P26: Nee | Q26: =F26*N26/O26 -> 0 | R26: {=_xlfn.IFS($P26="Nee",G26*$N26/$O26,$P26="Ja",G26*0.5)} -> 9870 | S26: {=_xlfn.IFS($P26="Nee",-(H26*$N26/$O26),$P26="Ja",-(H26*0.5))} -> 0 | T26: =-I26*N26/O26 -> 0 | U26: =SUM(Q26:T26) -> 9870 | V26: =IFERROR(_xlfn.XLOOKUP(Table4[[#This Row],[Subnummer]],Table3[Sub],Table3[Promillage 1]),0) -> 0.694 | W26: =$U26*V26/1000*V$7 -> 6.84978 | X26: =SUM(W26:W26) -> 6.84978 | Y26: {=_xlfn.IFS(X26=0,"Nihil",X26>0,"Suppletie",X26<0,"Restitutie")} -> Suppletie
A27: =IFERROR(_xlfn.XLOOKUP(D27,Specificatie!C:C,Specificatie!A:A),"-") -> Stichting AOC Terra | B27: Verhoging | C27: =IFERROR(_xlfn.XLOOKUP(Table4[[#This Row],[Subnummer]],Table3[Sub],Table3[Certificaat]),"-") -> 0 | D27: 21 | E27: =IFERROR(_xlfn.XLOOKUP(Table4[[#This Row],[Subnummer]],Table3[Sub],Table3[Verz. Waarde Oud:]),0) -> 2264000 | F27: 0 | G27: 23353 | H27: 0 | I27: 0 | J27: =E27+F27+G27-H27-I27 -> 2287353 | K27: =J27-E27 -> 23353 | L27: 44927 | M27: 45292 | N27: =M27-L27 -> 365 | O27: 365 | P27: Nee | Q27: =F27*N27/O27 -> 0 | R27: {=_xlfn.IFS($P27="Nee",G27*$N27/$O27,$P27="Ja",G27*0.5)} -> 23353 | S27: {=_xlfn.IFS($P27="Nee",-(H27*$N27/$O27),$P27="Ja",-(H27*0.5))} -> 0 | T27: =-I27*N27/O27 -> 0 | U27: =SUM(Q27:T27) -> 23353 | V27: =IFERROR(_xlfn.XLOOKUP(Table4[[#This Row],[Subnummer]],Table3[Sub],Table3[Promillage 1]),0) -> 0.694 | W27: =$U27*V27/1000*V$7 -> 16.206982 | X27: =SUM(W27:W27) -> 16.206982 | Y27: {=_xlfn.IFS(X27=0,"Nihil",X27>0,"Suppletie",X27<0,"Restitutie")} -> Suppletie
A28: =IFERROR(_xlfn.XLOOKUP(D28,Specificatie!C:C,Specificatie!A:A),"-") -> Stichting AOC Terra | B28: Verhoging | C28: =IFERROR(_xlfn.XLOOKUP(Table4[[#This Row],[Subnummer]],Table3[Sub],Table3[Certificaat]),"-") -> 0 | D28: 22 | E28: =IFERROR(_xlfn.XLOOKUP(Table4[[#This Row],[Subnummer]],Table3[Sub],Table3[Verz. Waarde Oud:]),0) -> 3379000 | F28: 0 | G28: 57842 | H28: 0 | I28: 0 | J28: =E28+F28+G28-H28-I28 -> 3436842 | K28: =J28-E28 -> 57842 | L28: 44927 | M28: 45292 | N28: =M28-L28 -> 365 | O28: 365 | P28: Nee | Q28: =F28*N28/O28 -> 0 | R28: {=_xlfn.IFS($P28="Nee",G28*$N28/$O28,$P28="Ja",G28*0.5)} -> 57842 | S28: {=_xlfn.IFS($P28="Nee",-(H28*$N28/$O28),$P28="Ja",-(H28*0.5))} -> 0 | T28: =-I28*N28/O28 -> 0 | U28: =SUM(Q28:T28) -> 57842 | V28: =IFERROR(_xlfn.XLOOKUP(Table4[[#This Row],[Subnummer]],Table3[Sub],Table3[Promillage 1]),0) -> 0.694 | W28: =$U28*V28/1000*V$7 -> 40.142348 | X28: =SUM(W28:W28) -> 40.142348 | Y28: {=_xlfn.IFS(X28=0,"Nihil",X28>0,"Suppletie",X28<0,"Restitutie")} -> Suppletie
A29: =IFERROR(_xlfn.XLOOKUP(D29,Specificatie!C:C,Specificatie!A:A),"-") -> Stichting AOC Terra | B29: Verhoging | C29: =IFERROR(_xlfn.XLOOKUP(Table4[[#This Row],[Subnummer]],Table3[Sub],Table3[Certificaat]),"-") -> 0 | D29: 23 | E29: =IFERROR(_xlfn.XLOOKUP(Table4[[#This Row],[Subnummer]],Table3[Sub],Table3[Verz. Waarde Oud:]),0) -> 4657000 | F29: 0 | G29: 19869 | H29: 0 | I29: 0 | J29: =E29+F29+G29-H29-I29 -> 4676869 | K29: =J29-E29 -> 19869 | L29: 44927 | M29: 45292 | N29: =M29-L29 -> 365 | O29: 365 | P29: Nee | Q29: =F29*N29/O29 -> 0 | R29: {=_xlfn.IFS($P29="Nee",G29*$N29/$O29,$P29="Ja",G29*0.5)} -> 19869 | S29: {=_xlfn.IFS($P29="Nee",-(H29*$N29/$O29),$P29="Ja",-(H29*0.5))} -> 0 | T29: =-I29*N29/O29 -> 0 | U29: =SUM(Q29:T29) -> 19869 | V29: =IFERROR(_xlfn.XLOOKUP(Table4[[#This Row],[Subnummer]],Table3[Sub],Table3[Promillage 1]),0) -> 0.694 | W29: =$U29*V29/1000*V$7 -> 13.789086 | X29: =SUM(W29:W29) -> 13.789086 | Y29: {=_xlfn.IFS(X29=0,"Nihil",X29>0,"Suppletie",X29<0,"Restitutie")} -> Suppletie
A30: =IFERROR(_xlfn.XLOOKUP(D30,Specificatie!C:C,Specificatie!A:A),"-") -> Stichting AOC Terra | B30: Verhoging | C30: =IFERROR(_xlfn.XLOOKUP(Table4[[#This Row],[Subnummer]],Table3[Sub],Table3[Certificaat]),"-") -> 0 | D30: 24 | E30: =IFERROR(_xlfn.XLOOKUP(Table4[[#This Row],[Subnummer]],Table3[Sub],Table3[Verz. Waarde Oud:]),0) -> 2287000 | F30: 0 | G30: 76724 | H30: 0 | I30: 0 | J30: =E30+F30+G30-H30-I30 -> 2363724 | K30: =J30-E30 -> 76724 | L30: 44927 | M30: 45292 | N30: =M30-L30 -> 365 | O30: 365 | P30: Nee | Q30: =F30*N30/O30 -> 0 | R30: {=_xlfn.IFS($P30="Nee",G30*$N30/$O30,$P30="Ja",G30*0.5)} -> 76724 | S30: {=_xlfn.IFS($P30="Nee",-(H30*$N30/$O30),$P30="Ja",-(H30*0.5))} -> 0 | T30: =-I30*N30/O30 -> 0 | U30: =SUM(Q30:T30) -> 76724 | V30: =IFERROR(_xlfn.XLOOKUP(Table4[[#This Row],[Subnummer]],Table3[Sub],Table3[Promillage 1]),0) -> 0.694 | W30: =$U30*V30/1000*V$7 -> 53.246456 | X30: =SUM(W30:W30) -> 53.246456 | Y30: {=_xlfn.IFS(X30=0,"Nihil",X30>0,"Suppletie",X30<0,"Restitutie")} -> Suppletie
A31: =IFERROR(_xlfn.XLOOKUP(D31,Specificatie!C:C,Specificatie!A:A),"-") -> Stichting AOC Terra | B31: Verhoging | C31: =IFERROR(_xlfn.XLOOKUP(Table4[[#This Row],[Subnummer]],Table3[Sub],Table3[Certificaat]),"-") -> 0 | D31: 27 | E31: =IFERROR(_xlfn.XLOOKUP(Table4[[#This Row],[Subnummer]],Table3[Sub],Table3[Verz. Waarde Oud:]),0) -> 537000 | F31: 0 | G31: 8280 | H31: 0 | I31: 0 | J31: =E31+F31+G31-H31-I31 -> 545280 | K31: =J31-E31 -> 8280 | L31: 44927 | M31: 45292 | N31: =M31-L31 -> 365 | O31: 365 | P31: Nee | Q31: =F31*N31/O31 -> 0 | R31: {=_xlfn.IFS($P31="Nee",G31*$N31/$O31,$P31="Ja",G31*0.5)} -> 8280 | S31: {=_xlfn.IFS($P31="Nee",-(H31*$N31/$O31),$P31="Ja",-(H31*0.5))} -> 0 | T31: =-I31*N31/O31 -> 0 | U31: =SUM(Q31:T31) -> 8280 | V31: =IFERROR(_xlfn.XLOOKUP(Table4[[#This Row],[Subnummer]],Table3[Sub],Table3[Promillage 1]),0) -> 0.694 | W31: =$U31*V31/1000*V$7 -> 5.74632 | X31: =SUM(W31:W31) -> 5.74632 | Y31: {=_xlfn.IFS(X31=0,"Nihil",X31>0,"Suppletie",X31<0,"Restitutie")} -> Suppletie
A32: =IFERROR(_xlfn.XLOOKUP(D32,Specificatie!C:C,Specificatie!A:A),"-") -> Stichting AOC Terra | B32: Verhoging | C32: =IFERROR(_xlfn.XLOOKUP(Table4[[#This Row],[Subnummer]],Table3[Sub],Table3[Certificaat]),"-") -> 0 | D32: 28 | E32: =IFERROR(_xlfn.XLOOKUP(Table4[[#This Row],[Subnummer]],Table3[Sub],Table3[Verz. Waarde Oud:]),0) -> 107000 | F32: 0 | G32: 11732 | H32: 0 | I32: 0 | J32: =E32+F32+G32-H32-I32 -> 118732 | K32: =J32-E32 -> 11732 | L32: 44927 | M32: 45292 | N32: =M32-L32 -> 365 | O32: 365 | P32: Nee | Q32: =F32*N32/O32 -> 0 | R32: {=_xlfn.IFS($P32="Nee",G32*$N32/$O32,$P32="Ja",G32*0.5)} -> 11732 | S32: {=_xlfn.IFS($P32="Nee",-(H32*$N32/$O32),$P32="Ja",-(H32*0.5))} -> 0 | T32: =-I32*N32/O32 -> 0 | U32: =SUM(Q32:T32) -> 11732 | V32: =IFERROR(_xlfn.XLOOKUP(Table4[[#This Row],[Subnummer]],Table3[Sub],Table3[Promillage 1]),0) -> 0.694 | W32: =$U32*V32/1000*V$7 -> 8.142008 | X32: =SUM(W32:W32) -> 8.142008 | Y32: {=_xlfn.IFS(X32=0,"Nihil",X32>0,"Suppletie",X32<0,"Restitutie")} -> Suppletie
... A34: =IFERROR(_xlfn.XLOOKUP(D34,Specificatie!C:C,Specificatie!A:A),"-") -> Stichting AOC Terra | B34: Opname | C34: =IFERROR(_xlfn.XLOOKUP(Table4[[#This Row],[Subnummer]],Table3[Sub],Table3[Certificaat]),"-") -> 0 | D34: 30 | E34: =IFERROR(_xlfn.XLOOKUP(Table4[[#This Row],[Subnummer]],Table3[Sub],Table3[Verz. Waarde Oud:]),0) -> 0 | F34: 1942000 | G34: 0 | H34: 0 | I34: 0 | J34: =E34+F34+G34-H34-I34 -> 1942000 | K34: =J34-E34 -> 1942000 | L34: 45287 | M34: 45292 | N34: =M34-L34 -> 5 | O34: 365 | P34: Nee | Q34: =F34*N34/O34 -> 26602.74 | R34: {=_xlfn.IFS($P34="Nee",G34*$N34/$O34,$P34="Ja",G34*0.5)} -> 0 | S34: {=_xlfn.IFS($P34="Nee",-(H34*$N34/$O34),$P34="Ja",-(H34*0.5))} -> 0 | T34: =-I34*N34/O34 -> 0 | U34: =SUM(Q34:T34) -> 26602.74 | V34: =IFERROR(_xlfn.XLOOKUP(Table4[[#This Row],[Subnummer]],Table3[Sub],Table3[Promillage 1]),0) -> 0.694 | W34: =$U34*V34/1000*V$7 -> 18.462301 | X34: =SUM(W34:W34) -> 18.462301 | Y34: {=_xlfn.IFS(X34=0,"Nihil",X34>0,"Suppletie",X34<0,"Restitutie")} -> Suppletie
A35: =IFERROR(_xlfn.XLOOKUP(D35,Specificatie!C:C,Specificatie!A:A),"-") -> - | C35: =IFERROR(_xlfn.XLOOKUP(Table4[[#This Row],[Subnummer]],Table3[Sub],Table3[Certificaat]),"-") -> - | D35: 0 | E35: =IFERROR(_xlfn.XLOOKUP(Table4[[#This Row],[Subnummer]],Table3[Sub],Table3[Verz. Waarde Oud:]),0) -> 0 | F35: 0 | G35: 0 | H35: 0 | I35: 0 | J35: =E35+F35+G35-H35-I35 -> 0 | K35: =J35-E35 -> 0 | L35: 44562 | M35: 44927 | N35: =M35-L35 -> 365 | O35: 365 | P35: Nee | Q35: =F35*N35/O35 -> 0 | R35: {=_xlfn.IFS($P35="Nee",G35*$N35/$O35,$P35="Ja",G35*0.5)} -> 0 | S35: {=_xlfn.IFS($P35="Nee",-(H35*$N35/$O35),$P35="Ja",-(H35*0.5))} -> 0 | T35: =-I35*N35/O35 -> 0 | U35: =SUM(Q35:T35) -> 0 | V35: =IFERROR(_xlfn.XLOOKUP(Table4[[#This Row],[Subnummer]],Table3[Sub],Table3[Promillage 1]),0) -> 0 | W35: =$U35*V35/1000*V$7 -> 0 | X35: =SUM(W35:W35) -> 0 | Y35: {=_xlfn.IFS(X35=0,"Nihil",X35>0,"Suppletie",X35<0,"Restitutie")} -> Nihil
A36: Totaal | E36: =SUBTOTAL(109,Table4[Oud]) -> 188600000 | F36: =SUBTOTAL(109,Table4[Investering Nieuw]) -> 9601000 | G36: =SUBTOTAL(109,Table4[Investering bestaand]) -> 1996836 | H36: =SUBTOTAL(109,Table4[Verlaging]) -> 0 | I36: =SUBTOTAL(109,Table4[Afvoer]) -> 0 | J36: =SUBTOTAL(109,Table4[Inclusief mutatie]) -> 200197836 | K36: =SUBTOTAL(109,Table4[Som mutaties]) -> 11597836 | Q36: =SUBTOTAL(109,Table4[Investering nieuw2]) -> 131520.55 | R36: =SUBTOTAL(109,Table4[Investering bestaand2]) -> 1996836 | S36: =SUBTOTAL(109,Table4[Verlaging2]) -> 0 | T36: =SUBTOTAL(109,Table4[Afvoer2]) -> 0 | U36: =SUBTOTAL(109,Table4[Totaal]) -> 2128356.5 | W36: =SUBTOTAL(109,Table4[Verzekeraar 12]) -> 1477.0794 | X36: =SUBTOTAL(109,Table4[Totaal2]) -> 1477.0794

Sheet Verrekening Jaarpremie
A1: Verrekening Jaarpremie
A2: =Overzicht!B2 -> B0100130233
A3: =Overzicht!B3 -> Stichting AOC Terra
A4: =Overzicht!B4 -> 638439110
A7: Termijn: | B7: Datum
A8: Van | B8: =Overzicht!B7 -> 45292
A9: Tot | B9: =Overzicht!C7 -> 45658
A11: Certificaat | B11: 0
A12: Verzekeraar | B12: Relatienummer | C12: Aandeel | D12: Jaarpremie | E12: Al geboekt met nota | F12: Nog te boeken
A13: =Specificatie!$U$6 -> Alle Verzekeraars | B13: =Specificatie!$U$7 -> 0 | C13: =Specificatie!$U$9 -> 1 | D13: =SUMIF(Table3[Certificaat],$B11,Table3[Jaarpremie 1]) -> 148209.95 | E13: 0 | F13: =D13-E13 -> 148209.95
A14: Total | C14: =SUBTOTAL(109,Table1[Aandeel]) -> 1 | D14: =SUBTOTAL(109,Table1[Jaarpremie]) -> 148209.95 | E14: =SUBTOTAL(109,Table1[Al geboekt met nota]) -> 0 | F14: =SUBTOTAL(109,Table1[Nog te boeken]) -> 148209.95

Sheet Verrekening Pro Rata-CAD
A1: Verrekening Mutaties
A2: =Overzicht!B2 -> B0100130233
A3: =Overzicht!B3 -> Stichting AOC Terra
A4: =Overzicht!B4 -> 638439110
A7: Termijn: | B7: Datum
A8: Van | B8: 44562
A9: Tot | B9: 44927
A11: Certificaat | B11: 0
A12: Verzekeraar | B12: Relatienummer | C12: Aandeel | D12: Boeking/restitutie
A13: =Specificatie!$U$6 -> Alle Verzekeraars | B13: =Specificatie!$U$7 -> 0 | C13: =Specificatie!$U$9 -> 1 | D13: =SUMIFS(Table4[Verzekeraar 12],Table4[Mutatiedatum],$B8,Table4[Certificaat],$B11) -> 0
A14: Total | C14: =SUBTOTAL(109,Table2[Aandeel]) -> 1 | D14: =SUBTOTAL(109,Table2[Boeking/restitutie]) -> 0

Sheet Data
A1: Interest | B1: Bouwaard | C1: CAD | D1: Taxatie
A2: - | B2: - | C2: Ja | D2: -
A3: Bedrijfsschade | B3: Hout, harde dekking | C3: Nee | D3: Ja
A4: Inventaris | B4: Hout, rieten dekking | D4: Nee
A5: Bijzondere kosten | B5: Steen, harde dekking
A6: Exploitatiekosten | B6: Steen, rieten dekking
A7: Extra kosten
A8: Gebouwen
A9: Goederen
A10: Goederen van derden
A11: Huurdersbelang
A12: Huurderving
A13: Opruimingskosten
A14: Overig
A15: Reconstructiekosten
A16: Woningverbetering
