Workbook
Name J_N: [1]Lijsten!$A$1:$A$3
Name J_N: [1]Lijsten!$A$1:$A$3

Sheet Inhoudsopgave
A1: Versie | B1: 0.9
A2: Status | B2: Definitief
B4: Inhoudsopgave | C4: Afk.
B5: Functionele eisen | C5: FUNC
B6: Technische eisen | C6: TECH
B7: Eisen aan de beveiliging | C7: SEC
B8: Eisen aan de privacy | C8: PRIV
B9: Eisen aan support en SLA | C9: SLA
B10: Eisen aan tarieven + facturatie | C10: TFAC
B11: Algemene eisen | C11: ALG
B14: Begrippen
B15: Opdracht
B16: De Opdracht op basis van de af te sluiten Overeenkomst betreffende de uitvoering van Diensten op het gebied van de bouw en het beheer van het Nuffic dataplatform zoals beschreven in onderhavig Offerteaanvraag.
B18: Opdrachtgever
B19: De Aanbestedende Dienst/Nuffic.
B21: Opdrachtnemer
B22: De Inschrijver die de Inschrijving met de beste prijs-kwaliteitverhouding heeft gedaan en met wie de Overeenkomst wordt gesloten.
B24: WCAG
B25: De Web Content Accessibility Guidelines (WCAG) zijn sinds 1999 de internationale standaard voor digitale toegankelijkheid.
B27: Schouw
B28: Gelegenheid in een aanbestedingsproces waarin Opdrachtnemers de mogelijkheid heben om de bestaande inrichting en processen te bekijken en tijdens de Nota van Inlichtingen hierover vragen te stellen.
B30: Productiemgeving
... B61: Recovery point objective (RPO) is een herstelpuntdoelstelling van data naar het gewenste moment. Recovery time objective (RTO) is een hersteltijddoelstelling binnen een gewenst tijdvenster om na een incident te herstellen naar een acceptabel niveau waarbij de continuïteit van het product of de dienst geborgd wordt.

Sheet Algemene eisen
A1: Nr | B1: ID | C1: Algemene eisen | D1: Voldoet Ja/ Nee
A2: {=CELL("row",A2)-1} -> 1 | B2: ALG.01 | C2: Dat wat beschreven wordt in het Aanbestedingsdocument onder "Scope" wordt geheel geleverd.
A3: {=CELL("row",A3)-1} -> 2 | B3: ALG.02 | C3: Opdrachtnemer levert managementvertegenwoordiging voor deelname aan strategische overleggen.
A4: {=CELL("row",A4)-1} -> 3 | B4: ALG.03 | C4: Opdrachtnemer garandeert dat er bij wisselingen in het vaste Nuffic-team geen invloed is op de continuïteit van de dienstverlening.
A5: {=CELL("row",A5)-1} -> 4 | B5: ALG.04 | C5: Bij wisselingen binnen het vaste Nuffic-team, worden inwerkuren niet doorberekend aan Nuffic.
A6: {=CELL("row",A6)-1} -> 5 | B6: ALG.05 | C6: Gebruikers moeten expliciet een rol krijgen in de implementatie van het product.
A7: {=CELL("row",A7)-1} -> 6 | B7: ALG.06 | C7: Opdrachtnemer stelt een detailplanning met mijlpalen en concrete oplevermomenten voor het volledige project op. Hierbij wordt inzichtelijk gemaakt welke deelopleveringen wanneer plaatsvinden. De projectvoortgang wordt tweewekelijks in samenwerking met Nuffics projectmanager gerapporteerd aan de projectstuurgroep.
A8: {=CELL("row",A8)-1} -> 7 | B8: ALG.07 | C8: De te realiseren applicatie moet voldoen aan de overheidseisen voor digitale toegankelijkheid (WCAG2.1, niveau AA) zoals verwoord op: https://www.digitoegankelijk.nl/wetgeving/wat-verplicht. Het gaat om de eisen uit hoofdstuk 9 van de Europese standaard EN 301 549. Deze eisen omvatten toegankelijkheidsnorm WCAG 2.1, niveau A + AA.
A9: {=CELL("row",A9)-1} -> 8 | B9: ALG.08 | C9: Opdrachtnemer dient één vast contactpersoon en één vast vervangend contactpersoon beschikbaar te stellen met wie Nuffic tijdens kantooruren (zie begrippenlijst) contact kan opnemen. De contactpersoon van Opdrachtnemer dient telefonisch en per e-mail beschikbaar te zijn voor het beantwoorden van vragen en voor het in behandeling nemen van een klacht.
A10: {=CELL("row",A10)-1} -> 9 | B10: ALG.09 | C10: Communicatie tussen de contactpersoon van Opdrachtnemer en Nuffic vindt plaats in het Nederlands. Voertaal voor overige contacten of communicatie is Nederlands en/of Engels.
A11: {=CELL("row",A11)-1} -> 10 | B11: ALG.10 | C11: Trainingsmateriaal voor interne gebruikers en functioneel beheerders dient beschikbaar te worden gesteld in het Nederlands, in toegankelijke taal op B1-niveau. Trainingsmateriaal voor aanvragers dient in het Nederlands en Engels beschikbaar te worden gesteld, in toegankelijke taal op B1-niveau.
A12: {=CELL("row",A12)-1} -> 11 | B12: ALG.11 | C12: Facturatie vindt plaats volgens de afspraken in de overeenkomst, op basis van de planning opgegeven in de inschrijving en onder vermelding van een specificatie van gemaakte uren, de verrichte werkzaamheden en van het purchaseorder-nummer (aangeleverd door Nuffic).
A13: {=CELL("row",A13)-1} -> 12 | B13: ALG.12 | C13: Facturen worden digitaal, in PDF-format verstuurd aan facturen@nuffic.nl

Sheet Functionele eisen
A1: Nr | B1: ID | C1: Functionele eis | D1: Voldoet Ja/ Nee
A2: {=CELL("row",A2)-1} -> 1 | B2: FUNC.01 | C2: Het systeem ondersteunt minimaal op een gelijkwaardige manier als het huidige systeem de betrokken processen, waaronder bijvoorbeeld het maximaal aantal clicks, de rapportage mogelijkheden en vindbaarheid van informatie. Tijdens de schouw heeft Opdrachtnemer de mogelijkheid om de bestaande inrichting en processen te bekijken en tijdens de Nota van Inlichtingen hierover vragen te stellen (NB: de exacte functionaliteit en inrichting is niet verder in Offerteaanvraag en/of eisen beschreven, dit kan Opdrachtnemer tijdens de schouw inzien).
A3: {=CELL("row",A3)-1} -> 2 | B3: FUNC.02 | C3: Nuffic heeft na afronding van de implementatie het volledige beheer over de inrichting van het systeem na implementatie, zoals de inrichting van de selfservice portal, de autorisaties, communicatiestromen etc.
A4: {=CELL("row",A4)-1} -> 3 | B4: FUNC.03 | C4: Er is een acceptatieomgeving beschikbaar voor Opdrachtgever voor het testen van nieuwe configuratie instellingen.
A5: {=CELL("row",A5)-1} -> 4 | B5: FUNC.04 | C5: Het is in de behandelaarsomgeving voor alle modules mogelijk om een selectie en/of rapportages te maken van alle beschikbare data.
A6: {=CELL("row",A6)-1} -> 5 | B6: FUNC.05 | C6: Voor alle modules geldt dat er zoveel mogelijk gebruik moet worden gemaakt van vaste opzoeklijsten. De beheerder kan ook categorieën/subcategorieën aanpassen/toevoegen.De beheerder kan ook categorieën/subcategorieën aanpassen/toevoegen.
A7: {=CELL("row",A7)-1} -> 6 | B7: FUNC.06 | C7: Voor Configuratiebeheer dienen minimaal de volgende objecten/informatie opgenomen te kunnen worden: Apparaat • Laptops • Desktops • Servers/Virtual Machines • Etc. Software objecten • Standaard informatie & aanvullende custom velden • Referentie informatie zoals: - Contracten - Beheer Informatie - Opdrachtnemer - Facilitaire objecten • Standaard configuratie items • Aanvullende custom items
A8: {=CELL("row",A8)-1} -> 7 | B8: FUNC.07 | C8: De volgende notificatie instellingen moeten mogelijk zijn zoals: •(Dreiging) overschrijden van oplostijden (SLA) •Naderen en verlopen van wijzigingsplanningen •(Binnenkort) te verlopen licenties •(Binnenkort) te verlopen contracten •Max licenties bereikt/waarde voor notificatie in te stellen

Sheet Technische eisen
A1: Nr | B1: ID | C1: Eisen aan de techniek | D1: Voldoet Ja/ Nee | E1: Omschrijving
A2: {=CELL("row",A2)-1} -> 1 | B2: =Inhoudsopgave!$C$6&"."&TEXT(Table6[[#This Row],[Nr]],"00") -> TECH.01 | C2: Opdrachtnemer levert een standaardpakket (SMS) dat toegankelijk is via een gangbare webbrowser en voldoet aan de functionele eisen.
A3: {=CELL("row",A3)-1} -> 2 | B3: =Inhoudsopgave!$C$6&"."&TEXT(Table6[[#This Row],[Nr]],"00") -> TECH.02 | C3: De applicatie zal geoptimaliseerd zijn voor snelheid en stabiliteit en hiermee ook de schaalbaarheid.
A4: {=CELL("row",A4)-1} -> 3 | B4: =Inhoudsopgave!$C$6&"."&TEXT(Table6[[#This Row],[Nr]],"00") -> TECH.03 | C4: De applicatie (en alle onderdelen zoals de onderliggende gebruikte systemen zoals webservers, besturingssystemen, etc) moet over zodanige beveiligingsmaatregelen beschikken dat de betrouwbaarheid (beschikbaarheid, integriteit en vertrouwelijkheid) van gegevens gewaarborgd is.
A5: {=CELL("row",A5)-1} -> 4 | B5: =Inhoudsopgave!$C$6&"."&TEXT(Table6[[#This Row],[Nr]],"00") -> TECH.04 | C5: Alle onderdelen van het Systeem moeten afdoende zijn beveiligd tegen ongewenst(e) toegang, ongeautoriseerd gebruik, hackers, virussen (inclusief spyware, ransomware, malware), DDoS en misbruik. Documenten dienen bij upload gescand te worden op malware en virussen. De gespecificeerde werking van het systeem mag hierdoor niet nadelig beïnvloed worden. Opdrachtnemer zorgt er voor dat getroffen voorzieningen up-to-date gehouden worden.
A6: {=CELL("row",A6)-1} -> 5 | B6: =Inhoudsopgave!$C$6&"."&TEXT(Table6[[#This Row],[Nr]],"00") -> TECH.05 | C6: De URLs dienen friendly (leesbare URLs) zijn.
A7: {=CELL("row",A7)-1} -> 6 | B7: =Inhoudsopgave!$C$6&"."&TEXT(Table6[[#This Row],[Nr]],"00") -> TECH.06 | C7: Voor veelgebruikte reguliere rapportages en opvragingen wordt een goede responsetijd gevraagd van < 5 sec in aantoonbaar minimaal 95% van de gevallen. Dit bij voldoende bandbreedte en netwerkcapaciteit van aan de gebruikerskant (buiten de invloedssfeer van Opdrachtnemer).
A8: {=CELL("row",A8)-1} -> 7 | B8: =Inhoudsopgave!$C$6&"."&TEXT(Table6[[#This Row],[Nr]],"00") -> TECH.07 | C8: Opdrachtnemer garandeert een uptime van minimaal 99,5% per jaar. Opdrachtnemer dient jaarlijks te rapporteren over de uptime.
A9: {=CELL("row",A9)-1} -> 8 | B9: =Inhoudsopgave!$C$6&"."&TEXT(Table6[[#This Row],[Nr]],"00") -> TECH.08 | C9: Opdrachtnemer garandeert een oplostijd bij volledige onbeschikbaarheid van het systeem (hoogste prioriteit storing) van maximaal twee (2) uur.
A10: {=CELL("row",A10)-1} -> 9 | B10: =Inhoudsopgave!$C$6&"."&TEXT(Table6[[#This Row],[Nr]],"00") -> TECH.09 | C10: Behandelaars worden geïdentificeerd, geauthenticeerd en geautoriseerd in de Azure AD van Nuffic indien het account eindigt met @nuffic.nl. Aanvragers maken gebruik van Nuffic Azure AD B2C voor de account registratie, identificatie en authenticatie.
A11: {=CELL("row",A11)-1} -> 10 | B11: =Inhoudsopgave!$C$6&"."&TEXT(Table6[[#This Row],[Nr]],"00") -> TECH.10 | C11: De applicatie dient te bestaan uit minimaal 1 acceptatie omgeving en 1 productieomgeving waarbij data en werking strikt gescheiden zijn. Opdrachtnemer verzorgt de aanlevering van deze testdata gebaseerd is op geanonimiseerde productiedata.
A12: {=CELL("row",A12)-1} -> 11 | B12: =Inhoudsopgave!$C$6&"."&TEXT(Table6[[#This Row],[Nr]],"00") -> TECH.11 | C12: Voor het verzenden van e-mails moet de Opdrachtnemer gebruikmaken van de MS365-omgeving van Nuffic. De authenticatie moet worden uitgevoerd op basis van OAuth2.0, zoals gedetailleerd beschreven in het document dat via deze link (https://learn.microsoft.com/en-us/exchange/client-developer/legacy-protocols/how-to-authenticate-an-imap-pop-smtp-application-by-using-oauth) toegankelijk is. Nuffic zal de configuratie van Azure uitvoeren.
A13: {=CELL("row",A13)-1} -> 12 | B13: =Inhoudsopgave!$C$6&"."&TEXT(Table6[[#This Row],[Nr]],"00") -> TECH.12 | C13: De volgende technische documentatie dient te worden opgeleverd tijdens implementatie: - Data storage en gerelateerde diensten/functies - Afhankelijkheden en koppelingen met andere applicaties/3de partijen - Technische details die relevant en uniek zijn voor Nuffic zoals integratie met SSO, Beveiliging maatregelen en settings (DNS, Database, Backup en Restore) - Afwijkende instellingen van de standaardconfiguratie
... A23: {=CELL("row",A23)-1} -> 22 | B23: =Inhoudsopgave!$C$6&"."&TEXT(Table6[[#This Row],[Nr]],"00") -> TECH.22 | C23: De dienstverlening voorziet in maatregelen (zoals IDS en IPS diensten) waarbij kwaadaardig (netwerk)-verkeer richting Nuffic data wordt gedetecteerd en gemitigeerd (zoals beschreven in de richtlijn voor implementatie van detectieoplossingen), zoals het Nationaal Detectie Netwerk (alleen voor rijksoverheidsorganisaties) of GDI, die worden ingezet op basis van een risico-inschatting, mede aan de hand van de aard van de te beschermen gegevens en informatiesystemen. Opdrachtgever wil een beknopte omschrijving hoe Opdrachtnemer invulling gaat geven aan deze detectie.

Sheet Eisen informatiebeveiliging 
A1: Nr | B1: ID | C1: Eisen aan de beveiliging | D1: Voldoet Ja/ nee
A2: {=CELL("row",A2)-1} -> 1 | B2: =Inhoudsopgave!$C$7&"."&TEXT(Table527[[#This Row],[Nr]],"00") -> SEC.01 | C2: De omgeving is voorzien van passende en up-to-date bescherming tegen malware en dergelijke kwaadaardige software waarvan de werking kan worden aangetoond middels rapportages of dashboards.
A3: {=CELL("row",A3)-1} -> 2 | B3: =Inhoudsopgave!$C$7&"."&TEXT(Table527[[#This Row],[Nr]],"00") -> SEC.02 | C3: Op gebied van informatiebeveiliging, hosting en beheer zijn door de Opdrachtnemer aantoonbaar beveiligingsmaatregelen genomen conform minimaal ISO27001 of vergelijkbaar. Certificering op dit gebied is een pré. De Opdrachtnemer voorziet Nuffic van voldoende informatie rondom geïmplementeerde beveiligingsmaatregelen zodat compliance aan de BIO (een verplichting van Nuffic) kan worden beoordeeld.
A4: {=CELL("row",A4)-1} -> 3 | B4: =Inhoudsopgave!$C$7&"."&TEXT(Table527[[#This Row],[Nr]],"00") -> SEC.03 | C4: De leverancier hanteert ook voor de fysieke beveiliging van de infrastructuur voor de hosting minimaal de maatregelen zoals voorgeschreven in ISO 27001 en kan dit aantonen.
A5: {=CELL("row",A5)-1} -> 4 | B5: =Inhoudsopgave!$C$7&"."&TEXT(Table527[[#This Row],[Nr]],"00") -> SEC.04 | C5: Met opdrachtnemers die als verwerker voor of namens Nuffic persoonsgegevens verwerken, worden verwerkersovereenkomsten gesloten waarin alle wettelijk vereiste afspraken zijn vastgesteld.
A6: {=CELL("row",A6)-1} -> 5 | B6: =Inhoudsopgave!$C$7&"."&TEXT(Table527[[#This Row],[Nr]],"00") -> SEC.05 | C6: Andere partijen die geen onderdeel van de overeenkomst zijn, zullen geen data of toegang tot systemen met data van Nuffic ontvangen van de dienstverlener, tenzij hier expliciet en schriftelijke toestemming voor is verkregen vanuit de Information Security Officer van Nuffic.
A7: {=CELL("row",A7)-1} -> 6 | B7: =Inhoudsopgave!$C$7&"."&TEXT(Table527[[#This Row],[Nr]],"00") -> SEC.06 | C7: Opdrachtnemer biedt Nuffic de mogelijkheid om, in overleg, audits te doen of uit te laten voeren op alle vereisten zoals vermeld in de overeenkomst. Hieronder vallen ook audits op het functioneren van technische beveiligingsmaatregelen, pentesten en geautomatiseerde kwetsbaarheidsscanning. Kosten en inspanningen die Opdrachtnemer maakt dienen redelijk te zijn en in overleg met Nuffic te zijn afgesproken en worden per audit bepaald. Bevindingen vanuit audits waaruit niet naleving van de in de overeenkomst opgenomen eisen voor informatiebeveiliging & privacy blijkt dienen onmiddellijk of binnen een met Nuffic afgestemde termijn kosteloos te worden verholpen.
A8: {=CELL("row",A8)-1} -> 7 | B8: =Inhoudsopgave!$C$7&"."&TEXT(Table527[[#This Row],[Nr]],"00") -> SEC.07 | C8: Opdrachtnemer informeert Nuffic proactief over wijzigingen in de organisatie die de dienstverlening raken of ontdekte risico's die de dienstverlening kunnen beïnvloeden.
A9: {=CELL("row",A9)-1} -> 8 | B9: =Inhoudsopgave!$C$7&"."&TEXT(Table527[[#This Row],[Nr]],"00") -> SEC.08 | C9: Ieder informatiebeveiligingsincident, datalek of vermoedelijk incident gerelateerd aan de vertrouwelijkheid, integriteit of beschikbaarheid van data van of dienstverlening aan Nuffic dient direct en zonder onnodige vertraging en altijd binnen 24 uur gemeld worden aan de information security officer van Nuffic via (securityofficer@nuffic.nl)
A10: {=CELL("row",A10)-1} -> 9 | B10: =Inhoudsopgave!$C$7&"."&TEXT(Table527[[#This Row],[Nr]],"00") -> SEC.09 | C10: Er dient bij Opdrachtnemer een Coordinated Vulnerability Disclosure (CVD) procedure ingericht en gepubliceerd te zijn.
A11: {=CELL("row",A11)-1} -> 10 | B11: =Inhoudsopgave!$C$7&"."&TEXT(Table527[[#This Row],[Nr]],"00") -> SEC.10 | C11: Opdrachtnemer laat als onderdeel van de dienstverlening geleverde applicaties, diensten en/of websites periodiek (jaarlijks of frequenter) controleren op technische naleving van beveiligingsnormen en risico’s ten aanzien van de feitelijke veiligheid. (door bijvoorbeeld (geautomatiseerde) kwetsbaarheidsanalyses en/of penetratietesten. Bevindingen hoger dan "laag" geclassificeerd (CVSS 3.9 en hoger) dienen binnen een maand verholpen te zijn. Bevindingen die geclassificeerd zijn als "hoog" (CVSS 4.0 - 6.9) binnen een week en als "kritiek" binnen 24 uur. Indien dit niet mogelijk is dient direct contact opgenomen te worden met de security officer van Nuffic via securityofficer@nuffic.nl
A12: {=CELL("row",A12)-1} -> 11 | B12: =Inhoudsopgave!$C$7&"."&TEXT(Table527[[#This Row],[Nr]],"00") -> SEC.11 | C12: Nuffic dient over de technische naleving van beveiligingsnormen en risico’s ten aanzien van de feitelijke veiligheid passend geïnformeerd te worden. Dat wil zeggen zonder de inhoudelijke details (inherent aan gebruik van een software-as-a-service dienst) maar zodanig dat Nuffic zich een goed beeld kan vormen over de staat van (technische) informatiebeveilging van het systeem en de wijze hoe de Opdrachtnemer omgaat met bevindingen
A13: {=CELL("row",A13)-1} -> 12 | B13: =Inhoudsopgave!$C$7&"."&TEXT(Table527[[#This Row],[Nr]],"00") -> SEC.12 | C13: Het systeem moet rol gebaseerde toegangscontrole (RBAC) ondersteunen. Gebruikers moeten alleen toegang hebben tot tickets en informatie die relevant zijn voor hun specifieke functie en verantwoordelijkheden.
... A15: {=CELL("row",A15)-1} -> 14 | B15: =Inhoudsopgave!$C$7&"."&TEXT(Table527[[#This Row],[Nr]],"00") -> SEC.14 | C15: Opdrachtnemer dient Nuffic proactief te informeren over wijzigingen in de organisatie die de dienstverlening zullen raken of ontdekte risico's die de dienstverlening kunnen beïnvloeden.

Sheet Eisen aan support en SLA
A1: Nr | B1: ID | C1: Eisen aan beheer en SLA | D1: Akkoord Ja/ Nee
A2: {=CELL("row",A2)-1} -> 1 | B2: =Inhoudsopgave!$C$9&"."&TEXT(Table2[[#This Row],[Nr]],"00") -> SLA.01 | C2: Voorafgaand aan ingebruikname van de nieuwe applicatie komen Opdrachtnemer en Opdrachtgever een SLA, DAP en exitprocedure overeen.
A3: {=CELL("row",A3)-1} -> 2 | B3: =Inhoudsopgave!$C$9&"."&TEXT(Table2[[#This Row],[Nr]],"00") -> SLA.02 | C3: De SLA bevat: • een procedure voor informatiebeveiligingsincidenten. • de manier waarop wijzigingen en updates van de dienstverlening en in de SLA vastgelegde regelingen, prestaties en rapportages worden beheerd. • Afspraken over de werkwijze bij het verlengen van de looptijd, het beëindigen van de SLA na afloop van de looptijd en afspraken over het voortijdig beëindigen ervan. • Identificatie van essentiële componenten. Hier wordt onder andere de essentiële hard- en software beschreven. Ook als deze geen onderdeel uitmaken van de dienst maar deze hier wel van afhankelijk is. • Vitale bedrijfsfuncties, processen en activiteiten van Nuffic die door de (ICT-)dienst ondersteund worden beschreven. • Beschrijving van de wijze hoe beveiligingsmaatregelen worden getoetst en gecontroleerd. Ook dient beschreven te zijn hoe de beveiligingsmaatregelen door de dienstOpdrachtnemer te controleren zijn (bijvoorbeeld audits en penetratietests) en hoe het toezicht is geregeld. • Beschrijving van en afspraken m.b.t. de support. • Afspraken omtrent gestructureerd overleg. • Een overzicht van alle contactpersonen en verantwoordelijken bij escalatie of calamiteiten op functieniveau. De afspraken omtrent de werkwijze bij afwijkingen van dienstverlening ten opzichte van het afgesproken dienstenniveaus. • Afspraken rondom de periodieke beoordeling van de dienstverlening en het functioneren van de afgesproken informatiebeveiligingsmaatregelen. • De afspraken rondom het (laten) uitvoeren van audits, aanleveren van noodzakelijke informatie en criteria op basis waarvan audits uitgevoerd mogen worden. • Beschrijving van de inhoud en frequentie van de rapportage die door de dienstOpdrachtnemer moet worden opgeleverd. • Beschrijving van de contractueel overeengekomen beschikbaarheid van de dienst. Dit is de eigenschap dat de dienst toegankelijk en bruikbaar is op het moment dat Nuffic gebruik wil maken van de dienst. • Beschrijving van en afspraken over de wijze hoe de beschikbaarheid en integriteit van de dienst (en onderliggende facilitaire en infrastructurele voorzieningen) zijn geborgd. • Afspraken over de snelheid waarmee de productieomgeving wordt hersteld of tot uitwijk wordt overgegaan. De mate waarin recovery mogelijk is, is deels afhankelijk van de gekozen back-upmethode. • Afspraken over specifieke beveiligingsmaatregelen. Voorbeelden hiervan zijn afspraken over back-up en restore, encryptie en sleutelbeheer, maatregelen bij schenden beveiligingsprocedures en aanspreekpunten bij informatiebeveiligingsincidenten. • De afspraken rondom de werkwijze voor identificatie, authenticatie en autorisatie van medewerkers van de Opdrachtnemer die toegang (kunnen) hebben tot data van Nuffic. • De afspraken rondom de inzet van cryptografische technieken inclusief het sleutelbeheer en eventuele bijzonderheden hieromtrent. • De afspraken over de behandeling (detecteren, rapporteren, beoordelen, reageren op, omgaan met, en leren van) van informatiebeveiligingsincidenten inclusief de definitie hiervan en de afspraken over de melding ervan aan Nuffic binnen 24 uur na ontdekking. • De afspraken over logging en monitoring van de dienst en een beschrijving van de bijbehorende (on)mogelijkheden. • De afspraken over de werkwijze rondom applicatie-updates en -upgrades, de deployment naar productie en verantwoordelijkheden voor test- en acceptatie. • De afspraken rondom de werkwijze voor patch & kwetsbaarhedenbeheer.
A4: {=CELL("row",A4)-1} -> 3 | B4: =Inhoudsopgave!$C$9&"."&TEXT(Table2[[#This Row],[Nr]],"00") -> SLA.03 | C4: De exitprocedure dient een stappenplan te bevatten dat Nuffic in staat stelt om haar data binnen een aangegeven tijdsperiode veilig te stellen voordat de dienstOpdrachtnemer deze uit systemen van de dienstOpdrachtnemer wist (inclusief back-ups, hiervoor geldt mogelijk een ander tijdschema). Opdrachtnemer stelt voldoende tijd en resources beschikbaar om een soepele overgang te faciliteren.
A5: {=CELL("row",A5)-1} -> 4 | B5: =Inhoudsopgave!$C$9&"."&TEXT(Table2[[#This Row],[Nr]],"00") -> SLA.04 | C5: Opdrachtnemer levert de volgende diensten: • technisch beheer: het beheer van de technische aspecten van de applicatie op een technisch platform zodat de functionaliteit, betrouwbaarheid, veiligheid en prestatie optimaal blijft; • preventief onderhoud: het oplossen van problemen, het verrichten van noodzakelijk onderhoud, het tijdig nemen van maatregelen om verstoringen en incidenten te voorkomen, het uitvoeren van updates en upgrades. Dit gebeurt aan de hand van pro- actieve monitoring en de signalering van trends, vaak voorkomende problemen en onderlinge verbanden en oorzaken; • correctief onderhoud: het onderzoeken en herstellen van gebreken; • aanpassen: op verzoek van Opdrachtgever uitvoeren van wijzigingen • rapportage en overleg: rapportage richting Opdrachtgever en overleg op operationeel, tactisch en strategisch niveau met Opdrachtgever • ondersteuning: leveren van support aan de functioneel beheerder
A6: {=CELL("row",A6)-1} -> 5 | B6: =Inhoudsopgave!$C$9&"."&TEXT(Table2[[#This Row],[Nr]],"00") -> SLA.05 | C6: Hosting, beheer, rapportage, overleg en ondersteuning worden op basis van een vast, niet-variabel maandbedrag in rekening gebracht.
A7: {=CELL("row",A7)-1} -> 6 | B7: =Inhoudsopgave!$C$9&"."&TEXT(Table2[[#This Row],[Nr]],"00") -> SLA.06 | C7: Opdrachtnemer heeft een helpdeskfunctie beschikbaar op werkdagen tussen 8:30-17:30u. De helpdeskfunctie is gedurende deze periode telefonisch en via e-mail en/of ticketsysteem bereikbaar.
A8: {=CELL("row",A8)-1} -> 7 | B8: =Inhoudsopgave!$C$9&"."&TEXT(Table2[[#This Row],[Nr]],"00") -> SLA.07 | C8: Opdrachtnemer beschikt over en maakt gebruik van een online ticketsysteem voor het registreren en afhandelen van incidenten, service requests, wijzigingen en vragen. Opdrachtgever krijgt toegang tot dit ticketsysteem voor het indienen van tickets.
A9: {=CELL("row",A9)-1} -> 8 | B9: =Inhoudsopgave!$C$9&"."&TEXT(Table2[[#This Row],[Nr]],"00") -> SLA.08 | C9: Service levels: Prioriteit S Security: responstijd 1 uur, oplostijd <8 uur Prioriteit 1 Urgent: responstijd 1 uur, oplostijd <2 uur Prioriteit 2 Hoog: responstijd 4 uur, oplostijd <16 uur Prioriteit 3 Normaal: responstijd 8 uur, oplostijd <48uur
A10: {=CELL("row",A10)-1} -> 9 | B10: =Inhoudsopgave!$C$9&"."&TEXT(Table2[[#This Row],[Nr]],"00") -> SLA.09 | C10: Om de kwaliteit van de dienstverlening te waarborgen, zullen ten minste de volgende overleggen plaatsvinden tussen Nuffic en de dienstverlener (vast te leggen in de SLA en het DAP): • Strategisch overleg: maximaal 1x per zes maanden; • Tactisch overleg: maximaal 1x per maand; • Operationeel overleg: maximaal 1x per week.
A11: {=CELL("row",A11)-1} -> 10 | B11: =Inhoudsopgave!$C$9&"."&TEXT(Table2[[#This Row],[Nr]],"00") -> SLA.10 | C11: Maandelijks rapporteert Opdrachtnemer schriftelijk aan Opdrachtgever. De rapportage bevat de volgende onderwerpen: • aantal meldingen (vragen, incidentsmeldingen, klachten) van vorige kalendermaand; • aantal afgesloten meldingen binnen/buiten de gestelde hersteltijd; • aantal openstaande meldingen; • beschikbaarheid, capaciteit en prestatie van de infrastructuur in de afgelopen periode; • ernstige afwijkingen van het overeengekomen serviceniveau, van welke aard dan ook; • lopende en komende ontwikkelingen (trends, belangrijke vervangingen, groot onderhoud, e.d .); • (beveiligings)incidenten en opvolging ervan; • compliance en het functioneren van de beveiligingsmaatregelen; • audits en uitgevoerde securitytests.
A12: {=CELL("row",A12)-1} -> 11 | B12: =Inhoudsopgave!$C$9&"."&TEXT(Table2[[#This Row],[Nr]],"00") -> SLA.11 | C12: Documentatie is onderdeel van de opdracht. Na iedere grote wijziging of release wordt de documentatie bijgewerkt en gedeeld met de functioneel beheerder van Nuffic.
A13: {=CELL("row",A13)-1} -> 12 | B13: =Inhoudsopgave!$C$9&"."&TEXT(Table2[[#This Row],[Nr]],"00") -> SLA.12 | C13: De Opdrachtnemer houdt de infrastructuur, applicatie en koppelingen actueel ten aanzien van wijzigingen in wet- en regelgeving. Deze wijzigingen worden beschouwd als onderhoud en leiden niet tot separate vergoedingen.
A14: {=CELL("row",A14)-1} -> 13 | B14: =Inhoudsopgave!$C$9&"."&TEXT(Table2[[#This Row],[Nr]],"00") -> SLA.13 | C14: De beheerwerkzaamheden worden uitgevoerd op de locatie van Opdrachtnemer.
A15: 14 | B15: =Inhoudsopgave!$C$9&"."&TEXT(Table2[[#This Row],[Nr]],"00") -> SLA.14 | C15: De dienstverlening en de omgeving (zowel de productie omgeving als een eventuele acceptatie omgeving) biedt een recovery point objective (RPO) van maximaal 1 dag en een recovery time objective (RTO) van minder dan 2 kalenderdagen. Dit is inclusief de IP-connectiviteit en bereikbaarheid van de site(s)
