Workbook
Name Prijsglas: Glasbewassing!#REF!

Sheet instructie en toelichting
A4: Bijlage 5b - Invulformulier glasbewassing perceel 2
A6: Instructie en toelichting
A8: Inschrijvers dienen de onderstaande instructies nauwkeurig op te volgen.
A9: Het niet opvolgen van de instructies, leidt tot uitsluiting van uw inschrijving.
A11: 1. | B11: Alle geel gemarkeerde cellen dienen door inschrijver te worden ingevuld. U mag geen cellen leeg laten.
A12: 2. | B12: Inschrijver mag cellen anders dan de geel gemarkeerde cellen niet wijzigen / leeg maken / formules aanpassen of formules wijzigen.
A13: 3. | B13: Indien inschrijver fouten constateert in de formules of aanpassingen in het prijzenblad noodzakelijk acht, dient u hiervoor een onderbouwd verzoek in te dienen middels de Vraag/Antwoord module, voor de in de planning genoemde data voor de sluitingstermijn voor vragen. Aanbestedende dienst stelt indien nodig voor alle inschrijvers een nieuw formulier ter beschikking.
A14: 4. | B14: Alleen reële en marktconforme inschrijvingen zijn toegestaan. Tarieven / bedragen van 0 (nul) zijn daarom niet toegestaan.
A15: 5. | B15: Indien inschrijver op onderdelen een 0-tarief wilt indienen, dient u hiervoor een gemotiveerd verzoek in te dienen middels de Vraag/Antwoord module, voor de in de planning genoemde data voor de sluitingstermijn voor vragen.
A16: 6. | B16: Alle ingediende tarieven zijn all-in. Dat wil zeggen: inclusief alle kosten, zoals bijvoorbeeld, maar niet uitsluitend reiskosten en -uren, administratiekosten, materialen, bereikbaarheidsmiddelen, uitkomsten van RI&E etc.
A17: 7. | B17: De tarieven die worden ingevuld in het tabblad Glasbewassing zijn all-in. Kosten die hier niet in zijn opgenomen, komen niet voor vergoeding in aanmerking.
A18: 8. | B18: Alle tarieven en prijzen dienen inclusief BTW te zijn
A19: 9. | B19: Let op dat u de juiste (laatste) versie van het Prijzenblad gebruikt. Het is mogelijk dat naar aanleiding van vragen een nieuwe versie van het Prijzenblad wordt gepubliceerd. Controleer daarom voor het indienen van uw inschrijving of u de juiste versie in dient.
A20: 10. | B20: Inschrijver dient bij zijn inschrijving een volledig ingevuld digitaal exemplaar in excel-format van dit Prijzenblad te uploaden in Tenderned.
A21: 11. | B21: Inschrijver dient bij zijn inschrijving tevens een volledig ingevuld en door een bevoegd persoon namens zijn onderneming ondertekend exemplaar van het Inschrijfblad en het Invulblad staffelprijzen uit dit Prijzenblad in PDF-format te uploaden in TenderNed.
A22: 12. | B22: De m² zijn inclusief de kozijnen en vensterbanken die na oplevering vrij dienen te zijn van stof, vuil en andere verstoringen.
... A24: 14. | B24: De kosten onder tabblad Glasbewassing worden gedurende de looptijd van de overeenkomst achteraf in rekening gebracht op basis van daadwerkelijke inzet.

Sheet Inschrijfblad
A4: Bijlage 5b - Invulformulier glasbewassing perceel 2
A6: Inschrijfblad
A7: opdrachtgever | B7: Onderwijsgroep Oost brabant
A8: naam inschrijver | B8: =IF(A27="naam inschrijver invullen","<<vul de naam in op het inschrijfblad>>",A27) -> <<vul de naam in op het inschrijfblad>>
A10: alle cellen in deze kleur (blauw gemarkeerd) bevatten aanwijzingen / instructies
A11: alle cellen in deze kleur (geel gemarkeerd) dienen door inschrijver te worden ingevuld
A12: de waarde uit deze cel (groen gemarkeerd) geldt als vergelijkingsprijs
A14: Overzicht Vergelijkingsprijs Glasbewassing
A15: Glasbewassing | B15: Inschrijfprijs
A16: Vergelijkingsprijs | B16: =Glasbewassing!F30 -> 0
A21: Inschrijver verklaart de instructie en toelichting te hebben gelezen, begrepen en gaat hier mee akkoord en schrijft in met de bovenstaande vergelijkingsprijs:
A23: Ondertekening
A25: naam ondertekenaar invullen
A26: functie ondertekenaar invullen
A27: naam inschrijver invullen
A28: datum ondertekening invullen
A30: Handtekening:

Sheet Glasbewassing
A6: Bijlage 5b. Invulformulier Glasbewassing perceel 2
A7: Invulformulier glasbewassing
A10: Glasbewassing
A11: Locatie | B11: Glassoort | C11: Aantal m2 | D11: Prijs per m2 (incl. btw) | E11: Kosten bereikbaarheids voorziening per beurt (incl. btw) Alleen invullen indien van toepassing. | F11: Prijs per beurt (incl. btw)
A12: Macropedius | B12: Gevelglas binnenzijde* | C12: 3000 | F12: =(C12*D12)+E12 -> 0 | I12: Let op: enkel de gele cellen (D12 t/m D20 en E12 t/m E20) invullen
A13: Macropedius | B13: Gevelglas buitenzijde* | C13: 3000 | F13: =(C13*D13)+E13 -> 0 | I13: * De opgegeven m2 zijn fictief en uitsluitend voor de weging in de beoordeling. Facturering vindt plaats op basis van de daadwerkelijke aantallen en het tarief als opgenomen in deze tabel. Daar waar staat dubbelzijdig, betreft dubbelzijdig gemeten, dubbelzijdig gewassen.
A14: Macropedius | B14: Separatieglas dubbelzijdig* | C14: 547 | F14: =(C14*D14)+E14 -> 0
A15: Macropedius | B15: Zonnepanelen*. | C15: 200 | F15: =(C15*D15)+E15 -> 0
A16: Macropedius | B16: Reiniging van plasticol en trespa beplating* | C16: 1167 | F16: =(C16*D16)+E16 -> 0
A17: Macropedius | B17: Gevelbeplating* | C17: 50 | F17: =(C17*D17)+E17 -> 0
A18: Doregraaf | B18: Gevelglas binnenzijde* | C18: 2500 | F18: =(C18*D18)+E18 -> 0
A19: Doregraaf | B19: Gevelglas buitenzijde* | C19: 2500 | F19: =(C19*D19)+E19 -> 0
A20: Doregraaf | B20: Separatieglas dubbelzijdig* | C20: 261 | F20: =(C20*D20)+E20 -> 0
A21: Doregraaf | B21: Zonnepanelen Dak A (629 stuks á 1.65m2) | C21: =629*1.65 -> 1037.85 | F21: =(C21*D21)+E21 -> 0
A22: Doregraaf | B22: Zonnepanelen Dak B (369 stuksá 1.65m2) | C22: =369*1.65 -> 608.85 | F22: =(C22*D22)+E22 -> 0
A23: Doregraaf | B23: Gevelbeplating* | C23: 50 | F23: =(C23*D23)+E23 -> 0
A24: Willibrord gymnasium | B24: Gevelglas binnenzijde* | C24: 1088.9 | F24: =(C24*D24)+E24 -> 0
A25: Willibrord gymnasium | B25: Gevelglas buitenzijde* | C25: 1088.9 | F25: =(C25*D25)+E25 -> 0
A26: Willibrord gymnasium | B26: Zonnepanelen* | C26: 200 | F26: =(C26*D26)+E26 -> 0
A27: Willibrord gymnasium | B27: Separatieglas dubbelzijdig* | C27: 917.6 | F27: =(C27*D27)+E27 -> 0
A28: Willibrord gymnasium | B28: Gevelbeplating* | C28: 50 | F28: =(C28*D28)+E28 -> 0
A29: Eenmalige prijs voor inmeten glas (tarief van €0,00 is toegestaan)
D30: totaal prijs per beurt | F30: =SUM(F12:F29) -> 0
A35: Ondertekening
A37: =Inschrijfblad!A25 -> naam ondertekenaar invullen
A38: =Inschrijfblad!A26 -> functie ondertekenaar invullen
A39: =Inschrijfblad!A27 -> naam inschrijver invullen
A40: =Inschrijfblad!A28 -> datum ondertekening invullen
A42: Handtekening:
