Workbook

Sheet Instructie en toelichting
A4: Bijlage 3b - Invulformulier schoonmaakdienstverlening perceel 2
A6: Instructie en toelichting
A8: Inschrijvers dienen de onderstaande instructies nauwkeurig op te volgen.
A9: Het niet opvolgen van de instructies, leidt tot uitsluiting van uw inschrijving.
A11: 1. | B11: Alle geel gemarkeerde cellen dienen door inschrijver te worden ingevuld. U mag geen cellen leeg laten.
A12: 2. | B12: Inschrijver mag cellen anders dan de geel gemarkeerde cellen niet wijzigen / leeg maken / formules aanpassen of formules wijzigen.
A13: 3. | B13: Indien inschrijver fouten constateert in de formules of aanpassingen in het prijzenblad noodzakelijk acht, dient u hiervoor een onderbouwd verzoek in te dienen middels de Vraag/Antwoord module, voor de in de planning genoemde data voor de sluitingstermijn voor vragen. Aanbestedende dienst stelt indien nodig voor alle inschrijvers een nieuw formulier ter beschikking.
A14: 4. | B14: Alleen reële en marktconforme inschrijvingen zijn toegestaan. Tarieven / bedragen van 0 (nul) zijn daarom niet toegestaan.
A15: 5. | B15: Indien inschrijver op onderdelen een 0-tarief wilt indienen, dient u hiervoor een gemotiveerd verzoek in te dienen middels de Vraag/Antwoord module, voor de in de planning genoemde data voor de sluitingstermijn voor vragen.
A16: 6. | B16: Alle ingediende tarieven zijn all-in. Dat wil zeggen: inclusief alle kosten, zoals bijvoorbeeld, maar niet uitsluitend reiskosten en -uren, administratiekosten, materialen, etc.
A17: 8. | B17: Alle tarieven en prijzen dienen Inclusief BTW te zijn
A18: 9. | B18: Let op dat u de juiste (laatste) versie van het Prijzenblad gebruikt. Het is mogelijk dat naar aanleiding van vragen een nieuwe versie van het Prijzenblad wordt gepubliceerd. Controleer daarom voor het indienen van uw inschrijving of u de juiste versie in dient.
A19: 10. | B19: Inschrijver dient bij zijn inschrijving een volledig ingevuld digitaal exemplaar in excel-format van dit Prijzenblad te uploaden in Tenderned.
A20: 11. | B20: Bodem en plafond bedragen conform aanbestedingsdocument H6.3.1
A21: 12. | B21: Inschrijver dient bij zijn inschrijving tevens een volledig ingevuld en door een bevoegd persoon namens zijn onderneming ondertekend exemplaar van het Inschrijfblad en het tabblad Totalen uit dit Prijzenblad in PDF-format te uploaden in TendeNed.

Sheet Inschrijfblad
A4: Bijlage 3b - Invulformulier schoonmaakdienstverlening perceel 2
A6: Inschrijfblad
A7: opdrachtgever | B7: Onderwijsgroep Oost-Brabant
A8: naam inschrijver | B8: =IF(A27="naam inschrijver invullen","<<vul de naam in op het inschrijfblad>>",A27) -> <<vul de naam in op het inschrijfblad>>
A10: alle cellen in deze kleur (blauw gemarkeerd) bevatten aanwijzingen / instructies
A11: alle cellen in deze kleur (geel gemarkeerd) dienen door inschrijver te worden ingevuld
A12: de waarde uit deze cel (groen gemarkeerd) geldt als vergelijkingsprijs
A14: Overzicht Vergelijkingsprijs Schoonmaakdienstverlening
A15: Schoonmaakdienstverlening | B15: kosten per jaar
A16: Vergelijkingsprijs | B16: =Totalen!R18 -> 0 | F16: bodemprijs | G16: 401379.27 | H16: incl. btw
F17: plafondprijs | G17: 450527.75 | H17: incl. btw
A19: =IF(B16>0,IF(OR(B16<G16,B16>G17), "let op: uw prijs valt buiten de gestelde bodem- en plafondprijs. Uw inschrijving wordt hiermee ongeldig",""),"")
A21: Inschrijver verklaart de instructie en toelichting te hebben gelezen, begrepen en gaat hier mee akkoord en schrijft in met de bovenstaande vergelijkingsprijs:
A23: Ondertekening
A25: naam ondertekenaar invullen
A26: functie ondertekenaar invullen
A27: naam inschrijver invullen
A28: datum ondertekening invullen
A30: handtekening:

Sheet Invulblad
A1: Bijlage 3b Kengetallenoverzicht schoonmaakonderhoud perceel 2
A3: Naam opdrachtgever | C3: =Inschrijfblad!B7 -> Onderwijsgroep Oost-Brabant
A4: Naam leverancier | G4: Kengetal | H4: Kengetal = uren per M2 per jaar. Invullen om de calculatie achter de ruimtestaat te vullen.
A7: Programmacode | B7: Max frequentie | C7: Ruimtesoort | D7: Vloersoort | E7: Aantal ruimtes | F7: Totaal M2 per soort | G7: Kengetal ma t/m vr | H7: Prestatienorm | J7: Stofwissen | K7: Bijtippen | L7: Stofzuigen | M7: Moppen | N7: Schrobben | O7: Sprayen | P7: Conserveren | Q7: Papierbakken | R7: Afvalbakken | S7: Deuren | T7: Inventaris | U7: Weekbeurt | V7: Tussenbeurt | W7: Eindbeurt | X7: Dagbeurt sanitair | Y7: Eindbeurt sanitair | Z7: Aanvullen
A9: AULAA | B9: 200 | C9: Aula | D9: Marmoleum | E9: =COUNTIFS('Ruimtestaat en calculatie'!H:H,A9,'Ruimtestaat en calculatie'!I:I,B9) -> 7 | F9: =SUMIFS('Ruimtestaat en calculatie'!F:F,'Ruimtestaat en calculatie'!H:H,A9,'Ruimtestaat en calculatie'!I:I,B9) -> 1515 | H9: =+B9/G9 -> #DIV/0! | J9: 200 | M9: 4 | R9: 200 | S9: 200 | T9: 200 | U9: 40 | V9: 3 | W9: 1
A10: AULAD | B10: 200 | C10: Aula | D10: Flotex | E10: =COUNTIFS('Ruimtestaat en calculatie'!H:H,A10,'Ruimtestaat en calculatie'!I:I,B10) -> 1 | F10: =SUMIFS('Ruimtestaat en calculatie'!F:F,'Ruimtestaat en calculatie'!H:H,A10,'Ruimtestaat en calculatie'!I:I,B10) -> 154 | H10: =+B10/G10 -> #DIV/0! | K10: 160 | L10: 40 | R10: 200 | S10: 200 | T10: 200 | U10: 40 | V10: 3 | W10: 1
A11: BBLTB | B11: 200 | C11: Mediatheek | D11: Vast tapijt | E11: =COUNTIFS('Ruimtestaat en calculatie'!H:H,A11,'Ruimtestaat en calculatie'!I:I,B11) -> 2 | F11: =SUMIFS('Ruimtestaat en calculatie'!F:F,'Ruimtestaat en calculatie'!H:H,A11,'Ruimtestaat en calculatie'!I:I,B11) -> 550 | H11: =+B11/G11 -> #DIV/0! | K11: 160 | L11: 40 | R11: 200 | S11: 200 | T11: 200 | U11: 40 | V11: 3 | W11: 1
A12: BRKMD | B12: 200 | C12: Balie | D12: Flotex | E12: =COUNTIFS('Ruimtestaat en calculatie'!H:H,A12,'Ruimtestaat en calculatie'!I:I,B12) -> 1 | F12: =SUMIFS('Ruimtestaat en calculatie'!F:F,'Ruimtestaat en calculatie'!H:H,A12,'Ruimtestaat en calculatie'!I:I,B12) -> 10 | H12: =+B12/G12 -> #DIV/0! | K12: 160 | L12: 40 | R12: 200 | S12: 200 | T12: 200 | U12: 40 | V12: 3 | W12: 1
A13: CMPTB | B13: 200 | C13: Computerlokaal | D13: Tapijt | E13: =COUNTIFS('Ruimtestaat en calculatie'!H:H,A13,'Ruimtestaat en calculatie'!I:I,B13) -> 1 | F13: =SUMIFS('Ruimtestaat en calculatie'!F:F,'Ruimtestaat en calculatie'!H:H,A13,'Ruimtestaat en calculatie'!I:I,B13) -> 60 | H13: =+B13/G13 -> #DIV/0! | K13: 160 | L13: 40 | R13: 200 | S13: 200 | T13: 200 | U13: 40 | V13: 3 | W13: 1
A14: CMPTC | B14: 200 | C14: Computerruimte | D14: PVC | E14: =COUNTIFS('Ruimtestaat en calculatie'!H:H,A14,'Ruimtestaat en calculatie'!I:I,B14) -> 1 | F14: =SUMIFS('Ruimtestaat en calculatie'!F:F,'Ruimtestaat en calculatie'!H:H,A14,'Ruimtestaat en calculatie'!I:I,B14) -> 46.4 | H14: =+B14/G14 -> #DIV/0! | J14: 200 | M14: 4 | R14: 200 | S14: 200 | T14: 200 | U14: 40 | V14: 3 | W14: 1
A15: ENTRB | B15: 200 | C15: Entree | D15: Vast Tapijt | E15: =COUNTIFS('Ruimtestaat en calculatie'!H:H,A15,'Ruimtestaat en calculatie'!I:I,B15) -> 8 | F15: =SUMIFS('Ruimtestaat en calculatie'!F:F,'Ruimtestaat en calculatie'!H:H,A15,'Ruimtestaat en calculatie'!I:I,B15) -> 105.37 | H15: =+B15/G15 -> #DIV/0! | L15: 200 | S15: 200 | U15: 40 | W15: 1
A16: GANGA | B16: 200 | C16: Verkeersruimte | D16: Marmoleum | E16: =COUNTIFS('Ruimtestaat en calculatie'!H:H,A16,'Ruimtestaat en calculatie'!I:I,B16) -> 35 | F16: =SUMIFS('Ruimtestaat en calculatie'!F:F,'Ruimtestaat en calculatie'!H:H,A16,'Ruimtestaat en calculatie'!I:I,B16) -> 1870.94 | H16: =+B16/G16 -> #DIV/0! | J16: 200 | M16: 4 | R16: 200 | S16: 200 | T16: 200 | U16: 40 | V16: 3 | W16: 1
A17: GANGB | B17: 200 | C17: Verkeersruimte | D17: Tapijt | E17: =COUNTIFS('Ruimtestaat en calculatie'!H:H,A17,'Ruimtestaat en calculatie'!I:I,B17) -> 7 | F17: =SUMIFS('Ruimtestaat en calculatie'!F:F,'Ruimtestaat en calculatie'!H:H,A17,'Ruimtestaat en calculatie'!I:I,B17) -> 272.04 | H17: =+B17/G17 -> #DIV/0! | K17: 160 | L17: 40 | R17: 200 | S17: 200 | T17: 200 | U17: 40 | V17: 3 | W17: 1
A18: GANGC | B18: 200 | C18: Verkeersruimte | D18: Pvc | E18: =COUNTIFS('Ruimtestaat en calculatie'!H:H,A18,'Ruimtestaat en calculatie'!I:I,B18) -> 9 | F18: =SUMIFS('Ruimtestaat en calculatie'!F:F,'Ruimtestaat en calculatie'!H:H,A18,'Ruimtestaat en calculatie'!I:I,B18) -> 464 | H18: =+B18/G18 -> #DIV/0! | J18: 200 | M18: 4 | S18: 200 | T18: 200 | U18: 40 | V18: 3 | W18: 1
A19: GANGD | B19: 200 | C19: Verkeersruimte | D19: Flotex | E19: =COUNTIFS('Ruimtestaat en calculatie'!H:H,A19,'Ruimtestaat en calculatie'!I:I,B19) -> 10 | F19: =SUMIFS('Ruimtestaat en calculatie'!F:F,'Ruimtestaat en calculatie'!H:H,A19,'Ruimtestaat en calculatie'!I:I,B19) -> 1373 | H19: =+B19/G19 -> #DIV/0! | K19: 160 | L19: 40 | R19: 200 | S19: 200 | T19: 200 | U19: 40 | V19: 3 | W19: 1
A20: GRDRA | B20: 200 | C20: Garderobe/Lockerruimte | D20: Marmoleum | E20: =COUNTIFS('Ruimtestaat en calculatie'!H:H,A20,'Ruimtestaat en calculatie'!I:I,B20) -> 1 | F20: =SUMIFS('Ruimtestaat en calculatie'!F:F,'Ruimtestaat en calculatie'!H:H,A20,'Ruimtestaat en calculatie'!I:I,B20) -> 19 | H20: =+B20/G20 -> #DIV/0! | J20: 200 | M20: 4 | R20: 200 | S20: 200 | T20: 40 | U20: 40 | V20: 3 | W20: 1
A21: GRDRB | B21: 200 | C21: Garderobe/Lockerruimte | D21: Coral schoonloopmat | E21: =COUNTIFS('Ruimtestaat en calculatie'!H:H,A21,'Ruimtestaat en calculatie'!I:I,B21) -> 3 | F21: =SUMIFS('Ruimtestaat en calculatie'!F:F,'Ruimtestaat en calculatie'!H:H,A21,'Ruimtestaat en calculatie'!I:I,B21) -> 320 | H21: =+B21/G21 -> #DIV/0! | K21: 160 | L21: 40 | R21: 200 | S21: 200 | T21: 40 | U21: 40 | V21: 3 | W21: 1
A22: HNDLC | B22: 200 | C22: Kook - Instructie | D22: PVC | E22: =COUNTIFS('Ruimtestaat en calculatie'!H:H,A22,'Ruimtestaat en calculatie'!I:I,B22) -> 2 | F22: =SUMIFS('Ruimtestaat en calculatie'!F:F,'Ruimtestaat en calculatie'!H:H,A22,'Ruimtestaat en calculatie'!I:I,B22) -> 104.9 | H22: =+B22/G22 -> #DIV/0! | J22: 200 | M22: 30 | N22: 10 | R22: 200 | S22: 200 | T22: 200 | U22: 40 | V22: 3 | W22: 1
A23: KEKNA | B23: 200 | C23: Keuken/pantry | D23: Linoleum | E23: =COUNTIFS('Ruimtestaat en calculatie'!H:H,A23,'Ruimtestaat en calculatie'!I:I,B23) -> 1 | F23: =SUMIFS('Ruimtestaat en calculatie'!F:F,'Ruimtestaat en calculatie'!H:H,A23,'Ruimtestaat en calculatie'!I:I,B23) -> 2 | H23: =+B23/G23 -> #DIV/0! | J23: 200 | M23: 4 | N23: 2 | R23: 200 | S23: 200 | T23: 200 | U23: 40 | V23: 3 | W23: 1
A24: KEKNC | B24: 200 | C24: Keuken/pantry | D24: Gietvloer | E24: =COUNTIFS('Ruimtestaat en calculatie'!H:H,A24,'Ruimtestaat en calculatie'!I:I,B24) -> 4 | F24: =SUMIFS('Ruimtestaat en calculatie'!F:F,'Ruimtestaat en calculatie'!H:H,A24,'Ruimtestaat en calculatie'!I:I,B24) -> 67 | H24: =+B24/G24 -> #DIV/0! | J24: 200 | M24: 4 | N24: 2 | R24: 200 | S24: 200 | T24: 200 | U24: 40 | V24: 3 | W24: 1
A25: KLDRA | B25: 200 | C25: Kleedruimte | D25: Lino | E25: =COUNTIFS('Ruimtestaat en calculatie'!H:H,A25,'Ruimtestaat en calculatie'!I:I,B25) -> 3 | F25: =SUMIFS('Ruimtestaat en calculatie'!F:F,'Ruimtestaat en calculatie'!H:H,A25,'Ruimtestaat en calculatie'!I:I,B25) -> 37 | H25: =+B25/G25 -> #DIV/0! | J25: 200 | M25: 40 | R25: 200 | S25: 200 | U25: 40 | V25: 3 | W25: 1
A26: KLDRC | B26: 200 | C26: Kleedruimte | D26: Steen | E26: =COUNTIFS('Ruimtestaat en calculatie'!H:H,A26,'Ruimtestaat en calculatie'!I:I,B26) -> 10 | F26: =SUMIFS('Ruimtestaat en calculatie'!F:F,'Ruimtestaat en calculatie'!H:H,A26,'Ruimtestaat en calculatie'!I:I,B26) -> 229.04 | H26: =+B26/G26 -> #DIV/0! | J26: 200 | M26: 38 | N26: 2 | R26: 200 | S26: 200 | U26: 40 | V26: 3 | W26: 1
A27: KNTRA | B27: 120 | C27: Kantoor | D27: Marmoleum | E27: =COUNTIFS('Ruimtestaat en calculatie'!H:H,A27,'Ruimtestaat en calculatie'!I:I,B27) -> 3 | F27: =SUMIFS('Ruimtestaat en calculatie'!F:F,'Ruimtestaat en calculatie'!H:H,A27,'Ruimtestaat en calculatie'!I:I,B27) -> 97.84 | H27: =+B27/G27 -> #DIV/0! | J27: 120 | M27: 4 | R27: 120 | S27: 120 | T27: 120 | U27: 40 | V27: 3 | W27: 1
A28: KNTRB | B28: 120 | C28: Kantoor | D28: Tapijt | E28: =COUNTIFS('Ruimtestaat en calculatie'!H:H,A28,'Ruimtestaat en calculatie'!I:I,B28) -> 43 | F28: =SUMIFS('Ruimtestaat en calculatie'!F:F,'Ruimtestaat en calculatie'!H:H,A28,'Ruimtestaat en calculatie'!I:I,B28) -> 1011.28 | H28: =+B28/G28 -> #DIV/0! | K28: 80 | L28: 40 | R28: 120 | S28: 120 | T28: 120 | U28: 40 | V28: 3 | W28: 1
A29: KNTRD | B29: 120 | C29: Kantoor | D29: Flotex | E29: =COUNTIFS('Ruimtestaat en calculatie'!H:H,A29,'Ruimtestaat en calculatie'!I:I,B29) -> 8 | F29: =SUMIFS('Ruimtestaat en calculatie'!F:F,'Ruimtestaat en calculatie'!H:H,A29,'Ruimtestaat en calculatie'!I:I,B29) -> 171 | H29: =+B29/G29 -> #DIV/0! | K29: 80 | L29: 40 | R29: 120 | S29: 120 | T29: 120 | U29: 40 | V29: 3 | W29: 1
A30: LIFTA | B30: 200 | C30: Lift | D30: Marmoleum | E30: =COUNTIFS('Ruimtestaat en calculatie'!H:H,A30,'Ruimtestaat en calculatie'!I:I,B30) -> 1 | F30: =SUMIFS('Ruimtestaat en calculatie'!F:F,'Ruimtestaat en calculatie'!H:H,A30,'Ruimtestaat en calculatie'!I:I,B30) -> 1 | H30: =+B30/G30 -> #DIV/0! | J30: 200 | M30: 4 | S30: 200 | W30: 1
A31: LSLKA | B31: 200 | C31: Leslokaal | D31: Marmoleum | E31: =COUNTIFS('Ruimtestaat en calculatie'!H:H,A31,'Ruimtestaat en calculatie'!I:I,B31) -> 52 | F31: =SUMIFS('Ruimtestaat en calculatie'!F:F,'Ruimtestaat en calculatie'!H:H,A31,'Ruimtestaat en calculatie'!I:I,B31) -> 3539.2 | H31: =+B31/G31 -> #DIV/0! | J31: 200 | M31: 4 | R31: 200 | S31: 200 | T31: 200 | U31: 40 | V31: 3 | W31: 1
A32: LSLKB | B32: 200 | C32: Leslokaal | D32: Vast tapijt | E32: =COUNTIFS('Ruimtestaat en calculatie'!H:H,A32,'Ruimtestaat en calculatie'!I:I,B32) -> 12 | F32: =SUMIFS('Ruimtestaat en calculatie'!F:F,'Ruimtestaat en calculatie'!H:H,A32,'Ruimtestaat en calculatie'!I:I,B32) -> 783.31 | H32: =+B32/G32 -> #DIV/0! | K32: 160 | L32: 40 | R32: 200 | S32: 200 | T32: 200 | U32: 40 | V32: 3 | W32: 1
A33: LSLKC | B33: 200 | C33: Leslokaal | D33: Pvc | E33: =COUNTIFS('Ruimtestaat en calculatie'!H:H,A33,'Ruimtestaat en calculatie'!I:I,B33) -> 42 | F33: =SUMIFS('Ruimtestaat en calculatie'!F:F,'Ruimtestaat en calculatie'!H:H,A33,'Ruimtestaat en calculatie'!I:I,B33) -> 3163.58 | H33: =+B33/G33 -> #DIV/0! | J33: 200 | M33: 4 | R33: 200 | S33: 200 | T33: 200 | U33: 40 | V33: 3 | W33: 1
A34: LSLKD-1 | B34: 200 | C34: Leslokaal | D34: Beton | E34: =COUNTIFS('Ruimtestaat en calculatie'!H:H,A34,'Ruimtestaat en calculatie'!I:I,B34) -> 2 | F34: =SUMIFS('Ruimtestaat en calculatie'!F:F,'Ruimtestaat en calculatie'!H:H,A34,'Ruimtestaat en calculatie'!I:I,B34) -> 148.51 | H34: =+B34/G34 -> #DIV/0! | J34: 160 | L34: 40 | N34: 4 | R34: 200 | S34: 200 | T34: 200 | U34: 40 | V34: 3 | W34: 1
A35: LSLKD | B35: 200 | C35: Leslokaal | D35: Flotex | E35: =COUNTIFS('Ruimtestaat en calculatie'!H:H,A35,'Ruimtestaat en calculatie'!I:I,B35) -> 42 | F35: =SUMIFS('Ruimtestaat en calculatie'!F:F,'Ruimtestaat en calculatie'!H:H,A35,'Ruimtestaat en calculatie'!I:I,B35) -> 2341 | H35: =+B35/G35 -> #DIV/0! | K35: 160 | L35: 40 | R35: 200 | S35: 200 | T35: 200 | U35: 40 | V35: 3 | W35: 1
A36: MGZNA | B36: 40 | C36: Magazijn | D36: Linoleum | E36: =COUNTIFS('Ruimtestaat en calculatie'!H:H,A36,'Ruimtestaat en calculatie'!I:I,B36) -> 3 | F36: =SUMIFS('Ruimtestaat en calculatie'!F:F,'Ruimtestaat en calculatie'!H:H,A36,'Ruimtestaat en calculatie'!I:I,B36) -> 58.93 | H36: =+B36/G36 -> #DIV/0! | J36: 40 | S36: 40 | W36: 1
A37: MGZNC | B37: 40 | C37: Magazijn/toestelberging | D37: Pvc | E37: =COUNTIFS('Ruimtestaat en calculatie'!H:H,A37,'Ruimtestaat en calculatie'!I:I,B37) -> 12 | F37: =SUMIFS('Ruimtestaat en calculatie'!F:F,'Ruimtestaat en calculatie'!H:H,A37,'Ruimtestaat en calculatie'!I:I,B37) -> 336.32 | H37: =+B37/G37 -> #DIV/0! | J37: 40 | S37: 40 | U37: 40 | W37: 1
A38: MGZND | B38: 40 | C38: Magazijn | D38: Beton | E38: =COUNTIFS('Ruimtestaat en calculatie'!H:H,A38,'Ruimtestaat en calculatie'!I:I,B38) -> 1 | F38: =SUMIFS('Ruimtestaat en calculatie'!F:F,'Ruimtestaat en calculatie'!H:H,A38,'Ruimtestaat en calculatie'!I:I,B38) -> 20.32 | H38: =+B38/G38 -> #DIV/0! | L38: 40 | S38: 40 | U38: 40 | W38: 1
A39: PRTRC | B39: 200 | C39: Receptie | D39: PVC | E39: =COUNTIFS('Ruimtestaat en calculatie'!H:H,A39,'Ruimtestaat en calculatie'!I:I,B39) -> 1 | F39: =SUMIFS('Ruimtestaat en calculatie'!F:F,'Ruimtestaat en calculatie'!H:H,A39,'Ruimtestaat en calculatie'!I:I,B39) -> 50 | H39: =+B39/G39 -> #DIV/0! | J39: 200 | M39: 4 | R39: 200 | S39: 200 | T39: 200 | U39: 40 | V39: 3 | W39: 1
A40: RPRRB | B40: 120 | C40: Reproruimte | D40: Tapijt | E40: =COUNTIFS('Ruimtestaat en calculatie'!H:H,A40,'Ruimtestaat en calculatie'!I:I,B40) -> 1 | F40: =SUMIFS('Ruimtestaat en calculatie'!F:F,'Ruimtestaat en calculatie'!H:H,A40,'Ruimtestaat en calculatie'!I:I,B40) -> 10.89 | H40: =+B40/G40 -> #DIV/0! | K40: 80 | L40: 40 | R40: 120 | S40: 120 | T40: 120 | U40: 40 | V40: 3 | W40: 1
A41: RPRRC | B41: 120 | C41: Reproruimte | D41: Pvc | E41: =COUNTIFS('Ruimtestaat en calculatie'!H:H,A41,'Ruimtestaat en calculatie'!I:I,B41) -> 1 | F41: =SUMIFS('Ruimtestaat en calculatie'!F:F,'Ruimtestaat en calculatie'!H:H,A41,'Ruimtestaat en calculatie'!I:I,B41) -> 19 | H41: =+B41/G41 -> #DIV/0! | J41: 120 | M41: 4 | R41: 120 | S41: 120 | T41: 120 | U41: 40 | V41: 3 | W41: 1
A42: RSTRA | B42: 200 | C42: Personeelskamer/restaurant | D42: Marmoleum | E42: =COUNTIFS('Ruimtestaat en calculatie'!H:H,A42,'Ruimtestaat en calculatie'!I:I,B42) -> 2 | F42: =SUMIFS('Ruimtestaat en calculatie'!F:F,'Ruimtestaat en calculatie'!H:H,A42,'Ruimtestaat en calculatie'!I:I,B42) -> 23 | H42: =+B42/G42 -> #DIV/0! | J42: 200 | M42: 4 | R42: 200 | S42: 200 | T42: 200 | U42: 40 | V42: 3 | W42: 1
A43: RSTRB | B43: 200 | C43: Personeelskamer | D43: Tapijt | E43: =COUNTIFS('Ruimtestaat en calculatie'!H:H,A43,'Ruimtestaat en calculatie'!I:I,B43) -> 1 | F43: =SUMIFS('Ruimtestaat en calculatie'!F:F,'Ruimtestaat en calculatie'!H:H,A43,'Ruimtestaat en calculatie'!I:I,B43) -> 31.83 | H43: =+B43/G43 -> #DIV/0! | K43: 160 | L43: 40 | R43: 200 | S43: 200 | T43: 200 | U43: 40 | V43: 3 | W43: 1
A44: RSTRC | B44: 200 | C44: Personeelskamer | D44: Pvc | E44: =COUNTIFS('Ruimtestaat en calculatie'!H:H,A44,'Ruimtestaat en calculatie'!I:I,B44) -> 3 | F44: =SUMIFS('Ruimtestaat en calculatie'!F:F,'Ruimtestaat en calculatie'!H:H,A44,'Ruimtestaat en calculatie'!I:I,B44) -> 222 | H44: =+B44/G44 -> #DIV/0! | J44: 200 | M44: 4 | R44: 200 | S44: 200 | T44: 200 | U44: 40 | V44: 3 | W44: 1
...

Sheet Ruimtestaat en calculatie
A1: Bijlage 3b Ruimtestaat en calculatie perceel 2
A2: Opmerking: dit blad bevat automatische koppelingen. Na invulling van de invoervelden in het Kengetallenoverzicht behoeft de ruimtestaat niet meer te worden bewerkt.
A3: Let op: deze bijlage is leidend boven de bijlage ruimtestaat.
A5: Naam opdrachtgever | C5: =+Invulblad!C3 -> Onderwijsgroep Oost-Brabant
A6: Naam leverancier | C6: =+Invulblad!C4 -> 0 | K6: Bijstelling: | L6: Gebruiken indien minder of extra tijd benodigd is voor de ruimte(s), aanvullen met verklaring bij "bijzonderheden".
A9: Totalen | F9: =SUM(F12:F499) -> 22795.36 | G9: =SUM(G12:G499) -> 1242 | M9: =SUM(M12:M499) -> 0 | O9: =SUM(O12:O499) -> 0
A11: Locatie | B11: Bouwdeel | C11: Ruimte nummer | D11: Ruimteomschrijving | E11: Vloersoort | F11: Oppervlakte | G11: Oppervlakte niet in onderhoud (nio) | H11: Programmacode | I11: Max. werk-frequentie | J11: Opmerking | K11: Bijstelling | L11: Kengetal (= uren per m2 jaar) | M11: Totaal uren per jaar | N11: Gemiddeld all-in uurtarief (inclusief btw) | O11: Jaarkosten schoonmaakonderhoud (inclusief btw) | P11: Bijzonderheden
A12: Doregraaf | B12: Zorg en welzijn | C12: 0.01 | D12: Entree | E12: Vast Tapijt | F12: 5 | H12: ENTRB | I12: 200 | K12: 1 | L12: =SUMIFS(Invulblad!G:G,Invulblad!A:A,H12,Invulblad!B:B,I12)*K12 -> 0 | M12: =+L12*F12 -> 0 | N12: =N$9 -> 0 | O12: =+N12*M12 -> 0
A13: Doregraaf | B13: Zorg en welzijn | C13: 0.02 | D13: Verkeersruimte | E13: Pvc | F13: 15 | H13: GANGC | I13: 200 | K13: 1 | L13: =SUMIFS(Invulblad!G:G,Invulblad!A:A,H13,Invulblad!B:B,I13)*K13 -> 0 | M13: =+L13*F13 -> 0 | N13: =N$9 -> 0 | O13: =+N13*M13 -> 0
A14: Doregraaf | B14: Zorg en welzijn | C14: 0.03 | D14: Verkeersruimte | E14: Pvc | F14: 28 | H14: GANGC | I14: 200 | K14: 1 | L14: =SUMIFS(Invulblad!G:G,Invulblad!A:A,H14,Invulblad!B:B,I14)*K14 -> 0 | M14: =+L14*F14 -> 0 | N14: =N$9 -> 0 | O14: =+N14*M14 -> 0
A15: Doregraaf | B15: Zorg en welzijn | C15: 0.04 | D15: Hal toiletten | E15: Steen | F15: 2 | H15: TLTC | I15: 200 | K15: 1 | L15: =SUMIFS(Invulblad!G:G,Invulblad!A:A,H15,Invulblad!B:B,I15)*K15 -> 0 | M15: =+L15*F15 -> 0 | N15: =N$9 -> 0 | O15: =+N15*M15 -> 0
A16: Doregraaf | B16: Zorg en welzijn | C16: 0.04a | D16: Toiletten | E16: Steen | F16: 5 | H16: TLTC | I16: 200 | K16: 1 | L16: =SUMIFS(Invulblad!G:G,Invulblad!A:A,H16,Invulblad!B:B,I16)*K16 -> 0 | M16: =+L16*F16 -> 0 | N16: =N$9 -> 0 | O16: =+N16*M16 -> 0
A17: Doregraaf | B17: Zorg en welzijn | C17: 0.04b | D17: Toiletten | E17: Steen | F17: 5 | H17: TLTC | I17: 200 | K17: 1 | L17: =SUMIFS(Invulblad!G:G,Invulblad!A:A,H17,Invulblad!B:B,I17)*K17 -> 0 | M17: =+L17*F17 -> 0 | N17: =N$9 -> 0 | O17: =+N17*M17 -> 0
A18: Doregraaf | B18: Zorg en welzijn | C18: 0.05 | D18: Toilet miva | E18: Steen | F18: 8 | H18: TLTC | I18: 200 | K18: 1 | L18: =SUMIFS(Invulblad!G:G,Invulblad!A:A,H18,Invulblad!B:B,I18)*K18 -> 0 | M18: =+L18*F18 -> 0 | N18: =N$9 -> 0 | O18: =+N18*M18 -> 0
A19: Doregraaf | B19: Zorg en welzijn | C19: 0.06 | D19: Kleedruimte | E19: Steen | F19: 11 | H19: KLDRC | I19: 200 | K19: 1 | L19: =SUMIFS(Invulblad!G:G,Invulblad!A:A,H19,Invulblad!B:B,I19)*K19 -> 0 | M19: =+L19*F19 -> 0 | N19: =N$9 -> 0 | O19: =+N19*M19 -> 0
A20: Doregraaf | B20: Zorg en welzijn | C20: 0.07 | D20: Leslokaal - restaurant | E20: Pvc | F20: 49 | H20: LSLKC | I20: 200 | K20: 1 | L20: =SUMIFS(Invulblad!G:G,Invulblad!A:A,H20,Invulblad!B:B,I20)*K20 -> 0 | M20: =+L20*F20 -> 0 | N20: =N$9 -> 0 | O20: =+N20*M20 -> 0
A21: Doregraaf | B21: Zorg en welzijn | C21: 0.08 | D21: Keuken | E21: Gietvloer | F21: 44 | H21: HNDLC | I21: 200 | K21: 1 | L21: =SUMIFS(Invulblad!G:G,Invulblad!A:A,H21,Invulblad!B:B,I21)*K21 -> 0 | M21: =+L21*F21 -> 0 | N21: =N$9 -> 0 | O21: =+N21*M21 -> 0
A22: Doregraaf | B22: Zorg en welzijn | C22: 0.10 | D22: Docentruimte | E22: Pvc | F22: 12 | H22: RSTRC | I22: 200 | K22: 1 | L22: =SUMIFS(Invulblad!G:G,Invulblad!A:A,H22,Invulblad!B:B,I22)*K22 -> 0 | M22: =+L22*F22 -> 0 | N22: =N$9 -> 0 | O22: =+N22*M22 -> 0
A23: Doregraaf | B23: Zorg en welzijn | C23: 0.11 | D23: Magazijn | E23: Pvc | F23: 24 | H23: MGZNC | I23: 40 | K23: 1 | L23: =SUMIFS(Invulblad!G:G,Invulblad!A:A,H23,Invulblad!B:B,I23)*K23 -> 0 | M23: =+L23*F23 -> 0 | N23: =N$9 -> 0 | O23: =+N23*M23 -> 0
... A219: Doregraaf | B219: Hoofdgebouw | C219: D1.07 | D219: Overblijfgebied | E219: Marmoleum | F219: 148 | H219: AULAA | I219: 200 | K219: 1 | L219: =SUMIFS(Invulblad!G:G,Invulblad!A:A,H219,Invulblad!B:B,I219)*K219 -> 0 | M219: =+L219*F219 -> 0 | N219: =N$9 -> 0 | O219: =+N219*M219 -> 0
A220: Macropedius | C220: 101 | D220: Keuken | E220: Steen | F220: 26 | H220: KEKNC | I220: 200 | K220: 1 | L220: =SUMIFS(Invulblad!G:G,Invulblad!A:A,H220,Invulblad!B:B,I220)*K220 -> 0 | M220: =+L220*F220 -> 0 | N220: =N$9 -> 0 | O220: =+N220*M220 -> 0
A221: Macropedius | C221: 102 | D221: Praktijklokaal | E221: Surestep | F221: 49 | H221: LSLKC | I221: 200 | K221: 1 | L221: =SUMIFS(Invulblad!G:G,Invulblad!A:A,H221,Invulblad!B:B,I221)*K221 -> 0 | M221: =+L221*F221 -> 0 | N221: =N$9 -> 0 | O221: =+N221*M221 -> 0
A222: Macropedius | C222: 103 | D222: Praktijklokaal | E222: Surestep | F222: 49 | H222: LSLKC | I222: 200 | K222: 1 | L222: =SUMIFS(Invulblad!G:G,Invulblad!A:A,H222,Invulblad!B:B,I222)*K222 -> 0 | M222: =+L222*F222 -> 0 | N222: =N$9 -> 0 | O222: =+N222*M222 -> 0
A223: Macropedius | C223: 104 | D223: Leslokaal | E223: Surestep | F223: 52 | H223: LSLKC | I223: 200 | K223: 1 | L223: =SUMIFS(Invulblad!G:G,Invulblad!A:A,H223,Invulblad!B:B,I223)*K223 -> 0 | M223: =+L223*F223 -> 0 | N223: =N$9 -> 0 | O223: =+N223*M223 -> 0
A224: Macropedius | C224: 105 | D224: Praktijklokaal | E224: Surestep | F224: 106 | H224: LSLKC | I224: 200 | K224: 1 | L224: =SUMIFS(Invulblad!G:G,Invulblad!A:A,H224,Invulblad!B:B,I224)*K224 -> 0 | M224: =+L224*F224 -> 0 | N224: =N$9 -> 0 | O224: =+N224*M224 -> 0
A225: Macropedius | C225: 106 | D225: Praktijklokaal | E225: Surestep | F225: 96 | H225: LSLKB | I225: 200 | K225: 1 | L225: =SUMIFS(Invulblad!G:G,Invulblad!A:A,H225,Invulblad!B:B,I225)*K225 -> 0 | M225: =+L225*F225 -> 0 | N225: =N$9 -> 0 | O225: =+N225*M225 -> 0
A226: Macropedius | C226: 107 | D226: Werkplaats | E226: Surestep | F226: 41 | H226: MGZNC | I226: 40 | K226: 1 | L226: =SUMIFS(Invulblad!G:G,Invulblad!A:A,H226,Invulblad!B:B,I226)*K226 -> 0 | M226: =+L226*F226 -> 0 | N226: =N$9 -> 0 | O226: =+N226*M226 -> 0
A227: Macropedius | C227: 108 | D227: Praktijklokaal | E227: Surestep | F227: 96 | H227: LSLKC | I227: 200 | K227: 1 | L227: =SUMIFS(Invulblad!G:G,Invulblad!A:A,H227,Invulblad!B:B,I227)*K227 -> 0 | M227: =+L227*F227 -> 0 | N227: =N$9 -> 0 | O227: =+N227*M227 -> 0
A228: Macropedius | C228: 110 | D228: Leslokaal | E228: Surestep | F228: 44 | H228: LSLKC | I228: 200 | K228: 1 | L228: =SUMIFS(Invulblad!G:G,Invulblad!A:A,H228,Invulblad!B:B,I228)*K228 -> 0 | M228: =+L228*F228 -> 0 | N228: =N$9 -> 0 | O228: =+N228*M228 -> 0
A229: Macropedius | C229: 111 | D229: Verkeersruimte | E229: Surestep | F229: 116 | H229: GANGC | I229: 200 | K229: 1 | L229: =SUMIFS(Invulblad!G:G,Invulblad!A:A,H229,Invulblad!B:B,I229)*K229 -> 0 | M229: =+L229*F229 -> 0 | N229: =N$9 -> 0 | O229: =+N229*M229 -> 0
A230: Macropedius | C230: 111a | D230: Verkeersruimte | E230: Gietvloer | F230: 17 | H230: GANGC | I230: 200 | K230: 1 | L230: =SUMIFS(Invulblad!G:G,Invulblad!A:A,H230,Invulblad!B:B,I230)*K230 -> 0 | M230: =+L230*F230 -> 0 | N230: =N$9 -> 0 | O230: =+N230*M230 -> 0
A231: Macropedius | C231: 111b | D231: Trap | E231: Nop vinyl | F231: 14 | H231: TRAPC | I231: 200 | K231: 1 | L231: =SUMIFS(Invulblad!G:G,Invulblad!A:A,H231,Invulblad!B:B,I231)*K231 -> 0 | M231: =+L231*F231 -> 0 | N231: =N$9 -> 0 | O231: =+N231*M231 -> 0
... A395: willibrord Gymnasium | C395: 0.04 | D395: Bronnenhoek | E395: Tapijt | F395: 74 | H395: GANGB | I395: 200 | K395: 1 | L395: =SUMIFS(Invulblad!G:G,Invulblad!A:A,H395,Invulblad!B:B,I395)*K395 -> 0 | M395: =+L395*F395 -> 0 | N395: =N$9 -> 0 | O395: =+N395*M395 -> 0
A396: willibrord Gymnasium | C396: 0.05 | D396: Berging | E396: Sure step | G396: 9 | H396: MGZNC | K396: 1 | L396: =SUMIFS(Invulblad!G:G,Invulblad!A:A,H396,Invulblad!B:B,I396)*K396 -> 0 | M396: =+L396*F396 -> 0 | N396: =N$9 -> 0 | O396: =+N396*M396 -> 0
A397: willibrord Gymnasium | C397: 0.06 | D397: Verkeersruimte | E397: Lino | F397: 65 | H397: GANGA | I397: 200 | K397: 1 | L397: =SUMIFS(Invulblad!G:G,Invulblad!A:A,H397,Invulblad!B:B,I397)*K397 -> 0 | M397: =+L397*F397 -> 0 | N397: =N$9 -> 0 | O397: =+N397*M397 -> 0
A398: willibrord Gymnasium | C398: 0.06 | D398: Verkeersruimte | E398: Lino | F398: 27 | H398: GANGA | I398: 200 | K398: 1 | L398: =SUMIFS(Invulblad!G:G,Invulblad!A:A,H398,Invulblad!B:B,I398)*K398 -> 0 | M398: =+L398*F398 -> 0 | N398: =N$9 -> 0 | O398: =+N398*M398 -> 0
A399: willibrord Gymnasium | C399: 0.06 | D399: Verkeersruimte | E399: Lino | F399: 31 | H399: GANGA | I399: 200 | K399: 1 | L399: =SUMIFS(Invulblad!G:G,Invulblad!A:A,H399,Invulblad!B:B,I399)*K399 -> 0 | M399: =+L399*F399 -> 0 | N399: =N$9 -> 0 | O399: =+N399*M399 -> 0
A400: willibrord Gymnasium | C400: 0.07 | D400: Mediatheek | E400: Tapijt | F400: 90 | H400: BBLTB | I400: 200 | K400: 1 | L400: =SUMIFS(Invulblad!G:G,Invulblad!A:A,H400,Invulblad!B:B,I400)*K400 -> 0 | M400: =+L400*F400 -> 0 | N400: =N$9 -> 0 | O400: =+N400*M400 -> 0
A401: willibrord Gymnasium | C401: 0.08 - | D401: Computerlokaal | E401: Tapijt | F401: 60 | H401: CMPTB | I401: 200 | K401: 1 | L401: =SUMIFS(Invulblad!G:G,Invulblad!A:A,H401,Invulblad!B:B,I401)*K401 -> 0 | M401: =+L401*F401 -> 0 | N401: =N$9 -> 0 | O401: =+N401*M401 -> 0
A402: willibrord Gymnasium | C402: 0.09 | D402: Archief | E402: Steen | G402: 11 | H402: MGZNA | K402: 1 | L402: =SUMIFS(Invulblad!G:G,Invulblad!A:A,H402,Invulblad!B:B,I402)*K402 -> 0 | M402: =+L402*F402 -> 0 | N402: =N$9 -> 0 | O402: =+N402*M402 -> 0
...

Sheet Totalen
A1: Bijlage 3b Totaaloverzicht perceel 2
A3: Naam opdrachtgever | B3: =Inschrijfblad!B7 -> Onderwijsgroep Oost-Brabant
A4: Naam leverancier | B4: =Invulblad!C4 -> 0
A8: Samenvatting en totalen | I8: Opsplitsing
A11: Locaties | B11: Vloeroppervlak in onderhoud per locatie | C11: Uren per jaar | D11: Uren per dag | E11: Gemiddeld productie tarief per uur | F11: Undermanagement vergoeding tarief per uur | G11: Kosten per jaar | I11: Perc. Dagelijks onderhoud | J11: Kosten dagelijks onderhoud per jaar | K11: Percentage periodiek inventaris onderhoud | L11: Kosten periodiek inventaris onderhoud per jaar | M11: Uren vrijgesteld toezicht per dag | N11: Uren toezicht per jaar | O11: Toezicht tarief per uur | P11: Kosten toezicht per jaar | Q11: Percentage toezicht t.o.v. productie uren | R11: Totaalkosten per jaar
C12: 1 | D12: 200 | E12: 2 | F12: 3 | L12: 4 | N12: 200 | O12: 5 | Q12: 6
A13: Doregraaf | B13: =SUMIF('Ruimtestaat en calculatie'!$A$12:$A$499,$A13,'Ruimtestaat en calculatie'!$F$12:$F$499) -> 9979.36 | C13: =SUMIF('Ruimtestaat en calculatie'!$A$12:$A$576,$A13,'Ruimtestaat en calculatie'!$M$12:$M$576) -> 0 | D13: =+C13/$D$12 -> 0 | E13: ='Ruimtestaat en calculatie'!N9 -> 0 | G13: =+E13*C13 -> 0 | I13: =+J13/G13 -> #DIV/0! | J13: =+G13-L13-P13 -> 0 | K13: =+L13/G13 -> #DIV/0! | M13: =+Q13*D13 -> 0 | N13: =+M13*$N$12 -> 0 | P13: =+O13*N13 -> 0 | R13: =+L13+P13+J13 -> 0
A14: Macropedius | B14: =SUMIF('Ruimtestaat en calculatie'!$A$12:$A$499,$A14,'Ruimtestaat en calculatie'!$F$12:$F$499) -> 9339 | C14: =SUMIF('Ruimtestaat en calculatie'!$A$12:$A$576,$A14,'Ruimtestaat en calculatie'!$M$12:$M$576) -> 0 | D14: =+C14/$D$12 -> 0 | E14: ='Ruimtestaat en calculatie'!N9 -> 0 | G14: =+E14*C14 -> 0 | I14: =+J14/G14 -> #DIV/0! | J14: =+G14-L14-P14 -> 0 | K14: =+L14/G14 -> #DIV/0! | M14: =+Q14*D14 -> 0 | N14: =+M14*$N$12 -> 0 | P14: =+O14*N14 -> 0 | R14: =+L14+P14+J14 -> 0
A15: willibrord Gymnasium | B15: =SUMIF('Ruimtestaat en calculatie'!$A$12:$A$499,$A15,'Ruimtestaat en calculatie'!$F$12:$F$499) -> 3477 | C15: =SUMIF('Ruimtestaat en calculatie'!$A$12:$A$576,$A15,'Ruimtestaat en calculatie'!$M$12:$M$576) -> 0 | D15: =+C15/$D$12 -> 0 | E15: ='Ruimtestaat en calculatie'!N9 -> 0 | G15: =+E15*C15 -> 0 | I15: =+J15/G15 -> #DIV/0! | J15: =+G15-L15-P15 -> 0 | K15: =+L15/G15 -> #DIV/0! | M15: =+Q15*D15 -> 0 | N15: =+M15*$N$12 -> 0 | P15: =+O15*N15 -> 0 | R15: =+L15+P15+J15 -> 0
A16: willibrord Gymnasium Undermanagement | C16: 852 | G16: =F16*C16 -> 0 | R16: =G16 -> 0
A18: Totaal | B18: =SUM(B13:B17) -> 22795.36 | C18: =SUM(C13:C17) -> 852 | D18: =SUM(D13:D17) -> 0 | G18: =SUM(G13:G17) -> 0 | J18: =SUM(J13:J17) -> 0 | L18: =SUM(L13:L17) -> 0 | N18: =SUM(N13:N17) -> 0 | P18: =SUM(P13:P17) -> 0 | Q18: =IFERROR(N18/C18,"") -> 0 | R18: =SUM(R13:R17) -> 0
B20: In te vullen kolommen/cellen:
A22: Kolom 1 | B22: Uren per jaar vanuit tabblad "Ruimtestaat"
A23: Kolom 2 | B23: Totaal all-in uurtarief voor schoonmaakonderhoud, inclusief materialen, middelen, machines, overhead en winst en risico e.d., inclusief BTW
A24: Kolom 3 | B24: Totaal kosten voor undermanagement per uur
A25: Kolom 4 | B25: Totaal kosten perdiodieke werkzaamheden aan het inventaris per jaar
A26: Kolom 5 | B26: Totaal kosten voor toezicht, inclusief overhead en winst en risico e.d., inclusief BTW
A27: Kolom 6 | B27: Percentage in te zetten vrijgesteld toezicht uren per dag t.o.v. totaal uren per jaar
A30: NB. | B30: U wordt verzocht de formules in de grijze cellen niet aan te passen.
B31: Alle tarieven en prijzen dienen inclusief BTW te zijn
A34: Totaal
A36: =Inschrijfblad!A25 -> naam ondertekenaar invullen
A37: =Inschrijfblad!A26 -> functie ondertekenaar invullen
A38: =Inschrijfblad!A27 -> naam inschrijver invullen
A39: =Inschrijfblad!A28 -> datum ondertekening invullen
A41: Handtekening:
