Workbook

Sheet Totaaloverzicht
A1: Maand | B1: Eenheid | C1: Aantal | D1: Totaal dataverbruik
A2: 45017 | B2: Aansluitingen buiten EU gebruikt | C2: =27 -> 27 | D2: ='apr-23'!B30 -> 50363 | E2: MB
A3: 45047 | B3: Aansluitingen buiten EU gebruikt | C3: 38 | D3: ='mei-23'!B41 -> 35679 | E3: MB
A4: 45078 | B4: Aansluitingen buiten EU gebruikt | C4: 45 | D4: ='jun-23'!B48 -> 82442 | E4: MB
A5: 45108 | B5: Aansluitingen buiten EU gebruikt | C5: 31 | D5: ='jul-23'!B34 -> 66627 | E5: MB
A6: 45139 | B6: Aansluitingen buiten EU gebruikt | C6: 74 | D6: ='aug-23'!B77 -> 260383 | E6: MB
A7: 45170 | B7: Aansluitingen buiten EU gebruikt | C7: 70 | D7: ='sep-23'!B73 -> 62536 | E7: MB
A8: 45200 | B8: Aansluitingen buiten EU gebruikt | C8: 51 | D8: ='okt-23'!B54 -> 52148 | E8: MB
A9: 45231 | B9: Aansluitingen buiten EU gebruikt | C9: 31 | D9: ='nov-23'!B34 -> 33016 | E9: MB
A10: 45261 | B10: Aansluitingen buiten EU gebruikt | C10: 27 | D10: ='dec-23'!B30 -> 19244 | E10: MB
A11: 45292 | B11: Aansluitingen buiten EU gebruikt | C11: =49 -> 49 | D11: ='jan-24'!B52 -> 74305 | E11: MB
A12: 45323 | B12: Aansluitingen buiten EU gebruikt | C12: 41 | D12: ='feb-24'!B44 -> 92103 | E12: MB
A13: mrt-24 | B13: Aansluitingen buiten EU gebruikt | C13: 44 | D13: ='mrt-24'!B47 -> 43677 | E13: MB
A15: Totaal | C15: =SUM(C2:C14) -> 528 | D15: =SUM(D2:D14) -> 872523 | E15: MB

Sheet apr-23
A1: Asset | B1: Aantal | C1: Eenheid
A2: 0611864824 | B2: 8056 | C2: MB
A3: 0615035097 | B3: 194 | C3: MB
A4: 0650184612 | B4: 255 | C4: MB
A5: 0650192884 | B5: 12924 | C5: MB
A6: 0631106980 | B6: 423 | C6: MB
A7: 0631134847 | B7: 151 | C7: MB
A8: 0621194834 | B8: 1221 | C8: MB
A9: 0621195127 | B9: 13096 | C9: MB
A10: 097001357844 | B10: 456 | C10: MB
A11: 0625730711 | B11: 237 | C11: MB
A12: 0646918424 | B12: 1378 | C12: MB
A13: 0653425776 | B13: 1511 | C13: MB
... A28: 097005002008 | B28: 0 | C28: MB
A30: Subtotaal | B30: =SUM(B2:B29) -> 50363 | C30: MB

Sheet mei-23
A1: Asset | B1: Aantal | C1: Eenheid
A2: 0627086076 | B2: 722 | C2: MB
A3: 0627086158 | B3: 98 | C3: MB
A4: 0652062364 | B4: 1476 | C4: MB
A5: 0621196839 | B5: 1352 | C5: MB
A6: 0650734503 | B6: 385 | C6: MB
A7: 0611717981 | B7: 483 | C7: MB
A8: 0615861671 | B8: 490 | C8: MB
A9: 0646918424 | B9: 769 | C9: MB
A10: 0621451162 | B10: 305 | C10: MB
A11: 0615437839 | B11: 563 | C11: MB
A12: 0615276864 | B12: 379 | C12: MB
A13: 097001548771 | B13: 174 | C13: MB
... A39: 097001744139 | B39: 0 | C39: MB
A41: Subtotaal | B41: =SUM(B2:B40) -> 35679 | C41: MB

Sheet jun-23
A1: Asset | B1: Aantal | C1: Eenheid
A2: 0652062364 | B2: 1395 | C2: MB
A3: 0621196839 | B3: 611 | C3: MB
A4: 0611489209 | B4: 5537 | C4: MB
A5: 0615900484 | B5: 7678 | C5: MB
A6: 0646301006 | B6: 422 | C6: MB
A7: 0646301011 | B7: 632 | C7: MB
A8: 0611041336 | B8: 1164 | C8: MB
A9: 0621803572 | B9: 745 | C9: MB
A10: 0621451162 | B10: 760 | C10: MB
A11: 0615437839 | B11: 2435 | C11: MB
A12: 0615276864 | B12: 234 | C12: MB
A13: 097001550867 | B13: 274 | C13: MB
... A46: 0631106406 | B46: 0 | C46: MB
A48: Subtotaal | B48: =SUM(B2:B47) -> 82442 | C48: MB

Sheet jul-23
A1: Asset | B1: Aantal | C1: Eenheid
A2: 0625067406 | B2: 2065 | C2: MB
A3: 0621196839 | B3: 136 | C3: MB
A4: 0615900484 | B4: 1494 | C4: MB
A5: 0646999971 | B5: 754 | C5: MB
A6: 0621451162 | B6: 2037 | C6: MB
A7: 0615276864 | B7: 408 | C7: MB
A8: 097001550326 | B8: 2635 | C8: MB
A9: 097001550995 | B9: 16492 | C9: MB
A10: 0615837554 | B10: 22032 | C10: MB
A11: 0631106980 | B11: 109 | C11: MB
A12: 0621366511 | B12: 2837 | C12: MB
A13: 0631134847 | B13: 443 | C13: MB
... A32: 097001391111 | B32: 0 | C32: MB
A34: Subtotaal | B34: =SUM(B2:B33) -> 66627 | C34: MB

Sheet aug-23
A1: Asset | B1: Aantal | C1: Eenheid
A2: 0625067406 | B2: 790 | C2: MB
A3: 0627014959 | B3: 169214 | C3: MB
A4: 0627044501 | B4: 122 | C4: MB
A5: 0652036680 | B5: 5594 | C5: MB
A6: 0652054277 | B6: 461 | C6: MB
A7: 0652570849 | B7: 109 | C7: MB
A8: 0650734503 | B8: 176 | C8: MB
A9: 0611313124 | B9: 12564 | C9: MB
A10: 0611717981 | B10: 721 | C10: MB
A11: 097001551033 | B11: 96 | C11: MB
A12: 0613346324 | B12: 162 | C12: MB
A13: 097001599853 | B13: 713 | C13: MB
... A75: 0627341541 | B75: 0 | C75: MB
A77: Subtotaal | B77: =SUM(B2:B76) -> 260383 | C77: MB

Sheet sep-23
A1: Asset | B1: Aantal | C1: Eenheid
A2: 0625067406 | B2: 852 | C2: MB
A3: 0627044501 | B3: 102 | C3: MB
A4: 0611532392 | B4: 664 | C4: MB
A5: 0621451162 | B5: 1012 | C5: MB
A6: 0621955097 | B6: 2936 | C6: MB
A7: 0625094140 | B7: 954 | C7: MB
A8: 097001550175 | B8: 87 | C8: MB
A9: 097001550816 | B9: 2037 | C9: MB
A10: 097001599853 | B10: 308 | C10: MB
A11: 097001452342 | B11: 451 | C11: MB
A12: 0626688946 | B12: 259 | C12: MB
A13: 0628611034 | B13: 2521 | C13: MB
... A71: 0652570849 | B71: 0 | C71: MB
A73: Subtotaal | B73: =SUM(B2:B72) -> 62536 | C73: MB

Sheet okt-23
A1: Asset | B1: Aantal | C1: Eenheid
A2: 0611041336 | B2: 4054 | C2: MB
A3: 0621587061 | B3: 432 | C3: MB
A4: 0625067406 | B4: 1586 | C4: MB
A5: 0652581881 | B5: 6715 | C5: MB
A6: 0657580906 | B6: 271 | C6: MB
A7: 0621196839 | B7: 855 | C7: MB
A8: 0652062364 | B8: 2277 | C8: MB
A9: 0611717981 | B9: 577 | C9: MB
A10: 0611532392 | B10: 793 | C10: MB
A11: 0655466661 | B11: 1654 | C11: MB
A12: 0621451162 | B12: 494 | C12: MB
A13: 097001550032 | B13: 97 | C13: MB
... A52: 0646948121 | B52: 0 | C52: MB
A54: Subtotaal | B54: =SUM(B2:B53) -> 52148 | C54: MB

Sheet nov-23
A1: Asset | B1: Aantal | C1: Eenheid
A2: 0652062364 | B2: 2327 | C2: MB
A3: 0652581881 | B3: 1816 | C3: MB
A4: 0611330648 | B4: 283 | C4: MB
A5: 0611532392 | B5: 368 | C5: MB
A6: 097001550867 | B6: 232 | C6: MB
A7: 0650184612 | B7: 197 | C7: MB
A8: 0625369785 | B8: 2235 | C8: MB
A9: 0615865782 | B9: 302 | C9: MB
A10: 0631106554 | B10: 459 | C10: MB
A11: 0631106980 | B11: 1715 | C11: MB
A12: 0620077332 | B12: 640 | C12: MB
A13: 0625655571 | B13: 107 | C13: MB
... A32: 0627183410 | B32: 0 | C32: MB
A34: Subtotaal | B34: =SUM(B2:B33) -> 33016 | C34: MB

Sheet dec-23
A1: Asset | B1: Aantal | C1: Eenheid
A2: 0621509662 | B2: 1276 | C2: MB
A3: 0652062364 | B3: 1091 | C3: MB
A4: 0611769778 | B4: 2210 | C4: MB
A5: 0611532392 | B5: 636 | C5: MB
A6: 097001550867 | B6: 336 | C6: MB
A7: 0631106980 | B7: 1037 | C7: MB
A8: 0631107414 | B8: 284 | C8: MB
A9: 0621809883 | B9: 2281 | C9: MB
A10: 0626688946 | B10: 1159 | C10: MB
A11: 0631106554 | B11: 360 | C11: MB
A12: 0625744189 | B12: 336 | C12: MB
A13: 0621835807 | B13: 3619 | C13: MB
... A28: 097001521165 | B28: 0 | C28: MB
A30: Subtotaal | B30: =SUM(B2:B29) -> 19244 | C30: MB

Sheet jan-24
A1: Asset | B1: Aantal | C1: Eenheid
A2: 0621587044 | B2: 122 | C2: MB
A3: 0627044334 | B3: 11058 | C3: MB
A4: 0646382039 | B4: 197 | C4: MB
A5: 0621196839 | B5: 493 | C5: MB
A6: 0611769778 | B6: 1900 | C6: MB
A7: 0634593355 | B7: 241 | C7: MB
A8: 0613346324 | B8: 652 | C8: MB
A9: 0611776135 | B9: 319 | C9: MB
A10: 0611864824 | B10: 3519 | C10: MB
A11: 0650196134 | B11: 1202 | C11: MB
A12: 0650010555 | B12: 2470 | C12: MB
A13: 0631106541 | B13: 5428 | C13: MB
... A50: 097001521165 | B50: 0 | C50: MB
A52: Subtotaal | B52: =SUM(B2:B51) -> 74305 | C52: MB

Sheet feb-24
A1: Asset | B1: Aantal | C1: Eenheid
A2: 0627044334 | B2: 112 | C2: MB
A3: 0611707257 | B3: 10435 | C3: MB
A4: 0621196839 | B4: 316 | C4: MB
A5: 0629526322 | B5: 4536 | C5: MB
A6: 097001548879 | B6: 23837 | C6: MB
A7: 097001551084 | B7: 87 | C7: MB
A8: 0611864824 | B8: 7126 | C8: MB
A9: 0611022746 | B9: 247 | C9: MB
A10: 0611200256 | B10: 253 | C10: MB
A11: 0650196134 | B11: 416 | C11: MB
A12: 0625369785 | B12: 3461 | C12: MB
A13: 0611680950 | B13: 502 | C13: MB
... A42: 0650176752 | B42: 0 | C42: MB
A44: Subtotaal | B44: =SUM(B2:B43) -> 92103 | C44: MB

Sheet mrt-24
A1: Asset | B1: Aantal | C1: Eenheid
A2: 0654764403 | B2: 412 | C2: MB
A3: 0611022746 | B3: 99 | C3: MB
A4: 0625682963 | B4: 300 | C4: MB
A5: 0646301011 | B5: 435 | C5: MB
A6: 0646918424 | B6: 3348 | C6: MB
A7: 0621587061 | B7: 1665 | C7: MB
A8: 0621955097 | B8: 621 | C8: MB
A9: 0611738741 | B9: 2084 | C9: MB
A10: 0650194721 | B10: 484 | C10: MB
A11: 0650194726 | B11: 356 | C11: MB
A12: 0625369785 | B12: 4248 | C12: MB
A13: 0611680950 | B13: 866 | C13: MB
... A45: 097001511966 | B45: 0 | C45: MB
A47: Subtotaal | B47: =SUM(B2:B46) -> 43677 | C47: MB
