Workbook

Sheet Totaal overzicht
E2: Aanbiedingsbegroting
D4: Project: | E4: TN453600 - Raamovereenkomst betreffende Onderhoudsdiensten
E5: en bijkomende leveringen ten aanzien van de Monitorings-, Bedienings-
E6: en Besturingsinstallaties van de spoortunnels ProRail
D7: Inschrijver:
D8: Datum:
D9: Omschrijving: | E9: Perceel 2 (Siemens)
I11: versie 1.0
B12: Deel 1: Vaste kosten
B14: Werkpakketten | I14: Totale kosten
B15: 2. Contractmanagement (uitgezonderd WP 2.3)
B16: 2.1. Kwaliteitsmanagement | I16: =SUM('Jaarlijkse kosten'!$J18:$Q18) -> 0
B17: 2.2. Voortgangscommunicatie | I17: =SUM('Jaarlijkse kosten'!$J19:$Q19) -> 0
B18: 3. Configuratie | I18: =SUM('Jaarlijkse kosten'!$J20:$Q20) -> 0
B19: 3.1. Configuratiemanagement (uitgezonderd eis BTTI.3.1-05a) | I19: =SUM('Jaarlijkse kosten'!$J21:$Q21) -> 0
B20: Initieel jaar 1 | D20: Initieel | I20: =SUM('Jaarlijkse kosten'!$J22:$Q22) -> 0
B21: PLC jaar 1 en verder | D21: PLC | I21: =SUM('Jaarlijkse kosten'!$J23:$Q23) -> 0
B22: Remote I/O & Netwerkcomponenten jaar 1 en verder | D22: Remote I/O | I22: =SUM('Jaarlijkse kosten'!$J24:$Q24) -> 0
B23: Computer jaar 1 en verder | D23: Computer | I23: =SUM('Jaarlijkse kosten'!$J25:$Q25) -> 0
B24: 3.2. Reservedelen (uitgezonderd eis BTTI.3.2-02, BTTI.3.2-04 en eis BTTI.3.2-06) | I24: =SUM('Jaarlijkse kosten'!$J26:$Q26) -> 0
B25: 3.3. Vereist kennisniveau Opdrachtnemer | I25: =SUM('Jaarlijkse kosten'!$J27:$Q27) -> 0
B26: Initieel jaar 1 | I26: =SUM('Jaarlijkse kosten'!$J28:$Q28) -> 0
B27: Jaarlijks jaar 2 en verder | I27: =SUM('Jaarlijkse kosten'!$J29:$Q29) -> 0
B28: 4. Onderhoudsmanagement (uitgezonderd WP 4.3, 4.4 en 4.5) | I28: =SUM('Jaarlijkse kosten'!$J30:$Q30) -> 0
B29: 4.1. Voorbereiding op onderhoud (uitgezonderd eis BTTI.4.1-03) | I29: =SUM('Jaarlijkse kosten'!$J31:$Q31) -> 0
B30: Opstellen jaar 1 | D30: PLC | I30: =SUM('Jaarlijkse kosten'!$J32:$Q32) -> 0
D31: Remote I/O & Netwerkcomponenten | I31: =SUM('Jaarlijkse kosten'!$J33:$Q33) -> 0
D32: Computer | I32: =SUM('Jaarlijkse kosten'!$J34:$Q34) -> 0
B33: Jaarlijks jaar 2 en verder | D33: PLC | I33: =SUM('Jaarlijkse kosten'!$J35:$Q35) -> 0
D34: Remote I/O & Netwerkcomponenten | I34: =SUM('Jaarlijkse kosten'!$J36:$Q36) -> 0
D35: Computer | I35: =SUM('Jaarlijkse kosten'!$J37:$Q37) -> 0
B36: 4.2. Preventief onderhoud | I36: =SUM('Jaarlijkse kosten'!$J38:$Q38) -> 0
D37: PLC | I37: =SUM('Jaarlijkse kosten'!$J39:$Q39) -> 0
D38: Remote I/O & Netwerkcomponenten | I38: =SUM('Jaarlijkse kosten'!$J40:$Q40) -> 0
D39: Computer | I39: =SUM('Jaarlijkse kosten'!$J41:$Q41) -> 0
B40: 4.3. Correctief onderhoud - vaste deel = 24/7 storingsdienst (uitgezonderd eis BTTI.4.3 -16, | I40: =SUM('Jaarlijkse kosten'!$J42:$Q42) -> 0
B41: eis BTTI.4.3.1-01, eis BTTI.4.3.1-02) | I41: =SUM('Jaarlijkse kosten'!$J43:$Q43) -> 0
B42: 4.6. Changemanagement (uitgezonderd eis BTTI.4.6-02, -03, -04 en -05) | I42: =SUM('Jaarlijkse kosten'!$J44:$Q44) -> 0
B43: 4.7. Disaster recovery (uitgezonderd eis BTTI.4.7-05b) | I43: =SUM('Jaarlijkse kosten'!$J45:$Q45) -> 0
B44: Opstellen jaar 1 | I44: =SUM('Jaarlijkse kosten'!$J46:$Q46) -> 0
...

Sheet Jaarlijkse kosten
E2: Aanbiedingsbegroting
D4: Project: | E4: ='Totaal overzicht'!E4 -> TN453600 - Raamovereenkomst betreffende Onderhoudsdiensten
E5: ='Totaal overzicht'!E5 -> en bijkomende leveringen ten aanzien van de Monitorings-, Bedienings-
E6: ='Totaal overzicht'!E6 -> en Besturingsinstallaties van de spoortunnels ProRail
D7: Inschrijver: | E7: ='Totaal overzicht'!E7 -> 0
D8: Datum: | E8: ='Totaal overzicht'!E8 -> 0
D9: Omschrijving: | E9: ='Totaal overzicht'!E9 -> Perceel 2 (Siemens)
I11: ='Totaal overzicht'!I11 -> versie 1.0
B12: Deel 1: Jaarlijkse vaste kosten
B14: Werkpakketten | H14: Hoeveelheden | I14: Eenheid per jaar | J14: 2025 | K14: 2026 | L14: 2027 | M14: 2028 | N14: 2029 | O14: 2030 | P14: 2031 | Q14: 2032
B15: Aantal tunnels | H15: 7 | I15: Tunnel
B17: 2. Contractmanagement (uitgezonderd WP 2.3)
B18: 2.1. Kwaliteitsmanagement | H18: =H$15 -> 7 | I18: Per tunnel | J18: =$H18*'Tarieven en eenheidsprijzen'!$I35 -> 0 | K18: =$H18*'Tarieven en eenheidsprijzen'!$I35 -> 0 | L18: =$H18*'Tarieven en eenheidsprijzen'!$I35 -> 0 | M18: =$H18*'Tarieven en eenheidsprijzen'!$I35 -> 0 | N18: =$H18*'Tarieven en eenheidsprijzen'!$I35 -> 0 | O18: =$H18*'Tarieven en eenheidsprijzen'!$I35 -> 0 | P18: =$H18*'Tarieven en eenheidsprijzen'!$I35 -> 0 | Q18: =$H18*'Tarieven en eenheidsprijzen'!$I35 -> 0
B19: 2.2. Voortgangscommunicatie | H19: =H$15 -> 7 | I19: Per tunnel | J19: =$H19*'Tarieven en eenheidsprijzen'!$I36 -> 0 | K19: =$H19*'Tarieven en eenheidsprijzen'!$I36 -> 0 | L19: =$H19*'Tarieven en eenheidsprijzen'!$I36 -> 0 | M19: =$H19*'Tarieven en eenheidsprijzen'!$I36 -> 0 | N19: =$H19*'Tarieven en eenheidsprijzen'!$I36 -> 0 | O19: =$H19*'Tarieven en eenheidsprijzen'!$I36 -> 0 | P19: =$H19*'Tarieven en eenheidsprijzen'!$I36 -> 0 | Q19: =$H19*'Tarieven en eenheidsprijzen'!$I36 -> 0
B20: 3. Configuratie
B21: 3.1. Configuratiemanagement (uitgezonderd eis BTTI.3.1-05a)
B22: Initieel jaar 1 | D22: Initieel | H22: =H$15 -> 7 | I22: Per tunnel | J22: =$H22*'Tarieven en eenheidsprijzen'!$I39 -> 0
B23: PLC jaar 1 en verder | D23: PLC | H23: =SUM('Technische scope'!F16:F22) -> 120 | I23: Per component | J23: =$H23*'Tarieven en eenheidsprijzen'!$I40 -> 0 | K23: =$H23*'Tarieven en eenheidsprijzen'!$I40 -> 0 | L23: =$H23*'Tarieven en eenheidsprijzen'!$I40 -> 0 | M23: =$H23*'Tarieven en eenheidsprijzen'!$I40 -> 0 | N23: =$H23*'Tarieven en eenheidsprijzen'!$I40 -> 0 | O23: =$H23*'Tarieven en eenheidsprijzen'!$I40 -> 0 | P23: =$H23*'Tarieven en eenheidsprijzen'!$I40 -> 0 | Q23: =$H23*'Tarieven en eenheidsprijzen'!$I40 -> 0
B24: Remote I/O & Netwerkcomponenten jaar 1 en verder | D24: Remote I/O | H24: =SUM('Technische scope'!G16:G22) -> 942 | I24: Per component | J24: =$H24*'Tarieven en eenheidsprijzen'!$I41 -> 0 | K24: =$H24*'Tarieven en eenheidsprijzen'!$I41 -> 0 | L24: =$H24*'Tarieven en eenheidsprijzen'!$I41 -> 0 | M24: =$H24*'Tarieven en eenheidsprijzen'!$I41 -> 0 | N24: =$H24*'Tarieven en eenheidsprijzen'!$I41 -> 0 | O24: =$H24*'Tarieven en eenheidsprijzen'!$I41 -> 0 | P24: =$H24*'Tarieven en eenheidsprijzen'!$I41 -> 0 | Q24: =$H24*'Tarieven en eenheidsprijzen'!$I41 -> 0
B25: Computer jaar 1 en verder | D25: Computer | H25: =SUM('Technische scope'!H16:H22) -> 56 | I25: Per component | J25: =$H25*'Tarieven en eenheidsprijzen'!$I42 -> 0 | K25: =$H25*'Tarieven en eenheidsprijzen'!$I42 -> 0 | L25: =$H25*'Tarieven en eenheidsprijzen'!$I42 -> 0 | M25: =$H25*'Tarieven en eenheidsprijzen'!$I42 -> 0 | N25: =$H25*'Tarieven en eenheidsprijzen'!$I42 -> 0 | O25: =$H25*'Tarieven en eenheidsprijzen'!$I42 -> 0 | P25: =$H25*'Tarieven en eenheidsprijzen'!$I42 -> 0 | Q25: =$H25*'Tarieven en eenheidsprijzen'!$I42 -> 0
B26: 3.2. Reservedelen (uitgezonderd eis BTTI.3.2-02, BTTI.3.2-04 en eis BTTI.3.2-06) | H26: =H$15 -> 7 | I26: Per tunnel | J26: =$H26*'Tarieven en eenheidsprijzen'!$I43 -> 0 | K26: =$H26*'Tarieven en eenheidsprijzen'!$I43 -> 0 | L26: =$H26*'Tarieven en eenheidsprijzen'!$I43 -> 0 | M26: =$H26*'Tarieven en eenheidsprijzen'!$I43 -> 0 | N26: =$H26*'Tarieven en eenheidsprijzen'!$I43 -> 0 | O26: =$H26*'Tarieven en eenheidsprijzen'!$I43 -> 0 | P26: =$H26*'Tarieven en eenheidsprijzen'!$I43 -> 0 | Q26: =$H26*'Tarieven en eenheidsprijzen'!$I43 -> 0
B27: 3.3. Vereist kennisniveau Opdrachtnemer
B28: Initieel jaar 1 | H28: =H$15 -> 7 | I28: Per tunnel | J28: =$H28*'Tarieven en eenheidsprijzen'!$I45 -> 0
B29: Jaarlijks jaar 2 en verder | H29: =H$15 -> 7 | I29: Per tunnel | K29: =$H29*'Tarieven en eenheidsprijzen'!$I46 -> 0 | L29: =$H29*'Tarieven en eenheidsprijzen'!$I46 -> 0 | M29: =$H29*'Tarieven en eenheidsprijzen'!$I46 -> 0 | N29: =$H29*'Tarieven en eenheidsprijzen'!$I46 -> 0 | O29: =$H29*'Tarieven en eenheidsprijzen'!$I46 -> 0 | P29: =$H29*'Tarieven en eenheidsprijzen'!$I46 -> 0 | Q29: =$H29*'Tarieven en eenheidsprijzen'!$I46 -> 0
B30: 4. Onderhoudsmanagement (uitgezonderd WP 4.3, 4.4 en 4.5)
B31: 4.1. Voorbereiding op onderhoud (uitgezonderd eis BTTI.4.1-03)
B32: Opstellen jaar 1 | D32: PLC | H32: =SUM('Technische scope'!F16:F22) -> 120 | I32: Per component | J32: =$H32*'Tarieven en eenheidsprijzen'!$I49 -> 0
D33: Remote I/O & Netwerkcomponenten | H33: =SUM('Technische scope'!G16:G22) -> 942 | I33: Per component | J33: =$H33*'Tarieven en eenheidsprijzen'!$I50 -> 0
D34: Computer | H34: =SUM('Technische scope'!H16:H22) -> 56 | I34: Per component | J34: =$H34*'Tarieven en eenheidsprijzen'!$I51 -> 0
B35: Jaarlijks jaar 2 en verder | D35: PLC | H35: =SUM('Technische scope'!F16:F22) -> 120 | I35: Per component | K35: =$H35*'Tarieven en eenheidsprijzen'!$I52 -> 0 | L35: =$H35*'Tarieven en eenheidsprijzen'!$I52 -> 0 | M35: =$H35*'Tarieven en eenheidsprijzen'!$I52 -> 0 | N35: =$H35*'Tarieven en eenheidsprijzen'!$I52 -> 0 | O35: =$H35*'Tarieven en eenheidsprijzen'!$I52 -> 0 | P35: =$H35*'Tarieven en eenheidsprijzen'!$I52 -> 0 | Q35: =$H35*'Tarieven en eenheidsprijzen'!$I52 -> 0
D36: Remote I/O & Netwerkcomponenten | H36: =SUM('Technische scope'!G16:G22) -> 942 | I36: Per component | K36: =$H36*'Tarieven en eenheidsprijzen'!$I53 -> 0 | L36: =$H36*'Tarieven en eenheidsprijzen'!$I53 -> 0 | M36: =$H36*'Tarieven en eenheidsprijzen'!$I53 -> 0 | N36: =$H36*'Tarieven en eenheidsprijzen'!$I53 -> 0 | O36: =$H36*'Tarieven en eenheidsprijzen'!$I53 -> 0 | P36: =$H36*'Tarieven en eenheidsprijzen'!$I53 -> 0 | Q36: =$H36*'Tarieven en eenheidsprijzen'!$I53 -> 0
D37: Computer | H37: =SUM('Technische scope'!H16:H22) -> 56 | I37: Per component | K37: =$H37*'Tarieven en eenheidsprijzen'!$I54 -> 0 | L37: =$H37*'Tarieven en eenheidsprijzen'!$I54 -> 0 | M37: =$H37*'Tarieven en eenheidsprijzen'!$I54 -> 0 | N37: =$H37*'Tarieven en eenheidsprijzen'!$I54 -> 0 | O37: =$H37*'Tarieven en eenheidsprijzen'!$I54 -> 0 | P37: =$H37*'Tarieven en eenheidsprijzen'!$I54 -> 0 | Q37: =$H37*'Tarieven en eenheidsprijzen'!$I54 -> 0
B38: 4.2. Preventief onderhoud
D39: PLC | H39: =SUM('Technische scope'!F16:F22) -> 120 | I39: Per component | J39: =$H39*'Tarieven en eenheidsprijzen'!$I56 -> 0 | K39: =$H39*'Tarieven en eenheidsprijzen'!$I56 -> 0 | L39: =$H39*'Tarieven en eenheidsprijzen'!$I56 -> 0 | M39: =$H39*'Tarieven en eenheidsprijzen'!$I56 -> 0 | N39: =$H39*'Tarieven en eenheidsprijzen'!$I56 -> 0 | O39: =$H39*'Tarieven en eenheidsprijzen'!$I56 -> 0 | P39: =$H39*'Tarieven en eenheidsprijzen'!$I56 -> 0 | Q39: =$H39*'Tarieven en eenheidsprijzen'!$I56 -> 0
D40: Remote I/O & Netwerkcomponenten | H40: =SUM('Technische scope'!G16:G22) -> 942 | I40: Per component | J40: =$H40*'Tarieven en eenheidsprijzen'!$I57 -> 0 | K40: =$H40*'Tarieven en eenheidsprijzen'!$I57 -> 0 | L40: =$H40*'Tarieven en eenheidsprijzen'!$I57 -> 0 | M40: =$H40*'Tarieven en eenheidsprijzen'!$I57 -> 0 | N40: =$H40*'Tarieven en eenheidsprijzen'!$I57 -> 0 | O40: =$H40*'Tarieven en eenheidsprijzen'!$I57 -> 0 | P40: =$H40*'Tarieven en eenheidsprijzen'!$I57 -> 0 | Q40: =$H40*'Tarieven en eenheidsprijzen'!$I57 -> 0
D41: Computer | H41: =SUM('Technische scope'!H16:H22) -> 56 | I41: Per component | J41: =$H41*'Tarieven en eenheidsprijzen'!$I58 -> 0 | K41: =$H41*'Tarieven en eenheidsprijzen'!$I58 -> 0 | L41: =$H41*'Tarieven en eenheidsprijzen'!$I58 -> 0 | M41: =$H41*'Tarieven en eenheidsprijzen'!$I58 -> 0 | N41: =$H41*'Tarieven en eenheidsprijzen'!$I58 -> 0 | O41: =$H41*'Tarieven en eenheidsprijzen'!$I58 -> 0 | P41: =$H41*'Tarieven en eenheidsprijzen'!$I58 -> 0 | Q41: =$H41*'Tarieven en eenheidsprijzen'!$I58 -> 0
B42: 4.3. Correctief onderhoud - vaste deel = 24/7 storingsdienst (uitgezonderd eis BTTI.4.3 -16, | H42: =H$15 -> 7 | I42: Per tunnel | J42: =$H42*'Tarieven en eenheidsprijzen'!$I$59 -> 0 | K42: =$H42*'Tarieven en eenheidsprijzen'!$I$59 -> 0 | L42: =$H42*'Tarieven en eenheidsprijzen'!$I$59 -> 0 | M42: =$H42*'Tarieven en eenheidsprijzen'!$I$59 -> 0 | N42: =$H42*'Tarieven en eenheidsprijzen'!$I$59 -> 0 | O42: =$H42*'Tarieven en eenheidsprijzen'!$I$59 -> 0 | P42: =$H42*'Tarieven en eenheidsprijzen'!$I$59 -> 0 | Q42: =$H42*'Tarieven en eenheidsprijzen'!$I$59 -> 0
B43: eis BTTI.4.3.1-01, eis BTTI.4.3.1-02)
B44: 4.6. Changemanagement (uitgezonderd eis BTTI.4.6-02, -03, -04 en -05) | H44: =H$15 -> 7 | I44: Per tunnel | J44: =$H44*'Tarieven en eenheidsprijzen'!$I61 -> 0 | K44: =$H44*'Tarieven en eenheidsprijzen'!$I61 -> 0 | L44: =$H44*'Tarieven en eenheidsprijzen'!$I61 -> 0 | M44: =$H44*'Tarieven en eenheidsprijzen'!$I61 -> 0 | N44: =$H44*'Tarieven en eenheidsprijzen'!$I61 -> 0 | O44: =$H44*'Tarieven en eenheidsprijzen'!$I61 -> 0 | P44: =$H44*'Tarieven en eenheidsprijzen'!$I61 -> 0 | Q44: =$H44*'Tarieven en eenheidsprijzen'!$I61 -> 0
B45: 4.7. Disaster recovery (uitgezonderd eis BTTI.4.7-05b)
...

Sheet Tarieven en eenheidsprijzen
E2: Aanbiedingsbegroting
D4: Project: | E4: ='Totaal overzicht'!E4 -> TN453600 - Raamovereenkomst betreffende Onderhoudsdiensten
E5: ='Totaal overzicht'!E5 -> en bijkomende leveringen ten aanzien van de Monitorings-, Bedienings-
E6: ='Totaal overzicht'!E6 -> en Besturingsinstallaties van de spoortunnels ProRail
D7: Inschrijver: | E7: ='Totaal overzicht'!E7 -> 0
D8: Datum: | E8: ='Totaal overzicht'!E8 -> 0
D9: Omschrijving: | E9: ='Totaal overzicht'!E9 -> Perceel 2 (Siemens)
I11: ='Totaal overzicht'!I11 -> versie 1.0
B12: Tarieven
B14: Omschrijving | F14: Tarieven (all-in)*
B15: Contractmanager / projectleider / contractcoördinator | G15: Tarief mag niet hoger zijn dan € 150
B16: Engineer application / hardware / maintenance (medior / senior) | G16: Tarief mag niet hoger zijn dan € 200
B17: Servicetechnicus / onderhoudsmonteur (medior / senior) | G17: Tarief mag niet hoger zijn dan € 166
B18: Voorrij- en afhandelingskosten / starttarief bij correctief onderhoud
B19: Toeslagen overuren* | G19: Maximaal 150%
B20: Toeslagen nachturen* | G20: Maximaal 150%
B21: Toeslagen weekeinduren* | G21: Maximaal 200%
B24: Omschrijving | F24: Eenheidsprijzen
F25: PLC | G25: Remote I/O | H25: Computer
B26: Configuratie
B27: Voorbereiden onderhoud (Initieel)
B28: Jaarlijks Voorbereiden onderhoud
B29: Preventief Onderhoud
B31: Eenheidsprijzen
B33: Werkpakketten | H33: Eenheid per jaar | I33: Eenheidsprijzen
B34: 2. Contractmanagement (uitgezonderd WP 2.3)
B35: 2.1. Kwaliteitsmanagement | H35: Per tunnel
B36: 2.2. Voortgangscommunicatie | H36: Per tunnel
B37: 3. Configuratie
B38: 3.1. Configuratiemanagement (uitgezonderd eis BTTI.3.1-05a)
B39: Initieel jaar 1 | D39: Initieel | H39: Per tunnel
B40: PLC jaar 1 en verder | D40: PLC | H40: Per component | I40: =F26 -> 0
B41: Remote I/O / Netwerkcomponenten jaar 1 en verder | D41: Remote I/O | H41: Per component | I41: =G26 -> 0
B42: Computer jaar 1 en verder | D42: Computer | H42: Per component | I42: =H26 -> 0
B43: 3.2. Reservedelen (uitgezonderd eis BTTI.3.2-02, BTTI.3.2-04 en eis BTTI.3.2-06) | H43: Per tunnel
B44: 3.3. Vereist kennisniveau Opdrachtnemer
B45: Initieel jaar 1 | H45: Per tunnel
B46: Jaarlijks jaar 2 en verder | H46: Per tunnel
B47: 4. Onderhoudsmanagement (uitgezonderd WP 4.3, 4.4 en 4.5)
B48: 4.1. Voorbereiding op onderhoud (uitgezonderd eis BTTI.4.1-03)
...

Sheet Technische scope
E2: Aanbiedingsbegroting
D4: Project: | E4: ='Totaal overzicht'!E4 -> TN453600 - Raamovereenkomst betreffende Onderhoudsdiensten
E5: ='Totaal overzicht'!E5 -> en bijkomende leveringen ten aanzien van de Monitorings-, Bedienings-
E6: ='Totaal overzicht'!E6 -> en Besturingsinstallaties van de spoortunnels ProRail
D7: Inschrijver: | E7: ='Totaal overzicht'!E7 -> 0
D8: Datum: | E8: ='Totaal overzicht'!E8 -> 0
D9: Omschrijving: | E9: ='Totaal overzicht'!E9 -> Perceel 2 (Siemens)
I11: ='Totaal overzicht'!I11 -> versie 1.0
B12: Technische scope - Uitgangspunten voor jaarlijkse vaste kosten
B14: Omschrijving | F14: Hoeveelheden
F15: PLC's | G15: Remote I/O / Netwerk- componenten | H15: Computers | I15: Locaties
B16: Spoortunnel Nijverdal | F16: 5 | G16: 13 | H16: 1 | I16: 2
B17: Overkapping en Dive-under Barendrecht | F17: 40 | G17: 440 | H17: 12 | I17: 20
B18: Spoortunnel Delft | F18: 8 | G18: 33 | H18: 23 | I18: 8
B19: Willemsspoortunnel | F19: 18 | G19: 258 | H19: 7 | I19: 13
B20: Spoortunnel Rijswijk | F20: 2 | G20: 22 | H20: 3 | I20: 5
B21: Schipholspoortunnel | F21: 44 | G21: 65 | H21: 7 | I21: 14
B22: Spoortunnel Best | F22: 3 | G22: 111 | H22: 3 | I22: 4
B24: Technische scope - Uitgangspunten voor jaarlijkse variabele kosten
B26: Omschrijving | H26: Eenheid | I26: Hoeveelheden per tunnel per jaar
B27: 4. Onderhoudsmanagement
B28: 4.3. Correctief onderhoud: verhelpen storingen (uitgaan van 3 storingen per tunnel per jaar) | H28: storing | I28: 3
B29: Voorrij- en afhandelingskosten / starttarief bij correctief onderhoud | H29: storing | I29: =I28 -> 3
B30: Verhelpen storingen:
B31: uitgaan van 16 uur servicetechnicus/onderhoudsmonteur (medior/senior) per storing, incl. rapportage | H31: uur | I31: =I29*16 -> 48
B32: Fictieve inzetten t.b.v. wijzigingen
B33: Contractmanager / projectleider / contractcoördinator | H33: uur | I33: 20
B34: Engineer application / hardware / maintenance (medior / senior) | H34: uur | I34: 50
B35: Servicetechnicus / onderhoudsmonteur (medior / senior) | H35: uur | I35: 150
