Workbook
Name SCORE: 'Beoordelen geboden oplossing'!$A$26:$A$30

Sheet Beoordelen geboden oplossing
A1: Beoordeling kwaliteit GEBODEN DIGIBORDEN
A2: Uit de proefopstelling moet blijken dat de geboden oplossing minimaal kwalitatief voldoende is en geschikt voor de leslokalen en de lessen van de Opdrachtgever.
A3: Beoordelingskader geboden oplossing
A4: 1. Eenvoud opstarten en snelheid digibord werkend gebruiken (beoordelaar sluit een eigen device aan).
A5: 2. Werking van de digitale pen (beoordelaar schrijft en tekent op het bord).
A6: 3. Werking gumfunctie van de digitale pen.
A7: 4. Werking touch met hand/ vinger en werking gumfunctie (beoordelaar doet beide handelingen).
A8: 5. Werking digitaal whiteboard; schrijffunctie en eenvoud van de bediening vanaf een device (dit wordt getest binnen de whiteboard functie van het scherm).
A9: 6. Werking gumfunctie met hand/vinger (beoordelaar doet beide handelingen).
A10: 7. Werking ‘freezen’ scherm (zie ook programma van eisen) waarbij de docent nog kan werken op de eigen device.
A11: 8. Werking van elektrische lift en de gebruikersvriendelijkheid daarvan.
A12: 9. Geluid (spraak en muziek) van de ingebouwde luidsprekers (spraak en muziek worden getest aan de hand van de video zoals beschreven in bijlage 7b).
... A25: De afzonderlijke items zullen worden beoordeeld met:
A26: Beter | B26: dan de huidige oplossing
A27: Vergelijkbaar | B27: met de huidige oplossing
A28: Acceptabel verbeterpunt | B28: met de huidige oplossing
A29: Onacceptabel verbeterpunt | B29: met de huidige oplossing
A30: SCORE:

Sheet Beoordelaar 1
A1: Beoordelaar 1: <<>> | C1: Inschrijver 1 | F1: Inschrijver 2 | I1: Inschrijver 3
A2: ='Beoordelen geboden oplossing'!A3 -> Beoordelingskader geboden oplossing | C2: Score: | F2: Score: | I2: Score:
A3: ='Beoordelen geboden oplossing'!A4 -> 1. Eenvoud opstarten en snelheid digibord werkend gebruiken (beoordelaar sluit een eigen device aan). | C3: SCORE | F3: SCORE | I3: SCORE
C4: <MOTIVATIE> | F4: <MOTIVATIE> | I4: <MOTIVATIE>
A5: ='Beoordelen geboden oplossing'!A5 -> 2. Werking van de digitale pen (beoordelaar schrijft en tekent op het bord). | C5: SCORE | F5: SCORE | I5: SCORE
C6: <MOTIVATIE> | F6: <MOTIVATIE> | I6: <MOTIVATIE>
A7: ='Beoordelen geboden oplossing'!A6 -> 3. Werking gumfunctie van de digitale pen. | C7: SCORE | F7: SCORE | I7: SCORE
C8: <MOTIVATIE> | F8: <MOTIVATIE> | I8: <MOTIVATIE>
A9: ='Beoordelen geboden oplossing'!A7 -> 4. Werking touch met hand/ vinger en werking gumfunctie (beoordelaar doet beide handelingen). | C9: SCORE | F9: SCORE | I9: SCORE
C10: <MOTIVATIE> | F10: <MOTIVATIE> | I10: <MOTIVATIE>
A11: ='Beoordelen geboden oplossing'!A8 -> 5. Werking digitaal whiteboard; schrijffunctie en eenvoud van de bediening vanaf een device (dit wordt getest binnen de whiteboard functie van het scherm). | C11: SCORE | F11: SCORE | I11: SCORE
C12: <MOTIVATIE> | F12: <MOTIVATIE> | I12: <MOTIVATIE>
A13: ='Beoordelen geboden oplossing'!A9 -> 6. Werking gumfunctie met hand/vinger (beoordelaar doet beide handelingen). | C13: SCORE | F13: SCORE | I13: SCORE
C14: <MOTIVATIE> | F14: <MOTIVATIE> | I14: <MOTIVATIE>
A15: ='Beoordelen geboden oplossing'!A10 -> 7. Werking ‘freezen’ scherm (zie ook programma van eisen) waarbij de docent nog kan werken op de eigen device. | C15: SCORE | F15: SCORE | I15: SCORE
C16: <MOTIVATIE> | F16: <MOTIVATIE> | I16: <MOTIVATIE>
A17: ='Beoordelen geboden oplossing'!A11 -> 8. Werking van elektrische lift en de gebruikersvriendelijkheid daarvan. | C17: SCORE | F17: SCORE | I17: SCORE
C18: <MOTIVATIE> | F18: <MOTIVATIE> | I18: <MOTIVATIE>
A19: ='Beoordelen geboden oplossing'!A12 -> 9. Geluid (spraak en muziek) van de ingebouwde luidsprekers (spraak en muziek worden getest aan de hand van de video zoals beschreven in bijlage 7b). | C19: SCORE | F19: SCORE | I19: SCORE
C20: <MOTIVATIE> | F20: <MOTIVATIE> | I20: <MOTIVATIE>
A21: ='Beoordelen geboden oplossing'!A13 -> 10. Mate van bijgeluiden (koeling, brommen, zoemen). | C21: SCORE | F21: SCORE | I21: SCORE
C22: <MOTIVATIE> | F22: <MOTIVATIE> | I22: <MOTIVATIE>
A23: ='Beoordelen geboden oplossing'!A14 -> 11. Scherpte beeld tot 8,5 meter en invalshoeken vanuit de lessets in het lokaal (met en zonder zonlicht van buiten), voor iedere Inschrijver gelijke positie. | C23: SCORE | F23: SCORE | I23: SCORE
C24: <MOTIVATIE> | F24: <MOTIVATIE> | I24: <MOTIVATIE>
A25: ='Beoordelen geboden oplossing'!A15 -> 12. Kwaliteit knoppen en toegankelijkheid (aan/uit/overige) door deze veelvuldig (minimaal 10x) te gebruiken. | C25: SCORE | F25: SCORE | I25: SCORE
C26: <MOTIVATIE> | F26: <MOTIVATIE> | I26: <MOTIVATIE>
A27: ='Beoordelen geboden oplossing'!A16 -> 13. Kwaliteit instructiekaart voor een docent. | C27: SCORE | F27: SCORE | I27: SCORE
C28: <MOTIVATIE> | F28: <MOTIVATIE> | I28: <MOTIVATIE>
A29: ='Beoordelen geboden oplossing'!A17 -> 14. Kwaliteit glasplaat van het digibord, mate van gladheid (beoordelaar zal de glasplaat niet beschadigen). | C29: SCORE | F29: SCORE | I29: SCORE
C30: <MOTIVATIE> | F30: <MOTIVATIE> | I30: <MOTIVATIE>
A31: ='Beoordelen geboden oplossing'!A18 -> 15. Kwaliteit/gebruikersvriendelijkheid van de afstandbediening (leesbaarheid, eenvoud, werking knoppen). | C31: SCORE | F31: SCORE | I31: SCORE
C32: <MOTIVATIE> | F32: <MOTIVATIE> | I32: <MOTIVATIE>
A33: ='Beoordelen geboden oplossing'!A19 -> 16. Kwaliteit aansluitpunten toegankelijkheid (hoe makkelijk kun je erbij komen en hoe duidelijk is het welke stekker je waar in moet steken) en gebruikersvriendelijkheid (USB/USB-c/HDMI). | C33: SCORE | F33: SCORE | I33: SCORE
C34: <MOTIVATIE> | F34: <MOTIVATIE> | I34: <MOTIVATIE>
A35: ='Beoordelen geboden oplossing'!A20 -> 17. Eenvoud koppeling met Airplay 2 en Chromecast 4K door dit aan te sluiten. | C35: SCORE | F35: SCORE | I35: SCORE
C36: <MOTIVATIE> | F36: <MOTIVATIE> | I36: <MOTIVATIE>
A37: ='Beoordelen geboden oplossing'!A21 -> 18. Gebruiksvriendelijkheid en snelheid browserfunctionaliteit. | C37: SCORE | F37: SCORE | I37: SCORE
C38: <MOTIVATIE> | F38: <MOTIVATIE> | I38: <MOTIVATIE>
A39: ='Beoordelen geboden oplossing'!A22 -> 19. Kwaliteit en snelheid draadloze verbinding. | C39: SCORE | F39: SCORE | I39: SCORE
C40: <MOTIVATIE> | F40: <MOTIVATIE> | I40: <MOTIVATIE>
A41: ='Beoordelen geboden oplossing'!A23 -> 20. Eenvoud en snelheid afsluiten (beoordelaar wil zo snel mogelijk afsluiten om naar een volgende les te kunnen gaan). | C41: SCORE | F41: SCORE | I41: SCORE
C42: <MOTIVATIE> | F42: <MOTIVATIE> | I42: <MOTIVATIE>

Sheet Beoordelaar 2
A1: Beoordelaar 2: <<>> | C1: Inschrijver 1 | F1: Inschrijver 2 | I1: Inschrijver 3
A2: ='Beoordelen geboden oplossing'!A3 -> Beoordelingskader geboden oplossing | C2: Score: | F2: Score: | I2: Score:
A3: ='Beoordelen geboden oplossing'!A4 -> 1. Eenvoud opstarten en snelheid digibord werkend gebruiken (beoordelaar sluit een eigen device aan). | C3: SCORE | F3: SCORE | I3: SCORE
C4: <MOTIVATIE> | F4: <MOTIVATIE> | I4: <MOTIVATIE>
A5: ='Beoordelen geboden oplossing'!A5 -> 2. Werking van de digitale pen (beoordelaar schrijft en tekent op het bord). | C5: SCORE | F5: SCORE | I5: SCORE
C6: <MOTIVATIE> | F6: <MOTIVATIE> | I6: <MOTIVATIE>
A7: ='Beoordelen geboden oplossing'!A6 -> 3. Werking gumfunctie van de digitale pen. | C7: SCORE | F7: SCORE | I7: SCORE
C8: <MOTIVATIE> | F8: <MOTIVATIE> | I8: <MOTIVATIE>
A9: ='Beoordelen geboden oplossing'!A7 -> 4. Werking touch met hand/ vinger en werking gumfunctie (beoordelaar doet beide handelingen). | C9: SCORE | F9: SCORE | I9: SCORE
C10: <MOTIVATIE> | F10: <MOTIVATIE> | I10: <MOTIVATIE>
A11: ='Beoordelen geboden oplossing'!A8 -> 5. Werking digitaal whiteboard; schrijffunctie en eenvoud van de bediening vanaf een device (dit wordt getest binnen de whiteboard functie van het scherm). | C11: SCORE | F11: SCORE | I11: SCORE
C12: <MOTIVATIE> | F12: <MOTIVATIE> | I12: <MOTIVATIE>
A13: ='Beoordelen geboden oplossing'!A9 -> 6. Werking gumfunctie met hand/vinger (beoordelaar doet beide handelingen). | C13: SCORE | F13: SCORE | I13: SCORE
C14: <MOTIVATIE> | F14: <MOTIVATIE> | I14: <MOTIVATIE>
A15: ='Beoordelen geboden oplossing'!A10 -> 7. Werking ‘freezen’ scherm (zie ook programma van eisen) waarbij de docent nog kan werken op de eigen device. | C15: SCORE | F15: SCORE | I15: SCORE
C16: <MOTIVATIE> | F16: <MOTIVATIE> | I16: <MOTIVATIE>
A17: ='Beoordelen geboden oplossing'!A11 -> 8. Werking van elektrische lift en de gebruikersvriendelijkheid daarvan. | C17: SCORE | F17: SCORE | I17: SCORE
C18: <MOTIVATIE> | F18: <MOTIVATIE> | I18: <MOTIVATIE>
A19: ='Beoordelen geboden oplossing'!A12 -> 9. Geluid (spraak en muziek) van de ingebouwde luidsprekers (spraak en muziek worden getest aan de hand van de video zoals beschreven in bijlage 7b). | C19: SCORE | F19: SCORE | I19: SCORE
C20: <MOTIVATIE> | F20: <MOTIVATIE> | I20: <MOTIVATIE>
A21: ='Beoordelen geboden oplossing'!A13 -> 10. Mate van bijgeluiden (koeling, brommen, zoemen). | C21: SCORE | F21: SCORE | I21: SCORE
C22: <MOTIVATIE> | F22: <MOTIVATIE> | I22: <MOTIVATIE>
A23: ='Beoordelen geboden oplossing'!A14 -> 11. Scherpte beeld tot 8,5 meter en invalshoeken vanuit de lessets in het lokaal (met en zonder zonlicht van buiten), voor iedere Inschrijver gelijke positie. | C23: SCORE | F23: SCORE | I23: SCORE
C24: <MOTIVATIE> | F24: <MOTIVATIE> | I24: <MOTIVATIE>
A25: ='Beoordelen geboden oplossing'!A15 -> 12. Kwaliteit knoppen en toegankelijkheid (aan/uit/overige) door deze veelvuldig (minimaal 10x) te gebruiken. | C25: SCORE | F25: SCORE | I25: SCORE
C26: <MOTIVATIE> | F26: <MOTIVATIE> | I26: <MOTIVATIE>
A27: ='Beoordelen geboden oplossing'!A16 -> 13. Kwaliteit instructiekaart voor een docent. | C27: SCORE | F27: SCORE | I27: SCORE
C28: <MOTIVATIE> | F28: <MOTIVATIE> | I28: <MOTIVATIE>
A29: ='Beoordelen geboden oplossing'!A17 -> 14. Kwaliteit glasplaat van het digibord, mate van gladheid (beoordelaar zal de glasplaat niet beschadigen). | C29: SCORE | F29: SCORE | I29: SCORE
C30: <MOTIVATIE> | F30: <MOTIVATIE> | I30: <MOTIVATIE>
A31: ='Beoordelen geboden oplossing'!A18 -> 15. Kwaliteit/gebruikersvriendelijkheid van de afstandbediening (leesbaarheid, eenvoud, werking knoppen). | C31: SCORE | F31: SCORE | I31: SCORE
C32: <MOTIVATIE> | F32: <MOTIVATIE> | I32: <MOTIVATIE>
A33: ='Beoordelen geboden oplossing'!A19 -> 16. Kwaliteit aansluitpunten toegankelijkheid (hoe makkelijk kun je erbij komen en hoe duidelijk is het welke stekker je waar in moet steken) en gebruikersvriendelijkheid (USB/USB-c/HDMI). | C33: SCORE | F33: SCORE | I33: SCORE
C34: <MOTIVATIE> | F34: <MOTIVATIE> | I34: <MOTIVATIE>
A35: ='Beoordelen geboden oplossing'!A20 -> 17. Eenvoud koppeling met Airplay 2 en Chromecast 4K door dit aan te sluiten. | C35: SCORE | F35: SCORE | I35: SCORE
C36: <MOTIVATIE> | F36: <MOTIVATIE> | I36: <MOTIVATIE>
A37: ='Beoordelen geboden oplossing'!A21 -> 18. Gebruiksvriendelijkheid en snelheid browserfunctionaliteit. | C37: SCORE | F37: SCORE | I37: SCORE
C38: <MOTIVATIE> | F38: <MOTIVATIE> | I38: <MOTIVATIE>
A39: ='Beoordelen geboden oplossing'!A22 -> 19. Kwaliteit en snelheid draadloze verbinding. | C39: SCORE | F39: SCORE | I39: SCORE
C40: <MOTIVATIE> | F40: <MOTIVATIE> | I40: <MOTIVATIE>
A41: ='Beoordelen geboden oplossing'!A23 -> 20. Eenvoud en snelheid afsluiten (beoordelaar wil zo snel mogelijk afsluiten om naar een volgende les te kunnen gaan). | C41: SCORE | F41: SCORE | I41: SCORE
C42: <MOTIVATIE> | F42: <MOTIVATIE> | I42: <MOTIVATIE>

Sheet Beoordelaar 3
A1: Beoordelaar 3: <<>> | C1: Inschrijver 1 | F1: Inschrijver 2 | I1: Inschrijver 3
A2: ='Beoordelen geboden oplossing'!A3 -> Beoordelingskader geboden oplossing | C2: Score: | F2: Score: | I2: Score:
A3: ='Beoordelen geboden oplossing'!A4 -> 1. Eenvoud opstarten en snelheid digibord werkend gebruiken (beoordelaar sluit een eigen device aan). | C3: SCORE | F3: SCORE | I3: SCORE
C4: <MOTIVATIE> | F4: <MOTIVATIE> | I4: <MOTIVATIE>
A5: ='Beoordelen geboden oplossing'!A5 -> 2. Werking van de digitale pen (beoordelaar schrijft en tekent op het bord). | C5: SCORE | F5: SCORE | I5: SCORE
C6: <MOTIVATIE> | F6: <MOTIVATIE> | I6: <MOTIVATIE>
A7: ='Beoordelen geboden oplossing'!A6 -> 3. Werking gumfunctie van de digitale pen. | C7: SCORE | F7: SCORE | I7: SCORE
C8: <MOTIVATIE> | F8: <MOTIVATIE> | I8: <MOTIVATIE>
A9: ='Beoordelen geboden oplossing'!A7 -> 4. Werking touch met hand/ vinger en werking gumfunctie (beoordelaar doet beide handelingen). | C9: SCORE | F9: SCORE | I9: SCORE
C10: <MOTIVATIE> | F10: <MOTIVATIE> | I10: <MOTIVATIE>
A11: ='Beoordelen geboden oplossing'!A8 -> 5. Werking digitaal whiteboard; schrijffunctie en eenvoud van de bediening vanaf een device (dit wordt getest binnen de whiteboard functie van het scherm). | C11: SCORE | F11: SCORE | I11: SCORE
C12: <MOTIVATIE> | F12: <MOTIVATIE> | I12: <MOTIVATIE>
A13: ='Beoordelen geboden oplossing'!A9 -> 6. Werking gumfunctie met hand/vinger (beoordelaar doet beide handelingen). | C13: SCORE | F13: SCORE | I13: SCORE
C14: <MOTIVATIE> | F14: <MOTIVATIE> | I14: <MOTIVATIE>
A15: ='Beoordelen geboden oplossing'!A10 -> 7. Werking ‘freezen’ scherm (zie ook programma van eisen) waarbij de docent nog kan werken op de eigen device. | C15: SCORE | F15: SCORE | I15: SCORE
C16: <MOTIVATIE> | F16: <MOTIVATIE> | I16: <MOTIVATIE>
A17: ='Beoordelen geboden oplossing'!A11 -> 8. Werking van elektrische lift en de gebruikersvriendelijkheid daarvan. | C17: SCORE | F17: SCORE | I17: SCORE
C18: <MOTIVATIE> | F18: <MOTIVATIE> | I18: <MOTIVATIE>
A19: ='Beoordelen geboden oplossing'!A12 -> 9. Geluid (spraak en muziek) van de ingebouwde luidsprekers (spraak en muziek worden getest aan de hand van de video zoals beschreven in bijlage 7b). | C19: SCORE | F19: SCORE | I19: SCORE
C20: <MOTIVATIE> | F20: <MOTIVATIE> | I20: <MOTIVATIE>
A21: ='Beoordelen geboden oplossing'!A13 -> 10. Mate van bijgeluiden (koeling, brommen, zoemen). | C21: SCORE | F21: SCORE | I21: SCORE
C22: <MOTIVATIE> | F22: <MOTIVATIE> | I22: <MOTIVATIE>
A23: ='Beoordelen geboden oplossing'!A14 -> 11. Scherpte beeld tot 8,5 meter en invalshoeken vanuit de lessets in het lokaal (met en zonder zonlicht van buiten), voor iedere Inschrijver gelijke positie. | C23: SCORE | F23: SCORE | I23: SCORE
C24: <MOTIVATIE> | F24: <MOTIVATIE> | I24: <MOTIVATIE>
A25: ='Beoordelen geboden oplossing'!A15 -> 12. Kwaliteit knoppen en toegankelijkheid (aan/uit/overige) door deze veelvuldig (minimaal 10x) te gebruiken. | C25: SCORE | F25: SCORE | I25: SCORE
C26: <MOTIVATIE> | F26: <MOTIVATIE> | I26: <MOTIVATIE>
A27: ='Beoordelen geboden oplossing'!A16 -> 13. Kwaliteit instructiekaart voor een docent. | C27: SCORE | F27: SCORE | I27: SCORE
C28: <MOTIVATIE> | F28: <MOTIVATIE> | I28: <MOTIVATIE>
A29: ='Beoordelen geboden oplossing'!A17 -> 14. Kwaliteit glasplaat van het digibord, mate van gladheid (beoordelaar zal de glasplaat niet beschadigen). | C29: SCORE | F29: SCORE | I29: SCORE
C30: <MOTIVATIE> | F30: <MOTIVATIE> | I30: <MOTIVATIE>
A31: ='Beoordelen geboden oplossing'!A18 -> 15. Kwaliteit/gebruikersvriendelijkheid van de afstandbediening (leesbaarheid, eenvoud, werking knoppen). | C31: SCORE | F31: SCORE | I31: SCORE
C32: <MOTIVATIE> | F32: <MOTIVATIE> | I32: <MOTIVATIE>
A33: ='Beoordelen geboden oplossing'!A19 -> 16. Kwaliteit aansluitpunten toegankelijkheid (hoe makkelijk kun je erbij komen en hoe duidelijk is het welke stekker je waar in moet steken) en gebruikersvriendelijkheid (USB/USB-c/HDMI). | C33: SCORE | F33: SCORE | I33: SCORE
C34: <MOTIVATIE> | F34: <MOTIVATIE> | I34: <MOTIVATIE>
A35: ='Beoordelen geboden oplossing'!A20 -> 17. Eenvoud koppeling met Airplay 2 en Chromecast 4K door dit aan te sluiten. | C35: SCORE | F35: SCORE | I35: SCORE
C36: <MOTIVATIE> | F36: <MOTIVATIE> | I36: <MOTIVATIE>
A37: ='Beoordelen geboden oplossing'!A21 -> 18. Gebruiksvriendelijkheid en snelheid browserfunctionaliteit. | C37: SCORE | F37: SCORE | I37: SCORE
C38: <MOTIVATIE> | F38: <MOTIVATIE> | I38: <MOTIVATIE>
A39: ='Beoordelen geboden oplossing'!A22 -> 19. Kwaliteit en snelheid draadloze verbinding. | C39: SCORE | F39: SCORE | I39: SCORE
C40: <MOTIVATIE> | F40: <MOTIVATIE> | I40: <MOTIVATIE>
A41: ='Beoordelen geboden oplossing'!A23 -> 20. Eenvoud en snelheid afsluiten (beoordelaar wil zo snel mogelijk afsluiten om naar een volgende les te kunnen gaan). | C41: SCORE | F41: SCORE | I41: SCORE
C42: <MOTIVATIE> | F42: <MOTIVATIE> | I42: <MOTIVATIE>

Sheet Beoordelaar 4
A1: Beoordelaar 4: <<>> | C1: Inschrijver 1 | F1: Inschrijver 2 | I1: Inschrijver 3
A2: ='Beoordelen geboden oplossing'!A3 -> Beoordelingskader geboden oplossing | C2: Score: | F2: Score: | I2: Score:
A3: ='Beoordelen geboden oplossing'!A4 -> 1. Eenvoud opstarten en snelheid digibord werkend gebruiken (beoordelaar sluit een eigen device aan). | C3: SCORE | F3: SCORE | I3: SCORE
C4: <MOTIVATIE> | F4: <MOTIVATIE> | I4: <MOTIVATIE>
A5: ='Beoordelen geboden oplossing'!A5 -> 2. Werking van de digitale pen (beoordelaar schrijft en tekent op het bord). | C5: SCORE | F5: SCORE | I5: SCORE
C6: <MOTIVATIE> | F6: <MOTIVATIE> | I6: <MOTIVATIE>
A7: ='Beoordelen geboden oplossing'!A6 -> 3. Werking gumfunctie van de digitale pen. | C7: SCORE | F7: SCORE | I7: SCORE
C8: <MOTIVATIE> | F8: <MOTIVATIE> | I8: <MOTIVATIE>
A9: ='Beoordelen geboden oplossing'!A7 -> 4. Werking touch met hand/ vinger en werking gumfunctie (beoordelaar doet beide handelingen). | C9: SCORE | F9: SCORE | I9: SCORE
C10: <MOTIVATIE> | F10: <MOTIVATIE> | I10: <MOTIVATIE>
A11: ='Beoordelen geboden oplossing'!A8 -> 5. Werking digitaal whiteboard; schrijffunctie en eenvoud van de bediening vanaf een device (dit wordt getest binnen de whiteboard functie van het scherm). | C11: SCORE | F11: SCORE | I11: SCORE
C12: <MOTIVATIE> | F12: <MOTIVATIE> | I12: <MOTIVATIE>
A13: ='Beoordelen geboden oplossing'!A9 -> 6. Werking gumfunctie met hand/vinger (beoordelaar doet beide handelingen). | C13: SCORE | F13: SCORE | I13: SCORE
C14: <MOTIVATIE> | F14: <MOTIVATIE> | I14: <MOTIVATIE>
A15: ='Beoordelen geboden oplossing'!A10 -> 7. Werking ‘freezen’ scherm (zie ook programma van eisen) waarbij de docent nog kan werken op de eigen device. | C15: SCORE | F15: SCORE | I15: SCORE
C16: <MOTIVATIE> | F16: <MOTIVATIE> | I16: <MOTIVATIE>
A17: ='Beoordelen geboden oplossing'!A11 -> 8. Werking van elektrische lift en de gebruikersvriendelijkheid daarvan. | C17: SCORE | F17: SCORE | I17: SCORE
C18: <MOTIVATIE> | F18: <MOTIVATIE> | I18: <MOTIVATIE>
A19: ='Beoordelen geboden oplossing'!A12 -> 9. Geluid (spraak en muziek) van de ingebouwde luidsprekers (spraak en muziek worden getest aan de hand van de video zoals beschreven in bijlage 7b). | C19: SCORE | F19: SCORE | I19: SCORE
C20: <MOTIVATIE> | F20: <MOTIVATIE> | I20: <MOTIVATIE>
A21: ='Beoordelen geboden oplossing'!A13 -> 10. Mate van bijgeluiden (koeling, brommen, zoemen). | C21: SCORE | F21: SCORE | I21: SCORE
C22: <MOTIVATIE> | F22: <MOTIVATIE> | I22: <MOTIVATIE>
A23: ='Beoordelen geboden oplossing'!A14 -> 11. Scherpte beeld tot 8,5 meter en invalshoeken vanuit de lessets in het lokaal (met en zonder zonlicht van buiten), voor iedere Inschrijver gelijke positie. | C23: SCORE | F23: SCORE | I23: SCORE
C24: <MOTIVATIE> | F24: <MOTIVATIE> | I24: <MOTIVATIE>
A25: ='Beoordelen geboden oplossing'!A15 -> 12. Kwaliteit knoppen en toegankelijkheid (aan/uit/overige) door deze veelvuldig (minimaal 10x) te gebruiken. | C25: SCORE | F25: SCORE | I25: SCORE
C26: <MOTIVATIE> | F26: <MOTIVATIE> | I26: <MOTIVATIE>
A27: ='Beoordelen geboden oplossing'!A16 -> 13. Kwaliteit instructiekaart voor een docent. | C27: SCORE | F27: SCORE | I27: SCORE
C28: <MOTIVATIE> | F28: <MOTIVATIE> | I28: <MOTIVATIE>
A29: ='Beoordelen geboden oplossing'!A17 -> 14. Kwaliteit glasplaat van het digibord, mate van gladheid (beoordelaar zal de glasplaat niet beschadigen). | C29: SCORE | F29: SCORE | I29: SCORE
C30: <MOTIVATIE> | F30: <MOTIVATIE> | I30: <MOTIVATIE>
A31: ='Beoordelen geboden oplossing'!A18 -> 15. Kwaliteit/gebruikersvriendelijkheid van de afstandbediening (leesbaarheid, eenvoud, werking knoppen). | C31: SCORE | F31: SCORE | I31: SCORE
C32: <MOTIVATIE> | F32: <MOTIVATIE> | I32: <MOTIVATIE>
A33: ='Beoordelen geboden oplossing'!A19 -> 16. Kwaliteit aansluitpunten toegankelijkheid (hoe makkelijk kun je erbij komen en hoe duidelijk is het welke stekker je waar in moet steken) en gebruikersvriendelijkheid (USB/USB-c/HDMI). | C33: SCORE | F33: SCORE | I33: SCORE
C34: <MOTIVATIE> | F34: <MOTIVATIE> | I34: <MOTIVATIE>
A35: ='Beoordelen geboden oplossing'!A20 -> 17. Eenvoud koppeling met Airplay 2 en Chromecast 4K door dit aan te sluiten. | C35: SCORE | F35: SCORE | I35: SCORE
C36: <MOTIVATIE> | F36: <MOTIVATIE> | I36: <MOTIVATIE>
A37: ='Beoordelen geboden oplossing'!A21 -> 18. Gebruiksvriendelijkheid en snelheid browserfunctionaliteit. | C37: SCORE | F37: SCORE | I37: SCORE
C38: <MOTIVATIE> | F38: <MOTIVATIE> | I38: <MOTIVATIE>
A39: ='Beoordelen geboden oplossing'!A22 -> 19. Kwaliteit en snelheid draadloze verbinding. | C39: SCORE | F39: SCORE | I39: SCORE
C40: <MOTIVATIE> | F40: <MOTIVATIE> | I40: <MOTIVATIE>
A41: ='Beoordelen geboden oplossing'!A23 -> 20. Eenvoud en snelheid afsluiten (beoordelaar wil zo snel mogelijk afsluiten om naar een volgende les te kunnen gaan). | C41: SCORE | F41: SCORE | I41: SCORE
C42: <MOTIVATIE> | F42: <MOTIVATIE> | I42: <MOTIVATIE>

Sheet Beoordelaar 5
A1: Beoordelaar 5: <<>> | C1: Inschrijver 1 | F1: Inschrijver 2 | I1: Inschrijver 3
A2: ='Beoordelen geboden oplossing'!A3 -> Beoordelingskader geboden oplossing | C2: Score: | F2: Score: | I2: Score:
A3: ='Beoordelen geboden oplossing'!A4 -> 1. Eenvoud opstarten en snelheid digibord werkend gebruiken (beoordelaar sluit een eigen device aan). | C3: SCORE | F3: SCORE | I3: SCORE
C4: <MOTIVATIE> | F4: <MOTIVATIE> | I4: <MOTIVATIE>
A5: ='Beoordelen geboden oplossing'!A5 -> 2. Werking van de digitale pen (beoordelaar schrijft en tekent op het bord). | C5: SCORE | F5: SCORE | I5: SCORE
C6: <MOTIVATIE> | F6: <MOTIVATIE> | I6: <MOTIVATIE>
A7: ='Beoordelen geboden oplossing'!A6 -> 3. Werking gumfunctie van de digitale pen. | C7: SCORE | F7: SCORE | I7: SCORE
C8: <MOTIVATIE> | F8: <MOTIVATIE> | I8: <MOTIVATIE>
A9: ='Beoordelen geboden oplossing'!A7 -> 4. Werking touch met hand/ vinger en werking gumfunctie (beoordelaar doet beide handelingen). | C9: SCORE | F9: SCORE | I9: SCORE
C10: <MOTIVATIE> | F10: <MOTIVATIE> | I10: <MOTIVATIE>
A11: ='Beoordelen geboden oplossing'!A8 -> 5. Werking digitaal whiteboard; schrijffunctie en eenvoud van de bediening vanaf een device (dit wordt getest binnen de whiteboard functie van het scherm). | C11: SCORE | F11: SCORE | I11: SCORE
C12: <MOTIVATIE> | F12: <MOTIVATIE> | I12: <MOTIVATIE>
A13: ='Beoordelen geboden oplossing'!A9 -> 6. Werking gumfunctie met hand/vinger (beoordelaar doet beide handelingen). | C13: SCORE | F13: SCORE | I13: SCORE
C14: <MOTIVATIE> | F14: <MOTIVATIE> | I14: <MOTIVATIE>
A15: ='Beoordelen geboden oplossing'!A10 -> 7. Werking ‘freezen’ scherm (zie ook programma van eisen) waarbij de docent nog kan werken op de eigen device. | C15: SCORE | F15: SCORE | I15: SCORE
C16: <MOTIVATIE> | F16: <MOTIVATIE> | I16: <MOTIVATIE>
A17: ='Beoordelen geboden oplossing'!A11 -> 8. Werking van elektrische lift en de gebruikersvriendelijkheid daarvan. | C17: SCORE | F17: SCORE | I17: SCORE
C18: <MOTIVATIE> | F18: <MOTIVATIE> | I18: <MOTIVATIE>
A19: ='Beoordelen geboden oplossing'!A12 -> 9. Geluid (spraak en muziek) van de ingebouwde luidsprekers (spraak en muziek worden getest aan de hand van de video zoals beschreven in bijlage 7b). | C19: SCORE | F19: SCORE | I19: SCORE
C20: <MOTIVATIE> | F20: <MOTIVATIE> | I20: <MOTIVATIE>
A21: ='Beoordelen geboden oplossing'!A13 -> 10. Mate van bijgeluiden (koeling, brommen, zoemen). | C21: SCORE | F21: SCORE | I21: SCORE
C22: <MOTIVATIE> | F22: <MOTIVATIE> | I22: <MOTIVATIE>
A23: ='Beoordelen geboden oplossing'!A14 -> 11. Scherpte beeld tot 8,5 meter en invalshoeken vanuit de lessets in het lokaal (met en zonder zonlicht van buiten), voor iedere Inschrijver gelijke positie. | C23: SCORE | F23: SCORE | I23: SCORE
C24: <MOTIVATIE> | F24: <MOTIVATIE> | I24: <MOTIVATIE>
A25: ='Beoordelen geboden oplossing'!A15 -> 12. Kwaliteit knoppen en toegankelijkheid (aan/uit/overige) door deze veelvuldig (minimaal 10x) te gebruiken. | C25: SCORE | F25: SCORE | I25: SCORE
C26: <MOTIVATIE> | F26: <MOTIVATIE> | I26: <MOTIVATIE>
A27: ='Beoordelen geboden oplossing'!A16 -> 13. Kwaliteit instructiekaart voor een docent. | C27: SCORE | F27: SCORE | I27: SCORE
C28: <MOTIVATIE> | F28: <MOTIVATIE> | I28: <MOTIVATIE>
A29: ='Beoordelen geboden oplossing'!A17 -> 14. Kwaliteit glasplaat van het digibord, mate van gladheid (beoordelaar zal de glasplaat niet beschadigen). | C29: SCORE | F29: SCORE | I29: SCORE
C30: <MOTIVATIE> | F30: <MOTIVATIE> | I30: <MOTIVATIE>
A31: ='Beoordelen geboden oplossing'!A18 -> 15. Kwaliteit/gebruikersvriendelijkheid van de afstandbediening (leesbaarheid, eenvoud, werking knoppen). | C31: SCORE | F31: SCORE | I31: SCORE
C32: <MOTIVATIE> | F32: <MOTIVATIE> | I32: <MOTIVATIE>
A33: ='Beoordelen geboden oplossing'!A19 -> 16. Kwaliteit aansluitpunten toegankelijkheid (hoe makkelijk kun je erbij komen en hoe duidelijk is het welke stekker je waar in moet steken) en gebruikersvriendelijkheid (USB/USB-c/HDMI). | C33: SCORE | F33: SCORE | I33: SCORE
C34: <MOTIVATIE> | F34: <MOTIVATIE> | I34: <MOTIVATIE>
A35: ='Beoordelen geboden oplossing'!A20 -> 17. Eenvoud koppeling met Airplay 2 en Chromecast 4K door dit aan te sluiten. | C35: SCORE | F35: SCORE | I35: SCORE
C36: <MOTIVATIE> | F36: <MOTIVATIE> | I36: <MOTIVATIE>
A37: ='Beoordelen geboden oplossing'!A21 -> 18. Gebruiksvriendelijkheid en snelheid browserfunctionaliteit. | C37: SCORE | F37: SCORE | I37: SCORE
C38: <MOTIVATIE> | F38: <MOTIVATIE> | I38: <MOTIVATIE>
A39: ='Beoordelen geboden oplossing'!A22 -> 19. Kwaliteit en snelheid draadloze verbinding. | C39: SCORE | F39: SCORE | I39: SCORE
C40: <MOTIVATIE> | F40: <MOTIVATIE> | I40: <MOTIVATIE>
A41: ='Beoordelen geboden oplossing'!A23 -> 20. Eenvoud en snelheid afsluiten (beoordelaar wil zo snel mogelijk afsluiten om naar een volgende les te kunnen gaan). | C41: SCORE | F41: SCORE | I41: SCORE
C42: <MOTIVATIE> | F42: <MOTIVATIE> | I42: <MOTIVATIE>

Sheet Beoordelaar 6
A1: Beoordelaar 6: <<>> | C1: Inschrijver 1 | F1: Inschrijver 2 | I1: Inschrijver 3
A2: ='Beoordelen geboden oplossing'!A3 -> Beoordelingskader geboden oplossing | C2: Score: | F2: Score: | I2: Score:
A3: ='Beoordelen geboden oplossing'!A4 -> 1. Eenvoud opstarten en snelheid digibord werkend gebruiken (beoordelaar sluit een eigen device aan). | C3: SCORE | F3: SCORE | I3: SCORE
C4: <MOTIVATIE> | F4: <MOTIVATIE> | I4: <MOTIVATIE>
A5: ='Beoordelen geboden oplossing'!A5 -> 2. Werking van de digitale pen (beoordelaar schrijft en tekent op het bord). | C5: SCORE | F5: SCORE | I5: SCORE
C6: <MOTIVATIE> | F6: <MOTIVATIE> | I6: <MOTIVATIE>
A7: ='Beoordelen geboden oplossing'!A6 -> 3. Werking gumfunctie van de digitale pen. | C7: SCORE | F7: SCORE | I7: SCORE
C8: <MOTIVATIE> | F8: <MOTIVATIE> | I8: <MOTIVATIE>
A9: ='Beoordelen geboden oplossing'!A7 -> 4. Werking touch met hand/ vinger en werking gumfunctie (beoordelaar doet beide handelingen). | C9: SCORE | F9: SCORE | I9: SCORE
C10: <MOTIVATIE> | F10: <MOTIVATIE> | I10: <MOTIVATIE>
A11: ='Beoordelen geboden oplossing'!A8 -> 5. Werking digitaal whiteboard; schrijffunctie en eenvoud van de bediening vanaf een device (dit wordt getest binnen de whiteboard functie van het scherm). | C11: SCORE | F11: SCORE | I11: SCORE
C12: <MOTIVATIE> | F12: <MOTIVATIE> | I12: <MOTIVATIE>
A13: ='Beoordelen geboden oplossing'!A9 -> 6. Werking gumfunctie met hand/vinger (beoordelaar doet beide handelingen). | C13: SCORE | F13: SCORE | I13: SCORE
C14: <MOTIVATIE> | F14: <MOTIVATIE> | I14: <MOTIVATIE>
A15: ='Beoordelen geboden oplossing'!A10 -> 7. Werking ‘freezen’ scherm (zie ook programma van eisen) waarbij de docent nog kan werken op de eigen device. | C15: SCORE | F15: SCORE | I15: SCORE
C16: <MOTIVATIE> | F16: <MOTIVATIE> | I16: <MOTIVATIE>
A17: ='Beoordelen geboden oplossing'!A11 -> 8. Werking van elektrische lift en de gebruikersvriendelijkheid daarvan. | C17: SCORE | F17: SCORE | I17: SCORE
C18: <MOTIVATIE> | F18: <MOTIVATIE> | I18: <MOTIVATIE>
A19: ='Beoordelen geboden oplossing'!A12 -> 9. Geluid (spraak en muziek) van de ingebouwde luidsprekers (spraak en muziek worden getest aan de hand van de video zoals beschreven in bijlage 7b). | C19: SCORE | F19: SCORE | I19: SCORE
C20: <MOTIVATIE> | F20: <MOTIVATIE> | I20: <MOTIVATIE>
A21: ='Beoordelen geboden oplossing'!A13 -> 10. Mate van bijgeluiden (koeling, brommen, zoemen). | C21: SCORE | F21: SCORE | I21: SCORE
C22: <MOTIVATIE> | F22: <MOTIVATIE> | I22: <MOTIVATIE>
A23: ='Beoordelen geboden oplossing'!A14 -> 11. Scherpte beeld tot 8,5 meter en invalshoeken vanuit de lessets in het lokaal (met en zonder zonlicht van buiten), voor iedere Inschrijver gelijke positie. | C23: SCORE | F23: SCORE | I23: SCORE
C24: <MOTIVATIE> | F24: <MOTIVATIE> | I24: <MOTIVATIE>
A25: ='Beoordelen geboden oplossing'!A15 -> 12. Kwaliteit knoppen en toegankelijkheid (aan/uit/overige) door deze veelvuldig (minimaal 10x) te gebruiken. | C25: SCORE | F25: SCORE | I25: SCORE
C26: <MOTIVATIE> | F26: <MOTIVATIE> | I26: <MOTIVATIE>
A27: ='Beoordelen geboden oplossing'!A16 -> 13. Kwaliteit instructiekaart voor een docent. | C27: SCORE | F27: SCORE | I27: SCORE
C28: <MOTIVATIE> | F28: <MOTIVATIE> | I28: <MOTIVATIE>
A29: ='Beoordelen geboden oplossing'!A17 -> 14. Kwaliteit glasplaat van het digibord, mate van gladheid (beoordelaar zal de glasplaat niet beschadigen). | C29: SCORE | F29: SCORE | I29: SCORE
C30: <MOTIVATIE> | F30: <MOTIVATIE> | I30: <MOTIVATIE>
A31: ='Beoordelen geboden oplossing'!A18 -> 15. Kwaliteit/gebruikersvriendelijkheid van de afstandbediening (leesbaarheid, eenvoud, werking knoppen). | C31: SCORE | F31: SCORE | I31: SCORE
C32: <MOTIVATIE> | F32: <MOTIVATIE> | I32: <MOTIVATIE>
A33: ='Beoordelen geboden oplossing'!A19 -> 16. Kwaliteit aansluitpunten toegankelijkheid (hoe makkelijk kun je erbij komen en hoe duidelijk is het welke stekker je waar in moet steken) en gebruikersvriendelijkheid (USB/USB-c/HDMI). | C33: SCORE | F33: SCORE | I33: SCORE
C34: <MOTIVATIE> | F34: <MOTIVATIE> | I34: <MOTIVATIE>
A35: ='Beoordelen geboden oplossing'!A20 -> 17. Eenvoud koppeling met Airplay 2 en Chromecast 4K door dit aan te sluiten. | C35: SCORE | F35: SCORE | I35: SCORE
C36: <MOTIVATIE> | F36: <MOTIVATIE> | I36: <MOTIVATIE>
A37: ='Beoordelen geboden oplossing'!A21 -> 18. Gebruiksvriendelijkheid en snelheid browserfunctionaliteit. | C37: SCORE | F37: SCORE | I37: SCORE
C38: <MOTIVATIE> | F38: <MOTIVATIE> | I38: <MOTIVATIE>
A39: ='Beoordelen geboden oplossing'!A22 -> 19. Kwaliteit en snelheid draadloze verbinding. | C39: SCORE | F39: SCORE | I39: SCORE
C40: <MOTIVATIE> | F40: <MOTIVATIE> | I40: <MOTIVATIE>
A41: ='Beoordelen geboden oplossing'!A23 -> 20. Eenvoud en snelheid afsluiten (beoordelaar wil zo snel mogelijk afsluiten om naar een volgende les te kunnen gaan). | C41: SCORE | F41: SCORE | I41: SCORE
C42: <MOTIVATIE> | F42: <MOTIVATIE> | I42: <MOTIVATIE>

Sheet Beoordelaar 7
A1: Beoordelaar 7: <<>> | C1: Inschrijver 1 | F1: Inschrijver 2 | I1: Inschrijver 3
A2: ='Beoordelen geboden oplossing'!A3 -> Beoordelingskader geboden oplossing | C2: Score: | F2: Score: | I2: Score:
A3: ='Beoordelen geboden oplossing'!A4 -> 1. Eenvoud opstarten en snelheid digibord werkend gebruiken (beoordelaar sluit een eigen device aan). | C3: SCORE | F3: SCORE | I3: SCORE
C4: <MOTIVATIE> | F4: <MOTIVATIE> | I4: <MOTIVATIE>
A5: ='Beoordelen geboden oplossing'!A5 -> 2. Werking van de digitale pen (beoordelaar schrijft en tekent op het bord). | C5: SCORE | F5: SCORE | I5: SCORE
C6: <MOTIVATIE> | F6: <MOTIVATIE> | I6: <MOTIVATIE>
A7: ='Beoordelen geboden oplossing'!A6 -> 3. Werking gumfunctie van de digitale pen. | C7: SCORE | F7: SCORE | I7: SCORE
C8: <MOTIVATIE> | F8: <MOTIVATIE> | I8: <MOTIVATIE>
A9: ='Beoordelen geboden oplossing'!A7 -> 4. Werking touch met hand/ vinger en werking gumfunctie (beoordelaar doet beide handelingen). | C9: SCORE | F9: SCORE | I9: SCORE
C10: <MOTIVATIE> | F10: <MOTIVATIE> | I10: <MOTIVATIE>
A11: ='Beoordelen geboden oplossing'!A8 -> 5. Werking digitaal whiteboard; schrijffunctie en eenvoud van de bediening vanaf een device (dit wordt getest binnen de whiteboard functie van het scherm). | C11: SCORE | F11: SCORE | I11: SCORE
C12: <MOTIVATIE> | F12: <MOTIVATIE> | I12: <MOTIVATIE>
A13: ='Beoordelen geboden oplossing'!A9 -> 6. Werking gumfunctie met hand/vinger (beoordelaar doet beide handelingen). | C13: SCORE | F13: SCORE | I13: SCORE
C14: <MOTIVATIE> | F14: <MOTIVATIE> | I14: <MOTIVATIE>
A15: ='Beoordelen geboden oplossing'!A10 -> 7. Werking ‘freezen’ scherm (zie ook programma van eisen) waarbij de docent nog kan werken op de eigen device. | C15: SCORE | F15: SCORE | I15: SCORE
C16: <MOTIVATIE> | F16: <MOTIVATIE> | I16: <MOTIVATIE>
A17: ='Beoordelen geboden oplossing'!A11 -> 8. Werking van elektrische lift en de gebruikersvriendelijkheid daarvan. | C17: SCORE | F17: SCORE | I17: SCORE
C18: <MOTIVATIE> | F18: <MOTIVATIE> | I18: <MOTIVATIE>
A19: ='Beoordelen geboden oplossing'!A12 -> 9. Geluid (spraak en muziek) van de ingebouwde luidsprekers (spraak en muziek worden getest aan de hand van de video zoals beschreven in bijlage 7b). | C19: SCORE | F19: SCORE | I19: SCORE
C20: <MOTIVATIE> | F20: <MOTIVATIE> | I20: <MOTIVATIE>
A21: ='Beoordelen geboden oplossing'!A13 -> 10. Mate van bijgeluiden (koeling, brommen, zoemen). | C21: SCORE | F21: SCORE | I21: SCORE
C22: <MOTIVATIE> | F22: <MOTIVATIE> | I22: <MOTIVATIE>
A23: ='Beoordelen geboden oplossing'!A14 -> 11. Scherpte beeld tot 8,5 meter en invalshoeken vanuit de lessets in het lokaal (met en zonder zonlicht van buiten), voor iedere Inschrijver gelijke positie. | C23: SCORE | F23: SCORE | I23: SCORE
C24: <MOTIVATIE> | F24: <MOTIVATIE> | I24: <MOTIVATIE>
A25: ='Beoordelen geboden oplossing'!A15 -> 12. Kwaliteit knoppen en toegankelijkheid (aan/uit/overige) door deze veelvuldig (minimaal 10x) te gebruiken. | C25: SCORE | F25: SCORE | I25: SCORE
C26: <MOTIVATIE> | F26: <MOTIVATIE> | I26: <MOTIVATIE>
A27: ='Beoordelen geboden oplossing'!A16 -> 13. Kwaliteit instructiekaart voor een docent. | C27: SCORE | F27: SCORE | I27: SCORE
C28: <MOTIVATIE> | F28: <MOTIVATIE> | I28: <MOTIVATIE>
A29: ='Beoordelen geboden oplossing'!A17 -> 14. Kwaliteit glasplaat van het digibord, mate van gladheid (beoordelaar zal de glasplaat niet beschadigen). | C29: SCORE | F29: SCORE | I29: SCORE
C30: <MOTIVATIE> | F30: <MOTIVATIE> | I30: <MOTIVATIE>
A31: ='Beoordelen geboden oplossing'!A18 -> 15. Kwaliteit/gebruikersvriendelijkheid van de afstandbediening (leesbaarheid, eenvoud, werking knoppen). | C31: SCORE | F31: SCORE | I31: SCORE
C32: <MOTIVATIE> | F32: <MOTIVATIE> | I32: <MOTIVATIE>
A33: ='Beoordelen geboden oplossing'!A19 -> 16. Kwaliteit aansluitpunten toegankelijkheid (hoe makkelijk kun je erbij komen en hoe duidelijk is het welke stekker je waar in moet steken) en gebruikersvriendelijkheid (USB/USB-c/HDMI). | C33: SCORE | F33: SCORE | I33: SCORE
C34: <MOTIVATIE> | F34: <MOTIVATIE> | I34: <MOTIVATIE>
A35: ='Beoordelen geboden oplossing'!A20 -> 17. Eenvoud koppeling met Airplay 2 en Chromecast 4K door dit aan te sluiten. | C35: SCORE | F35: SCORE | I35: SCORE
C36: <MOTIVATIE> | F36: <MOTIVATIE> | I36: <MOTIVATIE>
A37: ='Beoordelen geboden oplossing'!A21 -> 18. Gebruiksvriendelijkheid en snelheid browserfunctionaliteit. | C37: SCORE | F37: SCORE | I37: SCORE
C38: <MOTIVATIE> | F38: <MOTIVATIE> | I38: <MOTIVATIE>
A39: ='Beoordelen geboden oplossing'!A22 -> 19. Kwaliteit en snelheid draadloze verbinding. | C39: SCORE | F39: SCORE | I39: SCORE
C40: <MOTIVATIE> | F40: <MOTIVATIE> | I40: <MOTIVATIE>
A41: ='Beoordelen geboden oplossing'!A23 -> 20. Eenvoud en snelheid afsluiten (beoordelaar wil zo snel mogelijk afsluiten om naar een volgende les te kunnen gaan). | C41: SCORE | F41: SCORE | I41: SCORE
C42: <MOTIVATIE> | F42: <MOTIVATIE> | I42: <MOTIVATIE>

Sheet Beoordelaar 8
A1: Beoordelaar 8: <<>> | C1: Inschrijver 1 | F1: Inschrijver 2 | I1: Inschrijver 3
A2: ='Beoordelen geboden oplossing'!A3 -> Beoordelingskader geboden oplossing | C2: Score: | F2: Score: | I2: Score:
A3: ='Beoordelen geboden oplossing'!A4 -> 1. Eenvoud opstarten en snelheid digibord werkend gebruiken (beoordelaar sluit een eigen device aan). | C3: SCORE | F3: SCORE | I3: SCORE
C4: <MOTIVATIE> | F4: <MOTIVATIE> | I4: <MOTIVATIE>
A5: ='Beoordelen geboden oplossing'!A5 -> 2. Werking van de digitale pen (beoordelaar schrijft en tekent op het bord). | C5: SCORE | F5: SCORE | I5: SCORE
C6: <MOTIVATIE> | F6: <MOTIVATIE> | I6: <MOTIVATIE>
A7: ='Beoordelen geboden oplossing'!A6 -> 3. Werking gumfunctie van de digitale pen. | C7: SCORE | F7: SCORE | I7: SCORE
C8: <MOTIVATIE> | F8: <MOTIVATIE> | I8: <MOTIVATIE>
A9: ='Beoordelen geboden oplossing'!A7 -> 4. Werking touch met hand/ vinger en werking gumfunctie (beoordelaar doet beide handelingen). | C9: SCORE | F9: SCORE | I9: SCORE
C10: <MOTIVATIE> | F10: <MOTIVATIE> | I10: <MOTIVATIE>
A11: ='Beoordelen geboden oplossing'!A8 -> 5. Werking digitaal whiteboard; schrijffunctie en eenvoud van de bediening vanaf een device (dit wordt getest binnen de whiteboard functie van het scherm). | C11: SCORE | F11: SCORE | I11: SCORE
C12: <MOTIVATIE> | F12: <MOTIVATIE> | I12: <MOTIVATIE>
A13: ='Beoordelen geboden oplossing'!A9 -> 6. Werking gumfunctie met hand/vinger (beoordelaar doet beide handelingen). | C13: SCORE | F13: SCORE | I13: SCORE
C14: <MOTIVATIE> | F14: <MOTIVATIE> | I14: <MOTIVATIE>
A15: ='Beoordelen geboden oplossing'!A10 -> 7. Werking ‘freezen’ scherm (zie ook programma van eisen) waarbij de docent nog kan werken op de eigen device. | C15: SCORE | F15: SCORE | I15: SCORE
C16: <MOTIVATIE> | F16: <MOTIVATIE> | I16: <MOTIVATIE>
A17: ='Beoordelen geboden oplossing'!A11 -> 8. Werking van elektrische lift en de gebruikersvriendelijkheid daarvan. | C17: SCORE | F17: SCORE | I17: SCORE
C18: <MOTIVATIE> | F18: <MOTIVATIE> | I18: <MOTIVATIE>
A19: ='Beoordelen geboden oplossing'!A12 -> 9. Geluid (spraak en muziek) van de ingebouwde luidsprekers (spraak en muziek worden getest aan de hand van de video zoals beschreven in bijlage 7b). | C19: SCORE | F19: SCORE | I19: SCORE
C20: <MOTIVATIE> | F20: <MOTIVATIE> | I20: <MOTIVATIE>
A21: ='Beoordelen geboden oplossing'!A13 -> 10. Mate van bijgeluiden (koeling, brommen, zoemen). | C21: SCORE | F21: SCORE | I21: SCORE
C22: <MOTIVATIE> | F22: <MOTIVATIE> | I22: <MOTIVATIE>
A23: ='Beoordelen geboden oplossing'!A14 -> 11. Scherpte beeld tot 8,5 meter en invalshoeken vanuit de lessets in het lokaal (met en zonder zonlicht van buiten), voor iedere Inschrijver gelijke positie. | C23: SCORE | F23: SCORE | I23: SCORE
C24: <MOTIVATIE> | F24: <MOTIVATIE> | I24: <MOTIVATIE>
A25: ='Beoordelen geboden oplossing'!A15 -> 12. Kwaliteit knoppen en toegankelijkheid (aan/uit/overige) door deze veelvuldig (minimaal 10x) te gebruiken. | C25: SCORE | F25: SCORE | I25: SCORE
C26: <MOTIVATIE> | F26: <MOTIVATIE> | I26: <MOTIVATIE>
A27: ='Beoordelen geboden oplossing'!A16 -> 13. Kwaliteit instructiekaart voor een docent. | C27: SCORE | F27: SCORE | I27: SCORE
C28: <MOTIVATIE> | F28: <MOTIVATIE> | I28: <MOTIVATIE>
A29: ='Beoordelen geboden oplossing'!A17 -> 14. Kwaliteit glasplaat van het digibord, mate van gladheid (beoordelaar zal de glasplaat niet beschadigen). | C29: SCORE | F29: SCORE | I29: SCORE
C30: <MOTIVATIE> | F30: <MOTIVATIE> | I30: <MOTIVATIE>
A31: ='Beoordelen geboden oplossing'!A18 -> 15. Kwaliteit/gebruikersvriendelijkheid van de afstandbediening (leesbaarheid, eenvoud, werking knoppen). | C31: SCORE | F31: SCORE | I31: SCORE
C32: <MOTIVATIE> | F32: <MOTIVATIE> | I32: <MOTIVATIE>
A33: ='Beoordelen geboden oplossing'!A19 -> 16. Kwaliteit aansluitpunten toegankelijkheid (hoe makkelijk kun je erbij komen en hoe duidelijk is het welke stekker je waar in moet steken) en gebruikersvriendelijkheid (USB/USB-c/HDMI). | C33: SCORE | F33: SCORE | I33: SCORE
C34: <MOTIVATIE> | F34: <MOTIVATIE> | I34: <MOTIVATIE>
A35: ='Beoordelen geboden oplossing'!A20 -> 17. Eenvoud koppeling met Airplay 2 en Chromecast 4K door dit aan te sluiten. | C35: SCORE | F35: SCORE | I35: SCORE
C36: <MOTIVATIE> | F36: <MOTIVATIE> | I36: <MOTIVATIE>
A37: ='Beoordelen geboden oplossing'!A21 -> 18. Gebruiksvriendelijkheid en snelheid browserfunctionaliteit. | C37: SCORE | F37: SCORE | I37: SCORE
C38: <MOTIVATIE> | F38: <MOTIVATIE> | I38: <MOTIVATIE>
A39: ='Beoordelen geboden oplossing'!A22 -> 19. Kwaliteit en snelheid draadloze verbinding. | C39: SCORE | F39: SCORE | I39: SCORE
C40: <MOTIVATIE> | F40: <MOTIVATIE> | I40: <MOTIVATIE>
A41: ='Beoordelen geboden oplossing'!A23 -> 20. Eenvoud en snelheid afsluiten (beoordelaar wil zo snel mogelijk afsluiten om naar een volgende les te kunnen gaan). | C41: SCORE | F41: SCORE | I41: SCORE
C42: <MOTIVATIE> | F42: <MOTIVATIE> | I42: <MOTIVATIE>

Sheet Beoordelaar 9
A1: Beoordelaar 9: <<>> | C1: Inschrijver 1 | F1: Inschrijver 2 | I1: Inschrijver 3
A2: ='Beoordelen geboden oplossing'!A3 -> Beoordelingskader geboden oplossing | C2: Score: | F2: Score: | I2: Score:
A3: ='Beoordelen geboden oplossing'!A4 -> 1. Eenvoud opstarten en snelheid digibord werkend gebruiken (beoordelaar sluit een eigen device aan). | C3: SCORE | F3: SCORE | I3: SCORE
C4: <MOTIVATIE> | F4: <MOTIVATIE> | I4: <MOTIVATIE>
A5: ='Beoordelen geboden oplossing'!A5 -> 2. Werking van de digitale pen (beoordelaar schrijft en tekent op het bord). | C5: SCORE | F5: SCORE | I5: SCORE
C6: <MOTIVATIE> | F6: <MOTIVATIE> | I6: <MOTIVATIE>
A7: ='Beoordelen geboden oplossing'!A6 -> 3. Werking gumfunctie van de digitale pen. | C7: SCORE | F7: SCORE | I7: SCORE
C8: <MOTIVATIE> | F8: <MOTIVATIE> | I8: <MOTIVATIE>
A9: ='Beoordelen geboden oplossing'!A7 -> 4. Werking touch met hand/ vinger en werking gumfunctie (beoordelaar doet beide handelingen). | C9: SCORE | F9: SCORE | I9: SCORE
C10: <MOTIVATIE> | F10: <MOTIVATIE> | I10: <MOTIVATIE>
A11: ='Beoordelen geboden oplossing'!A8 -> 5. Werking digitaal whiteboard; schrijffunctie en eenvoud van de bediening vanaf een device (dit wordt getest binnen de whiteboard functie van het scherm). | C11: SCORE | F11: SCORE | I11: SCORE
C12: <MOTIVATIE> | F12: <MOTIVATIE> | I12: <MOTIVATIE>
A13: ='Beoordelen geboden oplossing'!A9 -> 6. Werking gumfunctie met hand/vinger (beoordelaar doet beide handelingen). | C13: SCORE | F13: SCORE | I13: SCORE
C14: <MOTIVATIE> | F14: <MOTIVATIE> | I14: <MOTIVATIE>
A15: ='Beoordelen geboden oplossing'!A10 -> 7. Werking ‘freezen’ scherm (zie ook programma van eisen) waarbij de docent nog kan werken op de eigen device. | C15: SCORE | F15: SCORE | I15: SCORE
C16: <MOTIVATIE> | F16: <MOTIVATIE> | I16: <MOTIVATIE>
A17: ='Beoordelen geboden oplossing'!A11 -> 8. Werking van elektrische lift en de gebruikersvriendelijkheid daarvan. | C17: SCORE | F17: SCORE | I17: SCORE
C18: <MOTIVATIE> | F18: <MOTIVATIE> | I18: <MOTIVATIE>
A19: ='Beoordelen geboden oplossing'!A12 -> 9. Geluid (spraak en muziek) van de ingebouwde luidsprekers (spraak en muziek worden getest aan de hand van de video zoals beschreven in bijlage 7b). | C19: SCORE | F19: SCORE | I19: SCORE
C20: <MOTIVATIE> | F20: <MOTIVATIE> | I20: <MOTIVATIE>
A21: ='Beoordelen geboden oplossing'!A13 -> 10. Mate van bijgeluiden (koeling, brommen, zoemen). | C21: SCORE | F21: SCORE | I21: SCORE
C22: <MOTIVATIE> | F22: <MOTIVATIE> | I22: <MOTIVATIE>
A23: ='Beoordelen geboden oplossing'!A14 -> 11. Scherpte beeld tot 8,5 meter en invalshoeken vanuit de lessets in het lokaal (met en zonder zonlicht van buiten), voor iedere Inschrijver gelijke positie. | C23: SCORE | F23: SCORE | I23: SCORE
C24: <MOTIVATIE> | F24: <MOTIVATIE> | I24: <MOTIVATIE>
A25: ='Beoordelen geboden oplossing'!A15 -> 12. Kwaliteit knoppen en toegankelijkheid (aan/uit/overige) door deze veelvuldig (minimaal 10x) te gebruiken. | C25: SCORE | F25: SCORE | I25: SCORE
C26: <MOTIVATIE> | F26: <MOTIVATIE> | I26: <MOTIVATIE>
A27: ='Beoordelen geboden oplossing'!A16 -> 13. Kwaliteit instructiekaart voor een docent. | C27: SCORE | F27: SCORE | I27: SCORE
C28: <MOTIVATIE> | F28: <MOTIVATIE> | I28: <MOTIVATIE>
A29: ='Beoordelen geboden oplossing'!A17 -> 14. Kwaliteit glasplaat van het digibord, mate van gladheid (beoordelaar zal de glasplaat niet beschadigen). | C29: SCORE | F29: SCORE | I29: SCORE
C30: <MOTIVATIE> | F30: <MOTIVATIE> | I30: <MOTIVATIE>
A31: ='Beoordelen geboden oplossing'!A18 -> 15. Kwaliteit/gebruikersvriendelijkheid van de afstandbediening (leesbaarheid, eenvoud, werking knoppen). | C31: SCORE | F31: SCORE | I31: SCORE
C32: <MOTIVATIE> | F32: <MOTIVATIE> | I32: <MOTIVATIE>
A33: ='Beoordelen geboden oplossing'!A19 -> 16. Kwaliteit aansluitpunten toegankelijkheid (hoe makkelijk kun je erbij komen en hoe duidelijk is het welke stekker je waar in moet steken) en gebruikersvriendelijkheid (USB/USB-c/HDMI). | C33: SCORE | F33: SCORE | I33: SCORE
C34: <MOTIVATIE> | F34: <MOTIVATIE> | I34: <MOTIVATIE>
A35: ='Beoordelen geboden oplossing'!A20 -> 17. Eenvoud koppeling met Airplay 2 en Chromecast 4K door dit aan te sluiten. | C35: SCORE | F35: SCORE | I35: SCORE
C36: <MOTIVATIE> | F36: <MOTIVATIE> | I36: <MOTIVATIE>
A37: ='Beoordelen geboden oplossing'!A21 -> 18. Gebruiksvriendelijkheid en snelheid browserfunctionaliteit. | C37: SCORE | F37: SCORE | I37: SCORE
C38: <MOTIVATIE> | F38: <MOTIVATIE> | I38: <MOTIVATIE>
A39: ='Beoordelen geboden oplossing'!A22 -> 19. Kwaliteit en snelheid draadloze verbinding. | C39: SCORE | F39: SCORE | I39: SCORE
C40: <MOTIVATIE> | F40: <MOTIVATIE> | I40: <MOTIVATIE>
A41: ='Beoordelen geboden oplossing'!A23 -> 20. Eenvoud en snelheid afsluiten (beoordelaar wil zo snel mogelijk afsluiten om naar een volgende les te kunnen gaan). | C41: SCORE | F41: SCORE | I41: SCORE
C42: <MOTIVATIE> | F42: <MOTIVATIE> | I42: <MOTIVATIE>

Sheet Beoordelaar 10
A1: Beoordelaar 10: <<>> | C1: Inschrijver 1 | F1: Inschrijver 2 | I1: Inschrijver 3
A2: ='Beoordelen geboden oplossing'!A3 -> Beoordelingskader geboden oplossing | C2: Score: | F2: Score: | I2: Score:
A3: ='Beoordelen geboden oplossing'!A4 -> 1. Eenvoud opstarten en snelheid digibord werkend gebruiken (beoordelaar sluit een eigen device aan). | C3: SCORE | F3: SCORE | I3: SCORE
C4: <MOTIVATIE> | F4: <MOTIVATIE> | I4: <MOTIVATIE>
A5: ='Beoordelen geboden oplossing'!A5 -> 2. Werking van de digitale pen (beoordelaar schrijft en tekent op het bord). | C5: SCORE | F5: SCORE | I5: SCORE
C6: <MOTIVATIE> | F6: <MOTIVATIE> | I6: <MOTIVATIE>
A7: ='Beoordelen geboden oplossing'!A6 -> 3. Werking gumfunctie van de digitale pen. | C7: SCORE | F7: SCORE | I7: SCORE
C8: <MOTIVATIE> | F8: <MOTIVATIE> | I8: <MOTIVATIE>
A9: ='Beoordelen geboden oplossing'!A7 -> 4. Werking touch met hand/ vinger en werking gumfunctie (beoordelaar doet beide handelingen). | C9: SCORE | F9: SCORE | I9: SCORE
C10: <MOTIVATIE> | F10: <MOTIVATIE> | I10: <MOTIVATIE>
A11: ='Beoordelen geboden oplossing'!A8 -> 5. Werking digitaal whiteboard; schrijffunctie en eenvoud van de bediening vanaf een device (dit wordt getest binnen de whiteboard functie van het scherm). | C11: SCORE | F11: SCORE | I11: SCORE
C12: <MOTIVATIE> | F12: <MOTIVATIE> | I12: <MOTIVATIE>
A13: ='Beoordelen geboden oplossing'!A9 -> 6. Werking gumfunctie met hand/vinger (beoordelaar doet beide handelingen). | C13: SCORE | F13: SCORE | I13: SCORE
C14: <MOTIVATIE> | F14: <MOTIVATIE> | I14: <MOTIVATIE>
A15: ='Beoordelen geboden oplossing'!A10 -> 7. Werking ‘freezen’ scherm (zie ook programma van eisen) waarbij de docent nog kan werken op de eigen device. | C15: SCORE | F15: SCORE | I15: SCORE
C16: <MOTIVATIE> | F16: <MOTIVATIE> | I16: <MOTIVATIE>
A17: ='Beoordelen geboden oplossing'!A11 -> 8. Werking van elektrische lift en de gebruikersvriendelijkheid daarvan. | C17: SCORE | F17: SCORE | I17: SCORE
C18: <MOTIVATIE> | F18: <MOTIVATIE> | I18: <MOTIVATIE>
A19: ='Beoordelen geboden oplossing'!A12 -> 9. Geluid (spraak en muziek) van de ingebouwde luidsprekers (spraak en muziek worden getest aan de hand van de video zoals beschreven in bijlage 7b). | C19: SCORE | F19: SCORE | I19: SCORE
C20: <MOTIVATIE> | F20: <MOTIVATIE> | I20: <MOTIVATIE>
A21: ='Beoordelen geboden oplossing'!A13 -> 10. Mate van bijgeluiden (koeling, brommen, zoemen). | C21: SCORE | F21: SCORE | I21: SCORE
C22: <MOTIVATIE> | F22: <MOTIVATIE> | I22: <MOTIVATIE>
A23: ='Beoordelen geboden oplossing'!A14 -> 11. Scherpte beeld tot 8,5 meter en invalshoeken vanuit de lessets in het lokaal (met en zonder zonlicht van buiten), voor iedere Inschrijver gelijke positie. | C23: SCORE | F23: SCORE | I23: SCORE
C24: <MOTIVATIE> | F24: <MOTIVATIE> | I24: <MOTIVATIE>
A25: ='Beoordelen geboden oplossing'!A15 -> 12. Kwaliteit knoppen en toegankelijkheid (aan/uit/overige) door deze veelvuldig (minimaal 10x) te gebruiken. | C25: SCORE | F25: SCORE | I25: SCORE
C26: <MOTIVATIE> | F26: <MOTIVATIE> | I26: <MOTIVATIE>
A27: ='Beoordelen geboden oplossing'!A16 -> 13. Kwaliteit instructiekaart voor een docent. | C27: SCORE | F27: SCORE | I27: SCORE
C28: <MOTIVATIE> | F28: <MOTIVATIE> | I28: <MOTIVATIE>
A29: ='Beoordelen geboden oplossing'!A17 -> 14. Kwaliteit glasplaat van het digibord, mate van gladheid (beoordelaar zal de glasplaat niet beschadigen). | C29: SCORE | F29: SCORE | I29: SCORE
C30: <MOTIVATIE> | F30: <MOTIVATIE> | I30: <MOTIVATIE>
A31: ='Beoordelen geboden oplossing'!A18 -> 15. Kwaliteit/gebruikersvriendelijkheid van de afstandbediening (leesbaarheid, eenvoud, werking knoppen). | C31: SCORE | F31: SCORE | I31: SCORE
C32: <MOTIVATIE> | F32: <MOTIVATIE> | I32: <MOTIVATIE>
A33: ='Beoordelen geboden oplossing'!A19 -> 16. Kwaliteit aansluitpunten toegankelijkheid (hoe makkelijk kun je erbij komen en hoe duidelijk is het welke stekker je waar in moet steken) en gebruikersvriendelijkheid (USB/USB-c/HDMI). | C33: SCORE | F33: SCORE | I33: SCORE
C34: <MOTIVATIE> | F34: <MOTIVATIE> | I34: <MOTIVATIE>
A35: ='Beoordelen geboden oplossing'!A20 -> 17. Eenvoud koppeling met Airplay 2 en Chromecast 4K door dit aan te sluiten. | C35: SCORE | F35: SCORE | I35: SCORE
C36: <MOTIVATIE> | F36: <MOTIVATIE> | I36: <MOTIVATIE>
A37: ='Beoordelen geboden oplossing'!A21 -> 18. Gebruiksvriendelijkheid en snelheid browserfunctionaliteit. | C37: SCORE | F37: SCORE | I37: SCORE
C38: <MOTIVATIE> | F38: <MOTIVATIE> | I38: <MOTIVATIE>
A39: ='Beoordelen geboden oplossing'!A22 -> 19. Kwaliteit en snelheid draadloze verbinding. | C39: SCORE | F39: SCORE | I39: SCORE
C40: <MOTIVATIE> | F40: <MOTIVATIE> | I40: <MOTIVATIE>
A41: ='Beoordelen geboden oplossing'!A23 -> 20. Eenvoud en snelheid afsluiten (beoordelaar wil zo snel mogelijk afsluiten om naar een volgende les te kunnen gaan). | C41: SCORE | F41: SCORE | I41: SCORE
C42: <MOTIVATIE> | F42: <MOTIVATIE> | I42: <MOTIVATIE>

Sheet Beoordelaar 11
A1: Beoordelaar 11: <<>> | C1: Inschrijver 1 | F1: Inschrijver 2 | I1: Inschrijver 3
A2: ='Beoordelen geboden oplossing'!A3 -> Beoordelingskader geboden oplossing | C2: Score: | F2: Score: | I2: Score:
A3: ='Beoordelen geboden oplossing'!A4 -> 1. Eenvoud opstarten en snelheid digibord werkend gebruiken (beoordelaar sluit een eigen device aan). | C3: SCORE | F3: SCORE | I3: SCORE
C4: <MOTIVATIE> | F4: <MOTIVATIE> | I4: <MOTIVATIE>
A5: ='Beoordelen geboden oplossing'!A5 -> 2. Werking van de digitale pen (beoordelaar schrijft en tekent op het bord). | C5: SCORE | F5: SCORE | I5: SCORE
C6: <MOTIVATIE> | F6: <MOTIVATIE> | I6: <MOTIVATIE>
A7: ='Beoordelen geboden oplossing'!A6 -> 3. Werking gumfunctie van de digitale pen. | C7: SCORE | F7: SCORE | I7: SCORE
C8: <MOTIVATIE> | F8: <MOTIVATIE> | I8: <MOTIVATIE>
A9: ='Beoordelen geboden oplossing'!A7 -> 4. Werking touch met hand/ vinger en werking gumfunctie (beoordelaar doet beide handelingen). | C9: SCORE | F9: SCORE | I9: SCORE
C10: <MOTIVATIE> | F10: <MOTIVATIE> | I10: <MOTIVATIE>
A11: ='Beoordelen geboden oplossing'!A8 -> 5. Werking digitaal whiteboard; schrijffunctie en eenvoud van de bediening vanaf een device (dit wordt getest binnen de whiteboard functie van het scherm). | C11: SCORE | F11: SCORE | I11: SCORE
C12: <MOTIVATIE> | F12: <MOTIVATIE> | I12: <MOTIVATIE>
A13: ='Beoordelen geboden oplossing'!A9 -> 6. Werking gumfunctie met hand/vinger (beoordelaar doet beide handelingen). | C13: SCORE | F13: SCORE | I13: SCORE
C14: <MOTIVATIE> | F14: <MOTIVATIE> | I14: <MOTIVATIE>
A15: ='Beoordelen geboden oplossing'!A10 -> 7. Werking ‘freezen’ scherm (zie ook programma van eisen) waarbij de docent nog kan werken op de eigen device. | C15: SCORE | F15: SCORE | I15: SCORE
C16: <MOTIVATIE> | F16: <MOTIVATIE> | I16: <MOTIVATIE>
A17: ='Beoordelen geboden oplossing'!A11 -> 8. Werking van elektrische lift en de gebruikersvriendelijkheid daarvan. | C17: SCORE | F17: SCORE | I17: SCORE
C18: <MOTIVATIE> | F18: <MOTIVATIE> | I18: <MOTIVATIE>
A19: ='Beoordelen geboden oplossing'!A12 -> 9. Geluid (spraak en muziek) van de ingebouwde luidsprekers (spraak en muziek worden getest aan de hand van de video zoals beschreven in bijlage 7b). | C19: SCORE | F19: SCORE | I19: SCORE
C20: <MOTIVATIE> | F20: <MOTIVATIE> | I20: <MOTIVATIE>
A21: ='Beoordelen geboden oplossing'!A13 -> 10. Mate van bijgeluiden (koeling, brommen, zoemen). | C21: SCORE | F21: SCORE | I21: SCORE
C22: <MOTIVATIE> | F22: <MOTIVATIE> | I22: <MOTIVATIE>
A23: ='Beoordelen geboden oplossing'!A14 -> 11. Scherpte beeld tot 8,5 meter en invalshoeken vanuit de lessets in het lokaal (met en zonder zonlicht van buiten), voor iedere Inschrijver gelijke positie. | C23: SCORE | F23: SCORE | I23: SCORE
C24: <MOTIVATIE> | F24: <MOTIVATIE> | I24: <MOTIVATIE>
A25: ='Beoordelen geboden oplossing'!A15 -> 12. Kwaliteit knoppen en toegankelijkheid (aan/uit/overige) door deze veelvuldig (minimaal 10x) te gebruiken. | C25: SCORE | F25: SCORE | I25: SCORE
C26: <MOTIVATIE> | F26: <MOTIVATIE> | I26: <MOTIVATIE>
A27: ='Beoordelen geboden oplossing'!A16 -> 13. Kwaliteit instructiekaart voor een docent. | C27: SCORE | F27: SCORE | I27: SCORE
C28: <MOTIVATIE> | F28: <MOTIVATIE> | I28: <MOTIVATIE>
A29: ='Beoordelen geboden oplossing'!A17 -> 14. Kwaliteit glasplaat van het digibord, mate van gladheid (beoordelaar zal de glasplaat niet beschadigen). | C29: SCORE | F29: SCORE | I29: SCORE
C30: <MOTIVATIE> | F30: <MOTIVATIE> | I30: <MOTIVATIE>
A31: ='Beoordelen geboden oplossing'!A18 -> 15. Kwaliteit/gebruikersvriendelijkheid van de afstandbediening (leesbaarheid, eenvoud, werking knoppen). | C31: SCORE | F31: SCORE | I31: SCORE
C32: <MOTIVATIE> | F32: <MOTIVATIE> | I32: <MOTIVATIE>
A33: ='Beoordelen geboden oplossing'!A19 -> 16. Kwaliteit aansluitpunten toegankelijkheid (hoe makkelijk kun je erbij komen en hoe duidelijk is het welke stekker je waar in moet steken) en gebruikersvriendelijkheid (USB/USB-c/HDMI). | C33: SCORE | F33: SCORE | I33: SCORE
C34: <MOTIVATIE> | F34: <MOTIVATIE> | I34: <MOTIVATIE>
A35: ='Beoordelen geboden oplossing'!A20 -> 17. Eenvoud koppeling met Airplay 2 en Chromecast 4K door dit aan te sluiten. | C35: SCORE | F35: SCORE | I35: SCORE
C36: <MOTIVATIE> | F36: <MOTIVATIE> | I36: <MOTIVATIE>
A37: ='Beoordelen geboden oplossing'!A21 -> 18. Gebruiksvriendelijkheid en snelheid browserfunctionaliteit. | C37: SCORE | F37: SCORE | I37: SCORE
C38: <MOTIVATIE> | F38: <MOTIVATIE> | I38: <MOTIVATIE>
A39: ='Beoordelen geboden oplossing'!A22 -> 19. Kwaliteit en snelheid draadloze verbinding. | C39: SCORE | F39: SCORE | I39: SCORE
C40: <MOTIVATIE> | F40: <MOTIVATIE> | I40: <MOTIVATIE>
A41: ='Beoordelen geboden oplossing'!A23 -> 20. Eenvoud en snelheid afsluiten (beoordelaar wil zo snel mogelijk afsluiten om naar een volgende les te kunnen gaan). | C41: SCORE | F41: SCORE | I41: SCORE
C42: <MOTIVATIE> | F42: <MOTIVATIE> | I42: <MOTIVATIE>

Sheet Eindscores
A1: Totaalwaardes GEBODEN AUDIOVISUELE OPLOSSING
D2: ='Beoordelaar 1'!C1 -> Inschrijver 1 | E2: Motivatie consensus | G2: ='Beoordelaar 1'!F1 -> Inschrijver 2 | H2: Motivatie consensus | J2: ='Beoordelaar 1'!I1 -> Inschrijver 3 | K2: Motivatie consensus
A3: ='Beoordelen geboden oplossing'!A4 -> 1. Eenvoud opstarten en snelheid digibord werkend gebruiken (beoordelaar sluit een eigen device aan). | B3: Beoordelaar 1 | D3: ='Beoordelaar 1'!C3 -> SCORE | E3: <<MOTIVATIE>> | G3: ='Beoordelaar 1'!F3 -> SCORE | H3: <<MOTIVATIE>> | J3: ='Beoordelaar 1'!I3 -> SCORE | K3: <<MOTIVATIE>>
B4: Beoordelaar 2 | D4: ='Beoordelaar 2'!C3 -> SCORE | G4: ='Beoordelaar 2'!F3 -> SCORE | J4: ='Beoordelaar 2'!I3 -> SCORE
B5: Beoordelaar 3 | D5: ='Beoordelaar 3'!C3 -> SCORE | G5: ='Beoordelaar 3'!F3 -> SCORE | J5: ='Beoordelaar 3'!I3 -> SCORE
B6: Beoordelaar 4 | D6: ='Beoordelaar 4'!C3 -> SCORE | G6: ='Beoordelaar 4'!F3 -> SCORE | J6: ='Beoordelaar 4'!I3 -> SCORE
B7: Beoordelaar 5 | D7: ='Beoordelaar 5'!C3 -> SCORE | G7: ='Beoordelaar 5'!F3 -> SCORE | J7: ='Beoordelaar 5'!I3 -> SCORE
B8: Beoordelaar 6 | D8: ='Beoordelaar 6'!C3 -> SCORE | G8: ='Beoordelaar 6'!F3 -> SCORE | J8: ='Beoordelaar 6'!I3 -> SCORE
B9: Beoordelaar 7 | D9: ='Beoordelaar 7'!C3 -> SCORE | G9: ='Beoordelaar 7'!F3 -> SCORE | J9: ='Beoordelaar 7'!I3 -> SCORE
B10: Beoordelaar 8 | D10: ='Beoordelaar 8'!C3 -> SCORE | G10: ='Beoordelaar 8'!F3 -> SCORE | J10: ='Beoordelaar 8'!I3 -> SCORE
B11: Beoordelaar 9 | D11: ='Beoordelaar 9'!C3 -> SCORE | G11: ='Beoordelaar 9'!F3 -> SCORE | J11: ='Beoordelaar 9'!I3 -> SCORE
B12: Beoordelaar 10 | D12: ='Beoordelaar 10'!C3 -> SCORE | G12: ='Beoordelaar 10'!F3 -> SCORE | J12: ='Beoordelaar 10'!I3 -> SCORE
B13: Beoordelaar 11 | D13: ='Beoordelaar 11'!C3 -> SCORE | G13: ='Beoordelaar 11'!F3 -> SCORE | J13: ='Beoordelaar 11'!I3 -> SCORE
A14: Consensus | D14: SCORE: | G14: SCORE: | J14: SCORE:
D15: =IF(D14="Beter","€ 3.000",IF(D14="Vergelijkbaar","€ 0",IF(D14="Acceptabel verbeterpunt","-€ 12.000",IF(D14="Onacceptabel verbeterpunt","UITSLUITING"," ")))) | G15: =IF(G14="Beter","€ 3.000",IF(G14="Vergelijkbaar","€ 0",IF(G14="Acceptabel verbeterpunt","-€ 12.000",IF(G14="Onacceptabel verbeterpunt","UITSLUITING"," ")))) | J15: =IF(J14="Beter","€ 3.000",IF(J14="Vergelijkbaar","€ 0",IF(J14="Acceptabel verbeterpunt","-€ 12.000",IF(J14="Onacceptabel verbeterpunt","UITSLUITING"," "))))
A16: ='Beoordelen geboden oplossing'!A5 -> 2. Werking van de digitale pen (beoordelaar schrijft en tekent op het bord). | B16: Beoordelaar 1 | D16: ='Beoordelaar 1'!C5 -> SCORE | E16: <<MOTIVATIE>> | G16: ='Beoordelaar 1'!F5 -> SCORE | H16: <<MOTIVATIE>> | J16: ='Beoordelaar 1'!I5 -> SCORE | K16: <<MOTIVATIE>>
B17: Beoordelaar 2 | D17: ='Beoordelaar 2'!C5 -> SCORE | G17: ='Beoordelaar 2'!F5 -> SCORE | J17: ='Beoordelaar 2'!I5 -> SCORE
B18: Beoordelaar 3 | D18: ='Beoordelaar 3'!C5 -> SCORE | G18: ='Beoordelaar 3'!F5 -> SCORE | J18: ='Beoordelaar 3'!I5 -> SCORE
B19: Beoordelaar 4 | D19: ='Beoordelaar 4'!C5 -> SCORE | G19: ='Beoordelaar 4'!F5 -> SCORE | J19: ='Beoordelaar 4'!I5 -> SCORE
B20: Beoordelaar 5 | D20: ='Beoordelaar 5'!C5 -> SCORE | G20: ='Beoordelaar 5'!F5 -> SCORE | J20: ='Beoordelaar 5'!I5 -> SCORE
B21: Beoordelaar 6 | D21: ='Beoordelaar 6'!C5 -> SCORE | G21: ='Beoordelaar 6'!F5 -> SCORE | J21: ='Beoordelaar 6'!I5 -> SCORE
B22: Beoordelaar 7 | D22: ='Beoordelaar 7'!C5 -> SCORE | G22: ='Beoordelaar 7'!F5 -> SCORE | J22: ='Beoordelaar 7'!I5 -> SCORE
B23: Beoordelaar 8 | D23: ='Beoordelaar 8'!C5 -> SCORE | G23: ='Beoordelaar 8'!F5 -> SCORE | J23: ='Beoordelaar 8'!I5 -> SCORE
B24: Beoordelaar 9 | D24: ='Beoordelaar 9'!C5 -> SCORE | G24: ='Beoordelaar 9'!F5 -> SCORE | J24: ='Beoordelaar 9'!I5 -> SCORE
B25: Beoordelaar 10 | D25: ='Beoordelaar 10'!C5 -> SCORE | G25: ='Beoordelaar 10'!F5 -> SCORE | J25: ='Beoordelaar 10'!I5 -> SCORE
B26: Beoordelaar 11 | D26: ='Beoordelaar 11'!C5 -> SCORE | G26: ='Beoordelaar 11'!F5 -> SCORE | J26: ='Beoordelaar 11'!I5 -> SCORE
A27: Consensus | D27: SCORE: | G27: SCORE: | J27: SCORE:
D28: =IF(D27="Beter","€ 2.500",IF(D27="Vergelijkbaar","€ 0",IF(D27="Acceptabel verbeterpunt","-€ 10.000",IF(D27="Onacceptabel verbeterpunt","UITSLUITING"," ")))) | G28: =IF(G27="Beter","€ 2.500",IF(G27="Vergelijkbaar","€ 0",IF(G27="Acceptabel verbeterpunt","-€ 10.000",IF(G27="Onacceptabel verbeterpunt","UITSLUITING"," ")))) | J28: =IF(J27="Beter","€ 2.500",IF(J27="Vergelijkbaar","€ 0",IF(J27="Acceptabel verbeterpunt","-€ 10.000",IF(J27="Onacceptabel verbeterpunt","UITSLUITING"," "))))
A29: ='Beoordelen geboden oplossing'!A6 -> 3. Werking gumfunctie van de digitale pen. | B29: Beoordelaar 1 | D29: ='Beoordelaar 1'!C7 -> SCORE | E29: <<MOTIVATIE>> | G29: ='Beoordelaar 1'!F7 -> SCORE | H29: <<MOTIVATIE>> | J29: ='Beoordelaar 1'!I7 -> SCORE | K29: <<MOTIVATIE>>
B30: Beoordelaar 2 | D30: ='Beoordelaar 2'!C7 -> SCORE | G30: ='Beoordelaar 2'!F7 -> SCORE | J30: ='Beoordelaar 2'!I7 -> SCORE
B31: Beoordelaar 3 | D31: ='Beoordelaar 3'!C7 -> SCORE | G31: ='Beoordelaar 3'!F7 -> SCORE | J31: ='Beoordelaar 3'!I7 -> SCORE
B32: Beoordelaar 4 | D32: ='Beoordelaar 4'!C7 -> SCORE | G32: ='Beoordelaar 4'!F7 -> SCORE | J32: ='Beoordelaar 4'!I7 -> SCORE
B33: Beoordelaar 5 | D33: ='Beoordelaar 5'!C7 -> SCORE | G33: ='Beoordelaar 5'!F7 -> SCORE | J33: ='Beoordelaar 5'!I7 -> SCORE
B34: Beoordelaar 6 | D34: ='Beoordelaar 6'!C7 -> SCORE | G34: ='Beoordelaar 6'!F7 -> SCORE | J34: ='Beoordelaar 6'!I7 -> SCORE
B35: Beoordelaar 7 | D35: ='Beoordelaar 7'!C7 -> SCORE | G35: ='Beoordelaar 7'!F7 -> SCORE | J35: ='Beoordelaar 7'!I7 -> SCORE
B36: Beoordelaar 8 | D36: ='Beoordelaar 8'!C7 -> SCORE | G36: ='Beoordelaar 8'!F7 -> SCORE | J36: ='Beoordelaar 8'!I7 -> SCORE
B37: Beoordelaar 9 | D37: ='Beoordelaar 9'!C7 -> SCORE | G37: ='Beoordelaar 9'!F7 -> SCORE | J37: ='Beoordelaar 9'!I7 -> SCORE
B38: Beoordelaar 10 | D38: ='Beoordelaar 10'!C7 -> SCORE | G38: ='Beoordelaar 10'!F7 -> SCORE | J38: ='Beoordelaar 10'!I7 -> SCORE
B39: Beoordelaar 11 | D39: ='Beoordelaar 11'!C7 -> SCORE | G39: ='Beoordelaar 11'!F7 -> SCORE | J39: ='Beoordelaar 11'!I7 -> SCORE
A40: Consensus | D40: SCORE: | G40: SCORE: | J40: SCORE:
D41: =IF(D40="Beter","€ 2.500",IF(D40="Vergelijkbaar","€ 0",IF(D40="Acceptabel verbeterpunt","-€ 10.000",IF(D40="Onacceptabel verbeterpunt","UITSLUITING"," ")))) | G41: =IF(G40="Beter","€ 2.500",IF(G40="Vergelijkbaar","€ 0",IF(G40="Acceptabel verbeterpunt","-€ 10.000",IF(G40="Onacceptabel verbeterpunt","UITSLUITING"," ")))) | J41: =IF(J40="Beter","€ 2.500",IF(J40="Vergelijkbaar","€ 0",IF(J40="Acceptabel verbeterpunt","-€ 10.000",IF(J40="Onacceptabel verbeterpunt","UITSLUITING"," "))))
A42: ='Beoordelen geboden oplossing'!A7 -> 4. Werking touch met hand/ vinger en werking gumfunctie (beoordelaar doet beide handelingen). | B42: Beoordelaar 1 | D42: ='Beoordelaar 1'!C9 -> SCORE | E42: <<MOTIVATIE>> | G42: ='Beoordelaar 1'!F9 -> SCORE | H42: <<MOTIVATIE>> | J42: ='Beoordelaar 1'!I9 -> SCORE | K42: <<MOTIVATIE>>
B43: Beoordelaar 2 | D43: ='Beoordelaar 2'!C9 -> SCORE | G43: ='Beoordelaar 2'!F9 -> SCORE | J43: ='Beoordelaar 2'!I9 -> SCORE
B44: Beoordelaar 3 | D44: ='Beoordelaar 3'!C9 -> SCORE | G44: ='Beoordelaar 3'!F9 -> SCORE | J44: ='Beoordelaar 3'!I9 -> SCORE
B45: Beoordelaar 4 | D45: ='Beoordelaar 4'!C9 -> SCORE | G45: ='Beoordelaar 4'!F9 -> SCORE | J45: ='Beoordelaar 4'!I9 -> SCORE
B46: Beoordelaar 5 | D46: ='Beoordelaar 5'!C9 -> SCORE | G46: ='Beoordelaar 5'!F9 -> SCORE | J46: ='Beoordelaar 5'!I9 -> SCORE
B47: Beoordelaar 6 | D47: ='Beoordelaar 6'!C9 -> SCORE | G47: ='Beoordelaar 6'!F9 -> SCORE | J47: ='Beoordelaar 6'!I9 -> SCORE
B48: Beoordelaar 7 | D48: ='Beoordelaar 7'!C9 -> SCORE | G48: ='Beoordelaar 7'!F9 -> SCORE | J48: ='Beoordelaar 7'!I9 -> SCORE
B49: Beoordelaar 8 | D49: ='Beoordelaar 8'!C9 -> SCORE | G49: ='Beoordelaar 8'!F9 -> SCORE | J49: ='Beoordelaar 8'!I9 -> SCORE
B50: Beoordelaar 9 | D50: ='Beoordelaar 9'!C9 -> SCORE | G50: ='Beoordelaar 9'!F9 -> SCORE | J50: ='Beoordelaar 9'!I9 -> SCORE
B51: Beoordelaar 10 | D51: ='Beoordelaar 10'!C9 -> SCORE | G51: ='Beoordelaar 10'!F9 -> SCORE | J51: ='Beoordelaar 10'!I9 -> SCORE
B52: Beoordelaar 11 | D52: ='Beoordelaar 11'!C9 -> SCORE | G52: ='Beoordelaar 11'!F9 -> SCORE | J52: ='Beoordelaar 11'!I9 -> SCORE
A53: Consensus | D53: SCORE: | G53: SCORE: | J53: SCORE:
D54: =IF(D53="Beter","€ 2.500",IF(D53="Vergelijkbaar","€ 0",IF(D53="Acceptabel verbeterpunt","-€ 10.000",IF(D53="Onacceptabel verbeterpunt","UITSLUITING"," ")))) | G54: =IF(G53="Beter","€ 2.500",IF(G53="Vergelijkbaar","€ 0",IF(G53="Acceptabel verbeterpunt","-€ 10.000",IF(G53="Onacceptabel verbeterpunt","UITSLUITING"," ")))) | J54: =IF(J53="Beter","€ 2.500",IF(J53="Vergelijkbaar","€ 0",IF(J53="Acceptabel verbeterpunt","-€ 10.000",IF(J53="Onacceptabel verbeterpunt","UITSLUITING"," "))))
A55: ='Beoordelen geboden oplossing'!A8 -> 5. Werking digitaal whiteboard; schrijffunctie en eenvoud van de bediening vanaf een device (dit wordt getest binnen de whiteboard functie van het scherm). | B55: Beoordelaar 1 | D55: ='Beoordelaar 1'!C11 -> SCORE | E55: <<MOTIVATIE>> | G55: ='Beoordelaar 1'!F11 -> SCORE | H55: <<MOTIVATIE>> | J55: ='Beoordelaar 1'!I11 -> SCORE | K55: <<MOTIVATIE>>
B56: Beoordelaar 2 | D56: ='Beoordelaar 2'!C11 -> SCORE | G56: ='Beoordelaar 2'!F11 -> SCORE | J56: ='Beoordelaar 2'!I11 -> SCORE
B57: Beoordelaar 3 | D57: ='Beoordelaar 3'!C11 -> SCORE | G57: ='Beoordelaar 3'!F11 -> SCORE | J57: ='Beoordelaar 3'!I11 -> SCORE
B58: Beoordelaar 4 | D58: ='Beoordelaar 4'!C11 -> SCORE | G58: ='Beoordelaar 4'!F11 -> SCORE | J58: ='Beoordelaar 4'!I11 -> SCORE
B59: Beoordelaar 5 | D59: ='Beoordelaar 5'!C11 -> SCORE | G59: ='Beoordelaar 5'!F11 -> SCORE | J59: ='Beoordelaar 5'!I11 -> SCORE
B60: Beoordelaar 6 | D60: ='Beoordelaar 6'!C11 -> SCORE | G60: ='Beoordelaar 6'!F11 -> SCORE | J60: ='Beoordelaar 6'!I11 -> SCORE
B61: Beoordelaar 7 | D61: ='Beoordelaar 7'!C11 -> SCORE | G61: ='Beoordelaar 7'!F11 -> SCORE | J61: ='Beoordelaar 7'!I11 -> SCORE
B62: Beoordelaar 8 | D62: ='Beoordelaar 8'!C11 -> SCORE | G62: ='Beoordelaar 8'!F11 -> SCORE | J62: ='Beoordelaar 8'!I11 -> SCORE
B63: Beoordelaar 9 | D63: ='Beoordelaar 9'!C11 -> SCORE | G63: ='Beoordelaar 9'!F11 -> SCORE | J63: ='Beoordelaar 9'!I11 -> SCORE
B64: Beoordelaar 10 | D64: ='Beoordelaar 10'!C11 -> SCORE | G64: ='Beoordelaar 10'!F11 -> SCORE | J64: ='Beoordelaar 10'!I11 -> SCORE
B65: Beoordelaar 11 | D65: ='Beoordelaar 11'!C11 -> SCORE | G65: ='Beoordelaar 11'!F11 -> SCORE | J65: ='Beoordelaar 11'!I11 -> SCORE
A66: Consensus | D66: SCORE: | G66: SCORE: | J66: SCORE:
D67: =IF(D66="Beter","€ 2.500",IF(D66="Vergelijkbaar","€ 0",IF(D66="Acceptabel verbeterpunt","-€ 10.000",IF(D66="Onacceptabel verbeterpunt","UITSLUITING"," ")))) | G67: =IF(G66="Beter","€ 2.500",IF(G66="Vergelijkbaar","€ 0",IF(G66="Acceptabel verbeterpunt","-€ 10.000",IF(G66="Onacceptabel verbeterpunt","UITSLUITING"," ")))) | J67: =IF(J66="Beter","€ 2.500",IF(J66="Vergelijkbaar","€ 0",IF(J66="Acceptabel verbeterpunt","-€ 10.000",IF(J66="Onacceptabel verbeterpunt","UITSLUITING"," "))))
A68: ='Beoordelen geboden oplossing'!A9 -> 6. Werking gumfunctie met hand/vinger (beoordelaar doet beide handelingen). | B68: Beoordelaar 1 | D68: ='Beoordelaar 1'!C13 -> SCORE | E68: <<MOTIVATIE>> | G68: ='Beoordelaar 1'!F13 -> SCORE | H68: <<MOTIVATIE>> | J68: ='Beoordelaar 1'!I13 -> SCORE | K68: <<MOTIVATIE>>
B69: Beoordelaar 2 | D69: ='Beoordelaar 2'!C13 -> SCORE | G69: ='Beoordelaar 2'!F13 -> SCORE | J69: ='Beoordelaar 2'!I13 -> SCORE
B70: Beoordelaar 3 | D70: ='Beoordelaar 3'!C13 -> SCORE | G70: ='Beoordelaar 3'!F13 -> SCORE | J70: ='Beoordelaar 3'!I13 -> SCORE
B71: Beoordelaar 4 | D71: ='Beoordelaar 4'!C13 -> SCORE | G71: ='Beoordelaar 4'!F13 -> SCORE | J71: ='Beoordelaar 4'!I13 -> SCORE
B72: Beoordelaar 5 | D72: ='Beoordelaar 5'!C13 -> SCORE | G72: ='Beoordelaar 5'!F13 -> SCORE | J72: ='Beoordelaar 5'!I13 -> SCORE
B73: Beoordelaar 6 | D73: ='Beoordelaar 6'!C13 -> SCORE | G73: ='Beoordelaar 6'!F13 -> SCORE | J73: ='Beoordelaar 6'!I13 -> SCORE
B74: Beoordelaar 7 | D74: ='Beoordelaar 7'!C13 -> SCORE | G74: ='Beoordelaar 7'!F13 -> SCORE | J74: ='Beoordelaar 7'!I13 -> SCORE
B75: Beoordelaar 8 | D75: ='Beoordelaar 8'!C13 -> SCORE | G75: ='Beoordelaar 8'!F13 -> SCORE | J75: ='Beoordelaar 8'!I13 -> SCORE
B76: Beoordelaar 9 | D76: ='Beoordelaar 9'!C13 -> SCORE | G76: ='Beoordelaar 9'!F13 -> SCORE | J76: ='Beoordelaar 9'!I13 -> SCORE
B77: Beoordelaar 10 | D77: ='Beoordelaar 10'!C13 -> SCORE | G77: ='Beoordelaar 10'!F13 -> SCORE | J77: ='Beoordelaar 10'!I13 -> SCORE
B78: Beoordelaar 11 | D78: ='Beoordelaar 11'!C13 -> SCORE | G78: ='Beoordelaar 11'!F13 -> SCORE | J78: ='Beoordelaar 11'!I13 -> SCORE
A79: Consensus | D79: SCORE: | G79: SCORE: | J79: SCORE:
D80: =IF(D79="Beter","€ 2.500",IF(D79="Vergelijkbaar","€ 0",IF(D79="Acceptabel verbeterpunt","-€ 10.000",IF(D79="Onacceptabel verbeterpunt","UITSLUITING"," ")))) | G80: =IF(G79="Beter","€ 2.500",IF(G79="Vergelijkbaar","€ 0",IF(G79="Acceptabel verbeterpunt","-€ 10.000",IF(G79="Onacceptabel verbeterpunt","UITSLUITING"," ")))) | J80: =IF(J79="Beter","€ 2.500",IF(J79="Vergelijkbaar","€ 0",IF(J79="Acceptabel verbeterpunt","-€ 10.000",IF(J79="Onacceptabel verbeterpunt","UITSLUITING"," "))))
A81: ='Beoordelen geboden oplossing'!A10 -> 7. Werking ‘freezen’ scherm (zie ook programma van eisen) waarbij de docent nog kan werken op de eigen device. | B81: Beoordelaar 1 | D81: ='Beoordelaar 1'!C15 -> SCORE | E81: <<MOTIVATIE>> | G81: ='Beoordelaar 1'!F15 -> SCORE | H81: <<MOTIVATIE>> | J81: ='Beoordelaar 1'!I15 -> SCORE | K81: <<MOTIVATIE>>
B82: Beoordelaar 2 | D82: ='Beoordelaar 2'!C15 -> SCORE | G82: ='Beoordelaar 2'!F15 -> SCORE | J82: ='Beoordelaar 2'!I15 -> SCORE
B83: Beoordelaar 3 | D83: ='Beoordelaar 3'!C15 -> SCORE | G83: ='Beoordelaar 3'!F15 -> SCORE | J83: ='Beoordelaar 3'!I15 -> SCORE
B84: Beoordelaar 4 | D84: ='Beoordelaar 4'!C15 -> SCORE | G84: ='Beoordelaar 4'!F15 -> SCORE | J84: ='Beoordelaar 4'!I15 -> SCORE
B85: Beoordelaar 5 | D85: ='Beoordelaar 5'!C15 -> SCORE | G85: ='Beoordelaar 5'!F15 -> SCORE | J85: ='Beoordelaar 5'!I15 -> SCORE
B86: Beoordelaar 6 | D86: ='Beoordelaar 6'!C15 -> SCORE | G86: ='Beoordelaar 6'!F15 -> SCORE | J86: ='Beoordelaar 6'!I15 -> SCORE
B87: Beoordelaar 7 | D87: ='Beoordelaar 7'!C15 -> SCORE | G87: ='Beoordelaar 7'!F15 -> SCORE | J87: ='Beoordelaar 7'!I15 -> SCORE
B88: Beoordelaar 8 | D88: ='Beoordelaar 8'!C15 -> SCORE | G88: ='Beoordelaar 8'!F15 -> SCORE | J88: ='Beoordelaar 8'!I15 -> SCORE
B89: Beoordelaar 9 | D89: ='Beoordelaar 9'!C15 -> SCORE | G89: ='Beoordelaar 9'!F15 -> SCORE | J89: ='Beoordelaar 9'!I15 -> SCORE
B90: Beoordelaar 10 | D90: ='Beoordelaar 10'!C15 -> SCORE | G90: ='Beoordelaar 10'!F15 -> SCORE | J90: ='Beoordelaar 10'!I15 -> SCORE
B91: Beoordelaar 11 | D91: ='Beoordelaar 11'!C15 -> SCORE | G91: ='Beoordelaar 11'!F15 -> SCORE | J91: ='Beoordelaar 11'!I15 -> SCORE
A92: Consensus | D92: SCORE: | G92: SCORE: | J92: SCORE:
D93: =IF(D92="Beter","€ 2.500",IF(D92="Vergelijkbaar","€ 0",IF(D92="Acceptabel verbeterpunt","-€ 10.000",IF(D92="Onacceptabel verbeterpunt","UITSLUITING"," ")))) | G93: =IF(G92="Beter","€ 2.500",IF(G92="Vergelijkbaar","€ 0",IF(G92="Acceptabel verbeterpunt","-€ 10.000",IF(G92="Onacceptabel verbeterpunt","UITSLUITING"," ")))) | J93: =IF(J92="Beter","€ 2.500",IF(J92="Vergelijkbaar","€ 0",IF(J92="Acceptabel verbeterpunt","-€ 10.000",IF(J92="Onacceptabel verbeterpunt","UITSLUITING"," "))))
A94: ='Beoordelen geboden oplossing'!A11 -> 8. Werking van elektrische lift en de gebruikersvriendelijkheid daarvan. | B94: Beoordelaar 1 | D94: ='Beoordelaar 1'!C17 -> SCORE | E94: <<MOTIVATIE>> | G94: ='Beoordelaar 1'!F17 -> SCORE | H94: <<MOTIVATIE>> | J94: ='Beoordelaar 1'!I17 -> SCORE | K94: <<MOTIVATIE>>
B95: Beoordelaar 2 | D95: ='Beoordelaar 2'!C17 -> SCORE | G95: ='Beoordelaar 2'!F17 -> SCORE | J95: ='Beoordelaar 2'!I17 -> SCORE
B96: Beoordelaar 3 | D96: ='Beoordelaar 3'!C17 -> SCORE | G96: ='Beoordelaar 3'!F17 -> SCORE | J96: ='Beoordelaar 3'!I17 -> SCORE
B97: Beoordelaar 4 | D97: ='Beoordelaar 4'!C17 -> SCORE | G97: ='Beoordelaar 4'!F17 -> SCORE | J97: ='Beoordelaar 4'!I17 -> SCORE
B98: Beoordelaar 5 | D98: ='Beoordelaar 5'!C17 -> SCORE | G98: ='Beoordelaar 5'!F17 -> SCORE | J98: ='Beoordelaar 5'!I17 -> SCORE
B99: Beoordelaar 6 | D99: ='Beoordelaar 6'!C17 -> SCORE | G99: ='Beoordelaar 6'!F17 -> SCORE | J99: ='Beoordelaar 6'!I17 -> SCORE
B100: Beoordelaar 7 | D100: ='Beoordelaar 7'!C17 -> SCORE | G100: ='Beoordelaar 7'!F17 -> SCORE | J100: ='Beoordelaar 7'!I17 -> SCORE
...
