Workbook

Sheet 1. Voorblad
C3: Bijlage Prijzenblad
C6: Toelichting:
C7: In dit prijzenblad vult u uw definitieve prijzen in voor uw Inschrijving. De genoemde aantallen zijn fictief en zijn opgesteld voor een goed prijsvergelijk. Hier kunnen dan ook geen rechten aan ontleend worden.
C9: Legenda:
C10: Tekst | D10: Invoer Gemeente. Niet wijzigen.
C11: Invoer | D11: Cellen bestemd voor uw invoer. Inschrijver dient deze cellen in dit Prijzenblad in te vullen. Het niet of niet op juiste wijze invullen van dit Prijzenblad kan leiden tot uitsluiting van deze Aanbesteding.
C14: Totalen | D14: Berekeningen van totalen in werkblad. Niet wijzigen.
C15: Uw fictieve Inschrijfprijs | D15: Berekening van uw fictieve Inschrijfprijs. Niet wijzigen.
D17: De bedragen bevatten alle kosten die nodig zijn voor het uitvoeren van de werkzaamheden inclusief overhead, uitvoeringskosten, reiskosten, algemene kosten, winst en risico, afschrijvingskosten en dergelijke.
C19: CONTACTGEGEVENS INSCHRIJVER
C20: Onderneming:
C21: Datum:
C22: TenderNed kenmerk
C23: TOTAAL KOSTEN
C25: Omschrijving | G25: Bedrag in €
C26: 1. Kosten sociaal beheer | G26: ='2. Invulblad'!H9 -> 0
C28: 2. Kosten schoonmaak | G28: ='2. Invulblad'!H15 -> 0
C29: 3. Implementatiekosten | G29: ='2. Invulblad'!H20 -> 0
C30: TOTALE KOSTEN | G30: =SUM(G26:H29) -> 0
C32: UW TOTALE FICTIEVE INSCHRIJFPRIJS | G32: =G30 -> 0
C33: LET OP: Minimale inschrijfwaarde EUR 350.000,00 Maximale inschrijfwaarde EUR 700.000,00 Als uw opgegeven prijs niet binnen de opgegeven bedragen ligt, leidt tot terzijde leggen van de inschrijving en uitsluiting van verdere deelname aan de aanbestedingsprocedure!
D34: De inschrijver(s) verklaart/verklaren (door middel van ondertekening UEA) dat deze inschrijving wordt gedaan overeenkomstig de bepalingen van het aanbestedingsdocument “Aanbestedingsdocument Sociaal beheer opvanglocatie Oekraïense Ontheemden''en met inachtneming van de bepalingen en gegevens zoals deze zijn omschreven in genoemd aanbestedingsdocument , het PvE en de eventuele nota('s) van inlichtingen.

Sheet 2. Invulblad
C3: Prijzenblad
C5: 1. Kosten sociaal beheer
C6: Nr. | D6: Omschrijving | F6: (Fictief) aantal uren | G6: Prijs per uur | H6: Subtotaal per jaar
C7: 1.1 | D7: Operationeel medewerker | F7: =18.5*7.25 -> 134.125 | G7: 0 | H7: =F7*G7*52 -> 0
C8: 1.2 | D8: Coördinerend medewerker (locatiemanagement) | F8: 8 | G8: 0 | H8: =F8*G8*52 -> 0
F9: Subtotaal beheerskosten per jaar | H9: =SUM(H7:H8) -> 0
C12: 2. Kosten schoonmaak
C13: Nr. | D13: Omschrijving | G13: Prijs per maand | H13: Subtotaal per jaar
C14: 2.1 | D14: Maandelijkse schoonmaakkosten Cuijksesteeg 2 | G14: 0 | H14: =G14*12 -> 0
F15: Subtotaal schoonmaakkosten per jaar | H15: =SUM(H14:H14) -> 0
C17: 3. Implementatiekosten
C18: Nr. | D18: Omschrijving | G18: All-in prijs | H18: Subtotaal
C19: 3.1 | G19: 0 | H19: =G19 -> 0
F20: Subtotale implementatiekosten | H20: =H19 -> 0
C25: 1. Kosten sociaal beheer | G25: ='2. Invulblad'!H9 -> 0
G28: ='2. Invulblad'!H20 -> 0
C86: Optioneel. Kosten beveiliging
C87: Nr. | D87: Omschrijving | E87: Eenheid | F87: (Fictieve) uren per jaar | G87: Prijs per uur | H87: Subtotaal per jaar
C88: 4.1 | D88: Ronde 1 (kort na 22:00 uur) op weekdagen | E88: per ronde per locatie | F88: 520 | G88: 0 | H88: =F88*G88 -> 0
C89: 2.2 | D89: Ronde 2 (Tussen 02:00 en 06:00 uur) op weekdagen | E89: per ronde per locatie | F89: 520 | G89: 0 | H89: =F89*G89 -> 0
C91: 2.3 | D91: Ronde 1 (kort na 22:00 uur) weekend | E91: per ronde per locatie | F91: 208 | G91: 0 | H91: =F91*G91 -> 0
C92: 4.2 | D92: Ronde 2 (Tussen 02:00 en 06:00 uur) weekend | E92: per ronde per locatie | F92: 208 | G92: 0 | H92: =F92*G92 -> 0
C93: 4.3 | D93: Ronde 3 (Tussen 10:00 en 16:00 uur) weekend | E93: per ronde per locatie | F93: 208 | G93: 0 | H93: =F93*G93 -> 0
C94: 4.4 | D94: Prijs per uur voor extra inzet | E94: per uur | F94: 100 | G94: 0 | H94: =F94*G94 -> 0
F95: Subtotaal beveiligingskosten per jaar | H95: =SUM(H88:H94) -> 0

Sheet schoonmaakprogramma
A7: Schoonmaakhandeling | C7: Dag van de week | J7: Week van de maand
A9: Interieur | B9: Werkzaamheden (schoonmaak van trappen, gangen, gemeenschappelijke ruimtes, toiletten en keukens in het voormalige hospice) | C9: ma | D9: di | E9: wo | F9: do | G9: vr | H9: za | I9: zo | J9: 1 | K9: 2 | L9: 3 | M9: 4 | N9: 5
A10: Afvalbakken | B10: legen en zak verwisselen | C10: x | K10: x
A11: lege tafels en bureaus | B11: klamvochtig afnemen | D11: x | L11: x
A12: Deuren en hoge kasten | B12: Vingertasten verwijderen | E12: x | M12: x
A13: Deuren en omlijsting | B13: klamvochtig afnemen | F13: x | N13: x
A14: Stoelen (bekleed) | B14: stofzuigen | G14: x | M14: x
A15: radiatoren, richels en vensterbanken | B15: bovenzijde klamvochtig afnemen | H15: x | L15: x
A16: zachte vloeren | B16: stofzuigen | I16: x | K16: x
A17: harde vloeren | B17: stofwissen/klamvochtig vlekverwijderen | J17: x
A18: Sanitair (op de begane grond en MIVA) | B18: Werkzaamheden | C18: ma | D18: di | E18: wo | F18: do | G18: vr | H18: za | I18: zo | J18: 1 | K18: 2 | L18: 3 | M18: 4 | N18: 5
A19: Sanitaire voorzieningen | B19: aanvullen (dagelijks en naar behoefte) | C19: x
A20: Sanitaire voorzieningen | B20: klamvochtig afnemen | D20: x
A21: Afvalbakken | B21: legen en zak verwisselen | E21: x
A22: Sanitair | B22: in- en uitwendig reinigen | F22: x
A23: Vloeren | B23: moppen | G23: x
A24: Wanden | B24: vlekverwijderen | H24: x
A25: Deuren rondom de deurkruk | B25: klamvochtig afnemen/ vlekverwijderen | I25: x
A26: Tegelwanden | B26: reinigen | J26: x
A27: Spiegels | B27: geheel reinigen | K27: x
A28: radiatoren, richels en vensterbanken | B28: buitenzijde klamvochtig reinigen | L28: x | N28: x
A29: Sanitair algemeen | B29: kalksteen verwijderen | M29: x
A30: Laagfrequentie | B30: Werkzaamheden | C30: jan | D30: feb | E30: mrt | F30: apr | G30: mei | H30: jun | I30: jul | J30: aug | K30: sept | L30: okt | M30: nov | N30: dec
A31: Hoge kasten | B31: bovenzijde klamvochtig afnemen
A32: Wanden en plafonds | B32: raggen (en bij waarneming)
A33: Luchtroosters | B33: reinigen
A34: Buitenterrein | B34: buiten meubilair incl toestellen afnemen
A35: Radiatoren reinigen | B35: reiningen
A36: Meubilair reinigen | B36: reinigen
