Workbook

Sheet Handleiding
B4: Instructies voor het document
B6: Handleiding prijzenblad Catering
B7: Dit prijzenblad is onderdeel van de aanbestedingsdocumenten behorende bij de Europese aanbesteding Catering met kenmerk 2024-42 ten behoeve van de gemeente Zaanstad. Inschrijvers dienen het prijzenblad volledig, onvoorwaardelijk en waarheidsgetrouw in te vullen, en rechtgeldig ondertekend bij de Inschrijving bij te voegen.
B8: De doelstellingen van het prijzenblad zijn om van Inschrijver een volledige, eenduidige en vergelijkbare prijsaanbieding te ontvangen, en om voor de uitvoering van de overeenkomst passende financiële- en managementinformatie te verkrijgen, zodat het financieel contractbeheer optimaal rendement oplevert.
B9: Het is Inschrijvers niet toegestaan wijzigingen in het prijzenblad aan te brengen, zoals regels toevoegen/verwijderen en formules wijzigen, op straffe van uitsluiting van de verdere aanbestedingsprocedure.
B10: Dit prijzenblad is gedeeltelijk geautomatiseerd. Inschrijvers zijn zelf verantwoordelijk voor de juistheid van de ingevulde gegevens. Opdrachtgever neemt hiervoor geen enkele verantwoordelijkheid.
B11: Bedragen dienen exclusief BTW vermeld te worden. De leverancier dient rekening te houden met het prijspeil zoals aangegeven in de offerteleidraad.
B12: Aan de in dit prijzenblad vermelde gegevens kunnen geen rechten worden ontleend.
B13: Inschrijver wordt gevraagd alleen de oranje velden in te vullen.
B14: Aanpassingen naar aanleiding van Nota van Inlichtingen 1 zijn rood gemaakt

Sheet Organisatie profiel
B8: Organisatieprofiel
B10: Organisatienaam | D10: Naam tekeningsbevoegde functionaris
B13: Straat | D13: Functie tekeningsbevoegde functionaris
B16: Postcode, Stad | D16: Handtekening
B19: Datum

Sheet Samenvatting catering
B8: Gemeente Zaanstad
B9: Cateringkosten totaal (excl. btw)
C10: Espressobar | D10: Plaza
B11: Personeelkosten per jaar (excl. btw) | C11: ='Personeelskosten Espressobar'!K13 -> 0 | D11: ='Personeelskosten Plaza'!K11 -> 0
B12: Restaurantkosten per jaar (excl. btw) | C12: ='Restaurantkosten Espressobar'!C22 -> 0 | D12: ='Restaurantkosten Plaza'!C22 -> 0
B13: Vaste verrekenprijs banqueting | C13: ='Vaste verrekenprijs banqueting'!I20 -> 0
B14: Totale kosten | C14: =SUM(C11:C13) -> 0 | D14: =SUM(D11:D13) -> 0
B15: Eventueel gevraagde beheervergoeding | C15: 0 | D15: 0
B16: Totaal inschrijfprijs per jaar (excl. btw) | C16: {=SUM((C11:C13)+C15)} -> 0 | D16: {=SUM(D11:D13+D15)} -> 0

Sheet Personeelskosten Espressobar
B2: Personeelskosten Espressobar*
B3: Functie medewerker | C3: CAO-schaal | D3: Uurtarief daguren (ma - vr: 08:00 uur - 18:00 uur) | E3: Uurtarief avonduren (ma - vr: 18:00 uur - 22:00 uur) | F3: Uurtarief nachturen (ma - vr: 22:00 uur - 07:00 uur) | G3: Gewogen gemiddeld uurtarief (excl. btw) | H3: Btw percentage | I3: Gewogen gemiddeld uurtarief (incl. btw) | J3: Aantal uren inzet* | K3: Totale fictieve kosten (excl. btw)
B4: Weging uurtarief | D4: 0.8 | E4: 0.15 | F4: 0.05
B5: Cateringmedewerker | G5: =SUM((D5*$D$4)+(E5*$E$4)+(F5*$F$4)) -> 0 | H5: 0 | I5: =G5+(G5*H5) -> 0 | K5: =SUM(J5*G5) -> 0
B6: Cateringbeheerder (op de locatie) | G6: =SUM((D6*$D$4)+(E6*$E$4)+(F6*$F$4)) -> 0 | H6: 0 | I6: =G6+(G6*H6) -> 0 | K6: =SUM(J6*G6) -> 0
G7: =SUM((D7*$D$4)+(E7*$E$4)+(F7*$F$4)) -> 0 | H7: 0 | I7: =G7+(G7*H7) -> 0 | K7: =SUM(J7*G7) -> 0
G8: =SUM((D8*$D$4)+(E8*$E$4)+(F8*$F$4)) -> 0 | H8: 0 | I8: =G8+(G8*H8) -> 0 | K8: =SUM(J8*G8) -> 0
G9: =SUM((D9*$D$4)+(E9*$E$4)+(F9*$F$4)) -> 0 | H9: 0 | I9: =G9+(G9*H9) -> 0 | K9: =SUM(J9*G9) -> 0
G10: =SUM((D10*$D$4)+(E10*$E$4)+(F10*$F$4)) -> 0 | H10: 0 | I10: =G10+(G10*H10) -> 0 | K10: =SUM(J10*G10) -> 0
G11: =SUM((D11*$D$4)+(E11*$E$4)+(F11*$F$4)) -> 0 | H11: 0 | I11: =G11+(G11*H11) -> 0 | K11: =SUM(J11*G11) -> 0
G12: =SUM((D12*$D$4)+(E12*$E$4)+(F12*$F$4)) -> 0 | H12: 0 | I12: =G12+(G12*H12) -> 0 | K12: =SUM(J12*G12) -> 0
I13: Totale fictieve personeelskosten per jaar (excl. btw) | K13: =SUM(K5:K12) -> 0
B14: * op basis van 255 dagen openstelling en het aantal contracturen van de in dienst zijnde medewerkers in het jaar 2023, aan deze uren kunnen geen rechten worden ontleend.

Sheet Personeelskosten Plaza
B2: Personeelskosten Plaza*
B3: Functie medewerker | C3: CAO-schaal | D3: Uurtarief daguren (ma - vr: 08:00 uur - 18:00 uur) | E3: Uurtarief avonduren (ma - vr: 18:00 uur - 22:00 uur) | F3: Uurtarief nachturen (ma - vr: 22:00 uur - 07:00 uur) | G3: Gewogen gemiddeld uurtarief (excl. btw) | H3: Btw percentage | I3: Gewogen gemiddeld uurtarief (incl. btw) | J3: fictieve aantal uren inzet* | K3: Totale fictieve kosten (excl. btw)
B4: Weging uurtarief | D4: 0.8 | E4: 0.15 | F4: 0.05
B5: Cateringmedewerker | G5: =SUM((D5*$D$4)+(E5*$E$4)+(F5*$F$4)) -> 0 | H5: 0 | I5: =G5+(G5*H5) -> 0 | K5: =SUM(J5*G5) -> 0
G6: =SUM((D6*$D$4)+(E6*$E$4)+(F6*$F$4)) -> 0 | H6: 0 | I6: =G6+(G6*H6) -> 0 | K6: =SUM(J6*G6) -> 0
G7: =SUM((D7*$D$4)+(E7*$E$4)+(F7*$F$4)) -> 0 | H7: 0 | I7: =G7+(G7*H7) -> 0 | K7: =SUM(J7*G7) -> 0
G8: =SUM((D8*$D$4)+(E8*$E$4)+(F8*$F$4)) -> 0 | H8: 0 | I8: =G8+(G8*H8) -> 0 | K8: =SUM(J8*G8) -> 0
G9: =SUM((D9*$D$4)+(E9*$E$4)+(F9*$F$4)) -> 0 | H9: 0 | I9: =G9+(G9*H9) -> 0 | K9: =SUM(J9*G9) -> 0
G10: =SUM((D10*$D$4)+(E10*$E$4)+(F10*$F$4)) -> 0 | H10: 0 | I10: =G10+(G10*H10) -> 0 | K10: =SUM(J10*G10) -> 0
I11: Totale fictieve personeelskosten per jaar (excl. btw) | K11: =SUM(K5:K10) -> 0
B12: * op basis van 255 dagen openstelling en het aantal contracturen van de in dienst zijnde medewerkers in het jaar 2023, aan deze uren kunnen geen rechten worden ontleend.

Sheet Restaurantkosten Espressobar
B2: Restaurantkosten Espressobar*
B3: Omschrijving | C3: Kosten per jaar excl. btw | D3: BTW percentage | E3: Omzet | F3: Kosten per jaar incl. btw
C4: 0 | D4: 0 | E4: 0 | F4: =C4+(C4*D4)-E4 -> 0
C5: 0 | D5: 0 | E5: 0 | F5: =C5+(C5*D5)-E5 -> 0
C6: 0 | D6: 0 | E6: 0 | F6: =C6+(C6*D6)-E6 -> 0
C7: 0 | D7: 0 | E7: 0 | F7: =C7+(C7*D7)-E7 -> 0
C8: 0 | D8: 0 | E8: 0 | F8: =C8+(C8*D8)-E8 -> 0
C9: 0 | D9: 0 | E9: 0 | F9: =C9+(C9*D9)-E9 -> 0
C10: 0 | D10: 0 | E10: 0 | F10: =C10+(C10*D10)-E10 -> 0
C11: 0 | D11: 0 | E11: 0 | F11: =C11+(C11*D11)-E11 -> 0
C12: 0 | D12: 0 | E12: 0 | F12: =C12+(C12*D12)-E12 -> 0
C13: 0 | D13: 0 | E13: 0 | F13: =C13+(C13*D13)-E13 -> 0
C14: 0 | D14: 0 | E14: 0 | F14: =C14+(C14*D14)-E14 -> 0
C15: 0 | D15: 0 | E15: 0 | F15: =C15+(C15*D15)-E15 -> 0
... C21: 0 | D21: 0 | E21: 0 | F21: =C21+(C21*D21)-E21 -> 0
B22: Totaal restaurantkosten | C22: =SUM(C4:C21) -> 0 | F22: =SUM(F4:F21) -> 0
B25: * De gemeente Zaanstad daagt de inschrijvende partij uit om zelf een inschatting te maken voor de restaurant kosten, de gemeente denkt hier bijvoorbeeld aan de volgende kosten: Ingrediëntkosten, kantoorartikelen, disposables, automatisering, verzekeringen, Arbo en veiligheid etc. Deze kosten zijn niet limitatief, het is aan de inschrijvende partij om deze kosten aan te geven. Echter dienen in deze kosten wel alle kosten (exclusief personeelskosten) voor deze dienstverlening te zijn verwerkt.

Sheet Restaurantkosten Plaza
B2: Restaurantkosten Plaza*
B3: Omschrijving | C3: Kosten per jaar excl. btw | D3: BTW percentage | E3: Omzet | F3: Kosten per jaar incl. btw
C4: 0 | D4: 0 | E4: 0 | F4: =C4+(C4*D4)-E4 -> 0
C5: 0 | D5: 0 | E5: 0 | F5: =C5+(C5*D5)-E5 -> 0
C6: 0 | D6: 0 | E6: 0 | F6: =C6+(C6*D6)-E6 -> 0
C7: 0 | D7: 0 | E7: 0 | F7: =C7+(C7*D7)-E7 -> 0
C8: 0 | D8: 0 | E8: 0 | F8: =C8+(C8*D8)-E8 -> 0
C9: 0 | D9: 0 | E9: 0 | F9: =C9+(C9*D9)-E9 -> 0
C10: 0 | D10: 0 | E10: 0 | F10: =C10+(C10*D10)-E10 -> 0
C11: 0 | D11: 0 | E11: 0 | F11: =C11+(C11*D11)-E11 -> 0
C12: 0 | D12: 0 | E12: 0 | F12: =C12+(C12*D12)-E12 -> 0
C13: 0 | D13: 0 | E13: 0 | F13: =C13+(C13*D13)-E13 -> 0
C14: 0 | D14: 0 | E14: 0 | F14: =C14+(C14*D14)-E14 -> 0
C15: 0 | D15: 0 | E15: 0 | F15: =C15+(C15*D15)-E15 -> 0
... C21: 0 | D21: 0 | E21: 0 | F21: =C21+(C21*D21)-E21 -> 0
B22: Totaal restaurantkosten | C22: =SUM(C4:C21) -> 0 | F22: =SUM(F4:F21) -> 0
B25: * De gemeente Zaanstad daagt de inschrijvende partij uit om zelf een inschatting te maken voor de restaurant kosten, de gemeente denkt hier bijvoorbeeld aan de volgende kosten: Ingrediëntkosten, kantoorartikelen, disposables, automatisering, verzekeringen, Arbo en veiligheid etc. Deze kosten zijn niet limitatief, het is aan de inschrijvende partij om deze kosten aan te geven. Echter dienen in deze kosten wel alle kosten (exclusief personeelskosten) voor deze dienstverlening te zijn verwerkt.

Sheet Vaste verrekenprijs banqueting
B2: Vaste verrekenprijs banqueting*
B3: Arrangement/product | C3: Verrekening | D3: VVPrijs (Excl BTW) | E3: BTW percentage | F3: totaal VVP incl. btw | G3: Verbruik Espressobar 2023* | H3: Verbruik Plaza 2023* | I3: Totale kosten per jaar (excl. btw)
B4: Koffie/Thee arrangement | C4: p.p. | E4: 0 | F4: =D4+(D4*E4) -> 0 | G4: 12002 | H4: 2126 | I4: =SUM((H4+G4)*D4) -> 0
B5: Avondmaaltijd | C5: p.p. | E5: 0 | F5: =D5+(D5*E5) -> 0 | G5: 1208 | H5: 0 | I5: =SUM((H5+G5)*D5) -> 0
B6: Gesorteerd gebak | C6: p.p. | E6: 0 | F6: =D6+(D6*E6) -> 0 | G6: 4519 | H6: 838 | I6: =SUM((H6+G6)*D6) -> 0
B7: Muffin | C7: p.p. | E7: 0 | F7: =D7+(D7*E7) -> 0 | G7: 2102 | H7: 1940 | I7: =SUM((H7+G7)*D7) -> 0
B8: Luxe koek | C8: p.p. | E8: 0 | F8: =D8+(D8*E8) -> 0 | G8: 1038 | H8: 0 | I8: =SUM((H8+G8)*D8) -> 0
B9: Lunch standaard | C9: p.p. | E9: 0 | F9: =D9+(D9*E9) -> 0 | G9: 1622 | H9: 489 | I9: =SUM((G9+H9)*D9) -> 0
B10: Lunch luxe | C10: p.p. | E10: 0 | F10: =D10+(D10*E10) -> 0 | G10: 4979 | H10: 4393 | I10: =SUM((G10+H10)*D10) -> 0
B11: Biologische lunch | C11: p.p. | E11: 0 | F11: =D11+(D11*E11) -> 0 | G11: 263 | H11: 0 | I11: =SUM((G11+H11)*D11) -> 0
B12: Luxe soep | C12: p.p. | E12: 0 | F12: =D12+(D12*E12) -> 0 | G12: 681 | H12: 118 | I12: =SUM((G12+H12)*D12) -> 0
B13: Fruit salade | C13: p.p. | E13: 0 | F13: =D13+(D13*E13) -> 0 | G13: 109 | H13: 68 | I13: =SUM((G13+H13)*D13) -> 0
B14: Handfruit | C14: p.p. | E14: 0 | F14: =D14+(D14*E14) -> 0 | G14: 2579 | H14: 0 | I14: =SUM((G14+H14)*D14) -> 0
B15: Kanwater | C15: p.p. | E15: 0 | F15: =D15+(D15*E15) -> 0 | G15: 4098 | H15: 204 | I15: =SUM((G15+H15)*D15) -> 0
B16: Frisdrank | C16: p.p. | E16: 0 | F16: =D16+(D16*E16) -> 0 | G16: 7545 | H16: 532 | I16: =SUM((G16+H16)*D16) -> 0
B17: Drankenarrangement | C17: p.p. | E17: 0 | F17: =D17+(D17*E17) -> 0 | G17: 3623 | H17: 1704 | I17: =SUM((G17+H17)*D17) -> 0
B18: Koude hapjes | C18: p.p. | E18: 0 | F18: =D18+(D18*E18) -> 0 | G18: 5463 | H18: =SUM(4181+524) -> 4705 | I18: =SUM((G18+H18)*D18) -> 0
B19: Warme hapjes | C19: p.p. | E19: 0 | F19: =D19+(D19*E19) -> 0 | G19: 1581 | H19: 0 | I19: =SUM((G19+H19)*D19) -> 0
G20: Totale kosten per jaar (excl. btw) | I20: =SUM(I4:I19) -> 0
B22: * Verbruik op basis van verbruik 2023, aan deze verbruikcijfers hier kunnen geen rechten aan worden ontleend.
