Workbook

Sheet Totale beoordelingsprijs
C1: Talentis | D1: Cadans1 | E1: Cadans2 | F1: Totale beoordelingsprijs
A2: TOTAAL INSCHRIJVING | C2: =Talentis!D44 -> 0 | D2: ='Cadans 1'!D46 -> 0 | E2: ='Cadans 2'!D46 -> 0 | F2: =C2+D2+E2 -> 0

Sheet Talentis
A2: HARDWARE
A3: Model | B3: Aantal | D3: Huurprijs unit/ mnd bij 60 mnd | E3: Huurbedrag over 60 mnd
A4: Type 1 A3 kleurenmultifunctional 50 ppm | B4: 19 | D4: 0 | E4: =(B4*D4)*60 -> 0
A6: Optioneel: Interne finisher | B6: 12 | D6: 0 | E6: =(B6*D6)*60 -> 0
A8: Optioneel: Booklet finisher | B8: 7 | D8: 0 | E8: =(B8*D8)*60 -> 0
A10: Optioneel: Perforatiekit 2/4 gaat i.c.m. interne, externe of booklet finisher | B10: 5 | D10: 0 | E10: =(B10*D10)*60 -> 0
A12: Optioneel: Bulklade LTC | B12: 1 | D12: 0 | E12: =(B12*D12)*60 -> 0
A14: Optioneel: cardreader | B14: 19 | D14: 0 | E14: =(B14*D14)*60 -> 0
C16: Totalen | E16: =SUM(E4,E6,E8,E10,E14) -> 0
A18: PRINT EN SCANMANAGEMENT SAAS
B19: Aantal | C19: Huurbedrag mnd/ per device | E19: Totaal 60 maanden
A20: licentie per device | B20: 19 | C20: 0 | E20: =((B20*C20)*60) -> 0
D21: Totalen | E21: =SUM(E20:E20) -> 0
A23: OPTIONEEL: ECOBOX
B24: Aantal | C24: Huurbedrag mnd/ per locatie | E24: Totaal 60 maanden
A25: Ecobox per locatie | B25: 17 | C25: 0 | E25: =((B25*C25)*60) -> 0
D26: Totalen | E26: =SUM(E25:E25) -> 0
A28: ONDERHOUD
A29: Afdrukken mfp per maand | B29: Geprognotiseerd aantal | C29: Afdrukprijs | D29: Maandbedrag | E29: Totaal over 60 maanden
A30: Zwart/wit | B30: 173260 | C30: 0 | D30: =B30*C30 -> 0 | E30: =D30*60 -> 0
A31: Kleur | B31: 116799 | C31: 0 | D31: =B31*C31 -> 0 | E31: =D31*60 -> 0
C32: Totalen | D32: =SUM(D30:D31) -> 0 | E32: =SUM(E30:E31) -> 0
A34: PROJECTPRIJS
A35: Projectprijs | B35: Projectprijs éénmalig | C35: Projectprijs bij 60 mnd per maand
A36: Projectprijs | B36: 0 | C36: 0
A37: Let op! Graag een realistisch bedrag (maximaal 3% van de totale inschrijfsom) voor de volledige installatie, implementatie en projectmanagement afgeven.
A40: TOTAAL INSCHRIJVING per maand | B40: Totaal per maand
B41: =((E16+E21+E26+E32)/60)+C36 -> 0
A43: TOTAAL INSCHRIJVING | B43: Totaal prijs huur 60 maanden | C43: Totaal verlenging 2x 1 jaar | D43: Totale beoordelingsprijs
B44: =B41*60 -> 0 | C44: ='Verlenging Talentis'!B37*2 -> 0 | D44: =B44+C44 -> 0

Sheet Verlenging Talentis
A1: HARDWARE
A2: Model | B2: Aantal | D2: Huurprijs unit/ mnd bij 12 mnd | E2: Huurbedrag over 12 mnd
A3: Type 1 A3 kleurenmultifunctional 50 ppm | B3: 19 | D3: 0 | E3: =(B3*D3)*12 -> 0
A5: Optioneel: Interne finisher | B5: 12 | D5: 0 | E5: =(B5*D5)*12 -> 0
A7: Optioneel: Booklet finisher | B7: 7 | D7: 0 | E7: =(B7*D7)*12 -> 0
A9: Optioneel: Perforatiekit 2/4 gaat i.c.m. interne, externe of booklet finisher | B9: 5 | D9: 0 | E9: =(B9*D9)*12 -> 0
A11: Optioneel: Bulklade LTC | B11: 1 | D11: 0 | E11: =(B11*D11)*12 -> 0
A13: Optioneel: cardreader | B13: 19 | D13: 0 | E13: =(B13*D13)*12 -> 0
C14: Totalen | E14: =SUM(E3,E5,E7,E9,E11,E13) -> 0
A16: PRINT EN SCANMANAGEMENT SAAS
B17: Aantal | C17: Huurbedrag mnd | E17: Totaal 12 maanden
A18: licentie per device | B18: 19 | C18: 0 | E18: =((B18*C18)*12) -> 0
D19: Totalen | E19: =SUM(E18:E18) -> 0
A21: OPTIONEEL: ECOBOX
B22: Aantal | C22: Huurbedrag mnd/ per locatie | E22: Totaal 12 maanden
A23: Ecobox per locatie | B23: 17 | C23: 0 | E23: =((B23*C23)*12) -> 0
D24: Totalen | E24: =SUM(E23:E23) -> 0
A26: ONDERHOUD
A27: Afdrukken mfp per maand | B27: Geprognotiseerd aantal | C27: Afdrukprijs | D27: Maandbedrag | E27: Totaal over 12 maanden
A28: Zwart/wit | B28: 173260 | C28: 0 | D28: =B28*C28 -> 0 | E28: =D28*12 -> 0
A29: Kleur | B29: 116799 | C29: 0 | D29: =B29*C29 -> 0 | E29: =D29*12 -> 0
C30: Totalen | D30: =SUM(D28:D29) -> 0 | E30: =SUM(E28:E29) -> 0
A33: TOTAAL INSCHRIJVING per maand | B33: Totaal per maand
B34: =((E14+E19+E24+E30)/12) -> 0
A36: TOTAAL INSCHRIJVING | B36: Totaal prijs huur 1 jaar
B37: =B34*12 -> 0

Sheet Cadans 1
A2: HARDWARE
A3: Model | B3: Aantal | D3: Huurprijs unit/ mnd bij 60 mnd | E3: Huurbedrag over 60 mnd
A4: Type 1 A3 kleurenmultifunctional 50 ppm | B4: 12 | D4: 0 | E4: =(B4*D4)*60 -> 0
A6: Optioneel: Interne finisher | B6: 5 | D6: 0 | E6: =(B6*D6)*60 -> 0
A8: Optioneel: Externe finisher | B8: 0 | D8: 0 | E8: =(B8*D8)*60 -> 0
A10: Optioneel: Booklet finisher | B10: 7 | D10: 0 | E10: =(B10*D10)*60 -> 0
A12: Optioneel: Perforatiekit 2/4 gaat i.c.m. interne, externe of booklet finisher | B12: 7 | D12: 0 | E12: =(B12*D12)*60 -> 0
A14: Optioneel: Bulklade LTC | B14: 0 | D14: 0 | E14: =(B14*D14)*60 -> 0
A16: Optioneel: cardreader | B16: 12 | D16: 0 | E16: =(B16*D16)*60 -> 0
C18: Totalen | E18: =SUM(E4,E6,E8,E10,E12,E16) -> 0
A20: PRINT EN SCANMANAGEMENT SAAS
B21: Aantal | C21: Huurbedrag mnd/ per device | E21: Totaal 60 maanden
A22: licentie per device | B22: 12 | C22: 0 | E22: =((B22*C22)*60) -> 0
D23: Totalen | E23: =SUM(E22:E22) -> 0
A25: OPTIONEEL: ECOBOX
B26: Aantal | C26: Huurbedrag mnd/ per locatie | E26: Totaal 60 maanden
A27: Ecobox per locatie | B27: 9 | C27: 0 | E27: =((B27*C27)*60) -> 0
D28: Totalen | E28: =SUM(E27:E27) -> 0
A30: ONDERHOUD
A31: Afdrukken mfp per maand | B31: Geprognotiseerd aantal | C31: Afdrukprijs | D31: Maandbedrag | E31: Totaal over 60 maanden
A32: Zwart/wit | B32: 96072 | C32: 0 | D32: =B32*C32 -> 0 | E32: =D32*60 -> 0
A33: Kleur | B33: 91858 | C33: 0 | D33: =B33*C33 -> 0 | E33: =D33*60 -> 0
C34: Totalen | D34: =SUM(D32:D33) -> 0 | E34: =SUM(E32:E33) -> 0
A36: PROJECTPRIJS
A37: Projectprijs | B37: Projectprijs éénmalig | C37: Projectprijs bij 60 mnd per maand
A38: Projectprijs | B38: 0 | C38: 0
A39: Let op! Graag een realistisch bedrag (maximaal 3% van de totale inschrijfsom) voor de volledige installatie, implementatie en projectmanagement afgeven.
A42: TOTAAL INSCHRIJVING per maand | B42: Totaal per maand
B43: =((E18+E23+E28+E34)/60)+C38 -> 0
A45: TOTAAL INSCHRIJVING | B45: Totaal prijs huur 60 maanden | C45: Totaal verlenging 2x 1 jaar | D45: Totale beoordelingsprijs
B46: =B43*60 -> 0 | C46: ='Verlenging Talentis'!B37*2 -> 0 | D46: =B46+C46 -> 0

Sheet Verlenging Cadans 1
A2: HARDWARE
A3: Model | B3: Aantal | D3: Huurprijs unit/ mnd bij 12 mnd | E3: Huurbedrag over 12 mnd
A4: Type 1 A3 kleurenmultifunctional 50 ppm | B4: 12 | D4: 0 | E4: =(B4*D4)*12 -> 0
A6: Optioneel: Interne finisher | B6: 5 | D6: 0 | E6: =(B6*D6)*12 -> 0
A8: Optioneel: Externe finisher | B8: 0 | D8: 0 | E8: =(B8*D8)*12 -> 0
A10: Optioneel: Booklet finisher | B10: 7 | D10: 0 | E10: =(B10*D10)*12 -> 0
A12: Optioneel: Perforatiekit 2/4 gaat i.c.m. interne, externe of booklet finisher | B12: 7 | D12: 0 | E12: =(B12*D12)*12 -> 0
A14: Optioneel: Bulklade LTC | B14: 0 | D14: 0 | E14: =(B14*D14)*12 -> 0
A16: Optioneel: cardreader | B16: 12 | D16: 0 | E16: =(B16*D16)*12 -> 0
C17: Totalen | E17: =SUM(E4,E6,E8,E10,E12,E14,E16) -> 0
A19: PRINT EN SCANMANAGEMENT SAAS
B20: Aantal | C20: Huurbedrag mnd | E20: Totaal 12 maanden
A21: licentie per device | B21: 12 | C21: 0 | E21: =((B21*C21)*12) -> 0
D22: Totalen | E22: =SUM(E21:E21) -> 0
A24: OPTIONEEL: ECOBOX
B25: Aantal | C25: Huurbedrag mnd/ per locatie | E25: Totaal 12 maanden
A26: Ecobox per locatie | B26: 9 | C26: 0 | E26: =((B26*C26)*12) -> 0
D27: Totalen | E27: =SUM(E26:E26) -> 0
A29: ONDERHOUD
A30: Afdrukken mfp per maand | B30: Geprognotiseerd aantal | C30: Afdrukprijs | D30: Maandbedrag | E30: Totaal over 12 maanden
A31: Zwart/wit | B31: 96072 | C31: 0 | D31: =B31*C31 -> 0 | E31: =D31*12 -> 0
A32: Kleur | B32: 91858 | C32: 0 | D32: =B32*C32 -> 0 | E32: =D32*12 -> 0
C33: Totalen | D33: =SUM(D31:D32) -> 0 | E33: =SUM(E31:E32) -> 0
A36: TOTAAL INSCHRIJVING per maand | B36: Totaal per maand
B37: =((E17+E22+E27+E33)/12) -> 0
A39: TOTAAL INSCHRIJVING | B39: Totaal prijs huur 1 jaar
B40: =B37*12 -> 0

Sheet Cadans 2
A2: HARDWARE
A3: Model | B3: Aantal | D3: Huurprijs unit/ mnd bij 42 mnd | E3: Huurbedrag over 42 mnd
A4: Type 1 A3 kleurenmultifunctional 50 ppm | B4: 4 | D4: 0 | E4: =(B4*D4)*42 -> 0
A6: Optioneel: Interne finisher | B6: 2 | D6: 0 | E6: =(B6*D6)*42 -> 0
A8: Optioneel: Externe finisher | B8: 0 | D8: 0 | E8: =(B8*D8)*42 -> 0
A10: Optioneel: Booklet finisher | B10: 2 | D10: 0 | E10: =(B10*D10)*42 -> 0
A12: Optioneel: Perforatiekit 2/4 gaat i.c.m. interne, externe of booklet finisher | B12: 2 | D12: 0 | E12: =(B12*D12)*42 -> 0
A14: Optioneel: Bulklade LTC | B14: 0 | D14: 0 | E14: =(B14*D14)*42 -> 0
A16: Optioneel: cardreader | B16: 4 | D16: 0 | E16: =(B16*D16)*42 -> 0
C18: Totalen | E18: =SUM(E4,E6,E8,E10,E12,E16) -> 0
A20: PRINT EN SCANMANAGEMENT SAAS
B21: Aantal | C21: Huurbedrag mnd/ per device | E21: Totaal 42 maanden
A22: licentie per device | B22: 4 | C22: 0 | E22: =((B22*C22)*42) -> 0
D23: Totalen | E23: =SUM(E22:E22) -> 0
A25: OPTIONEEL: ECOBOX
B26: Aantal | C26: Huurbedrag mnd/ per locatie | E26: Totaal 42 maanden
A27: Ecobox per locatie | B27: 4 | C27: 0 | E27: =((B27*C27)*42) -> 0
D28: Totalen | E28: =SUM(E27:E27) -> 0
A30: ONDERHOUD
A31: Afdrukken mfp per maand | B31: Geprognotiseerd aantal | C31: Afdrukprijs | D31: Maandbedrag | E31: Totaal over 42 maanden
A32: Zwart/wit | B32: 34742 | C32: 0 | D32: =B32*C32 -> 0 | E32: =D32*42 -> 0
A33: Kleur | B33: 34461 | C33: 0 | D33: =B33*C33 -> 0 | E33: =D33*42 -> 0
C34: Totalen | D34: =SUM(D32:D33) -> 0 | E34: =SUM(E32:E33) -> 0
A36: PROJECTPRIJS
A37: Projectprijs | B37: Projectprijs éénmalig | C37: Projectprijs bij 42 mnd per maand
A38: Projectprijs | B38: 0 | C38: 0
A39: Let op! Graag een realistisch bedrag (maximaal 3% van de totale inschrijfsom) voor de volledige installatie, implementatie en projectmanagement afgeven.
A42: TOTAAL INSCHRIJVING per maand | B42: Totaal per maand
B43: =((E18+E23+E28+E34)/42)+C38 -> 0
A45: TOTAAL INSCHRIJVING | B45: Totaal prijs huur 42 maanden | C45: Totaal verlenging 2x 1 jaar | D45: Totale beoordelingsprijs
B46: =B43*42 -> 0 | C46: ='Verlenging Cadans 2'!B40*2 -> 0 | D46: =B46+C46 -> 0

Sheet Verlenging Cadans 2
A2: HARDWARE
A3: Model | B3: Aantal | D3: Huurprijs unit/ mnd bij 12 mnd | E3: Huurbedrag over 12 mnd
A4: Type 1 A3 kleurenmultifunctional 50 ppm | B4: 4 | D4: 0 | E4: =(B4*D4)*12 -> 0
A6: Optioneel: Interne finisher | B6: 2 | D6: 0 | E6: =(B6*D6)*12 -> 0
A8: Optioneel: Externe finisher | B8: 0 | D8: 0 | E8: =(B8*D8)*12 -> 0
A10: Optioneel: Booklet finisher | B10: 2 | D10: 0 | E10: =(B10*D10)*12 -> 0
A12: Optioneel: Perforatiekit 2/4 gaat i.c.m. interne, externe of booklet finisher | B12: 2 | D12: 0 | E12: =(B12*D12)*12 -> 0
A14: Optioneel: Bulklade LTC | B14: 0 | D14: 0 | E14: =(B14*D14)*12 -> 0
A16: Optioneel: cardreader | B16: 4 | D16: 0 | E16: =(B16*D16)*12 -> 0
C17: Totalen | E17: =SUM(E4,E6,E8,E10,E12,E14,E16) -> 0
A19: PRINT EN SCANMANAGEMENT SAAS
B20: Aantal | C20: Huurbedrag mnd | E20: Totaal 12 maanden
A21: licentie per device | B21: 4 | C21: 0 | E21: =((B21*C21)*12) -> 0
D22: Totalen | E22: =SUM(E21:E21) -> 0
A24: OPTIONEEL: ECOBOX
B25: Aantal | C25: Huurbedrag mnd/ per locatie | E25: Totaal 12 maanden
A26: Ecobox per locatie | B26: 4 | C26: 0 | E26: =((B26*C26)*12) -> 0
D27: Totalen | E27: =SUM(E26:E26) -> 0
A29: ONDERHOUD
A30: Afdrukken mfp per maand | B30: Geprognotiseerd aantal | C30: Afdrukprijs | D30: Maandbedrag | E30: Totaal over 12 maanden
A31: Zwart/wit | B31: 34742 | C31: 0 | D31: =B31*C31 -> 0 | E31: =D31*12 -> 0
A32: Kleur | B32: 34461 | C32: 0 | D32: =B32*C32 -> 0 | E32: =D32*12 -> 0
C33: Totalen | D33: =SUM(D31:D32) -> 0 | E33: =SUM(E31:E32) -> 0
A36: TOTAAL INSCHRIJVING per maand | B36: Totaal per maand
B37: =((E17+E22+E27+E33)/12) -> 0
A39: TOTAAL INSCHRIJVING | B39: Totaal prijs huur 1 jaar
B40: =B37*12 -> 0
