Workbook

Sheet Prijzenblad
A1: Informatie inschrijver | C1: Inhoud
A2: Naam organisatie
A3: Naam software BOR-beheersysteem
A4: Versie BOR-beheersysteem
C6: Prijzen
A7: Eenmalige kosten (voor zowel test als prod omgeving)
B8: Implementatie (basis en aanvullend) incl. opleiding en projectleiding
B9: Proof of Concept
A10: Subtotaal eenmalig | C10: =SUM(C8:C9) -> 0
A12: Jaarlijkse kosten (voor zowel test als prod omgeving)
B13: Jaarlijkse licentiekosten
B14: Jaarlijkse hostingskosten
B15: Jaarlijks onderhoud en support
B16: Jaarlijkse ondersteuning (fictief bedrag uit tabblad eenheidsprijzen) | C16: =Eenheidsprijzen!$K$8 -> 0
A17: Subtotaal jaarlijks (periode 1 jaar) | C17: =SUM(C13:C16) -> 0
A18: =Basisgegevens!C3 -> Subtotaal jaarlijks (periode 4 jaar) | C18: =C17*Basisgegevens!$B$1 -> 0
A20: =Basisgegevens!C4 -> Totale inschrijfprijs (eenmalig + (4 x jaarlijksekosten)) | C20: =C10+C18 -> 0 | D20: Dit bedrag telt mee voor de berekening prijs/kwaliteit
A22: Alleen tarieven en kosten die op dit specificatieformulier vermeld staan komen na opdrachtverlening voor vergoeding in aanmerking.
A24: Inschrijver verklaart hiermee dat hij dit inschrijvingsbiljet naar waarheid heeft ingevuld
A25: Naam
A26: Functie
A27: Handtekening
A31: Plaats en datum

Sheet Eenheidsprijzen
A1: Omschrijving | B1: Toelichting | C1: Tarieven | F1: Verwachte inzet *** | I1: Verwachte kosten
C2: Dag* | D2: Dagdeel** | E2: Uur | F2: =C2 -> Dag* | G2: =D2 -> Dagdeel** | H2: =E2 -> Uur | I2: =F2 -> Dag* | J2: =G2 -> Dagdeel** | K2: =H2 -> Uur
A3: Consultant | B3: datamigratie, Training | F3: 4 | G3: 8 | H3: 20 | I3: =C3*F3 -> 0 | J3: =D3*G3 -> 0 | K3: =E3*H3 -> 0
A4: ICT-medewerker | B4: Installatie, update, koppelingen en onderhoud | F4: 1 | G4: 1 | H4: 6 | I4: =C4*F4 -> 0 | J4: =D4*G4 -> 0 | K4: =E4*H4 -> 0
A5: Applicatiebeheerder | B5: Zorgt dat de applicatie dagelijks gebruikt kan worden. Verzorgt o.a. formulieren, rapporten, dasbboards. | F5: 1 | G5: 1 | H5: 6 | I5: =C5*F5 -> 0 | J5: =D5*G5 -> 0 | K5: =E5*H5 -> 0
A6: Projectleider | B6: Begeleidt het project | F6: 1 | G6: 1 | H6: 6 | I6: =C6*F6 -> 0 | J6: =D6*G6 -> 0 | K6: =E6*H6 -> 0
A7: Totaal | F7: =SUM(F3:F6) -> 7 | G7: =SUM(G3:G6) -> 11 | H7: =SUM(H3:H6) -> 38 | I7: =SUM(I3:I6) -> 0 | J7: =SUM(J3:J6) -> 0 | K7: =SUM(K3:K6) -> 0
J8: Totaal | K8: =SUM(I7:K7) -> 0
A9: Tarieven | B9: Toelichting
A10: Dagtarief | B10: =CONCATENATE("Voert in ",Basisgegevens!B6," werkzaamheden uit gedurende 7 uur. Alle overige kosten, zoals reiskosten en reistijd zijn daarbij inbegrepen.") -> Voert in Waddinxveen werkzaamheden uit gedurende 7 uur. Alle overige kosten, zoals reiskosten en reistijd zijn daarbij inbegrepen.
A11: Dagdeeltarief | B11: =CONCATENATE("Voert in ",Basisgegevens!B6," werkzaamheden uit gedurende 3,5 uur. Alle overige kosten, zoals reiskosten en reistijd zijn daarbij inbegrepen.") -> Voert in Waddinxveen werkzaamheden uit gedurende 3,5 uur. Alle overige kosten, zoals reiskosten en reistijd zijn daarbij inbegrepen.
A12: Uurtarief | B12: Voert 1 uur werkzaamheden uit vanaf locatie Opdrachtnemer. Tijdsregistratie vindt per 10 minuten plaats en wordt naar beneden afgerond. (incl online bijeenkomst)
A14: * Dag | B14: =CONCATENATE("Werkzaamheden in ",Basisgegevens!B6, " (op locatie)") -> Werkzaamheden in Waddinxveen (op locatie)
A15: ** Dagdeel | B15: =CONCATENATE("Werkzaamheden in ",Basisgegevens!B6, " (op locatie)") -> Werkzaamheden in Waddinxveen (op locatie)
A16: *** Verwachte inzet | B16: De verwachte inzet is ten behoeve van de berekening (een indicatie). U kunt hier geen rechten aan ontlenen.

Sheet Basisgegevens
A1: Aantal jaren | B1: 4
A3: Subtotaal jaarlijks (periode | B3: jaar) | C3: =_xlfn.CONCAT(A3,B1,B3) -> Subtotaal jaarlijks (periode 4 jaar)
A4: Totale inschrijfprijs (eenmalig + (4 x jaarlijksekosten)) | B4: jaar onderhoud | C4: =_xlfn.CONCAT(A4,) -> Totale inschrijfprijs (eenmalig + (4 x jaarlijksekosten))
A6: Gemeentenaam | B6: Waddinxveen
