Workbook

Sheet Toelichting
A1: Toelichting wensen
A3: In het bestand kunt u een keuze maken uit de waarden zoals deze zijn opgenomen in tabblad keuzemogelijkheden.
A5: Tijdens het invullen van de fase wordt automatisch de tekst in kolom K, L en M ingevuld, waaruit blijkt hoe dit op basis van uw antwoord mogelijk wordt opgenomen in het aanbestedingsdocument.
A6: Afhankelijk van de keuze wordt een factor toegekend, waardoor ‘Doorontwikkeld’ meer punten oplevert als ‘Bereid te ontwikkelen’. Het aantal punten verschijnt in kolom N.
A7: De factoren zijn opgenomen in onderstaand overzicht:
A8: Fase | B8: Factor
A9: =Keuzemogelijkheden!A2 -> Doorontwikkeld | B9: =Keuzemogelijkheden!E2 -> 4
A10: =Keuzemogelijkheden!A3 -> Jong volwassen | B10: =Keuzemogelijkheden!E3 -> 2
A11: =Keuzemogelijkheden!A4 -> Bereid te ontwikkelen | B11: =Keuzemogelijkheden!E4 -> 1
A12: =Keuzemogelijkheden!A5 -> Niet bereid te ontwikkelen | B12: =Keuzemogelijkheden!E5 -> 0
A14: Gelieve het formulier in te vullen. Het formulier geeft met een rode kleur aan dat u nog geen keuze heeft gemaakt. Afhankelijk van de keuze worden de punten automatisch berekend en kleurt de regel conform tabblad keuzemogelijkheden.
A16: NB: Alle kosten die de inschrijver dient te maken om de aangeboden invulling aan de wensen te realiseren dienen verrekend te zijn in zijn prijsaanbieding. Met andere woorden er kunnen geen andere / additionele kosten in rekening gebracht worden voor het realiseren van de wensen, dan de kosten die zijn vermeld in de prijsopgave.

Sheet Keuzemogelijkheden
A1: Fase | B1: Omschrijving | C1: Verwerken als | D1: Tonen tijdens | E1: Factor
A2: Doorontwikkeld | B2: Volledig uitgewerkt en in de praktijk ervaren de gebruikers dat het naar tevredenheid in gebruik is. | C2: Eis | D2: Tonen tijdens demonstratie, verificatie en oplevering. Aantoonbaar dat gebruikers het naar tevredenheid ervaren. | E2: 4
A3: Jong volwassen | B3: Concept uitgewerkt, waarbij de eerste positieve ervaringen van gebruikers beschikbaar zijn. De stap naar doorontwikkeld vindt binnen een half jaar plaats. | C3: Eis bij implementatie | D3: Tijdens verificatie stappen aantonen, waaruit blijkt dat het binnen een half jaar is doorontwikkeld. Van het concept aantonen dat eerste positieve ervaringen van gebruikers aanwezig zijn. | E3: 2
A4: Bereid te ontwikkelen | B4: De wens is bij implementatie volledig beschikbaar binnen de standaard software. | C4: Eis bij implementatie | D4: Bij verificatie stappen aantonen, waaruit blijkt dat het in ontwikkeling is en bij oplevering conform de planning van implementatie volledig is doorontwikkeld. | E4: 1
A5: Niet bereid te ontwikkelen | B5: Nog geen ervaring op dit deel en ook niet bekend of dit wordt ontwikkeld. | C5: n.v.t. | D5: Kan en hoeft tijdens de volgende fasen niet te worden aangetoond dat het operationeel is. | E5: 0
A6: Maak uw keuze | B6: Maak een keuze in de kolom 'Antwoord fase' | C6: Maak een keuze in de kolom 'Antwoord fase' | D6: Maak een keuze in de kolom 'Antwoord fase' | E6: =E5 -> 0
A8: Mochten er verschillen zijn tussen het aanbestedingsdocument en de bijlage, geldt de inhoud in het aanbestedingsdocument/leidraad.

Sheet Wensen
A1: Hoofdgroep | D1: Groep | E1: Nr. | F1: Meth.ID | G1: Omschrijving | H1: Type wens | I1: Fasering | J1: Punten wens | K1: Antwoord fase (maak een keuze) | L1: In aanbesteding als (wordt ingevuld o.b.v. antwoord fase) | M1: In aanbesteding als (wordt ingevuld o.b.v. antwoord fase) | N1: Verificatie (wordt ingevuld o.b.v. antwoord fase) | O1: Behaalde punten
A2: 02 | B2: Automatisering
C3: 01 | D3: ICT
E4: 12 | F4: 1329 | G4: Het BOR-beheersysteem en de bijbehorende database is bewezen schaalbaar en biedt mogelijkheden voor performanceverhoging, fail-over en loadbalancing. | H4: Wens | I4: IMPF2 | J4: 2 | K4: Maak uw keuze | L4: =IF(K4<>"",VLOOKUP(K4,Keuzemogelijkheden!$A$2:$E$6,2,FALSE),"") -> Maak een keuze in de kolom 'Antwoord fase' | M4: =IF(K4<>"",VLOOKUP(K4,Keuzemogelijkheden!$A$2:$E$6,3,FALSE),"") -> Maak een keuze in de kolom 'Antwoord fase' | N4: =IF(K4<>"",VLOOKUP(K4,Keuzemogelijkheden!$A$2:$E$6,4,FALSE),"") -> Maak een keuze in de kolom 'Antwoord fase' | O4: =IF(K4=Keuzemogelijkheden!$A$2,$J4*Keuzemogelijkheden!$E$2,IF(K4=Keuzemogelijkheden!$A$3,$J4*Keuzemogelijkheden!$E$3,IF(K4=Keuzemogelijkheden!$A$4,$J4*Keuzemogelijkheden!$E$4,IF(K4=Keuzemogelijkheden!$A$5,$J4*Keuzemogelijkheden!$E$5,"0")))) -> 0
C5: 02 | D5: Informatiebeveiliging
E6: 10 | F6: 1179 | G6: Het BOR-beheersysteem dient zo mogelijk aan te sluiten op de authenticatiemogelijkheden van de (Azure) AD, dan wel te zijn voorzien van een eigen, gecentraliseerd authenticatiemiddel. Hiermee moet het mogelijk zijn gecentraliseerd authenticaties te creëre | H6: Wens | I6: IMPF2 | J6: 17 | K6: Maak uw keuze | L6: =IF(K6<>"",VLOOKUP(K6,Keuzemogelijkheden!$A$2:$E$6,2,FALSE),"") -> Maak een keuze in de kolom 'Antwoord fase' | M6: =IF(K6<>"",VLOOKUP(K6,Keuzemogelijkheden!$A$2:$E$6,3,FALSE),"") -> Maak een keuze in de kolom 'Antwoord fase' | N6: =IF(K6<>"",VLOOKUP(K6,Keuzemogelijkheden!$A$2:$E$6,4,FALSE),"") -> Maak een keuze in de kolom 'Antwoord fase' | O6: =IF(K6=Keuzemogelijkheden!$A$2,$J6*Keuzemogelijkheden!$E$2,IF(K6=Keuzemogelijkheden!$A$3,$J6*Keuzemogelijkheden!$E$3,IF(K6=Keuzemogelijkheden!$A$4,$J6*Keuzemogelijkheden!$E$4,IF(K6=Keuzemogelijkheden!$A$5,$J6*Keuzemogelijkheden!$E$5,"0")))) -> 0
E7: 11 | F7: 1164 | G7: Het account van een gebruiker die een door de opdrachtgever zelf in te stellen periode niet heeft ingelogd, wordt automatisch bevroren. | H7: Wens | I7: IMPF2 | J7: 2 | K7: Maak uw keuze | L7: =IF(K7<>"",VLOOKUP(K7,Keuzemogelijkheden!$A$2:$E$6,2,FALSE),"") -> Maak een keuze in de kolom 'Antwoord fase' | M7: =IF(K7<>"",VLOOKUP(K7,Keuzemogelijkheden!$A$2:$E$6,3,FALSE),"") -> Maak een keuze in de kolom 'Antwoord fase' | N7: =IF(K7<>"",VLOOKUP(K7,Keuzemogelijkheden!$A$2:$E$6,4,FALSE),"") -> Maak een keuze in de kolom 'Antwoord fase' | O7: =IF(K7=Keuzemogelijkheden!$A$2,$J7*Keuzemogelijkheden!$E$2,IF(K7=Keuzemogelijkheden!$A$3,$J7*Keuzemogelijkheden!$E$3,IF(K7=Keuzemogelijkheden!$A$4,$J7*Keuzemogelijkheden!$E$4,IF(K7=Keuzemogelijkheden!$A$5,$J7*Keuzemogelijkheden!$E$5,"0")))) -> 0
E8: 13 | F8: 2207 | G8: Bij het opslaan van wachtwoorden dienen hashing en salting te worden gebruikt. | H8: Wens | I8: IMPF2 | J8: 9 | K8: Maak uw keuze | L8: =IF(K8<>"",VLOOKUP(K8,Keuzemogelijkheden!$A$2:$E$6,2,FALSE),"") -> Maak een keuze in de kolom 'Antwoord fase' | M8: =IF(K8<>"",VLOOKUP(K8,Keuzemogelijkheden!$A$2:$E$6,3,FALSE),"") -> Maak een keuze in de kolom 'Antwoord fase' | N8: =IF(K8<>"",VLOOKUP(K8,Keuzemogelijkheden!$A$2:$E$6,4,FALSE),"") -> Maak een keuze in de kolom 'Antwoord fase' | O8: =IF(K8=Keuzemogelijkheden!$A$2,$J8*Keuzemogelijkheden!$E$2,IF(K8=Keuzemogelijkheden!$A$3,$J8*Keuzemogelijkheden!$E$3,IF(K8=Keuzemogelijkheden!$A$4,$J8*Keuzemogelijkheden!$E$4,IF(K8=Keuzemogelijkheden!$A$5,$J8*Keuzemogelijkheden!$E$5,"0")))) -> 0
C9: 03 | D9: AVG
E10: 1 | F10: 2214 | G10: Updates zijn uiterlijk een (1) maand voor inwerking treding van nieuwe Europese en rijks wet- en regelgeving beschikbaar. | H10: Wens | I10: IMPF2 | J10: 3 | K10: Maak uw keuze | L10: =IF(K10<>"",VLOOKUP(K10,Keuzemogelijkheden!$A$2:$E$6,2,FALSE),"") -> Maak een keuze in de kolom 'Antwoord fase' | M10: =IF(K10<>"",VLOOKUP(K10,Keuzemogelijkheden!$A$2:$E$6,3,FALSE),"") -> Maak een keuze in de kolom 'Antwoord fase' | N10: =IF(K10<>"",VLOOKUP(K10,Keuzemogelijkheden!$A$2:$E$6,4,FALSE),"") -> Maak een keuze in de kolom 'Antwoord fase' | O10: =IF(K10=Keuzemogelijkheden!$A$2,$J10*Keuzemogelijkheden!$E$2,IF(K10=Keuzemogelijkheden!$A$3,$J10*Keuzemogelijkheden!$E$3,IF(K10=Keuzemogelijkheden!$A$4,$J10*Keuzemogelijkheden!$E$4,IF(K10=Keuzemogelijkheden!$A$5,$J10*Keuzemogelijkheden!$E$5,"0")))) -> 0
C11: 04 | D11: Informatiemanagement
E12: 1 | F12: 1883 | G12: Een beschrijving van het gehanteerde datamodel (logisch en technisch, syntax) en de semantiek van de gegevens (definities en toegestane veldwaarden met betekenis van codes) zijn beschikbaar voor de opdrachtgever en ten behoeve van gebruik van de gegevens | H12: Wens bij implementatie | I12: IMPF2 | J12: 9 | K12: Maak uw keuze | L12: =IF(K12<>"",VLOOKUP(K12,Keuzemogelijkheden!$A$2:$E$6,2,FALSE),"") -> Maak een keuze in de kolom 'Antwoord fase' | M12: =IF(K12<>"",VLOOKUP(K12,Keuzemogelijkheden!$A$2:$E$6,3,FALSE),"") -> Maak een keuze in de kolom 'Antwoord fase' | N12: =IF(K12<>"",VLOOKUP(K12,Keuzemogelijkheden!$A$2:$E$6,4,FALSE),"") -> Maak een keuze in de kolom 'Antwoord fase' | O12: =IF(K12=Keuzemogelijkheden!$A$2,$J12*Keuzemogelijkheden!$E$2,IF(K12=Keuzemogelijkheden!$A$3,$J12*Keuzemogelijkheden!$E$3,IF(K12=Keuzemogelijkheden!$A$4,$J12*Keuzemogelijkheden!$E$4,IF(K12=Keuzemogelijkheden!$A$5,$J12*Keuzemogelijkheden!$E$5,"0")))) -> 0
C13: 05 | D13: SaaS
E14: 2 | F14: 2206 | G14: Gegevens binnen de SaaS-applicatie dienen versleuteld opgeslagen te worden. De gebruikte TLS­versies, cryptografische algoritmes, sleutellengtes en keuze van groepen moeten door de NSCS beoordeeld worden met de kwalificatie “goed” of “voldoende”. | H14: Wens | I14: IMPF2 | J14: 9 | K14: Maak uw keuze | L14: =IF(K14<>"",VLOOKUP(K14,Keuzemogelijkheden!$A$2:$E$6,2,FALSE),"") -> Maak een keuze in de kolom 'Antwoord fase' | M14: =IF(K14<>"",VLOOKUP(K14,Keuzemogelijkheden!$A$2:$E$6,3,FALSE),"") -> Maak een keuze in de kolom 'Antwoord fase' | N14: =IF(K14<>"",VLOOKUP(K14,Keuzemogelijkheden!$A$2:$E$6,4,FALSE),"") -> Maak een keuze in de kolom 'Antwoord fase' | O14: =IF(K14=Keuzemogelijkheden!$A$2,$J14*Keuzemogelijkheden!$E$2,IF(K14=Keuzemogelijkheden!$A$3,$J14*Keuzemogelijkheden!$E$3,IF(K14=Keuzemogelijkheden!$A$4,$J14*Keuzemogelijkheden!$E$4,IF(K14=Keuzemogelijkheden!$A$5,$J14*Keuzemogelijkheden!$E$5,"0")))) -> 0
E15: 6 | F15: 2209 | G15: De SaaS-applicatie dient een kopieerfunctie te ondersteunen (knippen, plakken, kopiëren), op een gelijke wijze als het gebruik binnen de Windows-omgeving. De toetscombinaties Ctrl + C, Ctrl + X en Ctrl + V kunnen gebruikt worden. | H15: Wens | I15: IMPF2 | J15: 9 | K15: Maak uw keuze | L15: =IF(K15<>"",VLOOKUP(K15,Keuzemogelijkheden!$A$2:$E$6,2,FALSE),"") -> Maak een keuze in de kolom 'Antwoord fase' | M15: =IF(K15<>"",VLOOKUP(K15,Keuzemogelijkheden!$A$2:$E$6,3,FALSE),"") -> Maak een keuze in de kolom 'Antwoord fase' | N15: =IF(K15<>"",VLOOKUP(K15,Keuzemogelijkheden!$A$2:$E$6,4,FALSE),"") -> Maak een keuze in de kolom 'Antwoord fase' | O15: =IF(K15=Keuzemogelijkheden!$A$2,$J15*Keuzemogelijkheden!$E$2,IF(K15=Keuzemogelijkheden!$A$3,$J15*Keuzemogelijkheden!$E$3,IF(K15=Keuzemogelijkheden!$A$4,$J15*Keuzemogelijkheden!$E$4,IF(K15=Keuzemogelijkheden!$A$5,$J15*Keuzemogelijkheden!$E$5,"0")))) -> 0
C16: 06 | D16: Ontwikkel-, test-, acceptatie- en productie-omgeving (OTAP)
E17: 2 | F17: 2213 | G17: Opdrachtgever wenst inzicht te hebben in de wijziging(en) die in een release zijn opgenomen. Opdrachtnemer informeert Opdrachtgever op actieve wijze over releases. | H17: Wens | I17: IMPF2 | J17: 3 | K17: Maak uw keuze | L17: =IF(K17<>"",VLOOKUP(K17,Keuzemogelijkheden!$A$2:$E$6,2,FALSE),"") -> Maak een keuze in de kolom 'Antwoord fase' | M17: =IF(K17<>"",VLOOKUP(K17,Keuzemogelijkheden!$A$2:$E$6,3,FALSE),"") -> Maak een keuze in de kolom 'Antwoord fase' | N17: =IF(K17<>"",VLOOKUP(K17,Keuzemogelijkheden!$A$2:$E$6,4,FALSE),"") -> Maak een keuze in de kolom 'Antwoord fase' | O17: =IF(K17=Keuzemogelijkheden!$A$2,$J17*Keuzemogelijkheden!$E$2,IF(K17=Keuzemogelijkheden!$A$3,$J17*Keuzemogelijkheden!$E$3,IF(K17=Keuzemogelijkheden!$A$4,$J17*Keuzemogelijkheden!$E$4,IF(K17=Keuzemogelijkheden!$A$5,$J17*Keuzemogelijkheden!$E$5,"0")))) -> 0
C18: 08 | D18: Opslaan gegevens
E19: 2 | F19: 1748 | G19: Cloudopslag en/of interne opslag is mogelijk. De opdrachtgever kan zelf bepalen waar de data wordt opgeslagen. Ook is later overstappen door de opdrachtgever zelfstandig (zonder ondersteuning inschrijver) te realiseren. | H19: Wens | I19: IMPF1 | J19: 2 | K19: Maak uw keuze | L19: =IF(K19<>"",VLOOKUP(K19,Keuzemogelijkheden!$A$2:$E$6,2,FALSE),"") -> Maak een keuze in de kolom 'Antwoord fase' | M19: =IF(K19<>"",VLOOKUP(K19,Keuzemogelijkheden!$A$2:$E$6,3,FALSE),"") -> Maak een keuze in de kolom 'Antwoord fase' | N19: =IF(K19<>"",VLOOKUP(K19,Keuzemogelijkheden!$A$2:$E$6,4,FALSE),"") -> Maak een keuze in de kolom 'Antwoord fase' | O19: =IF(K19=Keuzemogelijkheden!$A$2,$J19*Keuzemogelijkheden!$E$2,IF(K19=Keuzemogelijkheden!$A$3,$J19*Keuzemogelijkheden!$E$3,IF(K19=Keuzemogelijkheden!$A$4,$J19*Keuzemogelijkheden!$E$4,IF(K19=Keuzemogelijkheden!$A$5,$J19*Keuzemogelijkheden!$E$5,"0")))) -> 0
C20: 11 | D20: Back-up
E21: 1 | F21: 2208 | G21: In het geval een restore van data nodig is, kan de afgesproken dienstverlening binnen 24 uur worden gecontinueerd. Er mag sprake zijn van maximaal twaalf (12) uur dataverlies. Back-ups worden gemaakt terwijl de volledige SaaS-applicatie ‘online’ is. | H21: Wens | I21: IMPF2 | J21: 9 | K21: Maak uw keuze | L21: =IF(K21<>"",VLOOKUP(K21,Keuzemogelijkheden!$A$2:$E$6,2,FALSE),"") -> Maak een keuze in de kolom 'Antwoord fase' | M21: =IF(K21<>"",VLOOKUP(K21,Keuzemogelijkheden!$A$2:$E$6,3,FALSE),"") -> Maak een keuze in de kolom 'Antwoord fase' | N21: =IF(K21<>"",VLOOKUP(K21,Keuzemogelijkheden!$A$2:$E$6,4,FALSE),"") -> Maak een keuze in de kolom 'Antwoord fase' | O21: =IF(K21=Keuzemogelijkheden!$A$2,$J21*Keuzemogelijkheden!$E$2,IF(K21=Keuzemogelijkheden!$A$3,$J21*Keuzemogelijkheden!$E$3,IF(K21=Keuzemogelijkheden!$A$4,$J21*Keuzemogelijkheden!$E$4,IF(K21=Keuzemogelijkheden!$A$5,$J21*Keuzemogelijkheden!$E$5,"0")))) -> 0
C22: 12 | D22: Common ground
E23: 3 | F23: 2093 | G23: Het BOR-beheersysteem maakt gebruik van softwarecomponenten uit de Common Groundcomponentencatalogus (vindbaar op CommonGround.nl). | H23: Wens | I23: IMPF2 | J23: 3 | K23: Maak uw keuze | L23: =IF(K23<>"",VLOOKUP(K23,Keuzemogelijkheden!$A$2:$E$6,2,FALSE),"") -> Maak een keuze in de kolom 'Antwoord fase' | M23: =IF(K23<>"",VLOOKUP(K23,Keuzemogelijkheden!$A$2:$E$6,3,FALSE),"") -> Maak een keuze in de kolom 'Antwoord fase' | N23: =IF(K23<>"",VLOOKUP(K23,Keuzemogelijkheden!$A$2:$E$6,4,FALSE),"") -> Maak een keuze in de kolom 'Antwoord fase' | O23: =IF(K23=Keuzemogelijkheden!$A$2,$J23*Keuzemogelijkheden!$E$2,IF(K23=Keuzemogelijkheden!$A$3,$J23*Keuzemogelijkheden!$E$3,IF(K23=Keuzemogelijkheden!$A$4,$J23*Keuzemogelijkheden!$E$4,IF(K23=Keuzemogelijkheden!$A$5,$J23*Keuzemogelijkheden!$E$5,"0")))) -> 0
C24: 14 | D24: Servicelaag
E25: 13 | F25: 2116 | G25: De aanroep van een API wordt vastgelegd in logbestanden ongeacht of de aanroep succesvol was of niet. | H25: Wens | I25: IMPF2 | J25: 3 | K25: Maak uw keuze | L25: =IF(K25<>"",VLOOKUP(K25,Keuzemogelijkheden!$A$2:$E$6,2,FALSE),"") -> Maak een keuze in de kolom 'Antwoord fase' | M25: =IF(K25<>"",VLOOKUP(K25,Keuzemogelijkheden!$A$2:$E$6,3,FALSE),"") -> Maak een keuze in de kolom 'Antwoord fase' | N25: =IF(K25<>"",VLOOKUP(K25,Keuzemogelijkheden!$A$2:$E$6,4,FALSE),"") -> Maak een keuze in de kolom 'Antwoord fase' | O25: =IF(K25=Keuzemogelijkheden!$A$2,$J25*Keuzemogelijkheden!$E$2,IF(K25=Keuzemogelijkheden!$A$3,$J25*Keuzemogelijkheden!$E$3,IF(K25=Keuzemogelijkheden!$A$4,$J25*Keuzemogelijkheden!$E$4,IF(K25=Keuzemogelijkheden!$A$5,$J25*Keuzemogelijkheden!$E$5,"0")))) -> 0
A26: 03 | B26: Informatievoorziening
C27: 06 | D27: Extra software
E28: M-648 | F28: 648 | G28: je wil in beheersysteem de lokatie en nr van peilbuis. en een link naar het grondwaterportaal/portaal met totale historie (achter inlog) | H28: Wens bij implementatie | I28: Zie methodieken per vakdiscipline | J28: 5 | K28: Maak uw keuze | L28: =IF(K28<>"",VLOOKUP(K28,Keuzemogelijkheden!$A$2:$E$6,2,FALSE),"") -> Maak een keuze in de kolom 'Antwoord fase' | M28: =IF(K28<>"",VLOOKUP(K28,Keuzemogelijkheden!$A$2:$E$6,3,FALSE),"") -> Maak een keuze in de kolom 'Antwoord fase' | N28: =IF(K28<>"",VLOOKUP(K28,Keuzemogelijkheden!$A$2:$E$6,4,FALSE),"") -> Maak een keuze in de kolom 'Antwoord fase' | O28: =IF(K28=Keuzemogelijkheden!$A$2,$J28*Keuzemogelijkheden!$E$2,IF(K28=Keuzemogelijkheden!$A$3,$J28*Keuzemogelijkheden!$E$3,IF(K28=Keuzemogelijkheden!$A$4,$J28*Keuzemogelijkheden!$E$4,IF(K28=Keuzemogelijkheden!$A$5,$J28*Keuzemogelijkheden!$E$5,"0")))) -> 0
C29: 12 | D29: Verkeerstellingen
E30: M-199 | F30: 199 | G30: Beschikbaarheid van de informatie van verkeerstellingen conform de landelijke standaard NDW. | H30: Wens | I30: Zie methodieken per vakdiscipline | J30: 3 | K30: Maak uw keuze | L30: =IF(K30<>"",VLOOKUP(K30,Keuzemogelijkheden!$A$2:$E$6,2,FALSE),"") -> Maak een keuze in de kolom 'Antwoord fase' | M30: =IF(K30<>"",VLOOKUP(K30,Keuzemogelijkheden!$A$2:$E$6,3,FALSE),"") -> Maak een keuze in de kolom 'Antwoord fase' | N30: =IF(K30<>"",VLOOKUP(K30,Keuzemogelijkheden!$A$2:$E$6,4,FALSE),"") -> Maak een keuze in de kolom 'Antwoord fase' | O30: =IF(K30=Keuzemogelijkheden!$A$2,$J30*Keuzemogelijkheden!$E$2,IF(K30=Keuzemogelijkheden!$A$3,$J30*Keuzemogelijkheden!$E$3,IF(K30=Keuzemogelijkheden!$A$4,$J30*Keuzemogelijkheden!$E$4,IF(K30=Keuzemogelijkheden!$A$5,$J30*Keuzemogelijkheden!$E$5,"0")))) -> 0
C31: 13 | D31: Plantopografie
E32: M-512 | F32: 512 | G32: In het BOR-beheersysteem is de plantopografie grafisch en administratief beschikbaar. De inhoud kan geraadpleegd worden en is ook beschikbaar in selecties, queries en rapportages. | H32: Wens | I32: Zie methodieken per vakdiscipline | J32: 2 | K32: Maak uw keuze | L32: =IF(K32<>"",VLOOKUP(K32,Keuzemogelijkheden!$A$2:$E$6,2,FALSE),"") -> Maak een keuze in de kolom 'Antwoord fase' | M32: =IF(K32<>"",VLOOKUP(K32,Keuzemogelijkheden!$A$2:$E$6,3,FALSE),"") -> Maak een keuze in de kolom 'Antwoord fase' | N32: =IF(K32<>"",VLOOKUP(K32,Keuzemogelijkheden!$A$2:$E$6,4,FALSE),"") -> Maak een keuze in de kolom 'Antwoord fase' | O32: =IF(K32=Keuzemogelijkheden!$A$2,$J32*Keuzemogelijkheden!$E$2,IF(K32=Keuzemogelijkheden!$A$3,$J32*Keuzemogelijkheden!$E$3,IF(K32=Keuzemogelijkheden!$A$4,$J32*Keuzemogelijkheden!$E$4,IF(K32=Keuzemogelijkheden!$A$5,$J32*Keuzemogelijkheden!$E$5,"0")))) -> 0
A33: 04 | B33: Basisfunctionaliteit
C34: 01 | D34: Rollen, taken en rechten
E35: 4 | F35: 1902 | G35: Het autorisatiemechanisme is ook van toepassing op alle (andere/externe) applicaties die gebruik maken van het BOR-beheersysteem. Is niet alleen voor API's. Als data rechtstreeks uit het BOR-beheersysteem door andere/externe applicaties wordt gebruikt, di | H35: Wens | I35: IMPF2 | J35: 3 | K35: Maak uw keuze | L35: =IF(K35<>"",VLOOKUP(K35,Keuzemogelijkheden!$A$2:$E$6,2,FALSE),"") -> Maak een keuze in de kolom 'Antwoord fase' | M35: =IF(K35<>"",VLOOKUP(K35,Keuzemogelijkheden!$A$2:$E$6,3,FALSE),"") -> Maak een keuze in de kolom 'Antwoord fase' | N35: =IF(K35<>"",VLOOKUP(K35,Keuzemogelijkheden!$A$2:$E$6,4,FALSE),"") -> Maak een keuze in de kolom 'Antwoord fase' | O35: =IF(K35=Keuzemogelijkheden!$A$2,$J35*Keuzemogelijkheden!$E$2,IF(K35=Keuzemogelijkheden!$A$3,$J35*Keuzemogelijkheden!$E$3,IF(K35=Keuzemogelijkheden!$A$4,$J35*Keuzemogelijkheden!$E$4,IF(K35=Keuzemogelijkheden!$A$5,$J35*Keuzemogelijkheden!$E$5,"0")))) -> 0
C36: 02 | D36: Zoeken
E37: 1 | F37: 1091 | G37: In de zoekfunctie is zoekwoordherkenning aanwezig. | H37: Wens | I37: IMPF2 | J37: 3 | K37: Maak uw keuze | L37: =IF(K37<>"",VLOOKUP(K37,Keuzemogelijkheden!$A$2:$E$6,2,FALSE),"") -> Maak een keuze in de kolom 'Antwoord fase' | M37: =IF(K37<>"",VLOOKUP(K37,Keuzemogelijkheden!$A$2:$E$6,3,FALSE),"") -> Maak een keuze in de kolom 'Antwoord fase' | N37: =IF(K37<>"",VLOOKUP(K37,Keuzemogelijkheden!$A$2:$E$6,4,FALSE),"") -> Maak een keuze in de kolom 'Antwoord fase' | O37: =IF(K37=Keuzemogelijkheden!$A$2,$J37*Keuzemogelijkheden!$E$2,IF(K37=Keuzemogelijkheden!$A$3,$J37*Keuzemogelijkheden!$E$3,IF(K37=Keuzemogelijkheden!$A$4,$J37*Keuzemogelijkheden!$E$4,IF(K37=Keuzemogelijkheden!$A$5,$J37*Keuzemogelijkheden!$E$5,"0")))) -> 0
E38: 3 | F38: 2210 | G38: Binnen het gehele BOR-beheersysteem moet zoeken op alle voorkomende gegevens in het BOR-beheersysteem (objectgegevens, kwalitatieve gegevens, beheergegevens en gegevens uitgevoerde werkzaamheden) Dit betekent dat op alle plekken in het BOR-beheersysteem w | H38: Wens | I38: IMPF2 | J38: 17 | K38: Maak uw keuze | L38: =IF(K38<>"",VLOOKUP(K38,Keuzemogelijkheden!$A$2:$E$6,2,FALSE),"") -> Maak een keuze in de kolom 'Antwoord fase' | M38: =IF(K38<>"",VLOOKUP(K38,Keuzemogelijkheden!$A$2:$E$6,3,FALSE),"") -> Maak een keuze in de kolom 'Antwoord fase' | N38: =IF(K38<>"",VLOOKUP(K38,Keuzemogelijkheden!$A$2:$E$6,4,FALSE),"") -> Maak een keuze in de kolom 'Antwoord fase' | O38: =IF(K38=Keuzemogelijkheden!$A$2,$J38*Keuzemogelijkheden!$E$2,IF(K38=Keuzemogelijkheden!$A$3,$J38*Keuzemogelijkheden!$E$3,IF(K38=Keuzemogelijkheden!$A$4,$J38*Keuzemogelijkheden!$E$4,IF(K38=Keuzemogelijkheden!$A$5,$J38*Keuzemogelijkheden!$E$5,"0")))) -> 0
C39: 03 | D39: Dagelijks gebruik
E40: 12 | F40: 1652 | G40: In het BOR-beheersysteem is een prullenbakfunctie aanwezig om per abuis verwijderde gegevens terug te kunnen zetten. Daarbij wordt ook de historie ongedaan gemaakt, maar is wel zichtbaar dat deze mutatie is uitgevoerd (wel logging, maar geen historie-opbo | H40: Wens bij implementatie | I40: IMPF2 | J40: 3 | K40: Maak uw keuze | L40: =IF(K40<>"",VLOOKUP(K40,Keuzemogelijkheden!$A$2:$E$6,2,FALSE),"") -> Maak een keuze in de kolom 'Antwoord fase' | M40: =IF(K40<>"",VLOOKUP(K40,Keuzemogelijkheden!$A$2:$E$6,3,FALSE),"") -> Maak een keuze in de kolom 'Antwoord fase' | N40: =IF(K40<>"",VLOOKUP(K40,Keuzemogelijkheden!$A$2:$E$6,4,FALSE),"") -> Maak een keuze in de kolom 'Antwoord fase' | O40: =IF(K40=Keuzemogelijkheden!$A$2,$J40*Keuzemogelijkheden!$E$2,IF(K40=Keuzemogelijkheden!$A$3,$J40*Keuzemogelijkheden!$E$3,IF(K40=Keuzemogelijkheden!$A$4,$J40*Keuzemogelijkheden!$E$4,IF(K40=Keuzemogelijkheden!$A$5,$J40*Keuzemogelijkheden!$E$5,"0")))) -> 0
...
