Workbook
Name agg_machines: [1]aggregation!$B$26:$B$36
Name brandstof: [1]_opties_!$C$135:$C$142
Name brandstof_road: [1]_opties_!$C$350:$C$357
Name euro_voertuig: [1]_opties_!$C$369:$C$376
Name sector: [1]_opties_!$C$27:$C$32
Name STAGE: [1]_opties_!$C$145:$C$151
Name voertuig: [1]_opties_!$C$360:$C$366

Sheet Rapportage van effecten
B2: Rapportage format monitoring Impulsbudgetten RWS
B4: Dit format betreft het verificatieformat voor het effect van alle maatregelen die zijn uitgevoerd met duurzaamheidsbudget. Het format moet door de desbetreffende projecten, inclusief onderbouwing elke T-rapportage (via het projectteam) worden aangeleverd bij steunpuntduurzaamheid@RWS.nl. Dit ter verificatie van de budgetten naar het ministerie I&W. Eventuele vragen over het format of de verantwoording van de budgetten kunnen tevens bij het steunpunt duurzaamheid worden gesteld. Let op: Indien het niet mogelijk is een update te geven dient het format alsnog elke T-rapportage (inclusief ongewijzigde prognose) bij het steunpunt te worden aangeleverd. Let op: Bij de inzet van zero emissie materieel is ook tabblad 2 van toepassing!
B5: Maatregel KCI: | H5: Invullen na goedkeuring budgetaanvraag
B6: Korte beschrijving maatregel (wat wordt er in dit geval concreet verduurzaamd?)
B7: Projectnaam en -nummer:
B8: Datum van invullen (of data indien meerdere invulmomenten): | H8: Invullen per versie
B9: Welke lessen kunnen er geleerd worden over verduurzaming? Alleen invullen indien eenvoudig voorhanden. | H9: Invullen bij afronding project
B10: Leg hier kwalitatief uit welke milieuwinst er in de toekomst te verwachten valt indien: 1) het project enkel kwalitatieve resultaten heeft opgeleverd (voorbereidend onderzoek ter behoeve van realisatiemaatregel): 2): er bij toekomstige grootschalige toepassing een nog groter reductiepotentieel te halen valt
B11: Ligt de scope toe, waaronder in ieder geval onderstaande twee velden
B12: Welke levensduur is er gehanteerd?
B13: Welke levenscyclusfasen zijn er meegenomen in de MKI-berekeningen? Bijvoorbeeld A1-A5 of A1-D.
B14: Zijn de resultaten ingevuld voor alléén de onderdelen van het (bouw)project waar de maatregel betrekking op heeft of voor het hele project?
B15: Prestatie: | C15: Verwachte bijdrage | D15: Aangepaste prognose | E15: Realisatie | F15: Toelichting
F16: Korte toelichting bij afwijking van prestaties t.o.v. verwachting | G16: Bronvermelding / toelichting ingevulde waarden
C17: Invullen na goedkeuring budgetaanvraag. Voor het detailniveveau van achterliggende berekeningen volstaat een inschatting. | D17: Update per T rapportage. Alleen wanneer de verwachte resultaten niet meer realistisch zijn (door bijvoorbeeld grote wijzigingen in het ontwerp). | E17: Actueel behaalde prestaties, update per T-rapportage. Voor het detailniveveau van achterliggende berekeningen wordt voor categorie 1 data een LCA rapportage verwacht die voldoet aan de Bepalingsmethode en getoetst is door een herkend LCA deskundige. | F17: Invullen na goedkeuring budgetaanvraag. Indien nodig update per T-rapportage en invullen bij afronding project | G17: Invullen na goedkeuring budgetaanvraag. Indien nodig update per T-rapportage en invullen bij afronding project
B18: MKI (in €) | H18: Let bij het invullen op de scope: het is belangrijk dat deze voor MKI, CO2 en kosten steeds hetzelfde is. Denk hierbij bijvoorbeeld aan systeemgrenzen, levensduur en levenscyclusfasen. Vul daarnaast bij voorkeur enkel de resultaten in voor het gedeelte van het (bouw)project waar de maatregel betrekking op heeft (en dus niet voor het gehele proejct waarin dit is toegepast).
B19: Zonder maatregel (referentie) | G19: Verwijzing naar documentatie + beknopte uitleg gerapporteerde waarden MKI berekeningen van referentie en maatregel + onderbouwing + aannames is realisatie
B20: Met maatregel
B21: Reductie
B22: De berekening van de milieukosten (MKI-waarden) geschiedt volgens de LCA werkwijze in combinatie met de Bepalingsmethode Milieuprestatie Bouwwerken (kortweg "Bepalingsmethode"), waarbij milieu-impact uitgedrukt wordt in de milieukosten indicator (MKI), met eenheid [euro]. De MKI-waarden worden bepaald met toepassing van DuboCalc als software-instrument, of berekend op ‘handmatige’ wijze met LCA’s. Versies: De laatste versie van DuboCalc is vigerend. De laatste versie van de Bepalingsmethode is vigerend. De laatste versie van de Nationale Milieu Database NMD is vigerend. Uitgangspunt is dat de vigerende versie genomen wordt bij aanvang van de maatregel (opstellen referentie) en dat gedurende de implementatie (prognose, realisatie) deze versie van toepassing blijft. Het is belangrijk om de gehanteerde versie van DuboCalc, en de onderliggende bibliotheek, vast te leggen! De product-specifieke LCA’s en de daarin vastgestelde MKI waardes, dienen getoetst te zijn door een erkende LCA-Deskundige (zie https://milieudatabase.nl/milieudata/erkende-lca-deskundigen/).
B23: CO2 (in ton)
B24: Zonder maatregel (referentie) | G24: Verwijzing naar documentatie + beknopte uitleg gerapporteerde waarden
B25: Met maatregel
B26: Reductie
B27: Klimaatverandering is één van de milieu effect categorieën waar de MKI uit is opgebouwd en wordt technisch verwoord als CO₂-equivalenten (CO₂ eq). Weegfactor voor de milieu effect categorie klimaatverandering is € 0,05 per kg CO₂ eq. De waarde van CO₂-eq is daarmee te bepalen uit de MKI voor alleen de effectcategorie klimaatverandering door deze met een factor 20 te vermenigvuldigen (voor de CO₂-eq in kg) of door 50 te delen (voor de CO₂-eq in ton).
B28: Kosten (in €)
B29: Zonder maatregel (referentie) | G29: Verwijzing naar documentatie + beknopte uitleg gerapporteerde waarden
B30: Met maatregel
B31: Meerkosten
B32: Meerkosten betreft de kosten t.o.v. traditionele uitvoering (stichtingskosten).
B33: Bijdrage Circulariteit (kwalitatief) | G33: Korte toelichting waarop kwalitatieve antwoord gebaseerd is
B34: Kwalitatief: geef aan in hoeverre het KCI-initiatief bijdraagt aan circulariteit en leg daarnaast uit waarop u uw antwoord baseert in de kolom toelichting: -- / - : ongunstig, KCI initiatief gaat in tegen de principes van circulair materiaalgebruik; 0 : neutraal, geen effect op circulair materiaalgebruik; + : gunstig, KCI initiatief bevordert circulair materiaalgebruik via één of meer van onderstaande strategie(ën); ++: Initiatief heeft als primaire doelstelling het verhogen van de circulariteit volgens één of meer van de onderstaande strategiën; nvt: indien niet relevant. > Circulaire strategie die het totale grondstoffengebruik vermindert t.o.v. de referentiesituatie, b.v. minder materiaal gebruik; > Circulaire strategie die de behoefte aan nieuwe grondstoffen uitstelt t.o.v. de referentiesituatie, b.v. hergebruik van materiaal; > Circulaire strategie gericht op het sluiten en/of regenereren van de kringloop van grondstoffen, b.v recycling.
B35: Bijdrage Stikstof (kwalitatief) | G35: Korte toelichting waarop kwalitatieve antwoord gebaseerd is
B36: Indien het KCI initiatief behalve op MKI en CO2 ook effect heeft op de uitstoot van stikstof, geef dan kwalitatief aan in welke mate: -- / - : ongunstig, door KCI initiatief zal uitstoot toenemen; 0 : neutraal, geen effect op stikstof; + : gunstig, maar valt niet onder de voorwaarden voor de classificatie "++"; ++ : zeer gunstig, alleen kiezen in het geval dat zero emissie werktuigen / voertuigen worden ingezet; nvt : indien niet relevant.
B37: Bijdrage Fijnstof (kwalitatief) | G37: Korte toelichting waarop kwalitatieve antwoord gebaseerd is
B38: Indien het KCI initiatief behalve op MKI en CO2 ook effect heeft op de uitstoot van fijnstof, geef dan kwalitatief aan in welke mate: -- / - : ongunstig, door KCI initiatief zal uitstoot toenemen; 0 : neutraal, geen effect op stikstof; + : gunstig, maar valt niet onder de voorwaarden voor de classificatie "++"; ++ : zeer gunstig, alleen kiezen in het geval dat zero emissie werktuigen / voertuigen worden ingezet; nvt : indien niet relevant.
B39: Fase van standaardisatie | G39: Korte toelichting waarop kwalitatieve antwoord gebaseerd is
B40: I = Innoveren: een vernieuwing die er op gericht is om op TRL 9 niveau (technisch gereed om binnen de organisatie in productie te nemen = uniformeren) te komen. U = Uniformeren: behelst de acties die nodig zijn om de organisatie klaar te maken voor brede toepassing (TRL niveau 9). P = Produceren: gangbare werkwijze die algemeen toegepast wordt, of kan worden.
B57: drop down
B58: --
B59: -
B60: 0
B61: +
B62: ++
B63: I
B64: U
B65: P

Sheet Input materieel
A1: Rekenformat percentage ZE materieel (voer- en werktuigen)
A2: Dit format betreft het rekenformat voor het percentage van de inzet van zero emissie materieel in de projectscope. Het format dient ingevuld te worden voor al het toegepaste materieel (m.u.v. vaartuigen) die nodig zijn voor uitvoering van het Werk. De materieelstukken zijn opgedeeld in transportmiddelen en (mobiele) werktuigen. Het percentage in eis DM060 wordt automatisch doorgerekend indien de verbruiken per eenheid (draaiuur, tonkilometer of kilometer) én de hoeveelheden zijn ingevuld. De berekening hiervan is herleidbaar middels de uitklapbare rekenregels (plusjes aan de linkerkant). Toelichtingen en een voorbeeld per regel zijn te vinden middels het plusje boven kolom G. Gele vlakken dienen per materieelstuk te worden ingevuld; de grijze vlakken worden automatisch doorgerekend. Kolommen J-P kunnen uitgeklapt worden om meer dan 4 materieelstukken zichtbaar te maken. Indien er gebruik gemaakt wordt van meer dan 10 materieelstukken per categorie, dienen de formules te worden doorgetrokken naar de nieuwe cellen en dient de formule voor percentage ZE te worden aangepast om alle materieelstukken te omvatten.
A12: Percentage ZE (totale werk) | B12: =(SUM(G28:Q28)+SUM(G47:Q47))/(SUM(G29:Q29)+SUM(G48:Q48)) -> #DIV/0!
A13: Percentage ZE (actuele status): | B13: =(SUM(G32:Q32)+SUM(G51:Q51))/(SUM(G33:Q33)+SUM(G52:Q52)) -> #DIV/0!
A14: Uitleg percentage ZE: Het percentage ZE wordt bepaald door de arbeid (output MJ) uitgevoerd met emissieloze bronnen te delen door de totale arbeid (output MJ). Hierbij wordt de output per energiedrager aangehouden zoals berekend in tabel 2 van de LCA rapportge machine-brandstofcombinaties (https://milieudatabase.nl/media/filer_public/9e/0a/9e0a7906-f85b-461b-95fe-b3d41d31f744/h1000-8000_processen_v15_-_pro_brandstof-machinecombinaties.pdf). Deze omrekentabel is ook opgenomen in het tabblad Achterliggende informatie.
A16: In te vullen voor Transportmiddelen (motorvoertuigen: auto's, bussen, Trekkers & vrachtwagens) | B16: Algemene informatie Invullen bij start inzet materieel | C16: Invoer | E16: Toelichting | F16: Voorbeeld - Dumper hybride | G16: Dumper hybride | H16: Dumper conventioneel | I16: Dumper elektrisch | J16: Voertuig 4 | K16: Voertuig 5 | L16: Voertuig 6 | M16: Voertuig 7 | N16: Voertuig 8 | O16: Voertuig 9 | P16: Voertuig 10 | Q16: Voertuig 3
C17: Categorie | E17: Kies het type materieelstuk | F17: Trekker zwaar
C18: Emissieklasse | E18: In geval van Zero Emission (waterstof of 100% elektrisch) leeg laten, bij hybride invullen voor onderdeel met brandstof | F18: Hybride
C19: Uitvoeringsperiode | E19: Mocht de uitvoering vallen in meer periodes, kies dan de periode waar het meest in wordt uitgevoerd. | F19: Periode 2: 2025-2027
C20: Te meten eenheid | E20: Tonkilometer voor transport of kilometer voor personenvervoer | F20: Tonkilometer
C21: Gemiddeld verbruik per (ton)kilometer per type brandstof | D21: Elektrisch (kWh) | E21: Verbruik per (ton)kilometer (bij hybride of blend beide energiedragers invullen) | F21: =1/10.3/2 -> 0.048543689
D22: Diesel of HVO (l) | F22: =1/43.3/2 -> 0.011547344
D23: Waterstof (kg)
C24: ZE arbeid per eenheid (MJ output; wordt berekend) | E24: Rekent automatisch door | F24: =(F21*'Achterliggende informatie'!$C$12)+(F23*'Achterliggende informatie'!$C$14) -> 0.13592233 | J24: =(J21*'Achterliggende informatie'!$C$12)+(J23*'Achterliggende informatie'!$C$14) -> 0 | K24: =(K21*'Achterliggende informatie'!$C$12)+(K23*'Achterliggende informatie'!$C$14) -> 0 | L24: =(L21*'Achterliggende informatie'!$C$12)+(L23*'Achterliggende informatie'!$C$14) -> 0 | M24: =(M21*'Achterliggende informatie'!$C$12)+(M23*'Achterliggende informatie'!$C$14) -> 0 | N24: =(N21*'Achterliggende informatie'!$C$12)+(N23*'Achterliggende informatie'!$C$14) -> 0 | O24: =(O21*'Achterliggende informatie'!$C$12)+(O23*'Achterliggende informatie'!$C$14) -> 0 | P24: =(P21*'Achterliggende informatie'!$C$12)+(P23*'Achterliggende informatie'!$C$14) -> 0 | Q24: =(Q21*'Achterliggende informatie'!$C$12)+(Q23*'Achterliggende informatie'!$C$14) -> 0
C25: Arbeid per eenheid (MJ output; wordt berekend) | E25: Rekent automatisch door | F25: =(F21*'Achterliggende informatie'!$C$12)+(F22*'Achterliggende informatie'!$C$13)+(F23*'Achterliggende informatie'!$C$14) -> 0.26987152 | J25: =(J21*'Achterliggende informatie'!$C$12)+(J22*'Achterliggende informatie'!$C$13)+(J23*'Achterliggende informatie'!$C$14) -> 0 | K25: =(K21*'Achterliggende informatie'!$C$12)+(K22*'Achterliggende informatie'!$C$13)+(K23*'Achterliggende informatie'!$C$14) -> 0 | L25: =(L21*'Achterliggende informatie'!$C$12)+(L22*'Achterliggende informatie'!$C$13)+(L23*'Achterliggende informatie'!$C$14) -> 0 | M25: =(M21*'Achterliggende informatie'!$C$12)+(M22*'Achterliggende informatie'!$C$13)+(M23*'Achterliggende informatie'!$C$14) -> 0 | N25: =(N21*'Achterliggende informatie'!$C$12)+(N22*'Achterliggende informatie'!$C$13)+(N23*'Achterliggende informatie'!$C$14) -> 0 | O25: =(O21*'Achterliggende informatie'!$C$12)+(O22*'Achterliggende informatie'!$C$13)+(O23*'Achterliggende informatie'!$C$14) -> 0 | P25: =(P21*'Achterliggende informatie'!$C$12)+(P22*'Achterliggende informatie'!$C$13)+(P23*'Achterliggende informatie'!$C$14) -> 0 | Q25: =(Q21*'Achterliggende informatie'!$C$12)+(Q22*'Achterliggende informatie'!$C$13)+(Q23*'Achterliggende informatie'!$C$14) -> 0
B26: Prognose volledig project | C26: Meerkosten (€)
C27: Uit te voeren hoeveelheid (tonkm, km, draaiuur - aansluiten bij bovenstaand verbruik) | F27: 20000
C28: ZE arbeid (MJ output; wordt berekend obv bovenstaande gegevens) | E28: Rekent automatisch door | F28: =F24*F27 -> 2718.4466 | J28: =J24*J27 -> 0 | K28: =K24*K27 -> 0 | L28: =L24*L27 -> 0 | M28: =M24*M27 -> 0 | N28: =N24*N27 -> 0 | O28: =O24*O27 -> 0 | P28: =P24*P27 -> 0 | Q28: =Q24*Q27 -> 0
C29: Totale arbeid (MJ output; wordt berekend obv bovenstaande gegevens) | E29: Rekent automatisch door | F29: =F27*F25 -> 5397.4304 | J29: =J27*J25 -> 0 | K29: =K27*K25 -> 0 | L29: =L27*L25 -> 0 | M29: =M27*M25 -> 0 | N29: =N27*N25 -> 0 | O29: =O27*O25 -> 0 | P29: =P27*P25 -> 0 | Q29: =Q27*Q25 -> 0
B30: Actuele status Uitgevoerd tot nu toe | C30: Meerkosten (€)
C31: Uitgevoerde hoeveelheid (tonkm, km, draaiuur - aansluiten bij bovenstaand verbruik) | F31: 8000
C32: Uitgevoerde ZE arbeid (MJ output; wordt berekend obv bovenstaande gegevens) | E32: Rekent automatisch door | F32: =F24*F31 -> 1087.3786 | G32: =G24*G31 -> 0 | H32: =H24*H31 -> 0 | I32: =I24*I31 -> 0 | J32: =J24*J31 -> 0 | K32: =K24*K31 -> 0 | L32: =L24*L31 -> 0 | M32: =M24*M31 -> 0 | ... Q32: =Q24*Q31 -> 0
C33: Uitgevoerde totale arbeid (MJ output; wordt berekend obv bovenstaande gegevens) | E33: Rekent automatisch door | F33: =F25*F31 -> 2158.9722 | G33: =G25*G31 -> 0 | H33: =H25*H31 -> 0 | I33: =I25*I31 -> 0 | J33: =J25*J31 -> 0 | K33: =K25*K31 -> 0 | L33: =L25*L31 -> 0 | M33: =M25*M31 -> 0 | ... Q33: =Q25*Q31 -> 0
A36: In te vullen voor Mobiele werktuigen (kranen, graafmachines, aggregaten en specialistisch materieel als asfaltmachines) | B36: Algemene informatie Invullen bij start inzet materieel | C36: Invoer | F36: Voorbeeld - Hydraulische graafmachine | G36: Hyrdaulische graafmachine | H36: Hydraulische graafmacine | I36: Machine 3 | J36: Machine 4 | K36: Machine 5 | L36: Machine 6 | M36: Machine 7 | N36: Machine 8 | O36: Machine 9 | P36: Machine 10 | Q36: Machine 3
C37: Classificatie vermogen (kW) | E37: Kies de vermogensklasse, gebaseerd op maximaal vermogen (kW) | F37: Middelzwaar 75 - 130 kW
C38: Emissieklasse | E38: In geval van ZE leeg laten, bij hybride invullen voor onderdeel met brandstof | F38: Stage V
C39: Uitvoeringsperiode | E39: Mocht de uitvoering vallen in meer periodes, kies dan de periode waar het meest in wordt uitgevoerd. | F39: Periode 2: 2025-2027
C40: Gemiddeld verbruik per uur per type brandstof | D40: Elektrisch (kWh) | E40: Verbruik per uur (bij hybride of blend beide energiedragers invullen) | F40: 80
D41: Diesel of HVO (l)
D42: Waterstof (kg) | F42: 15
C43: ZE arbeid per eenheid (MJ output; wordt berekend) | E43: Rekent automatisch door | F43: =(F40*'Achterliggende informatie'!$C$34)+(F42*'Achterliggende informatie'!$C$36) -> 731.5 | I43: =(I40*'Achterliggende informatie'!$C$34)+(I42*'Achterliggende informatie'!$C$36) -> 0 | J43: =(J40*'Achterliggende informatie'!$C$34)+(J42*'Achterliggende informatie'!$C$36) -> 0 | K43: =(K40*'Achterliggende informatie'!$C$34)+(K42*'Achterliggende informatie'!$C$36) -> 0 | L43: =(L40*'Achterliggende informatie'!$C$34)+(L42*'Achterliggende informatie'!$C$36) -> 0 | M43: =(M40*'Achterliggende informatie'!$C$34)+(M42*'Achterliggende informatie'!$C$36) -> 0 | N43: =(N40*'Achterliggende informatie'!$C$34)+(N42*'Achterliggende informatie'!$C$36) -> 0 | O43: =(O40*'Achterliggende informatie'!$C$34)+(O42*'Achterliggende informatie'!$C$36) -> 0 | P43: =(P40*'Achterliggende informatie'!$C$34)+(P42*'Achterliggende informatie'!$C$36) -> 0 | Q43: =(Q40*'Achterliggende informatie'!$C$34)+(Q42*'Achterliggende informatie'!$C$36) -> 0
C44: Arbeid per eenheid (MJ output; wordt berekend) | E44: Rekent automatisch door | F44: =(F40*'Achterliggende informatie'!$C$34)+(F41*'Achterliggende informatie'!$C$35)+(F42*'Achterliggende informatie'!$C$36) -> 731.5 | I44: =(I40*'Achterliggende informatie'!$C$34)+(I41*'Achterliggende informatie'!$C$35)+(I42*'Achterliggende informatie'!$C$36) -> 0 | J44: =(J40*'Achterliggende informatie'!$C$34)+(J41*'Achterliggende informatie'!$C$35)+(J42*'Achterliggende informatie'!$C$36) -> 0 | K44: =(K40*'Achterliggende informatie'!$C$34)+(K41*'Achterliggende informatie'!$C$35)+(K42*'Achterliggende informatie'!$C$36) -> 0 | L44: =(L40*'Achterliggende informatie'!$C$34)+(L41*'Achterliggende informatie'!$C$35)+(L42*'Achterliggende informatie'!$C$36) -> 0 | M44: =(M40*'Achterliggende informatie'!$C$34)+(M41*'Achterliggende informatie'!$C$35)+(M42*'Achterliggende informatie'!$C$36) -> 0 | N44: =(N40*'Achterliggende informatie'!$C$34)+(N41*'Achterliggende informatie'!$C$35)+(N42*'Achterliggende informatie'!$C$36) -> 0 | O44: =(O40*'Achterliggende informatie'!$C$34)+(O41*'Achterliggende informatie'!$C$35)+(O42*'Achterliggende informatie'!$C$36) -> 0 | P44: =(P40*'Achterliggende informatie'!$C$34)+(P41*'Achterliggende informatie'!$C$35)+(P42*'Achterliggende informatie'!$C$36) -> 0 | Q44: =(Q40*'Achterliggende informatie'!$C$34)+(Q41*'Achterliggende informatie'!$C$35)+(Q42*'Achterliggende informatie'!$C$36) -> 0
B45: Prognose volledig project | C45: Meerkosten (€)
C46: Uit te voeren hoeveelheid (tonkm, km, draaiuur - aansluiten bij bovenstaand verbruik) | F46: 400
C47: ZE arbeid (MJ output; wordt berekend obv bovenstaande gegevens) | E47: Rekent automatisch door | F47: =F43*F46 -> 292600 | I47: =I43*I46 -> 0 | J47: =J43*J46 -> 0 | K47: =K43*K46 -> 0 | L47: =L43*L46 -> 0 | M47: =M43*M46 -> 0 | N47: =N43*N46 -> 0 | O47: =O43*O46 -> 0 | P47: =P43*P46 -> 0 | Q47: =Q43*Q46 -> 0
C48: Totale arbeid (MJ output; wordt berekend obv bovenstaande gegevens) | E48: Rekent automatisch door | F48: =F46*F44 -> 292600 | I48: =I46*I44 -> 0 | J48: =J46*J44 -> 0 | K48: =K46*K44 -> 0 | L48: =L46*L44 -> 0 | M48: =M46*M44 -> 0 | N48: =N46*N44 -> 0 | O48: =O46*O44 -> 0 | P48: =P46*P44 -> 0 | Q48: =Q46*Q44 -> 0
B49: Actuele status Uitgevoerd tot nu toe | C49: Meerkosten (€)
C50: Uitgevoerde hoeveelheid (tonkm, km, draaiuur - aansluiten bij bovenstaand verbruik) | F50: 0
C51: Uitgevoerde ZE arbeid (MJ output; wordt berekend obv bovenstaande gegevens) | E51: Rekent automatisch door | F51: =F43*F50 -> 0 | G51: =G43*G50 -> 0 | H51: =H43*H50 -> 0 | I51: =I43*I50 -> 0 | J51: =J43*J50 -> 0 | K51: =K43*K50 -> 0 | L51: =L43*L50 -> 0 | M51: =M43*M50 -> 0 | ... Q51: =Q43*Q50 -> 0
C52: Uitgevoerde totale arbeid (MJ output; wordt berekend obv bovenstaande gegevens) | E52: Rekent automatisch door | F52: =F44*F50 -> 0 | G52: =G44*G50 -> 0 | H52: =H44*H50 -> 0 | I52: =I44*I50 -> 0 | J52: =J44*J50 -> 0 | K52: =K44*K50 -> 0 | L52: =L44*L50 -> 0 | M52: =M44*M50 -> 0 | ... Q52: =Q44*Q50 -> 0

Sheet Achterliggende informatie
A1: Mogelijke classificatie transportmiddelen
A2: Personenvervoer
A3: Bestelauto
A4: Trekker licht
A5: Trekker middelzwaar
A6: Vrachtwagen licht en middel
A7: Vrachtwagen zwaar
A8: Trekker zwaar
A9: Bus
A11: Mogelijke energiedragers transportmiddelen | B11: Eenheid | C11: Output (MJ per eenheid)
A12: Elektrisch | B12: kWh | C12: 2.8
A13: Diesel | B13: liter | C13: 11.6
A14: Waterstof | B14: kg | C14: 34.1
A16: Mogelijke classificatie transportmiddelen
A17: EURO 5
A18: EURO 6
A19: Hybride
A20: Zero emissie
A22: Mogelijke eenheden transportmiddelen
A23: Tonkilometer
A24: Kilometer
A25: Draaiuur
A27: Mogelijke periodes
A28: Periode 1: 2023-2024
A29: Periode 2: 2025-2027
... A31: Periode 4: 2030 en verder
A33: Werktuigen | B33: Eenheid | C33: Output (MJ per eenheid)
A34: Elektrisch | B34: kWh | C34: 2.75
A35: Diesel | B35: liter | C35: 9.37
A36: Waterstof | B36: kg | C36: 34.1
A38: Mogelijkheden classificatie werktuigen
A39: Stage IIIB
A40: Stage IV
A41: Stage V
A42: Hybride
A43: Zero emissie
A45: Categorie (vermogen) werktuigen
A46: Mini < 19 kW
A47: Zeer licht 19 - 37 kW
A48: Licht 37 - 56 kW
A49: Middelzwaar 56 - 75 kW
A50: Middelzwaar 75 - 130 kW
... A52: Zeer zwaar materieel >560 kW
