Workbook

Sheet Totaal blad
A1: Onderwerp : | B1: Prijzenblad
A2: Discipline : | B2: Perceel 3
A3: Datum : | B3: 45565
A4: Versie : | B4: Definitief 1.0 | C4: Geel gemarkeerde cel in te vullen door Inschrijver
B6: Post | C6: Euro (€)
B7: Totaal OTS | C7: =SUM(OTS!J:J) -> 0
B8: Totaal C-OTS | C8: =SUM('C-OTS'!I:I) -> 0
B9: Totaal Maatwerk | C9: =SUM(Maatwerk!I:I) -> 0
A10: 5 | B10: Subtotaal | C10: =SUM(C7:C9) -> 0
A12: 6 | B12: Kosten dienstverlening eenmalig | C12: =SUM(Dienstverlening!C8:C16) -> 0
A13: 7 | B13: Kosten bijbehorende dienstverlening jaarlijks | D13: =SUM(Dienstverlening!D8:D14) -> 0
A15: 8 | B15: Eenmalige projectkorting | C15: 0
A17: 9 | B17: Inschrijfsom EMVI | C17: =C10+C12-C15 -> 0

Sheet Dienstverlening
A1: Onderwerp : | B1: Prijzenblad
A2: Discipline : | B2: Perceel 3
A3: Datum : | B3: 45565
A4: Versie : | B4: Definitief 1.0
C5: Gele cellen in te vullen door Inschrijver
A7: Onderdeel uit PvE&W | B7: Post (zie PvE&W voor toelichting) | C7: Eenmalige kosten (€) | D7: Kosten bijbehorende dienstverlening jaarlijks(€) | E7: Uurtarief Junior (€) | F7: Uurtarief Medior (€) | G7: Uurtarief Senior (€)
A8: a | B8: Advies- en finetunen van het interieurontwerp; | C8: 0 | D8: 0 | E8: 0 | F8: 0 | G8: 0
A9: b | B9: Borgen kwaliteit en functionaliteit; | C9: 0 | D9: 0
A10: c | B10: Assetmanagement; | C10: 0 | D10: 0
A11: d | B11: Maatschappelijk verantwoord opdrachtgeven en inkopen; | C11: 0 | D11: 0
A12: e | B12: Diensten met betrekking tot Circulair Model; | C12: 0 | D12: 0
A13: g | B13: Contractmanagement; | C13: 0 | D13: 0
A14: h | B14: Bijdrage leveren aan managementcyclus opdrachtgever. | C14: 0 | D14: 0
A16: f | B16: Projectmanagement. | C16: 0 | E16: 0 | F16: 0 | G16: 0

Sheet OTS
A1: Onderwerp : | B1: Prijzenblad
A2: Discipline : | B2: Perceel 3
A3: Datum : | B3: 45565
A4: Versie : | B4: Definitief 1.0
A6: Code | B6: Referentie inschrijver (catalogus) | C6: Description | D6: Dimensions | E6: Family | F6: Location | G6: Perceel | H6: Count | I6: Unit Price | J6: Subtotal | K6: Material Main | L6: Color Main | M6: Material Secondary | N6: Color Secondary | O6: Material Extra | P6: Color Extra | Q6: Comments | R6: Cable Management
A7: OSC-01 | C7: Vitrage | E7: Others | F7: Open Leercentrum,Trouwkamer, Huiskamer, Griffie, MFZ, Pantry MFZ, Spreekkamer 1e verdieping, Commissiezalen, KCC, vergadercentrum, vergaderruimtes (Meeting room clusters), Dordrecht Marketing & Partners, Vergaderruimtes (werkplekzone), Social Spot HUB, Cirkulatie | G7: 3 | H7: 135 | I7: 0 | J7: =PRODUCT(H7:I7) -> 0 | K7: Kvadrat Daybreak 2 or Maya | L7: All available colours
A8: OSC-02 | C8: Gordijnen | E8: Others | F8: MFZ, Commissiezalen, Handhaving & Politie, Blauwe Kamer, Dordrecht Marketing & Partners, College B&W, Rustruimte | G8: 3 | H8: 43 | I8: 0 | J8: =PRODUCT(H8:I8) -> 0 | K8: Kvadrat Ginger | L8: All available colours
A9: OSC-03c | C9: Gordijnen Speciaal Gespreksplek gebied | E9: Others | F9: Gespreksplek Gebied | G9: 3 | H9: 2 | I9: 0 | J9: =PRODUCT(H9:I9) -> 0 | K9: Kvadrat Daybreak 2 | L9: All available colours
A10: OSC-04 | C10: Gordijn Akoestisch | E10: Others | F10: Zelf-servicegebied en inspiratie, jongerenvloer | G10: 3 | H10: 3 | I10: 0 | J10: =PRODUCT(H10:I10) -> 0 | K10: Kvadrat Hero 2 | L10: 0752
A11: OSD-01a | C11: Akoestische scheiding | D11: L 630 H 1325 | E11: Others | F11: Frontoffice SDD, Info & Advies (Gespreksplek) | G11: 3 | H11: 2 | I11: 0 | J11: =PRODUCT(H11:I11) -> 0 | K11: Kvadrat Steelcut Trio 3 | L11: 105, 906,236,113 or 713 | M11: Aluminium | N11: Black
A12: OSD-01b | C12: Akoestische scheiding | D12: L 945 H 1325 | E12: Others | F12: Frontoffice SDD, Info & Advies (Gespreksplek) | G12: 3 | H12: 23 | I12: 0 | J12: =PRODUCT(H12:I12) -> 0 | K12: Kvadrat Steelcut Trio 3 | L12: 105, 906,236,113 or 713 | M12: Aluminium | N12: Black
A13: OSD-01c | C13: Akoestische scheiding | D13: L 1260 H 1325 | E13: Others | F13: Frontoffice SDD, Info & Advies (Gespreksplek) | G13: 3 | H13: 4 | I13: 0 | J13: =PRODUCT(H13:I13) -> 0 | K13: Kvadrat Steelcut Trio 3 | L13: 105, 906,236,113 or 713 | M13: Aluminium | N13: Black
A14: OSD-01d | C14: Akoestische scheiding | D14: R150, H 1325 | E14: Others | F14: Frontoffice SDD, Info & Advies (Gespreksplek) | G14: 3 | H14: 5 | I14: 0 | J14: =PRODUCT(H14:I14) -> 0 | K14: Kvadrat Steelcut Trio 3 | L14: 105, 906,236,113 or 713 | M14: Aluminium | N14: Black
A15: OSD-01e | C15: Akoestische scheiding | D15: R150, H 1325 | E15: Others | F15: Frontoffice SDD, Info & Advies (Gespreksplek) | G15: 3 | H15: 33 | I15: 0 | J15: =PRODUCT(H15:I15) -> 0 | K15: Kvadrat Steelcut Trio 3 | L15: 105, 906,236,113 or 713 | M15: Aluminium | N15: Black
A16: OSD-01f | C16: Akoestische scheiding | D16: R200, H 1325 | E16: Others | F16: Frontoffice SDD, Info & Advies (Gespreksplek) | G16: 3 | H16: 3 | I16: 0 | J16: =PRODUCT(H16:I16) -> 0 | K16: Kvadrat Steelcut Trio 3 | L16: 105, 906,236,113 or 713 | M16: Aluminium | N16: Black
A17: OSD-01g | C17: Akoestische scheiding Base | E17: Others | F17: Frontoffice SDD, Info & Advies (Gespreksplek) | G17: 3 | H17: 51 | I17: 0 | J17: =PRODUCT(H17:I17) -> 0 | K17: Aluminium | L17: Black
A18: OSD-02 | C18: Akoestische scheiding | E18: Others | F18: Frontoffice SDD, Info & Advies | G18: 3 | H18: 5 | I18: 0 | J18: =PRODUCT(H18:I18) -> 0 | K18: PET felt | L18: Beige or Marine
A19: OSD-03 | C19: Akoestische scheiding | E19: Others | F19: Aanland | G19: 3 | H19: 18 | I19: 0 | J19: =PRODUCT(H19:I19) -> 0 | K19: PET felt | L19: Beige, Yellow, Brown, Light/Dark Grey or Marine
A20: OSD-04 | C20: Akoestische scheiding | E20: Others | F20: Collectie Volwassenen (Non-ficti / fictie) | G20: 3 | H20: 3 | I20: 0 | J20: =PRODUCT(H20:I20) -> 0 | K20: PET felt | L20: Beige, Yellow, Brown, Light/Dark Grey or Marine
A21: OSD-05 | C21: Akoestische scheiding | E21: Others | F21: Vergadercentrum, vergaderruimtes (meeting room clusters) | G21: 3 | H21: 16 | I21: 0 | J21: =PRODUCT(H21:I21) -> 0 | K21: PET felt | L21: Beige, Yellow, Brown, Light/Dark Grey or Marine
A22: OSS-05 | C22: Loungestoelen - buitenshuis | E22: Y | F22: Buitenshuis | G22: 3 | H22: 86 | I22: 0 | J22: =PRODUCT(H22:I22) -> 0 | K22: Galvanized steel | L22: Burnt orange, dark green and pale blue
A23: OSS-06 | C23: Stoelen - kruk - buitenshuis | E23: Y | F23: Buitenshuis | G23: 3 | H23: 13 | I23: 0 | J23: =PRODUCT(H23:I23) -> 0 | K23: Galvanized steel | L23: Burnt orange, dark green an pale blue
A24: OSS-07 | C24: Zetels | E24: W | F24: College B&W | G24: 3 | H24: 18 | I24: 0 | J24: =PRODUCT(H24:I24) -> 0 | K24: Kvadrat Vidar 4 | L24: 582,333,693 or 554 | M24: Powdercoated steel | N24: Black
A25: OSS-08 | C25: Zetels - meerzit en modulair | E25: W | F25: College B&W | G25: 3 | H25: 3 | I25: 0 | J25: =PRODUCT(H25:I25) -> 0 | K25: Kvadrat Vidar 4 | L25: 582,333,693 or 554 | M25: Powdercoated steel | N25: Black
A26: OSS-10 | C26: Loungestoelen | E26: Others | F26: Collectie Jeugd Spuiboulevard | G26: 3 | H26: 4 | I26: 0 | J26: =PRODUCT(H26:I26) -> 0 | K26: Soft boucle fabric | L26: Orange
A27: OSS-11 | C27: Stoelen | E27: J | F27: Jongerenvloer, Collectie Jeugd Spuiboulevard | G27: 3 | H27: 24 | I27: 0 | J27: =PRODUCT(H27:I27) -> 0 | K27: Recycled textile veneer | L27: Flax, white denim, denim, suits | M27: Steel | N27: Black
A28: OSS-13 | C28: Stoelen | E28: Others | F28: Commissiezalen, College B&W | G28: 3 | H28: 90 | I28: 0 | J28: =PRODUCT(H28:I28) -> 0 | K28: Cosy 2 | L28: Merino black | M28: Powdercoated aluminium | N28: Black
A29: OSS-16 | C29: Loungestoelen - buitenshuis | E29: Y | F29: Buitenshuis | G29: 3 | H29: 21 | I29: 0 | J29: =PRODUCT(H29:I29) -> 0 | K29: Galvanized steel | L29: Burnt orange, dark green and pale blue
A30: OSS-17a | C30: Stoelen | E30: E | F30: Familiekamer, Collectie Volwassenen (Non-fictie), Groene Zone Atrium | G30: 3 | H30: 17 | I30: 0 | J30: =PRODUCT(H30:I30) -> 0 | K30: Kvadrat Steelcut Trio 3 | L30: 236,205,946 or 966 | M30: Powdercoated aluminium | N30: Black
A31: OSS-17b | C31: Stoelen | E31: E | F31: Familiekamer, Collectie Volwassenen (Non-fictie), Groene Zone Atrium | G31: 3 | H31: 30 | I31: 0 | J31: =PRODUCT(H31:I31) -> 0 | K31: Kvadrat Steelcut Trio 3 | L31: 236,205,946 or 966 | M31: Powdercoated aluminium | N31: Warm Black
A32: OSS-17c | C32: Loungestoelen | E32: E | F32: Familiekamer, Collectie Volwassenen (Non-fictie), Groene Zone Atrium | G32: 3 | H32: 15 | I32: 0 | J32: =PRODUCT(H32:I32) -> 0 | K32: Kvadrat Vidar 4 | L32: 333,443,1511 or 1062 | M32: Powdercoated aluminium | N32: Warm Black
A33: OSS-20 | C33: Loungestoelen | E33: A | F33: Open Leercentrum, Griffie, Vergadercentrum, vergaderruimtes (Meeting Room Clusters), Breakout (werkplekzone), MFZ, Blauwe kamer, Handhaving & Politie, werkcafe gesprekplek 2e verdieping, commissiezalen, breakout commissiezalen, Dordrecht Marketing & Partners | G33: 3 | H33: 96 | I33: 0 | J33: =PRODUCT(H33:I33) -> 0 | K33: Kvadrat Vidar 4 | L33: 1062,146, 333, 353, 443, 477, 554, 633, 693, 733, 786, 872, 913, 972 | M33: Powdercoated steel | N33: Black
A34: OSS-23a | C34: Zetels - meerzit en modulair | D34: 790x750xSH480 | E34: Others | F34: Collectie volwassenen (Non-fictie), handhaving & politie (wachten) | G34: 3 | H34: 8 | I34: 0 | J34: =PRODUCT(H34:I34) -> 0 | K34: Kvadrat Vidar 4 | L34: 333,443,1511 or 1062
A35: OSS-23b | C35: Zetels - meerzit en modulair | D35: 790x750xSH480 | E35: Others | F35: Collectie volwassenen (Non-fictie), handhaving & politie (wachten) | G35: 3 | H35: 2 | I35: 0 | J35: =PRODUCT(H35:I35) -> 0 | K35: Kvadrat Vidar 4 | L35: 333,443,1511 or 1062
A36: OSS-24b | C36: Stoelen - kruk | E36: Others | F36: Pantry BOH | G36: 3 | H36: 5 | I36: 0 | J36: =PRODUCT(H36:I36) -> 0 | K36: Solid oak | L36: Stain and laquer
A37: OSS-25b | C37: Zetels - meerzit en modulair | E37: F | F37: Hoofd entree & Ontvangst, Frontoffice SDD, Publieke Diensten Groene Zone (Open leercentrum), Info & Advies, Info & Advies Atrium, Gespreksplek Gebied, Groene zone Atrium, Flexibele Ruimte, Collectie Volwassenen (fictie), Welkomsruimte, Wachten B&W, Aanland, IBD Plateau gebouw, Dubbelhoge ruimte Natuur, Dubbelhoge ruimte Oude Stad, Social Spot HUB, Dubbelhoge ruimte Kathedraal | G37: 3 | H37: 30 | I37: 0 | J37: =PRODUCT(H37:I37) -> 0 | K37: Kvadrat Steelcut Trio 3 | L37: 576,436 or 453 | M37: Lackered wood | N37: Black
A38: OSS-25c | C38: Zetels - meerzit en modulair | E38: F | F38: Hoofd entree & Ontvangst, Frontoffice SDD, Publieke Diensten Groene Zone (Open leercentrum), Info & Advies, Info & Advies Atrium, Gespreksplek Gebied, Groene zone Atrium, Flexibele Ruimte, Collectie Volwassenen (fictie), Welkomsruimte, Wachten B&W, Aanland, IBD Plateau gebouw, Dubbelhoge ruimte Natuur, Dubbelhoge ruimte Oude Stad, Social Spot HUB, Dubbelhoge ruimte Kathedraal | G38: 3 | H38: 4 | I38: 0 | J38: =PRODUCT(H38:I38) -> 0 | K38: Kvadrat Hallingdal 65 | L38: 547, 590 | M38: Lackered wood | N38: Black
A39: OSS-25c | C39: Zetels - meerzit en modulair | E39: F | F39: Hoofd entree & Ontvangst, Frontoffice SDD, Publieke Diensten Groene Zone (Open leercentrum), Info & Advies, Info & Advies Atrium, Gespreksplek Gebied, Groene zone Atrium, Flexibele Ruimte, Collectie Volwassenen (fictie), Welkomsruimte, Wachten B&W, Aanland, IBD Plateau gebouw, Dubbelhoge ruimte Natuur, Dubbelhoge ruimte Oude Stad, Social Spot HUB, Dubbelhoge ruimte Kathedraal | G39: 3 | H39: 96 | I39: 0 | J39: =PRODUCT(H39:I39) -> 0 | K39: Kvadrat Steelcut Trio 3 | L39: <varies> | M39: Lackered wood | N39: Black
A40: OSS-25d | C40: Zetels - meerzit en modulair | E40: F | F40: Hoofd entree & Ontvangst, Frontoffice SDD, Publieke Diensten Groene Zone (Open leercentrum), Info & Advies, Info & Advies Atrium, Gespreksplek Gebied, Groene zone Atrium, Flexibele Ruimte, Collectie Volwassenen (fictie), Welkomsruimte, Wachten B&W, Aanland, IBD Plateau gebouw, Dubbelhoge ruimte Natuur, Dubbelhoge ruimte Oude Stad, Social Spot HUB, Dubbelhoge ruimte Kathedraal | G40: 3 | H40: 20 | I40: 0 | J40: =PRODUCT(H40:I40) -> 0 | K40: Kvadrat Steelcut Trio 3 | L40: 576,436 or 453 | M40: Lackered wood | N40: Black
A41: OSS-25e | C41: Zetels - meerzit en modulair | E41: F | F41: Hoofd entree & Ontvangst, Frontoffice SDD, Publieke Diensten Groene Zone (Open leercentrum), Info & Advies, Info & Advies Atrium, Gespreksplek Gebied, Groene zone Atrium, Flexibele Ruimte, Collectie Volwassenen (fictie), Welkomsruimte, Wachten B&W, Aanland, IBD Plateau gebouw, Dubbelhoge ruimte Natuur, Dubbelhoge ruimte Oude Stad, Social Spot HUB, Dubbelhoge ruimte Kathedraal | G41: 3 | H41: 3 | I41: 0 | J41: =PRODUCT(H41:I41) -> 0 | K41: Kvadrat Steelcut Trio 3 | L41: 576,436 or 453 | M41: Lackered wood | N41: Black
A42: OSS-26b | C42: Zetels - meerzit en modulair | E42: F | F42: Hoofd entree & Ontvangst, Frontoffice SDD, Publieke Diensten Groene Zone (Open leercentrum), Info & Advies, Info & Advies Atrium, Gespreksplek Gebied, Groene zone Atrium, Flexibele Ruimte, Collectie Volwassenen (fictie), Welkomsruimte, Wachten B&W, Aanland, IBD Plateau gebouw, Dubbelhoge ruimte Natuur, Dubbelhoge ruimte Oude Stad, Social Spot HUB, Dubbelhoge ruimte Kathedraal | G42: 3 | H42: 48 | I42: 0 | J42: =PRODUCT(H42:I42) -> 0 | K42: Kvadrat Steelcut Trio 3 | L42: 576,436 or 453 | M42: Lackered wood | N42: Black
A43: OSS-27 | C43: Zetels | E43: F | F43: Hoofd entree & Ontvangst, Frontoffice SDD, Publieke Diensten Groene Zone (Open leercentrum), Info & Advies, Info & Advies Atrium, Gespreksplek Gebied, Groene zone Atrium, Flexibele Ruimte, Collectie Volwassenen (fictie), Welkomsruimte, Wachten B&W, Aanland, IBD Plateau gebouw, Dubbelhoge ruimte Natuur, Dubbelhoge ruimte Oude Stad, Social Spot HUB, Dubbelhoge ruimte Kathedraal | G43: 3 | H43: 2 | I43: 0 | J43: =PRODUCT(H43:I43) -> 0 | K43: Kvadrat Hallingdal 65 | L43: 220 | M43: Lackered wood | N43: Black
A44: OSS-28 | C44: Zetels | E44: F | F44: Hoofd entree & Ontvangst, Frontoffice SDD, Publieke Diensten Groene Zone (Open leercentrum), Info & Advies, Info & Advies Atrium, Gespreksplek Gebied, Groene zone Atrium, Flexibele Ruimte, Collectie Volwassenen (fictie), Welkomsruimte, Wachten B&W, Aanland, IBD Plateau gebouw, Dubbelhoge ruimte Natuur, Dubbelhoge ruimte Oude Stad, Social Spot HUB, Dubbelhoge ruimte Kathedraal | G44: 3 | H44: 5 | I44: 0 | J44: =PRODUCT(H44:I44) -> 0 | K44: Kvadrat Steelcut Trio 3 | L44: 236 | M44: Gabriel Soul Melange | N44: 61202 | O44: Wood | P44: Natural | Q44: On wheels. Battery. | R44: Yes
A45: OSS-29 | C45: Zetels - meerzit en modulair | E45: F | F45: Hoofd entree & Ontvangst, Frontoffice SDD, Publieke Diensten Groene Zone (Open leercentrum), Info & Advies, Info & Advies Atrium, Gespreksplek Gebied, Groene zone Atrium, Flexibele Ruimte, Collectie Volwassenen (fictie), Welkomsruimte, Wachten B&W, Aanland, IBD Plateau gebouw, Dubbelhoge ruimte Natuur, Dubbelhoge ruimte Oude Stad, Social Spot HUB, Dubbelhoge ruimte Kathedraal | G45: 3 | H45: 28 | I45: 0 | J45: =PRODUCT(H45:I45) -> 0 | K45: Kvadrat Hallingdal 65 | L45: 547, 590 | M45: Lackered wood | N45: Black
A46: OSS-29 | C46: Zetels - meerzit en modulair | E46: F | F46: Hoofd entree & Ontvangst, Frontoffice SDD, Publieke Diensten Groene Zone (Open leercentrum), Info & Advies, Info & Advies Atrium, Gespreksplek Gebied, Groene zone Atrium, Flexibele Ruimte, Collectie Volwassenen (fictie), Welkomsruimte, Wachten B&W, Aanland, IBD Plateau gebouw, Dubbelhoge ruimte Natuur, Dubbelhoge ruimte Oude Stad, Social Spot HUB, Dubbelhoge ruimte Kathedraal | G46: 3 | H46: 12 | I46: 0 | J46: =PRODUCT(H46:I46) -> 0 | K46: Kvadrat Vidar 4 | L46: 693,333,472 or 386 | M46: Lackered wood | N46: Black
A47: OSS-30 | C47: Zetels | E47: Others | F47: Collectie Volwassenen (Fictie), Blauwe Kamer, Aanland met breakout, Dubbelhoge ruimte Oude stad | G47: 3 | H47: 32 | I47: 0 | J47: =PRODUCT(H47:I47) -> 0 | K47: Kvadrat Vidar 4 | L47: 554,582 or 772
A48: OSS-35a | C48: Wachtbanken | D48: 3000x600x430 | E48: Q | F48: Welkomsgebied Toegang 2, Pantry, Circulatie (wachten), MFZ, MFZ Breakout, KCC, Dubbelhoge ruimte Oude stad, Breakout (werkplekzone) | G48: 3 | H48: 4 | I48: 0 | J48: =PRODUCT(H48:I48) -> 0 | K48: Kvadrat Steelcut Trio 3 | L48: 213,253, 616, 996, 946
A49: OSS-35b | C49: Wachtbanken | D49: 1800x600x430 | E49: Q | F49: Welkomsgebied Toegang 2, Pantry, Circulatie (wachten), MFZ, MFZ Breakout, KCC, Dubbelhoge ruimte Oude stad, Breakout (werkplekzone) | G49: 3 | H49: 12 | I49: 0 | J49: =PRODUCT(H49:I49) -> 0 | K49: Kvadrat Steelcut Trio 3 | L49: 213,253, 616, 996, 946
A50: OSS-35c | C50: Wachtbanken | D50: 2400x600x430 | E50: Q | F50: Welkomsgebied Toegang 2, Pantry, Circulatie (wachten), MFZ, MFZ Breakout, KCC, Dubbelhoge ruimte Oude stad, Breakout (werkplekzone) | G50: 3 | H50: 1 | I50: 0 | J50: =PRODUCT(H50:I50) -> 0 | K50: Kvadrat Steelcut Trio 3 | L50: 686
A51: OSS-35d | C51: Wachtbanken | D51: 2400x600x580 | E51: Q | F51: Welkomsgebied Toegang 2, Pantry, Circulatie (wachten), MFZ, MFZ Breakout, KCC, Dubbelhoge ruimte Oude stad, Breakout (werkplekzone) | G51: 3 | H51: 4 | I51: 0 | J51: =PRODUCT(H51:I51) -> 0 | K51: Kvadrat Steelcut Trio 3 | L51: 213,253, 616, 996, 946
A52: OSS-36a | C52: Lounge zetels - enkele zit | E52: C1 | F52: Frontoffice SDD, Publieke diensten groene zone (Open leercentrum, familielounge), Info & Advies, spreekkamer 1e verdieping, gesprekplek 1e verdieping, Trouwkamer, Huiskamer,Social Spot HUB, Aanland, IBD Plateau, Dordrecht Marketing & Partners, Vergadercentrum, vergaderruimtes (meeting room clusters), Dubbelhoge ruimte Natuur, Breakout 4e en 7e verdieping, Wachten B&W, vergaderruimtes (Plateau gebouw) | G52: 3 | H52: 3 | I52: 0 | J52: =PRODUCT(H52:I52) -> 0 | K52: Kvadrat Vidar 4 | L52: 353, 333,386,472, 693,733 or 182 | M52: Powdercoated steel | N52: Black RAL 9005
A53: OSS-36b | C53: Lounge zetels - enkele zit | E53: C1 | F53: Frontoffice SDD, Publieke diensten groene zone (Open leercentrum, familielounge), Info & Advies, spreekkamer 1e verdieping, gesprekplek 1e verdieping, Trouwkamer, Huiskamer,Social Spot HUB, Aanland, IBD Plateau, Dordrecht Marketing & Partners, Vergadercentrum, vergaderruimtes (meeting room clusters), Dubbelhoge ruimte Natuur, Breakout 4e en 7e verdieping, Wachten B&W, vergaderruimtes (Plateau gebouw) | G53: 3 | H53: 42 | I53: 0 | J53: =PRODUCT(H53:I53) -> 0 | K53: Kvadrat Hallingdal 65 | L53: 103,123,166, 200, 390, 407, 457 | M53: Oak | N53: Soaped
A54: OSS-36b | C54: Lounge zetels - enkele zit | E54: C1 | F54: Frontoffice SDD, Publieke diensten groene zone (Open leercentrum, familielounge), Info & Advies, spreekkamer 1e verdieping, gesprekplek 1e verdieping, Trouwkamer, Huiskamer,Social Spot HUB, Aanland, IBD Plateau, Dordrecht Marketing & Partners, Vergadercentrum, vergaderruimtes (meeting room clusters), Dubbelhoge ruimte Natuur, Breakout 4e en 7e verdieping, Wachten B&W, vergaderruimtes (Plateau gebouw) | G54: 3 | H54: 12 | I54: 0 | J54: =PRODUCT(H54:I54) -> 0 | K54: Kvadrat Steelcut Trio 3 | L54: 916, 996, 436, 576 | M54: Oak | N54: Soaped
A55: OSS-37a | C55: Lounge zetels - enkele zit | E55: C1 | F55: Frontoffice SDD, Publieke diensten groene zone (Open leercentrum, familielounge), Info & Advies, spreekkamer 1e verdieping, gesprekplek 1e verdieping, Trouwkamer, Huiskamer,Social Spot HUB, Aanland, IBD Plateau, Dordrecht Marketing & Partners, Vergadercentrum, vergaderruimtes (meeting room clusters), Dubbelhoge ruimte Natuur, Breakout 4e en 7e verdieping, Wachten B&W, vergaderruimtes (Plateau gebouw) | G55: 3 | H55: 16 | I55: 0 | J55: =PRODUCT(H55:I55) -> 0 | K55: Kvadrat Hallingdal 65 | L55: 103,123,166, 200, 390, 407, 457 | M55: Oak | N55: Soaped
A56: OSS-37a | C56: Lounge zetels - enkele zit | E56: C1 | F56: Frontoffice SDD, Publieke diensten groene zone (Open leercentrum, familielounge), Info & Advies, spreekkamer 1e verdieping, gesprekplek 1e verdieping, Trouwkamer, Huiskamer,Social Spot HUB, Aanland, IBD Plateau, Dordrecht Marketing & Partners, Vergadercentrum, vergaderruimtes (meeting room clusters), Dubbelhoge ruimte Natuur, Breakout 4e en 7e verdieping, Wachten B&W, vergaderruimtes (Plateau gebouw) | G56: 3 | H56: 10 | I56: 0 | J56: =PRODUCT(H56:I56) -> 0 | K56: Kvadrat Vidar 4 | L56: 582,333,693 or 554 | M56: Oak | N56: Soaped
A57: OSS-37a | C57: Lounge zetels - enkele zit | E57: C1 | F57: Frontoffice SDD, Publieke diensten groene zone (Open leercentrum, familielounge), Info & Advies, spreekkamer 1e verdieping, gesprekplek 1e verdieping, Trouwkamer, Huiskamer,Social Spot HUB, Aanland, IBD Plateau, Dordrecht Marketing & Partners, Vergadercentrum, vergaderruimtes (meeting room clusters), Dubbelhoge ruimte Natuur, Breakout 4e en 7e verdieping, Wachten B&W, vergaderruimtes (Plateau gebouw) | G57: 3 | H57: 2 | I57: 0 | J57: =PRODUCT(H57:I57) -> 0 | K57: Kvadrat Vidar 4 | L57: 333,443,1511 or 1062 | M57: Powdercoated aluminium | N57: Warm Black
A58: OSS-37b | C58: Lounge zetels - enkele zit | E58: C1 | F58: Frontoffice SDD, Publieke diensten groene zone (Open leercentrum, familielounge), Info & Advies, spreekkamer 1e verdieping, gesprekplek 1e verdieping, Trouwkamer, Huiskamer,Social Spot HUB, Aanland, IBD Plateau, Dordrecht Marketing & Partners, Vergadercentrum, vergaderruimtes (meeting room clusters), Dubbelhoge ruimte Natuur, Breakout 4e en 7e verdieping, Wachten B&W, vergaderruimtes (Plateau gebouw) | G58: 3 | H58: 12 | I58: 0 | J58: =PRODUCT(H58:I58) -> 0 | K58: Kvadrat Steelcut Trio 3 | L58: 236,205,946 or 966 | M58: Powdercoated steel | N58: Black RAL 9005
A59: OSS-38a | C59: Lounge zetel | E59: C1 | F59: Frontoffice SDD, Publieke diensten groene zone (Open leercentrum, familielounge), Info & Advies, spreekkamer 1e verdieping, gesprekplek 1e verdieping, Trouwkamer, Huiskamer,Social Spot HUB, Aanland, IBD Plateau, Dordrecht Marketing & Partners, Vergadercentrum, vergaderruimtes (meeting room clusters), Dubbelhoge ruimte Natuur, Breakout 4e en 7e verdieping, Wachten B&W, vergaderruimtes (Plateau gebouw) | G59: 3 | H59: 28 | I59: 0 | J59: =PRODUCT(H59:I59) -> 0 | K59: Kvadrat Hallingdal 65 | L59: 103,123,166, 200, 390, 407, 457 | M59: Powdercoated steel | N59: Black RAL 9005
A60: OSS-38b | C60: Lounge zetel | E60: C1 | F60: Frontoffice SDD, Publieke diensten groene zone (Open leercentrum, familielounge), Info & Advies, spreekkamer 1e verdieping, gesprekplek 1e verdieping, Trouwkamer, Huiskamer,Social Spot HUB, Aanland, IBD Plateau, Dordrecht Marketing & Partners, Vergadercentrum, vergaderruimtes (meeting room clusters), Dubbelhoge ruimte Natuur, Breakout 4e en 7e verdieping, Wachten B&W, vergaderruimtes (Plateau gebouw) | G60: 3 | H60: 7 | I60: 0 | J60: =PRODUCT(H60:I60) -> 0 | K60: Kvadrat Vidar 4 | L60: 353, 333,386,472, 693,733 or 182 | M60: Powdercoated steel | N60: Black RAL 9005
A61: OSS-38c | C61: Lounge zetel | E61: C1 | F61: Frontoffice SDD, Publieke diensten groene zone (Open leercentrum, familielounge), Info & Advies, spreekkamer 1e verdieping, gesprekplek 1e verdieping, Trouwkamer, Huiskamer,Social Spot HUB, Aanland, IBD Plateau, Dordrecht Marketing & Partners, Vergadercentrum, vergaderruimtes (meeting room clusters), Dubbelhoge ruimte Natuur, Breakout 4e en 7e verdieping, Wachten B&W, vergaderruimtes (Plateau gebouw) | G61: 3 | H61: 21 | I61: 0 | J61: =PRODUCT(H61:I61) -> 0 | K61: Kvadrat Steelcut Trio 3 | L61: 916, 996, 436, 576 | M61: Oak | N61: Soaped
A62: OSS-38c | C62: Lounge zetel | E62: C1 | F62: Frontoffice SDD, Publieke diensten groene zone (Open leercentrum, familielounge), Info & Advies, spreekkamer 1e verdieping, gesprekplek 1e verdieping, Trouwkamer, Huiskamer,Social Spot HUB, Aanland, IBD Plateau, Dordrecht Marketing & Partners, Vergadercentrum, vergaderruimtes (meeting room clusters), Dubbelhoge ruimte Natuur, Breakout 4e en 7e verdieping, Wachten B&W, vergaderruimtes (Plateau gebouw) | G62: 3 | H62: 6 | I62: 0 | J62: =PRODUCT(H62:I62) -> 0 | K62: Kvadrat Vidar 4 | L62: 222, 1062 | M62: Oak | N62: Soaped
A63: OSS-43 | C63: Stoelen - kruk - buitenshuis | E63: X | F63: Buitenshuis | G63: 3 | H63: 15 | I63: 0 | J63: =PRODUCT(H63:I63) -> 0 | K63: Powdercoated steel | L63: Anthracite,Olive or Sky grey
A64: OSS-44 | C64: Banken - buitenshuis | E64: X | F64: Buitenshuis | G64: 3 | H64: 6 | I64: 0 | J64: =PRODUCT(H64:I64) -> 0 | K64: Powdercoated steel | L64: Anthracite,Olive or Sky grey
A65: OSS-45 | C65: Loungestoelen - buitenshuis | E65: X | F65: Buitenshuis | G65: 3 | H65: 6 | I65: 0 | J65: =PRODUCT(H65:I65) -> 0 | K65: Powdercoated steel | L65: Anthracite,Olive or Sky grey
A66: OSS-46 | C66: Loungestoelen - buitenshuis | E66: X | F66: Buitenshuis | G66: 3 | H66: 4 | I66: 0 | J66: =PRODUCT(H66:I66) -> 0 | K66: Powdercoated steel | L66: Anthracite,Olive or Sky grey
A67: OSS-47 | C67: Stoelen - kruk - buitenshuis | E67: X | F67: Buitenshuis | G67: 3 | H67: 6 | I67: 0 | J67: =PRODUCT(H67:I67) -> 0 | K67: Powdercoated steel | L67: Anthracite,Olive or Sky grey
A68: OSS-52 | C68: Stoelen | E68: Others | F68: Trouwkamer | G68: 3 | H68: 11 | I68: 0 | J68: =PRODUCT(H68:I68) -> 0 | K68: Kvadrat Hallingdal 65 | L68: 694 | M68: Oak | N68: Oiled
A69: OSS-53a | C69: Stackable dining chair | E69: D2 | F69: Dordtlab, Studio Aanzet, Marketing & Partners | G69: 3 | H69: 17 | I69: 0 | J69: =PRODUCT(H69:I69) -> 0 | K69: Veneer | L69: 62F Nature Oak
A70: OSS-53b | C70: Stoelen - stapelbaar | E70: D2 | F70: Dordtlab, Studio Aanzet, Marketing & Partners | G70: 3 | H70: 1 | I70: 0 | J70: =PRODUCT(H70:I70) -> 0 | K70: Lazure laquer | L70: 05 Black | M70: Powdercoated aluminium | N70: Black
A71: OSS-54 | C71: Stoelen - kruk | E71: D2 | F71: Dordtlab, Studio Aanzet, Marketing & Partners | G71: 3 | H71: 31 | I71: 0 | J71: =PRODUCT(H71:I71) -> 0 | K71: Veneer | L71: Black | M71: Polished aluminium | Q71: Swivel on wheels
A72: OSS-58 | C72: Ottoman | E72: C1 | F72: Frontoffice SDD, Publieke diensten groene zone (Open leercentrum, familielounge), Info & Advies, spreekkamer 1e verdieping, gesprekplek 1e verdieping, Trouwkamer, Huiskamer,Social Spot HUB, Aanland, IBD Plateau, Dordrecht Marketing & Partners, Vergadercentrum, vergaderruimtes (meeting room clusters), Dubbelhoge ruimte Natuur, Breakout 4e en 7e verdieping, Wachten B&W, vergaderruimtes (Plateau gebouw) | G72: 3 | H72: 3 | I72: 0 | J72: =PRODUCT(H72:I72) -> 0 | K72: Kvadrat Steelcut Trio 3 | L72: 236,205,946 or 966 | M72: Powdercoated aluminium | N72: Black RAL 9005
A73: OSS-58 | C73: Ottoman | E73: C1 | F73: Frontoffice SDD, Publieke diensten groene zone (Open leercentrum, familielounge), Info & Advies, spreekkamer 1e verdieping, gesprekplek 1e verdieping, Trouwkamer, Huiskamer,Social Spot HUB, Aanland, IBD Plateau, Dordrecht Marketing & Partners, Vergadercentrum, vergaderruimtes (meeting room clusters), Dubbelhoge ruimte Natuur, Breakout 4e en 7e verdieping, Wachten B&W, vergaderruimtes (Plateau gebouw) | G73: 3 | H73: 3 | I73: 0 | J73: =PRODUCT(H73:I73) -> 0 | K73: Kvadrat Vidar 4 | L73: 333,443,1511 or 1062 | M73: Powdercoated aluminium | N73: Black RAL 9005
A74: OSS-60 | C74: Soft seat round cushion | D74: ø380 | E74: Others | F74: Jongerenvloer | G74: 3 | H74: 7 | I74: 0 | J74: =PRODUCT(H74:I74) -> 0 | K74: Credo | L74: Lime/curry
A75: OST-01b | C75: Tafels - laag/bijzet | D75: ø500 | E75: Others | F75: Familiekamer | G75: 3 | H75: 2 | I75: 0 | J75: =PRODUCT(H75:I75) -> 0 | K75: Oak | L75: Natural
A76: OST-02 | C76: Ronde tafels | D76: ø1200 | E76: Others | F76: Info & Advies | G76: 3 | H76: 5 | I76: 0 | J76: =PRODUCT(H76:I76) -> 0 | K76: Oak | L76: CA01 Natural | R76: Yes
A77: OST-03b | C77: Kolomtafels | D77: 700X700X720 | E77: T | F77: Gesprekplek 1e en 2e verdieping, Collectie Volwassenen (Non-Fictie), Gesprekplek Gebied, Groene zone Atrium, werkcafe, Wachten B&W, College B&W, Griffie, Breakout commissiezalen, Aanland met breakout | G77: 3 | H77: 7 | I77: 0 | J77: =PRODUCT(H77:I77) -> 0 | K77: Birch | L77: Natural laquer | M77: Painted steel gloss 7 | N77: RAL 9005 or 7044
A78: OST-03c | C78: Kolomtafels | D78: 700X700X900 | E78: T | F78: Gesprekplek 1e en 2e verdieping, Collectie Volwassenen (Non-Fictie), Gesprekplek Gebied, Groene zone Atrium, werkcafe, Wachten B&W, College B&W, Griffie, Breakout commissiezalen, Aanland met breakout | G78: 3 | H78: 4 | I78: 0 | J78: =PRODUCT(H78:I78) -> 0 | K78: Birch | L78: Natural laquer | M78: Painted steel gloss 7 | N78: RAL 9005 or 7044
A79: OST-03d | C79: Kolomtafels | D79: 1400X700X720 | E79: T | F79: Gesprekplek 1e en 2e verdieping, Collectie Volwassenen (Non-Fictie), Gesprekplek Gebied, Groene zone Atrium, werkcafe, Wachten B&W, College B&W, Griffie, Breakout commissiezalen, Aanland met breakout | G79: 3 | H79: 4 | I79: 0 | J79: =PRODUCT(H79:I79) -> 0 | K79: Birch | L79: Natural laquer | M79: Painted steel gloss 7 | N79: RAL 9005 or 7044
A80: OST-03e | C80: Kolomtafels | D80: 1400X700X900 | E80: T | F80: Gesprekplek 1e en 2e verdieping, Collectie Volwassenen (Non-Fictie), Gesprekplek Gebied, Groene zone Atrium, werkcafe, Wachten B&W, College B&W, Griffie, Breakout commissiezalen, Aanland met breakout | G80: 3 | H80: 1 | I80: 0 | J80: =PRODUCT(H80:I80) -> 0 | K80: Birch | L80: Natural laquer | M80: Painted steel gloss 7 | N80: RAL 9005 or 7044
A81: OST-03f | C81: Kolomtafels | D81: ø550 x 600 | E81: T | F81: Gesprekplek 1e en 2e verdieping, Collectie Volwassenen (Non-Fictie), Gesprekplek Gebied, Groene zone Atrium, werkcafe, Wachten B&W, College B&W, Griffie, Breakout commissiezalen, Aanland met breakout | G81: 3 | H81: 9 | I81: 0 | J81: =PRODUCT(H81:I81) -> 0 | K81: Birch | L81: Natural laquer | M81: Painted steel gloss 7 | N81: RAL 9005 or 7044
A82: OST-03g | C82: Kolomtafels | D82: ø550 x 480 | E82: T | F82: Gesprekplek 1e en 2e verdieping, Collectie Volwassenen (Non-Fictie), Gesprekplek Gebied, Groene zone Atrium, werkcafe, Wachten B&W, College B&W, Griffie, Breakout commissiezalen, Aanland met breakout | G82: 3 | H82: 14 | I82: 0 | J82: =PRODUCT(H82:I82) -> 0 | K82: Birch | L82: Natural laquer | M82: Painted steel gloss 7 | N82: RAL 9005 or 7044
A83: OST-03h | C83: Kolomtafels | D83: ø550 x 720 | E83: T | F83: Gesprekplek 1e en 2e verdieping, Collectie Volwassenen (Non-Fictie), Gesprekplek Gebied, Groene zone Atrium, werkcafe, Wachten B&W, College B&W, Griffie, Breakout commissiezalen, Aanland met breakout | G83: 3 | H83: 4 | I83: 0 | J83: =PRODUCT(H83:I83) -> 0 | K83: Birch | L83: Natural laquer | M83: Painted steel gloss 7 | N83: RAL 9005 or 7044
A84: OST-03i | C84: Kolomtafels | D84: ø700 x 480 | E84: T | F84: Gesprekplek 1e en 2e verdieping, Collectie Volwassenen (Non-Fictie), Gesprekplek Gebied, Groene zone Atrium, werkcafe, Wachten B&W, College B&W, Griffie, Breakout commissiezalen, Aanland met breakout | G84: 3 | H84: 9 | I84: 0 | J84: =PRODUCT(H84:I84) -> 0 | K84: Birch | L84: Natural laquer | M84: Painted steel gloss 7 | N84: RAL 9005 or 7044
A85: OST-03j | C85: Kolomtafels | D85: ø700 x 600 | E85: T | F85: Gesprekplek 1e en 2e verdieping, Collectie Volwassenen (Non-Fictie), Gesprekplek Gebied, Groene zone Atrium, werkcafe, Wachten B&W, College B&W, Griffie, Breakout commissiezalen, Aanland met breakout | G85: 3 | H85: 20 | I85: 0 | J85: =PRODUCT(H85:I85) -> 0 | K85: Birch | L85: Natural laquer | M85: Painted steel gloss 7 | N85: RAL 9005 or 7044
A86: OST-03k | C86: Kolomtafels | D86: ø700 x 720 | E86: T | F86: Gesprekplek 1e en 2e verdieping, Collectie Volwassenen (Non-Fictie), Gesprekplek Gebied, Groene zone Atrium, werkcafe, Wachten B&W, College B&W, Griffie, Breakout commissiezalen, Aanland met breakout | G86: 3 | H86: 18 | I86: 0 | J86: =PRODUCT(H86:I86) -> 0 | K86: Birch | L86: Natural laquer | M86: Painted steel gloss 7 | N86: RAL 9005 or 7044
A87: OST-03m | C87: Kolomtafels | D87: ø700 x 1070 | E87: T | F87: Gesprekplek 1e en 2e verdieping, Collectie Volwassenen (Non-Fictie), Gesprekplek Gebied, Groene zone Atrium, werkcafe, Wachten B&W, College B&W, Griffie, Breakout commissiezalen, Aanland met breakout | G87: 3 | H87: 5 | I87: 0 | J87: =PRODUCT(H87:I87) -> 0 | K87: Birch | L87: Natural laquer | M87: Painted steel gloss 7 | N87: RAL 9005 or 7044
A88: OST-03n | C88: Kolomtafels | D88: ø900 x 600 | E88: T | F88: Gesprekplek 1e en 2e verdieping, Collectie Volwassenen (Non-Fictie), Gesprekplek Gebied, Groene zone Atrium, werkcafe, Wachten B&W, College B&W, Griffie, Breakout commissiezalen, Aanland met breakout | G88: 3 | H88: 3 | I88: 0 | J88: =PRODUCT(H88:I88) -> 0 | K88: Birch | L88: Natural laquer | M88: Painted steel gloss 7 | N88: RAL 9005 or 7044
... A90: OST-03p | C90: Kolomtafels | D90: ø1200 x720 | E90: T | F90: Gesprekplek 1e en 2e verdieping, Collectie Volwassenen (Non-Fictie), Gesprekplek Gebied, Groene zone Atrium, werkcafe, Wachten B&W, College B&W, Griffie, Breakout commissiezalen, Aanland met breakout | G90: 3 | H90: 1 | I90: 0 | J90: =PRODUCT(H90:I90) -> 0 | K90: Birch | L90: Natural laquer | M90: Painted steel gloss 7 | N90: RAL 9005 or 7044
A91: OST-05a | C91: Tafels - laag/bijzet | D91: Ø600 H500 | E91: U | F91: Huiskamer, Social Spot HUB, Aanland, 1e Breakout MFZ, Spreekkamer 1e, Flexibele ruimte 2e verdieping, KCC, Vergadercentrum, Vergaderruimtes (Meeting room clusters), Lunchruimte KCC, Vergaderruimte 3 verdieping, Breakout 3e en 6e verdieping, Dubbelhoge ruimte Natuur Dubbelhoge ruimte Oude Stad, Dubbelhoge ruimte Kathedraal | G91: 3 | H91: 30 | I91: 0 | J91: =PRODUCT(H91:I91) -> 0 | K91: Galvanized painted steel | L91: Black
A92: OST-05b | C92: Tafels - laag/bijzet | D92: Ø600 H720 | E92: U | F92: Huiskamer, Social Spot HUB, Aanland, 1e Breakout MFZ, Spreekkamer 1e, Flexibele ruimte 2e verdieping, KCC, Vergadercentrum, Vergaderruimtes (Meeting room clusters), Lunchruimte KCC, Vergaderruimte 3 verdieping, Breakout 3e en 6e verdieping, Dubbelhoge ruimte Natuur Dubbelhoge ruimte Oude Stad, Dubbelhoge ruimte Kathedraal | G92: 3 | H92: 35 | I92: 0 | J92: =PRODUCT(H92:I92) -> 0 | K92: Galvanized painted steel | L92: Black
A93: OST-05c | C93: Tafels - laag/bijzet | D93: Ø750 H500 | E93: U | F93: Huiskamer, Social Spot HUB, Aanland, 1e Breakout MFZ, Spreekkamer 1e, Flexibele ruimte 2e verdieping, KCC, Vergadercentrum, Vergaderruimtes (Meeting room clusters), Lunchruimte KCC, Vergaderruimte 3 verdieping, Breakout 3e en 6e verdieping, Dubbelhoge ruimte Natuur Dubbelhoge ruimte Oude Stad, Dubbelhoge ruimte Kathedraal | G93: 3 | H93: 19 | I93: 0 | J93: =PRODUCT(H93:I93) -> 0 | K93: Galvanized painted steel | L93: Black
A94: OST-05d | C94: Tafels - laag/bijzet | D94: Ø750 H720 | E94: U | F94: Huiskamer, Social Spot HUB, Aanland, 1e Breakout MFZ, Spreekkamer 1e, Flexibele ruimte 2e verdieping, KCC, Vergadercentrum, Vergaderruimtes (Meeting room clusters), Lunchruimte KCC, Vergaderruimte 3 verdieping, Breakout 3e en 6e verdieping, Dubbelhoge ruimte Natuur Dubbelhoge ruimte Oude Stad, Dubbelhoge ruimte Kathedraal | G94: 3 | H94: 16 | I94: 0 | J94: =PRODUCT(H94:I94) -> 0 | K94: Galvanized painted steel
A95: OST-05e | C95: Tafels - laag/bijzet | D95: Ø900 H500 | E95: U | F95: Huiskamer, Social Spot HUB, Aanland, 1e Breakout MFZ, Spreekkamer 1e, Flexibele ruimte 2e verdieping, KCC, Vergadercentrum, Vergaderruimtes (Meeting room clusters), Lunchruimte KCC, Vergaderruimte 3 verdieping, Breakout 3e en 6e verdieping, Dubbelhoge ruimte Natuur Dubbelhoge ruimte Oude Stad, Dubbelhoge ruimte Kathedraal | G95: 3 | H95: 1 | I95: 0 | J95: =PRODUCT(H95:I95) -> 0 | K95: Galvanized painted steel | L95: Black
A96: OST-05f | C96: Tafels - laag/bijzet | D96: Ø900 H720 | E96: U | F96: Huiskamer, Social Spot HUB, Aanland, 1e Breakout MFZ, Spreekkamer 1e, Flexibele ruimte 2e verdieping, KCC, Vergadercentrum, Vergaderruimtes (Meeting room clusters), Lunchruimte KCC, Vergaderruimte 3 verdieping, Breakout 3e en 6e verdieping, Dubbelhoge ruimte Natuur Dubbelhoge ruimte Oude Stad, Dubbelhoge ruimte Kathedraal | G96: 3 | H96: 6 | I96: 0 | J96: =PRODUCT(H96:I96) -> 0 | K96: Galvanized painted steel | L96: Black
A97: OST-07a | C97: Vergader- lees- en gesprekstafels | D97: L2000W900 | E97: Others | F97: College B&W | G97: 3 | H97: 7 | I97: 0 | J97: =PRODUCT(H97:I97) -> 0 | K97: Birch plywood + Linoleum | L97: Smokey blue or Mushroom | M97: Anodised aluminium | N97: Black
A98: OST-07b | C98: Vergader- lees- en gesprekstafels | D98: L1500W900 | E98: Others | F98: College B&W | G98: 3 | H98: 1 | I98: 0 | J98: =PRODUCT(H98:I98) -> 0 | K98: Birch plywood + Linoleum | L98: Smokey blue or Mushroom | M98: Anodised aluminium | N98: Black
A99: OST-07c | C99: Vergader- lees- en gesprekstafels | D99: L2900W950 | E99: Others | F99: College B&W | G99: 3 | H99: 1 | I99: 0 | J99: =PRODUCT(H99:I99) -> 0 | K99: Birch plywood + Linoleum | L99: Smokey blue or Mushroom | M99: Anodised aluminium | N99: Black
A100: OST-07d | C100: Vergader- lees- en gesprekstafels | D100: Ø1200 | E100: Others | F100: College B&W | G100: 3 | H100: 1 | I100: 0 | J100: =PRODUCT(H100:I100) -> 0 | K100: Birch plywood + Linoleum | L100: Smokey blue or Mushroom | M100: Anodised aluminium | N100: Black
A101: OST-08 | C101: Vergader- lees- en gesprekstafels - hoog | D101: L1600W750 | E101: C3 | F101: Open Leercentrum, Frontoffice SDD, Info & Advies, Info & Advies Atrium, Pauzeruimte / Ontspanningsruimte Handhaving & Politie, Gesprekplek 1e verdieping, Social Spot HUB, Dubelhoge ruimte Natuur, Newsroom, Aanland, Aanland med breakout, Breakout 4e en 7e verdieping | G101: 3 | H101: 15 | I101: 0 | J101: =PRODUCT(H101:I101) -> 0 | K101: Fenix Laminate | L101: Beige arizona, nero ingo or titanio doha | M101: Powdercoated steel | N101: Matching RAL | R101: Yes
A102: OST-09a | C102: Tafels - laag/bijzet | D102: 70H x 75W | E102: C4 | F102: Frontoffice SDD, Info & Advies, Publieke Diensten Groene Zone (Open Leercentrum, Familielounge), Collectie Jeugd Collectie Volwassenen (Fictie), Gesprekplek 1e en 2e verdieping, Social Spot HUB, Dordrecht Marketing & Partners, IBD Plateau Gebouw, Dubbelhoge ruimte Natuur, Wachten B&W, Breakout 3e verdieping, Vergaderruimtes Plateau Gebouw | G102: 3 | H102: 13 | I102: 0 | J102: =PRODUCT(H102:I102) -> 0 | K102: Solid oak | L102: Natural
...

Sheet C-OTS
A1: Onderwerp : | B1: Prijzenblad
A2: Discipline : | B2: Perceel 3
A3: Datum : | B3: 45565
A4: Versie : | B4: Definitief 1.0
A6: Code | B6: Referentie inschrijver (catalogus) | C6: Description | D6: Dimensions | E6: Family | F6: Perceel | G6: Count | H6: Unit Price | I6: Subtotal | J6: Material Main | K6: Color Main | L6: Material Secondary | M6: Color Secondary | N6: Material Extra | O6: Color Extra | P6: Comments | Q6: Cable Management
A7: COTS_2E_01.1 | C7: Tafelset trouwkamer - deel 1 | D7: ø1200 | E7: COTS | F7: 3 | G7: 2 | H7: 0 | I7: =PRODUCT(G7:H7) -> 0 | J7: Plywood + Veneer | K7: Impiallacciato Lengu V7IM | L7: laquered base | M7: Laccato Opaco Plus, D3005M | N7: Leather | O7: L54260 | Q7: Yes
A8: COTS_2E_01.2 | C8: Tafelset trouwkamer - deel 2 | D8: ø1200 | E8: COTS | F8: 3 | G8: 1 | H8: 0 | I8: =PRODUCT(G8:H8) -> 0 | J8: Plywood + Veneer | K8: Impiallacciato Lengu V7IM | L8: laquered base | M8: Laccato Opaco Plus, D3005M | N8: Leather | O8: L54260 | Q8: Yes
A9: COTS_4E_01 | C9: Green wall system | E9: COTS | F9: 3 | G9: 3 | H9: 0 | I9: =PRODUCT(G9:H9) -> 0
A10: COTS_XX_03 | C10: Vergader- lees- en gesprekstafels | D10: ø5000 | E10: COTS | F10: 3 | G10: 2 | H10: 0 | I10: =PRODUCT(G10:H10) -> 0 | J10: Plywood + Veneer | K10: Fenix NYM, F754 | L10: laquered base | M10: Laccato Opaco Plus, D5011M | N10: Leather | O10: L54310 | P10: camera/microphone intergration | Q10: Yes
A11: COTS_XX_03.1 | C11: Vergader- lees- en gesprekstafels | D11: ø4000 | E11: COTS | F11: 3 | G11: 1 | H11: 0 | I11: =PRODUCT(G11:H11) -> 0 | J11: Plywood + Veneer | K11: Fenix NYM, F754 | L11: laquered base | M11: Laccato Opaco Plus, D5011M | N11: Leather | O11: L54310 | P11: camera/microphone intergration | Q11: Yes
A12: COTS_XX_03.2 | C12: Vergader- lees- en gesprekstafels | D12: ø3500 | E12: COTS | F12: 3 | G12: 1 | H12: 0 | I12: =PRODUCT(G12:H12) -> 0 | J12: Plywood + Veneer | K12: Impiallacciato Lengu V7IM | L12: laquered base | M12: Laccato Opaco Plus, D5011M | N12: Leather | O12: L54260 | P12: camera/microphone intergration | Q12: Yes
A13: COTS_XX_03.3 | C13: Vergader- lees- en gesprekstafels | D13: W5400xD1800 | E13: COTS | F13: 3 | G13: 1 | H13: 0 | I13: =PRODUCT(G13:H13) -> 0 | J13: Plywood + Veneer | K13: Fenix NYM, F754 | L13: laquered base | M13: Laccato Opaco Plus, D5011M | N13: Leather | O13: L54310 | P13: camera/microphone intergration | Q13: Yes
A14: COTS_XX_04.1 | C14: Lockers 24 units | D14: 1800x400x2400 | E14: COTS | F14: 3 | G14: 12 | H14: 0 | I14: =PRODUCT(G14:H14) -> 0 | J14: Oak Veneer | K14: Natural
A15: COTS_XX_04.2 | C15: Lockers 12 units | D15: 1400x1600x40 | E15: COTS | F15: 3 | G15: 2 | H15: 0 | I15: =PRODUCT(G15:H15) -> 0 | J15: Oak Veneer | K15: Natural
A16: COTS_XX_04.3 | C16: Lockers 12 units | D16: 180x120x40 | E16: COTS | F16: 3 | G16: 2 | H16: 0 | I16: =PRODUCT(G16:H16) -> 0 | J16: Fenix Laminate | K16: All available colours
A17: COTS_XX_04.4 | C17: Lockers 16 units | D17: 160x160x40 | E17: COTS | F17: 3 | G17: 1 | H17: 0 | I17: =PRODUCT(G17:H17) -> 0 | J17: Fenix Laminate | K17: All available colours
A18: COTS_XX_05.1 | C18: Lockers 2 units changing room | D18: 1800x300x450 | E18: COTS | F18: 3 | G18: 87 | H18: 0 | I18: =PRODUCT(G18:H18) -> 0 | J18: Forbo Linoleum | K18: All available colours
A19: COTS_XX_05.2 | C19: Changing room bench | D19: 2100x450 | E19: COTS | F19: 3 | G19: 2 | H19: 0 | I19: =PRODUCT(G19:H19) -> 0 | J19: Forbo Linoleum | K19: All available colours
A20: COTS_XX_05.3 | C20: Lockers politi 1 unit | D20: 600x600x1900 | E20: COTS | F20: 3 | G20: 75 | H20: 0 | I20: =PRODUCT(G20:H20) -> 0 | J20: Forbo Linoleum | K20: All available colours

Sheet Maatwerk
A1: Onderwerp : | B1: Prijzenblad
A2: Discipline : | B2: Perceel 3
A3: Datum : | B3: 45565
A4: Versie : | B4: Definitief 1.0
A6: Code | B6: Referentie inschrijver (catalogus) | C6: Description | D6: Dimensions | E6: Family | F6: Perceel | G6: Count | H6: Unit Price | I6: Subtotal | J6: Material Main | K6: Color Main | L6: Material Secondary | M6: Color Secondary | N6: Material Extra | O6: Color Extra | P6: Comments | Q6: Cable Management
A7: B_1E_05.1 | C7: Kast Spreekplek DD | D7: 1380x450x1200 | F7: 3 | G7: 17 | H7: 0 | I7: =PRODUCT(G7:H7) -> 0 | J7: Pine plywood | L7: Forbo Linoleum | M7: Smokey Blue | Q7: Yes
A8: B_1E_05.2 | C8: Kast Extension DD | D8: 480x450x1200 | F8: 3 | G8: 14 | H8: 0 | I8: =PRODUCT(G8:H8) -> 0 | J8: Pine plywood | K8: Natural | L8: Forbo Linoleum | M8: Smokey Blue | Q8: <varies>
A9: B_1E_05.3 | C9: Docu-Distri DD | D9: 2080x450x1700 | F9: 3 | G9: 1 | H9: 0 | I9: =PRODUCT(G9:H9) -> 0 | J9: Pine plywood | L9: Forbo Linoleum | M9: Smokey Blue | Q9: Yes
A10: B_1E_05.4 | C10: Central DD Element | D10: 1380x550x1200 | F10: 3 | G10: 1 | H10: 0 | I10: =PRODUCT(G10:H10) -> 0 | J10: Pine plywood | L10: Forbo Linoleum | M10: Smokey Blue | Q10: Yes
A11: B_BG_14.3 | C11: Kast Spreekplek DD GM | F11: 3 | G11: 1 | H11: 0 | I11: =PRODUCT(G11:H11) -> 0
A12: B_BG_20 | C12: Werkcafe reading shelf | D12: 3600x1200x1100 | F12: 3 | G12: 1 | H12: 0 | I12: =PRODUCT(G12:H12) -> 0 | J12: Pine plywood
A13: B_XX_07.1 | C13: Aanland by atrium high table w back pannel | D13: 700x5400 | F13: 3 | G13: 3 | H13: 0 | I13: =PRODUCT(G13:H13) -> 0 | J13: Pine plywood | L13: Forbo Linoleum | M13: Midnight blue or Pistachio | Q13: Yes
A14: B_XX_07.2 | C14: Aanland by atrium high table w back pannel | D14: 700x6600 | F14: 3 | G14: 2 | H14: 0 | I14: =PRODUCT(G14:H14) -> 0 | J14: Pine plywood | L14: Forbo Linoleum | M14: Pearl or Conifer | P14: On wheels | Q14: Yes
A15: B_XX_07.3 | C15: Aanland by atrium high table w back pannel | D15: 700x6600 | F15: 3 | G15: 1 | H15: 0 | I15: =PRODUCT(G15:H15) -> 0 | J15: Pine plywood | L15: Forbo Linoleum | M15: Pistachio | P15: On wheels | Q15: Yes
A16: B_XX_08.1 | C16: Totem - unit 1 | D16: 1200x400x1800 | F16: 3 | G16: =7-3 -> 4 | H16: 0 | I16: =PRODUCT(G16:H16) -> 0 | J16: Pine plywood | P16: On wheels
A17: B_XX_08.2 | C17: Totem - unit 2 | D17: 1200x400x1800 | F17: 3 | G17: =8-2 -> 6 | H17: 0 | I17: =PRODUCT(G17:H17) -> 0 | J17: Pine plywood | P17: On wheels
