Workbook

Sheet Totaal blad
A1: Onderwerp : | B1: Prijzenblad
A2: Discipline : | B2: Perceel 2A
A3: Datum : | B3: 45565 | C3: Geel gemarkeerde cellen in te vullen door Inschrijver
A4: Versie : | B4: Definitief 1.0
B6: Post | C6: Euro (€)
A7: 1 | B7: Totaal OTS | C7: =SUM(OTS!J:J) -> 0
A8: 2 | B8: Totaal OTS Werkplek | C8: =SUM('OTS Werkplek'!I:I) -> 0
A9: 3 | B9: Subtotaal | C9: =SUM(C7:C8) -> 0
A11: 4 | B11: Totaal te refurbishen meubilair | C11: =SUM('Te refurbishen meubilair'!G:G) -> 0
A12: 5 | B12: Kosten dienstverlening eenmalig | C12: =SUM(Dienstverlening!C8:C16) -> 0
A13: 6 | B13: Kosten bijbehorende dienstverlening jaarlijks | D13: =SUM(Dienstverlening!D8:D14) -> 0
A15: 7 | B15: Eenmalige projectkorting | C15: 0
A17: 8 | B17: Inschrijfsom EMVI | C17: =C9+C11-C15 -> 0
A19: A | B19: Correctieregel t.b.v. vergelijking met FaaS | C19: 1785524
A21: 9 | B21: Inschrijfsom t.b.v. vergelijking met FaaS | C21: =C17+C19 -> 1785524
B26: Uitgangspunten correctieregel t.b.v. vergelijking met FaaS
B27: Rente kapitaallast | C27: 0.02
B28: Inflatie tbv kapitaal lasten | C28: 0.02
B29: CPI ontwikkeling periode 10 jaar | C29: 0.0243

Sheet Dienstverlening
A1: Onderwerp : | B1: Prijzenblad
A2: Discipline : | B2: Perceel 2A
A3: Datum : | B3: 45565
A4: Versie : | B4: Definitief 1.0
C5: Geel gemarkeerde cellen in te vullen door inschrijver
A7: Onderdeel uit PvE&W | B7: Post (zie PvE&W voor toelichting) | C7: Eenmalige kosten (€) | D7: Kosten bijbehorende dienstverlening jaarlijks(€) | E7: Uurtarief Junior (€) | F7: Uurtarief Medior (€) | G7: Uurtarief Senior (€)
A8: a | B8: Advies- en finetunen van het interieurontwerp; | C8: 0 | D8: 0 | E8: 0 | F8: 0 | G8: 0
A9: b | B9: Borgen kwaliteit en functionaliteit; | C9: 0 | D9: 0
A10: c | B10: Assetmanagement; | C10: 0 | D10: 0
A11: d | B11: Maatschappelijk verantwoord opdrachtgeven en inkopen; | C11: 0 | D11: 0
A12: e | B12: Diensten met betrekking tot Circulair Model; | C12: 0 | D12: 0
A13: g | B13: Contractmanagement; | C13: 0 | D13: 0
A14: h | B14: Bijdrage leveren aan managementcyclus opdrachtgever. | C14: 0 | D14: 0
A16: f | B16: Projectmanagement. | C16: 0 | E16: 0 | F16: 0 | G16: 0

Sheet Te refurbishen meubilair
A1: Onderwerp : | B1: Prijzenblad
A2: Discipline : | B2: Perceel 2A | C2: NIET IN TE VULLEN - BLAD WORDT AUTOMATISCH GEVULD VANUIT WERKBLAD SELECTIE REFURBISHMENT
A3: Datum : | B3: 45565 | C3: De ingevulde prijzen op het blad 'Selectie refurbishment' worden teruggerekend naar een gemiddelde stuksprijs, welke wordt ingezet om onderstaande 'prijs per stuk' en 'prijs totaal' te beprijzen.
A4: Versie : | B4: Definitief 1.0 | C4: Geel gemarkeerd: selectie refurbishment voor nadere prijsspecificatie op volgende blad
C8: Bureaus Ahrend essa | D8: Aantal | E8: Aantal per verdiep. | F8: Prijs per stuk | G8: Prijs totaal
C9: 1 | D9: =SUM(E10:E18) -> 31 | F9: ='Selectie refurbishment'!J10 -> 0 | G9: =F9*D9 -> 0
C10: BG | E10: 31
C11: 1e
C12: 2e
C13: 3e
C14: 4e
C15: 5e
C16: 6e
C17: 7e
C18: 8e
C23: Bureaus enkel Drentea | D23: Aantal | E23: Aantal per verdiep. | F23: Prijs per stuk | G23: Prijs totaal
C24: 2 | D24: =SUM(E25:E33) -> 9 | F24: ='Selectie refurbishment'!J10 -> 0 | G24: =F24*D24 -> 0
C25: BG | E25: 5
C26: 1e | E26: 4
C27: 2e
C28: 3e
C29: 4e
C30: 5e
C31: 6e
C32: 7e
C33: 8e
C35: Zit/sta elektrisch
C38: Bureaus Duo | D38: Aantal | E38: Aantal per verdiep. | F38: Prijs per stuk | G38: Prijs totaal
C39: 3 | D39: =SUM(E40:E48) -> 7 | F39: ='Selectie refurbishment'!J10 -> 0 | G39: =F39*D39 -> 0
C40: BG | E40: 2
C41: 1e | E41: 5
C42: 2e
C43: 3e
C44: 4e
C45: 5e
C46: 6e
C47: 7e
C48: 8e
C50: Zit/zit elektrische
C51: Wanden erom heen.
...

Sheet Selectie refurbishment
A1: Onderwerp : | B1: Prijzenblad
A2: Discipline : | B2: Perceel 2A
A3: Datum : | B3: 45565 | E3: Oranje cellen in te vullen door inschrijver
A4: Versie : | B4: Definitief 1.0
E5: Onderstaande prijzen worden teruggerekend naar een stuksprijs, die wordt ingezet om het werkblad 'te refurbishen meubilair' te beprijzen.
C8: Bureaus zit/sta | D8: Aantal | E8: Te refurbishen | F8: Prijs per onderdeel | G8: Prijs totaal | I8: Totaal aantal | J8: =SUM(D:D) -> 358
C9: 6 | D9: 56 | G9: =SUM(F10:F21) -> 0 | I9: Prijs totaal | J9: =SUM(G:G) -> 0
C10: BG | E10: Voorzien van nieuw/ duurzaam blad (1600x800, linoleum, volgens kleurstelling en materialisatie) | F10: 0 | I10: Gem. prijs per stuk | J10: =J9/J8 -> 0
C11: 1e | E11: Poedercoaten onderstel (volgens kleursteling) | F11: 0
C12: 2e | E12: Integrale technische check meubelstuk | F12: 0
C13: 3e
C14: 4e
C15: 5e
C16: 6e
C17: 7e
C18: 8e
C19: Diverse merken en kleuren
C20: Actiforce
C21: zwart/wit/aluminium
C23: Bureaustoelen Xenium | D23: Aantal | E23: Te refurbishen | F23: Prijs per onderdeel | G23: Prijs totaal
C24: 8 | D24: 127 | G24: =SUM(F25:F36) -> 0
C25: BG | E25: Herstofferen zitting in voorgestelde stoffen (zie bijlagen) | F25: 0
C26: 1e | E26: Herstofferen rugleuning in voorgestelde stoffen (zie bijlagen) | F26: 0
C27: 2e | E27: Integrale technische check meubelstuk | F27: 0
C28: 3e
C29: 4e
C30: 5e
C31: 6e
C32: 7e
C33: 8e
C38: Kast hout divers | D38: Aantal | E38: Te refurbishen | F38: Prijs per onderdeel | G38: Prijs totaal
C39: 22 | D39: 10 | G39: =SUM(F40:F51) -> 0
C40: BG
C41: 1e | E41: Poedercoaten (volgens kleursteling) | F41: 0
C42: 2e | E42: Integrale technische check meubelstuk | F42: 0
C43: 3e
C44: 4e
C45: 5e
C46: 6e
C47: 7e
...

Sheet OTS
A1: Onderwerp : | B1: Prijzenblad
A2: Discipline : | B2: Perceel 2A
A3: Datum : | B3: 45565
A4: Versie : | B4: Definitief 1.0
A6: Code | B6: Referentie inschrijver (catalogus) | C6: Description | D6: Dimensions | E6: Family | F6: Location | G6: Perceel | H6: Count | I6: Unit Price | J6: Subtotal | K6: Material Main | L6: Color Main | M6: Material Secondary | N6: Color Secondary | O6: Material Extra | P6: Color Extra | Q6: Comments | R6: Cable Management
A7: OSS-01b | C7: Stoelen - stapelbaar | E7: B | F7: Frontoffice SDD, Info & Advies Atrium, Open Leercentrum, Groene zone spuiboulevard, Dordtlab breakout, Spreekkamer BG en 1e verdieping, Koffiebar BG en 1e verdieping, Groene zone Atrium, Aanland, aanland met breakout, KCC, lunchruimte KCC, IBD Plateau, Vergaderruites (plateau gebouw), College B&W | G7: 2 | H7: 149 | I7: 0 | J7: =PRODUCT(H7:I7) -> 0 | K7: Kvadrat Steelcut Trio 3 | L7: 436,576,686,796,716,205,756,713 | M7: Powdercoated steel | N7: Anthracite black | R7: No
A8: OSS-01c | C8: Stoelen - stapelbaar | E8: B | F8: Frontoffice SDD, Info & Advies Atrium, Open Leercentrum, Groene zone spuiboulevard, Dordtlab breakout, Spreekkamer BG en 1e verdieping, Koffiebar BG en 1e verdieping, Groene zone Atrium, Aanland, aanland met breakout, KCC, lunchruimte KCC, IBD Plateau, Vergaderruites (plateau gebouw), College B&W | G8: 2 | H8: 20 | I8: 0 | J8: =PRODUCT(H8:I8) -> 0 | K8: Kvadrat Steelcut Trio 3 | L8: 436,576,686,796,716,205,756,713 | M8: Lackered oak | N8: Natural
A9: OSS-01c | C9: Stoelen - stapelbaar | E9: B | F9: Frontoffice SDD, Info & Advies Atrium, Open Leercentrum, Groene zone spuiboulevard, Dordtlab breakout, Spreekkamer BG en 1e verdieping, Koffiebar BG en 1e verdieping, Groene zone Atrium, Aanland, aanland met breakout, KCC, lunchruimte KCC, IBD Plateau, Vergaderruites (plateau gebouw), College B&W | G9: 2 | H9: 4 | I9: 0 | J9: =PRODUCT(H9:I9) -> 0 | K9: Kvadrat Steelcut Trio 3 | L9: 436,576,686,796,716,205,756,713 | M9: Powdercoated steel | N9: Anthracite black | R9: No
A10: OSS-02a | C10: Stoelen | E10: B | F10: Frontoffice SDD, Info & Advies Atrium, Open Leercentrum, Groene zone spuiboulevard, Dordtlab breakout, Spreekkamer BG en 1e verdieping, Koffiebar BG en 1e verdieping, Groene zone Atrium, Aanland, aanland met breakout, KCC, lunchruimte KCC, IBD Plateau, Vergaderruimtes (plateau gebouw), College B&W | G10: 2 | H10: 18 | I10: 0 | J10: =PRODUCT(H10:I10) -> 0 | K10: Kvadrat Steelcut Trio 3 | L10: 436,576,686,796,716,205,756,713 | M10: Powdercoated steel | N10: Anthracite black
A11: OSS-02b | C11: Stoelen | E11: B | F11: Frontoffice SDD, Info & Advies Atrium, Open Leercentrum, Groene zone spuiboulevard, Dordtlab breakout, Spreekkamer BG en 1e verdieping, Koffiebar BG en 1e verdieping, Groene zone Atrium, Aanland, aanland met breakout, KCC, lunchruimte KCC, IBD Plateau, Vergaderruites (plateau gebouw), College B&W | G11: 2 | H11: 116 | I11: 0 | J11: =PRODUCT(H11:I11) -> 0 | K11: Kvadrat Steelcut Trio 3 | L11: <varies> | M11: Powdercoated steel | N11: Anthracite black
A12: OSS-02c | C12: Loungestoelen | E12: B | F12: Frontoffice SDD, Info & Advies Atrium, Open Leercentrum, Groene zone spuiboulevard, Dordtlab breakout, Spreekkamer BG en 1e verdieping, Koffiebar BG en 1e verdieping, Groene zone Atrium, Aanland, aanland met breakout, KCC, lunchruimte KCC, IBD Plateau, Vergaderruites (plateau gebouw), College B&W | G12: 2 | H12: 13 | I12: 0 | J12: =PRODUCT(H12:I12) -> 0 | K12: Kvadrat Steelcut Trio 3 | L12: 686,796,716,205,756,713 | M12: Powdercoated steel | N12: Anthracite black
A13: OSS-03a | C13: Stoelen - kruk - bar | E13: B | F13: Frontoffice SDD, Info & Advies Atrium, Open Leercentrum, Groene zone spuiboulevard, Dordtlab breakout, Spreekkamer BG en 1e verdieping, Koffiebar BG en 1e verdieping, Groene zone Atrium, Aanland, aanland met breakout, KCC, lunchruimte KCC, IBD Plateau, Vergaderruites (plateau gebouw), College B&W | G13: 2 | H13: 78 | I13: 0 | J13: =PRODUCT(H13:I13) -> 0 | K13: Kvadrat Steelcut Trio 3 | L13: 576,436,453 | M13: Powdercoated steel | N13: Anthracite black
A14: OSS-04 | C14: Stoelen - kruk - counter | E14: B | F14: Frontoffice SDD, Info & Advies Atrium, Open Leercentrum, Groene zone spuiboulevard, Dordtlab breakout, Spreekkamer BG en 1e verdieping, Koffiebar BG en 1e verdieping, Groene zone Atrium, Aanland, aanland met breakout, KCC, lunchruimte KCC, IBD Plateau, Vergaderruites (plateau gebouw), College B&W | G14: 2 | H14: 19 | I14: 0 | J14: =PRODUCT(H14:I14) -> 0 | K14: Kvadrat Steelcut Trio 3 | L14: 576,436,453 | M14: Powdercoated steel | N14: Anthracite black
A15: OSS-18 | C15: Stoelen - Bar | E15: A | F15: Open Leercentrum, Griffie, Vergadercentrum, vergaderruimtes (Meeting Room Clusters), Breakout (werkplekzone), MFZ, Blauwe kamer, Handhaving & Politie, werkcafe gesprekplek 2e verdieping, commissiezalen, breakout commissiezalen, Dordrecht Marketing & Partners | G15: 2 | H15: 114 | I15: 0 | J15: =PRODUCT(H15:I15) -> 0 | K15: Kvadrat Vidar 4 | L15: 1062,146, 333, 353, 443, 477, 554, 633, 693, 733, 786, 872, 913, 972 | M15: Powdercoated steel | N15: Black
A16: OSS-19 | C16: Stoelen - Counter | E16: A | F16: Open Leercentrum, Griffie, Vergadercentrum, vergaderruimtes (Meeting Room Clusters), Breakout (werkplekzone), MFZ, Blauwe kamer, Handhaving & Politie, werkcafe gesprekplek 2e verdieping, commissiezalen, breakout commissiezalen, Dordrecht Marketing & Partners | G16: 2 | H16: 6 | I16: 0 | J16: =PRODUCT(H16:I16) -> 0 | K16: Kvadrat Steelcut Trio 3 | L16: 226, 426, 916, 996 | M16: Powdercoated steel | N16: Black
A17: OSS-19 | C17: Stoelen - Counter | E17: A | F17: Open Leercentrum, Griffie, Vergadercentrum, vergaderruimtes (Meeting Room Clusters), Breakout (werkplekzone), MFZ, Blauwe kamer, Handhaving & Politie, werkcafe gesprekplek 2e verdieping, commissiezalen, breakout commissiezalen, Dordrecht Marketing & Partners | G17: 2 | H17: 11 | I17: 0 | J17: =PRODUCT(H17:I17) -> 0 | K17: Kvadrat Vidar 4 | L17: 1062,146, 333, 353, 443, 477, 554, 633, 693, 733, 786, 872, 913, 972 | M17: Powdercoated steel | N17: Black
A18: OSS-21a | C18: Stoelen - stapelbaar | E18: A | F18: Open Leercentrum, Griffie, Vergadercentrum, vergaderruimtes (Meeting Room Clusters), Breakout (werkplekzone), MFZ, Blauwe kamer, Handhaving & Politie, werkcafe gesprekplek 2e verdieping, commissiezalen, breakout commissiezalen, Dordrecht Marketing & Partners | G18: 2 | H18: 143 | I18: 0 | J18: =PRODUCT(H18:I18) -> 0 | K18: Kvadrat Steelcut Trio 3 | L18: 213, 226, 383, 426, 436, 576, 716, 776, 796, 916, 996 | M18: Powdercoated steel | N18: Black
A19: OSS-21a | C19: Stoelen - stapelbaar | E19: A | F19: Open Leercentrum, Griffie, Vergadercentrum, vergaderruimtes (Meeting Room Clusters), Breakout (werkplekzone), MFZ, Blauwe kamer, Handhaving & Politie, werkcafe gesprekplek 2e verdieping, commissiezalen, breakout commissiezalen, Dordrecht Marketing & Partners | G19: 2 | H19: 353 | I19: 0 | J19: =PRODUCT(H19:I19) -> 0 | K19: Kvadrat Vidar 4 | L19: 1062,146, 333, 353, 443, 477, 554, 633, 693, 733, 772, 786, 872, 913, 972 | M19: Powdercoated steel | N19: Black
A20: OSS-21b | C20: Stoelen - stapelbaar | E20: A | F20: Open Leercentrum, Griffie, Vergadercentrum, vergaderruimtes (Meeting Room Clusters), Breakout (werkplekzone), MFZ, Blauwe kamer, Handhaving & Politie, werkcafe gesprekplek 2e verdieping, commissiezalen, breakout commissiezalen, Dordrecht Marketing & Partners | G20: 2 | H20: 24 | I20: 0 | J20: =PRODUCT(H20:I20) -> 0 | K20: Kvadrat Steelcut Trio 3 | L20: 213, 383, 436, 576, 716, 776, 916 | M20: Powdercoated steel | N20: Black
A21: OSS-21b | C21: Stoelen - stapelbaar | E21: A | F21: Open Leercentrum, Griffie, Vergadercentrum, vergaderruimtes (Meeting Room Clusters), Breakout (werkplekzone), MFZ, Blauwe kamer, Handhaving & Politie, werkcafe gesprekplek 2e verdieping, commissiezalen, breakout commissiezalen, Dordrecht Marketing & Partners | G21: 2 | H21: 78 | I21: 0 | J21: =PRODUCT(H21:I21) -> 0 | K21: Kvadrat Vidar 4 | L21: 1062,146, 333, 353, 443, 477, 554, 633, 693, 733, 772, 786, 872, 913, 972 | M21: Powdercoated steel | N21: Black
A22: OSS-21c | C22: Stoelen - stapelbaar | E22: A | F22: Open Leercentrum, Griffie, Vergadercentrum, vergaderruimtes (Meeting Room Clusters), Breakout (werkplekzone), MFZ, Blauwe kamer, Handhaving & Politie, werkcafe gesprekplek 2e verdieping, commissiezalen, breakout commissiezalen, Dordrecht Marketing & Partners | G22: 2 | H22: 95 | I22: 0 | J22: =PRODUCT(H22:I22) -> 0 | K22: Form-pressed Beech & Oak Veneer | L22: Natual, stained and black oak
A23: OSS-22a | C23: Stoelen - stapelbaar - trolley | D23: 940x615 | E23: A | F23: Open Leercentrum, Griffie, Vergadercentrum, vergaderruimtes (Meeting Room Clusters), Breakout (werkplekzone), MFZ, Blauwe kamer, Handhaving & Politie, werkcafe gesprekplek 2e verdieping, commissiezalen, breakout commissiezalen, Dordrecht Marketing & Partners | G23: 2 | H23: 9 | I23: 0 | J23: =PRODUCT(H23:I23) -> 0 | K23: Powdercoated steel | L23: Black | Q23: On wheels
A24: OSS-22b | C24: Stoelen - stapelbaar - trolley | D24: 940x615 | E24: A | F24: Open Leercentrum, Griffie, Vergadercentrum, vergaderruimtes (Meeting Room Clusters), Breakout (werkplekzone), MFZ, Blauwe kamer, Handhaving & Politie, werkcafe gesprekplek 2e verdieping, commissiezalen, breakout commissiezalen, Dordrecht Marketing & Partners | G24: 2 | H24: 5 | I24: 0 | J24: =PRODUCT(H24:I24) -> 0 | K24: Powdercoated steel | L24: Black | Q24: On wheels
A25: OSS-24a | C25: Stoelen - kruk | E25: Others | F25: Pantry, Pegasoos | G25: 2 | H25: 48 | I25: 0 | J25: =PRODUCT(H25:I25) -> 0 | K25: Solid oak | L25: Stain and laquer
A26: OSS-32 | C26: Zetels - meerzit en modulair | E26: H | F26: Dubbelhoge ruimte Kathedraal | G26: 2 | H26: 11 | I26: 0 | J26: =PRODUCT(H26:I26) -> 0 | K26: Kvadrat Hallingdal 65 | L26: 123, 547, 590 | M26: Laquered steel | N26: All colours available
A27: OSS-33 | C27: Zetels | E27: H | F27: Dubbelhoge ruimte Kathedraal | G27: 2 | H27: 20 | I27: 0 | J27: =PRODUCT(H27:I27) -> 0 | K27: Kvadrat Hallingdal 65 | L27: 123, 547, 590 | M27: Laquered steel | N27: All colours available
A28: OSS-39a | C28: Lounge zetels - enkele zit | E28: C2 | F28: Aanland, Dubbelhoge ruimte natuur, social spot hub, gespreksplek gebied, werkcafe | G28: 2 | H28: 19 | I28: 0 | J28: =PRODUCT(H28:I28) -> 0 | K28: Kvadrat Hallingdal 65 | L28: 220 | M28: Powdercoated steel | N28: Matching RAL
A29: OSS-39a | C29: Lounge zetels - enkele zit | E29: C2 | F29: Aanland, Dubbelhoge ruimte natuur, social spot hub, gespreksplek gebied, werkcafe | G29: 2 | H29: 14 | I29: 0 | J29: =PRODUCT(H29:I29) -> 0 | K29: Kvadrat Steelcut Trio 3 | L29: 916 | M29: Powdercoated steel | N29: Matching RAL
A30: OSS-39b | C30: Lounge zetels - enkele zit | E30: C2 | F30: Aanland, Dubbelhoge ruimte natuur, social spot hub, gespreksplek gebied, werkcafe | G30: 2 | H30: 17 | I30: 0 | J30: =PRODUCT(H30:I30) -> 0 | K30: Kvadrat Hallingdal 65 | L30: 123, 407 or 103 | M30: Gabriel Hush Stripe | N30: 61225,62068 or 61226 | O30: Powdercoated steel | P30: Matching RAL
A31: OSS-39b | C31: Lounge zetels - enkele zit | E31: C2 | F31: Aanland, Dubbelhoge ruimte natuur, social spot hub, gespreksplek gebied, werkcafe | G31: 2 | H31: 38 | I31: 0 | J31: =PRODUCT(H31:I31) -> 0 | K31: Kvadrat Vidar 4 | L31: 733 | M31: Gabriel Hush Stripe | N31: 66133 | O31: Powdercoated steel | P31: Matching RAL
A32: OSS-41 | C32: Stoelen - kruk | E32: Others | F32: Aanland, Dubbelhoge ruimte Oude stad, Dordrecht Marketing & Partners, Samenwerken kortstondig (Plateau gebouw), Pauzeruimte / ontspanningsruimte Handhaving & Politie | G32: 2 | H32: 56 | I32: 0 | J32: =PRODUCT(H32:I32) -> 0 | K32: Aluminium | L32: Black
A33: OSS-49a | C33: Zetels - meerzit en modulair | E33: Others | F33: BD Plateau gebouw, Samenwerken kort ingang (Plateau gebouw), Vergaderruimtes (Meeting room clusters), Dubbelhoge ruimte Oude stad | G33: 2 | H33: 12 | I33: 0 | J33: =PRODUCT(H33:I33) -> 0 | K33: Kvadrat Steelcut Trio 3 | L33: 236,453,416,436,446 or 713 | M33: Powdercoated steel | N33: Black
A34: OSS-49b | C34: Zetels - meerzit en modulair | E34: Others | F34: BD Plateau gebouw, Samenwerken kort ingang (Plateau gebouw), Vergaderruimtes (Meeting room clusters), Dubbelhoge ruimte Oude stad | G34: 2 | H34: 3 | I34: 0 | J34: =PRODUCT(H34:I34) -> 0 | K34: Kvadrat Steelcut Trio 3 | L34: 236,453,416,446 or 713 | M34: Powdercoated steel | N34: Black
A35: OSS-49c | C35: Zetels - meerzit en modulair | E35: Others | F35: BD Plateau gebouw, Samenwerken kort ingang (Plateau gebouw), Vergaderruimtes (Meeting room clusters), Dubbelhoge ruimte Oude stad | G35: 2 | H35: 6 | I35: 0 | J35: =PRODUCT(H35:I35) -> 0 | K35: Kvadrat Steelcut Trio 3 | L35: 236,453,416,436,446 or 713 | M35: Powdercoated steel | N35: Black
A36: OSS-49d | C36: Zetels - meerzit en modulair | E36: Others | F36: BD Plateau gebouw, Samenwerken kort ingang (Plateau gebouw), Vergaderruimtes (Meeting room clusters), Dubbelhoge ruimte Oude stad | G36: 2 | H36: 4 | I36: 0 | J36: =PRODUCT(H36:I36) -> 0 | K36: Kvadrat Steelcut Trio 3 | L36: 236,453,416,446 or 713 | M36: Powdercoated steel | N36: Black
A37: OSS-51 | C37: Stoelen | E37: Others | F37: Social Spot HUB, Wachten B&W | G37: 2 | H37: 16 | I37: 0 | J37: =PRODUCT(H37:I37) -> 0 | K37: Oak | L37: Natural
A38: OST-01a | C38: Tafels - laag/bijzet | D38: ø700 | E38: Others | F38: Breakout (werkplekzone), Handhaving & Politie | G38: 2 | H38: 12 | I38: 0 | J38: =PRODUCT(H38:I38) -> 0 | K38: Oak | L38: Natural
A39: OST-06a | C39: Kolomtafels | D39: ø600 | E39: Others | G39: 2 | H39: 4 | I39: 0 | J39: =PRODUCT(H39:I39) -> 0 | K39: MDF core + Linoleum | L39: Mushroom, Pebble, Smokey blue or Olive | M39: Powdercoated steel | N39: Black RAL 9011
A40: OST-06b | C40: Kolomtafels | D40: ø900 | E40: Others | G40: 2 | H40: 1 | I40: 0 | J40: =PRODUCT(H40:I40) -> 0 | K40: MDF core + Linoleum | L40: Mushroom, Pebble, Smokey blue or Olive | M40: Powdercoated steel | N40: Black RAL 9011
A41: OST-06c | C41: Kolomtafels | D41: ø1200 | E41: Others | G41: 2 | H41: 1 | I41: 0 | J41: =PRODUCT(H41:I41) -> 0 | K41: MDF core + Linoleum | L41: Mushroom, Pebble, Smokey blue or Olive | M41: Powdercoated steel | N41: Black RAL 9011
...

Sheet OTS Werkplek
A1: Onderwerp : | B1: Prijzenblad
A2: Discipline : | B2: Perceel 2A
A3: Datum : | B3: 45565
A4: Versie : | B4: Definitief 1.0
A6: Code | B6: Referentie inschrijver (catalogus) | C6: Description | D6: Dimensions | E6: Family | F6: Perceel | G6: Count | H6: Unit Price | I6: Subtotal | J6: Material Main | K6: Color Main | L6: Material Secondary | M6: Color Secondary | N6: Material Extra | O6: Color Extra | P6: Comments | Q6: Cable Management
A7: Werkplekmeubilair
A8: WPS-01a | C8: Werkplekstoel - ARBO | E8: Others | F8: 2 | G8: 480 | H8: 0 | I8: =PRODUCT(G8:H8) -> 0 | J8: Capture (Gabriel) | K8: All colours in price range | L8: Painted aluminium | M8: Black/Silver | Q8: No
A9: WPS-01b | C9: Werkplekstoel - ARBO | E9: Others | F9: 2 | G9: 44 | H9: 0 | I9: =PRODUCT(G9:H9) -> 0 | J9: Capture (Gabriel) | K9: All colours in price range | L9: Painted aluminium | M9: Black/Silver | Q9: No
A10: WPS-03 | C10: Sitting/Standing stool | D10: ø400 | E10: Others | F10: 2 | G10: 9 | H10: 0 | I10: =PRODUCT(G10:H10) -> 0 | J10: Kvadrat Steelcut Trio 3 | K10: All colours in price range | L10: Painted aluminium | M10: Black | N10: Plastic | O10: Black
I11: =PRODUCT(G11:H11) -> 0
A12: WPT-01a | C12: Werkplektafel - verstelbaar | D12: 1400x800 | E12: G | F12: 2 | G12: 75 | H12: 0 | I12: =PRODUCT(G12:H12) -> 0 | J12: Lightweight Greengridz - Linoleum | K12: Mushroom, Pebble, Smokey blue or Olive | L12: Powdercoated steel | M12: Light grey, Black, Carbon Blue or Stone Grey. Satin finish | Q12: Yes
A13: WPT-01b | C13: Werkplektafel - verstelbaar | D13: 1600x800 | E13: G | F13: 2 | G13: 116 | H13: 0 | I13: =PRODUCT(G13:H13) -> 0 | J13: Lightweight Greengridz - Linoleum | K13: Mushroom, Pebble, Smokey blue or Olive | L13: Powdercoated steel | M13: Light grey, Black, Carbon Blue or Stone Grey. Satin finish | Q13: Yes
A14: WPT-01c | C14: Werkplektafel - verstelbaar | D14: 1800x800 | E14: G | F14: 2 | G14: 13 | H14: 0 | I14: =PRODUCT(G14:H14) -> 0 | J14: Lightweight Greengridz - Linoleum | K14: Mushroom, Pebble, Smokey blue or Olive | L14: Powdercoated steel | M14: Light grey, Black, Carbon Blue or Stone Grey. Satin finish | Q14: Yes
A15: WPT-01d | C15: Werkplektafel - verstelbaar | D15: 1800x1000 | E15: G | F15: 2 | G15: 6 | H15: 0 | I15: =PRODUCT(G15:H15) -> 0 | J15: Lightweight Greengridz - Linoleum | K15: Mushroom, Pebble, Smokey blue or Olive | L15: Powdercoated steel | M15: Light grey, Black, Carbon Blue or Stone Grey. Satin finish | Q15: Yes
A16: WPT-01e | C16: Werkplektafel - verstelbaar | D16: 2000x800 | E16: G | F16: 2 | G16: 5 | H16: 0 | I16: =PRODUCT(G16:H16) -> 0 | J16: Lightweight Greengridz - Linoleum | K16: Mushroom, Pebble, Smokey blue or Olive | L16: Powdercoated steel | M16: Light grey, Black, Carbon Blue or Stone Grey. Satin finish | Q16: Yes
A17: WPT-01f | C17: Werkplektafel - verstelbaar | D17: 2000x1000 | E17: G | F17: 2 | G17: 2 | H17: 0 | I17: =PRODUCT(G17:H17) -> 0 | J17: Lightweight Greengridz - Linoleum | K17: Mushroom, Pebble, Smokey blue or Olive | L17: Powdercoated steel | M17: Light grey, Black, Carbon Blue or Stone Grey. Satin finish | Q17: Yes
A18: WPT-01h | C18: Werkplektafel - verstelbaar | D18: 1400x800 | E18: G | F18: 2 | G18: 36 | H18: 0 | I18: =PRODUCT(G18:H18) -> 0 | J18: Lightweight Greengridz - Linoleum | K18: Mushroom, Pebble, Smokey blue or Olive | L18: Powdercoated steel | M18: Light grey, Black, Carbon Blue or Stone Grey. Satin finish | Q18: Yes
A19: WPT-01i | C19: Werkplektafel - verstelbaar | D19: 1600x800 | E19: G | F19: 2 | G19: 84 | H19: 0 | I19: =PRODUCT(G19:H19) -> 0 | J19: Lightweight Greengridz - Linoleum | K19: Mushroom, Pebble, Smokey blue or Olive | L19: Powdercoated steel | M19: Light grey, Black, Carbon Blue or Stone Grey. Satin finish | Q19: Yes
A20: WPT-01j | C20: Werkplektafel - verstelbaar | D20: 1800x800 | E20: G | F20: 2 | G20: 2 | H20: 0 | I20: =PRODUCT(G20:H20) -> 0 | J20: Lightweight Greengridz - Linoleum | K20: Mushroom, Pebble, Smokey blue or Olive | L20: Powdercoated steel | M20: Light grey, Black, Carbon Blue or Stone Grey. Satin finish | Q20: Yes
A21: WPT-01k | C21: Werkplektafel - verstelbaar | D21: 1200x800 | E21: G | F21: 2 | G21: 4 | H21: 0 | I21: =PRODUCT(G21:H21) -> 0 | J21: Lightweight Greengridz - Linoleum | K21: Mushroom, Pebble, Smokey blue or Olive | L21: Powdercoated steel | M21: Light grey, Black, Carbon Blue or Stone Grey. Satin finish | Q21: Yes
A22: WPT-03 | C22: Werkplektafel - verstelbaar | D22: 1600x1600 | E22: G | F22: 2 | G22: 12 | H22: 0 | I22: =PRODUCT(G22:H22) -> 0 | J22: Lightweight Greengridz - Linoleum | K22: Mushroom, Pebble, Smokey blue or Olive | L22: Powdercoated steel | M22: Light grey, Black, Carbon Blue or Stone Grey. Satin finish | Q22: Yes
A23: WPT-05 | C23: Werkplektafel - verstelbaar | D23: 1400x800 | E23: G | F23: 2 | G23: 2 | H23: 0 | I23: =PRODUCT(G23:H23) -> 0 | J23: Lightweight Greengridz - Linoleum | K23: Mushroom, Pearl, Pebble, Smokey blue or Olive | L23: Powdercoated steel | M23: Light grey, Black, Carbon Blue or Stone Grey. Satin finish | Q23: Yes
A24: WPS-02a | C24: Werkplekstoel kort- tot middellang gebruik | E24: D1 | F24: 2 | G24: 47 | H24: 0 | I24: =PRODUCT(G24:H24) -> 0 | J24: Kvadrat Steelcut Trio 3 | K24: All colours in price range | L24: Aluminium | P24: Foot ring | Q24: No
A25: WPS-02b | C25: Werkplekstoel kort- tot middellang gebruik | E25: D1 | F25: 2 | G25: 13 | H25: 0 | I25: =PRODUCT(G25:H25) -> 0 | J25: Kvadrat Hallingdal 65 | K25: 166 | L25: Aluminium | Q25: No
A26: WPS-02b | C26: Werkplekstoel kort- tot middellang gebruik | E26: D1 | F26: 2 | G26: 125 | H26: 0 | I26: =PRODUCT(G26:H26) -> 0 | J26: Kvadrat Steelcut Trio 3 | K26: All colours in price range | L26: Aluminium | Q26: No
I27: =PRODUCT(G27:H27) -> 0
A28: WPT-02a | C28: Werkplektafel - verstelbaar | D28: 1500x400 | E28: Others | F28: 2 | G28: 31 | H28: 0 | I28: =PRODUCT(G28:H28) -> 0 | J28: Lightweight Greengridz - Linoleum | K28: Mushroom, Pebble, Smokey blue or Olive | L28: Powdercoated steel | M28: Light grey, Black, Carbon Blue or Stone Grey. Satin finish | Q28: Yes
A29: WPT-02b | C29: Werkplektafel - verstelbaar | D29: 1800x800 | E29: Others | F29: 2 | G29: 5 | H29: 0 | I29: =PRODUCT(G29:H29) -> 0 | J29: Lightweight Greengridz - Linoleum | K29: Mushroom, Pebble, Smokey blue or Olive | L29: Powdercoated steel | M29: Light grey, Black, Carbon Blue or Stone Grey. Satin finish | Q29: Yes
A30: WPT-04 | C30: Werkplektafel - verstelbaar | E30: Others | F30: 2 | G30: 4 | H30: 0 | I30: =PRODUCT(G30:H30) -> 0 | J30: Lightweight Greengridz - Linoleum | K30: Mushroom, Pebble, Smokey blue or Olive | L30: Powdercoated steel | M30: Light grey, Black, Carbon Blue or Stone Grey. Satin finish | Q30: Yes
A31: WPT-06 | C31: Werkplektafel - verstelbaar | D31: 1600x800 | E31: Others | F31: 2 | G31: 4 | H31: 0 | I31: =PRODUCT(G31:H31) -> 0 | J31: Lightweight Greengridz - Linoleum | K31: Mushroom, Pebble, Smokey blue or Olive | L31: Powdercoated steel | M31: Light grey, Black, Carbon Blue or Stone Grey. Satin finish | Q31: Yes
A32: WPT-07 | C32: Computer arm | E32: Others | F32: 2 | G32: 487 | H32: 0 | I32: =PRODUCT(G32:H32) -> 0 | Q32: <varies>
