Workbook
Name Score: 'Beoordelen open vragen'!$A$23:$A$28

Sheet Beoordelen open vragen
A1: Beoordeling open vragen
A2: Om de kwaliteit en toegevoegde waarde van de Inschrijver(s) te kunnen beoordelen dient Inschrijver haar kwaliteit aan te tonen en meerwaarde uit te werken conform onderstaande open vragen.
A3: 7.1.1 PLAN VAN AANPAK IMPLEMENTATIE
A4: Zie bijlage 7 'kwaliteit'.
A5: 7.1.2 SEO
A6: Zie bijlage 7 'kwaliteit'.
A7: 7.1.3 SUCCESMANAGEMENT/PARTNERSCHAP
A8: Zie bijlage 7 'kwaliteit'.
A9: 7.1.4 EXIT SITUATIE
A10: Zie bijlage 7 'kwaliteit'.
A11: 7.1.5 CUSTOMER JOURNEY LLO
A12: Zie bijlage 7 'kwaliteit'.
... A28: Onvoldoende

Sheet Beoordelaar 1
A1: Beoordelaar 1: <<>> | C1: Inschrijver 1 | F1: Inschrijver 2 | I1: Inschrijver 3
A2: Vraag | C2: Score: | F2: Score: | I2: Score:
A3: ='Beoordelen open vragen'!A3 -> 7.1.1 PLAN VAN AANPAK IMPLEMENTATIE | C3: Score: | F3: Score: | I3: Score:
A4: ='Beoordelen open vragen'!A4:A4 -> Zie bijlage 7 'kwaliteit'. | C4: <MOTIVATIE> | F4: <MOTIVATIE> | I4: <MOTIVATIE>
A5: ='Beoordelen open vragen'!A5 -> 7.1.2 SEO | C5: Score: | F5: Score: | I5: Score:
A6: ='Beoordelen open vragen'!A6:A6 -> Zie bijlage 7 'kwaliteit'. | C6: <MOTIVATIE> | F6: <MOTIVATIE> | I6: <MOTIVATIE>
A7: ='Beoordelen open vragen'!A7 -> 7.1.3 SUCCESMANAGEMENT/PARTNERSCHAP | C7: Score: | F7: Score: | I7: Score:
A8: ='Beoordelen open vragen'!A8 -> Zie bijlage 7 'kwaliteit'. | C8: <MOTIVATIE> | F8: <MOTIVATIE> | I8: <MOTIVATIE>
A9: ='Beoordelen open vragen'!A9 -> 7.1.4 EXIT SITUATIE | C9: Score: | F9: Score: | I9: Score:
A10: ='Beoordelen open vragen'!A10:A10 -> Zie bijlage 7 'kwaliteit'. | C10: <MOTIVATIE> | F10: <MOTIVATIE> | I10: <MOTIVATIE>
A11: ='Beoordelen open vragen'!A11 -> 7.1.5 CUSTOMER JOURNEY LLO | C11: Score: | F11: Score: | I11: Score:
A12: ='Beoordelen open vragen'!A12 -> Zie bijlage 7 'kwaliteit'. | C12: <MOTIVATIE> | F12: <MOTIVATIE> | I12: <MOTIVATIE>
A13: ='Beoordelen open vragen'!A13 -> 7.1.6 KOSTEN MEERWERK | C13: Score: | F13: Score: | I13: Score:
A14: ='Beoordelen open vragen'!A14 -> Zie bijlage 7 'kwaliteit'. | C14: <MOTIVATIE> | F14: <MOTIVATIE> | I14: <MOTIVATIE>
A15: ='Beoordelen open vragen'!A15 -> 7.1.7 MIGRATIE NAAR XM CLOUD | C15: Score: | F15: Score: | I15: Score:
A16: ='Beoordelen open vragen'!A16 -> Zie bijlage 7 'kwaliteit'. | C16: <MOTIVATIE> | F16: <MOTIVATIE> | I16: <MOTIVATIE>
A17: ='Beoordelen open vragen'!A17 -> 7.1.8 ZWARE INCIDENTEN | C17: Score: | F17: Score: | I17: Score:
A18: ='Beoordelen open vragen'!A18 -> Zie bijlage 7 'kwaliteit' en Formulier D. | C18: <MOTIVATIE> | F18: <MOTIVATIE> | I18: <MOTIVATIE>
A19: ='Beoordelen open vragen'!A19 -> 7.1.8 MINDER ZWARE INCIDENTEN | C19: Score: | F19: Score: | I19: Score:
A20: ='Beoordelen open vragen'!A20 -> Zie bijlage 7 'kwaliteit' en Formulier D. | C20: <MOTIVATIE> | F20: <MOTIVATIE> | I20: <MOTIVATIE>
A21: ='Beoordelen open vragen'!A21 -> 7.1.8 KLEINE PROBLEMEN | C21: Score: | F21: Score: | I21: Score:
A22: ='Beoordelen open vragen'!A22 -> Zie bijlage 7 'kwaliteit' en Formulier D. | C22: <MOTIVATIE> | F22: <MOTIVATIE> | I22: <MOTIVATIE>

Sheet Beoordelaar 2
A1: Beoordelaar 2: <<>> | C1: ='Beoordelaar 1'!C1 -> Inschrijver 1 | F1: ='Beoordelaar 1'!F1 -> Inschrijver 2 | I1: ='Beoordelaar 1'!I1 -> Inschrijver 3
A2: Vraag | C2: Score: | F2: Score: | I2: Score:
A3: ='Beoordelen open vragen'!A3 -> 7.1.1 PLAN VAN AANPAK IMPLEMENTATIE | C3: Score: | F3: Score: | I3: Score:
A4: ='Beoordelen open vragen'!A4:A4 -> Zie bijlage 7 'kwaliteit'. | C4: <MOTIVATIE> | F4: <MOTIVATIE> | I4: <MOTIVATIE>
A5: ='Beoordelen open vragen'!A5 -> 7.1.2 SEO | C5: Score: | F5: Score: | I5: Score:
A6: ='Beoordelen open vragen'!A6:A6 -> Zie bijlage 7 'kwaliteit'. | C6: <MOTIVATIE> | F6: <MOTIVATIE> | I6: <MOTIVATIE>
A7: ='Beoordelen open vragen'!A7 -> 7.1.3 SUCCESMANAGEMENT/PARTNERSCHAP | C7: Score: | F7: Score: | I7: Score:
A8: ='Beoordelen open vragen'!A8 -> Zie bijlage 7 'kwaliteit'. | C8: <MOTIVATIE> | F8: <MOTIVATIE> | I8: <MOTIVATIE>
A9: ='Beoordelen open vragen'!A9 -> 7.1.4 EXIT SITUATIE | C9: Score: | F9: Score: | I9: Score:
A10: ='Beoordelen open vragen'!A10:A10 -> Zie bijlage 7 'kwaliteit'. | C10: <MOTIVATIE> | F10: <MOTIVATIE> | I10: <MOTIVATIE>
A11: ='Beoordelen open vragen'!A11 -> 7.1.5 CUSTOMER JOURNEY LLO | C11: Score: | F11: Score: | I11: Score:
A12: ='Beoordelen open vragen'!A12 -> Zie bijlage 7 'kwaliteit'. | C12: <MOTIVATIE> | F12: <MOTIVATIE> | I12: <MOTIVATIE>
A13: ='Beoordelen open vragen'!A13 -> 7.1.6 KOSTEN MEERWERK | C13: Score: | F13: Score: | I13: Score:
A14: ='Beoordelen open vragen'!A14 -> Zie bijlage 7 'kwaliteit'. | C14: <MOTIVATIE> | F14: <MOTIVATIE> | I14: <MOTIVATIE>
A15: ='Beoordelen open vragen'!A15 -> 7.1.7 MIGRATIE NAAR XM CLOUD | C15: Score: | F15: Score: | I15: Score:
A16: ='Beoordelen open vragen'!A16 -> Zie bijlage 7 'kwaliteit'. | C16: <MOTIVATIE> | F16: <MOTIVATIE> | I16: <MOTIVATIE>
A17: ='Beoordelen open vragen'!A17 -> 7.1.8 ZWARE INCIDENTEN | C17: Score: | F17: Score: | I17: Score:
A18: ='Beoordelen open vragen'!A18 -> Zie bijlage 7 'kwaliteit' en Formulier D. | C18: <MOTIVATIE> | F18: <MOTIVATIE> | I18: <MOTIVATIE>
A19: ='Beoordelen open vragen'!A19 -> 7.1.8 MINDER ZWARE INCIDENTEN | C19: Score: | F19: Score: | I19: Score:
A20: ='Beoordelen open vragen'!A20 -> Zie bijlage 7 'kwaliteit' en Formulier D. | C20: <MOTIVATIE> | F20: <MOTIVATIE> | I20: <MOTIVATIE>
A21: ='Beoordelen open vragen'!A21 -> 7.1.8 KLEINE PROBLEMEN | C21: Score: | F21: Score: | I21: Score:
A22: ='Beoordelen open vragen'!A22 -> Zie bijlage 7 'kwaliteit' en Formulier D. | C22: <MOTIVATIE> | F22: <MOTIVATIE> | I22: <MOTIVATIE>

Sheet Beoordelaar 3
A1: Beoordelaar 3: <<>> | C1: ='Beoordelaar 1'!C1 -> Inschrijver 1 | F1: ='Beoordelaar 1'!F1 -> Inschrijver 2 | I1: ='Beoordelaar 1'!I1 -> Inschrijver 3
A2: Vraag | C2: Score: | F2: Score: | I2: Score:
A3: ='Beoordelen open vragen'!A3 -> 7.1.1 PLAN VAN AANPAK IMPLEMENTATIE | C3: Score: | F3: Score: | I3: Score:
A4: ='Beoordelen open vragen'!A4:A4 -> Zie bijlage 7 'kwaliteit'. | C4: <MOTIVATIE> | F4: <MOTIVATIE> | I4: <MOTIVATIE>
A5: ='Beoordelen open vragen'!A5 -> 7.1.2 SEO | C5: Score: | F5: Score: | I5: Score:
A6: ='Beoordelen open vragen'!A6:A6 -> Zie bijlage 7 'kwaliteit'. | C6: <MOTIVATIE> | F6: <MOTIVATIE> | I6: <MOTIVATIE>
A7: ='Beoordelen open vragen'!A7 -> 7.1.3 SUCCESMANAGEMENT/PARTNERSCHAP | C7: Score: | F7: Score: | I7: Score:
A8: ='Beoordelen open vragen'!A8 -> Zie bijlage 7 'kwaliteit'. | C8: <MOTIVATIE> | F8: <MOTIVATIE> | I8: <MOTIVATIE>
A9: ='Beoordelen open vragen'!A9 -> 7.1.4 EXIT SITUATIE | C9: Score: | F9: Score: | I9: Score:
A10: ='Beoordelen open vragen'!A10:A10 -> Zie bijlage 7 'kwaliteit'. | C10: <MOTIVATIE> | F10: <MOTIVATIE> | I10: <MOTIVATIE>
A11: ='Beoordelen open vragen'!A11 -> 7.1.5 CUSTOMER JOURNEY LLO | C11: Score: | F11: Score: | I11: Score:
A12: ='Beoordelen open vragen'!A12 -> Zie bijlage 7 'kwaliteit'. | C12: <MOTIVATIE> | F12: <MOTIVATIE> | I12: <MOTIVATIE>
A13: ='Beoordelen open vragen'!A13 -> 7.1.6 KOSTEN MEERWERK | C13: Score: | F13: Score: | I13: Score:
A14: ='Beoordelen open vragen'!A14 -> Zie bijlage 7 'kwaliteit'. | C14: <MOTIVATIE> | F14: <MOTIVATIE> | I14: <MOTIVATIE>
A15: ='Beoordelen open vragen'!A15 -> 7.1.7 MIGRATIE NAAR XM CLOUD | C15: Score: | F15: Score: | I15: Score:
A16: ='Beoordelen open vragen'!A16 -> Zie bijlage 7 'kwaliteit'. | C16: <MOTIVATIE> | F16: <MOTIVATIE> | I16: <MOTIVATIE>
A17: ='Beoordelen open vragen'!A17 -> 7.1.8 ZWARE INCIDENTEN | C17: Score: | F17: Score: | I17: Score:
A18: ='Beoordelen open vragen'!A18 -> Zie bijlage 7 'kwaliteit' en Formulier D. | C18: <MOTIVATIE> | F18: <MOTIVATIE> | I18: <MOTIVATIE>
A19: ='Beoordelen open vragen'!A19 -> 7.1.8 MINDER ZWARE INCIDENTEN | C19: Score: | F19: Score: | I19: Score:
A20: ='Beoordelen open vragen'!A20 -> Zie bijlage 7 'kwaliteit' en Formulier D. | C20: <MOTIVATIE> | F20: <MOTIVATIE> | I20: <MOTIVATIE>
A21: ='Beoordelen open vragen'!A21 -> 7.1.8 KLEINE PROBLEMEN | C21: Score: | F21: Score: | I21: Score:
A22: ='Beoordelen open vragen'!A22 -> Zie bijlage 7 'kwaliteit' en Formulier D. | C22: <MOTIVATIE> | F22: <MOTIVATIE> | I22: <MOTIVATIE>

Sheet Consensus
A1: ='Beoordelen open vragen'!A1 -> Beoordeling open vragen
A2: Vraag | D2: ='Beoordelaar 1'!C1 -> Inschrijver 1 | G2: ='Beoordelaar 1'!F1 -> Inschrijver 2 | J2: ='Beoordelaar 1'!I1 -> Inschrijver 3
A3: ='Beoordelen open vragen'!A3 -> 7.1.1 PLAN VAN AANPAK IMPLEMENTATIE | B3: Beoordelaar 1 | D3: ='Beoordelaar 1'!C3 -> Score: | E3: <Motivatie> | G3: ='Beoordelaar 1'!F3 -> Score: | H3: <Motivatie> | J3: ='Beoordelaar 1'!I3 -> Score: | K3: <Motivatie>
B4: Beoordelaar 2 | D4: ='Beoordelaar 2'!C3 -> Score: | G4: ='Beoordelaar 2'!F3 -> Score: | J4: ='Beoordelaar 2'!I3 -> Score:
B5: Beoordelaar 3 | D5: ='Beoordelaar 3'!C3 -> Score: | G5: ='Beoordelaar 3'!F3 -> Score: | J5: ='Beoordelaar 3'!I3 -> Score:
A6: Consensus: | D6: Score: | G6: Score: | J6: Score:
B7: Behaalde waarde: | D7: =IF(D6="Onvoldoende","KNOCK OUT",IF(D6="Matig","-€ 30.000",IF(D6="Voldoende","€ 0",IF(D6="Goed","€ 13.500",IF(D6="Uitmuntend","€ 15.000"," "))))) | G7: =IF(G6="Onvoldoende","KNOCK OUT",IF(G6="Matig","-€ 30.000",IF(G6="Voldoende","€ 0",IF(G6="Goed","€ 13.500",IF(G6="Uitmuntend","€ 15.000"," "))))) | J7: =IF(J6="Onvoldoende","KNOCK OUT",IF(J6="Matig","-€ 30.000",IF(J6="Voldoende","€ 0",IF(J6="Goed","€ 13.500",IF(J6="Uitmuntend","€ 15.000"," ")))))
A8: ='Beoordelen open vragen'!A5 -> 7.1.2 SEO | B8: =$B$3 -> Beoordelaar 1 | D8: ='Beoordelaar 1'!C5 -> Score: | E8: <Motivatie> | G8: ='Beoordelaar 1'!F5 -> Score: | H8: <Motivatie> | J8: ='Beoordelaar 1'!I5 -> Score: | K8: <Motivatie>
B9: =$B$4 -> Beoordelaar 2 | D9: ='Beoordelaar 2'!C5 -> Score: | G9: ='Beoordelaar 2'!F5 -> Score: | J9: ='Beoordelaar 2'!I5 -> Score:
B10: =$B$5 -> Beoordelaar 3 | D10: ='Beoordelaar 3'!C5 -> Score: | G10: ='Beoordelaar 3'!F5 -> Score: | J10: ='Beoordelaar 3'!I5 -> Score:
A11: Consensus: | D11: Score: | G11: Score: | J11: Score:
B12: Behaalde waarde: | D12: =IF(D11="Onvoldoende","KNOCK OUT",IF(D11="Matig","-€ 90.000",IF(D11="Voldoende","€ 0",IF(D11="Goed","€ 27.000",IF(D11="Uitmuntend","€ 30.000"," "))))) | G12: =IF(G11="Onvoldoende","KNOCK OUT",IF(G11="Matig","-€ 90.000",IF(G11="Voldoende","€ 0",IF(G11="Goed","€ 27.000",IF(G11="Uitmuntend","€ 30.000"," "))))) | J12: =IF(J11="Onvoldoende","KNOCK OUT",IF(J11="Matig","-€ 90.000",IF(J11="Voldoende","€ 0",IF(J11="Goed","€ 27.000",IF(J11="Uitmuntend","€ 30.000"," ")))))
A13: ='Beoordelen open vragen'!A7 -> 7.1.3 SUCCESMANAGEMENT/PARTNERSCHAP | B13: =$B$3 -> Beoordelaar 1 | D13: ='Beoordelaar 1'!C7 -> Score: | E13: <Motivatie> | G13: ='Beoordelaar 1'!F7 -> Score: | H13: <Motivatie> | J13: ='Beoordelaar 1'!I7 -> Score: | K13: <Motivatie>
B14: =$B$4 -> Beoordelaar 2 | D14: ='Beoordelaar 2'!C7 -> Score: | G14: ='Beoordelaar 2'!F7 -> Score: | J14: ='Beoordelaar 2'!I7 -> Score:
B15: =$B$5 -> Beoordelaar 3 | D15: ='Beoordelaar 3'!C7 -> Score: | G15: ='Beoordelaar 3'!F7 -> Score: | J15: ='Beoordelaar 3'!I7 -> Score:
A16: Consensus: | D16: Score: | G16: Score: | J16: Score:
B17: Behaalde waarde: | D17: =IF(D16="Onvoldoende","KNOCK OUT",IF(D16="Matig","-€ 180.000",IF(D16="Voldoende","€ 0",IF(D16="Goed","€ 54.000",IF(D16="Uitmuntend","€ 60.000"," "))))) | G17: =IF(G16="Onvoldoende","KNOCK OUT",IF(G16="Matig","-€ 180.000",IF(G16="Voldoende","€ 0",IF(G16="Goed","€ 54.000",IF(G16="Uitmuntend","€ 60.000"," "))))) | J17: =IF(J16="Onvoldoende","KNOCK OUT",IF(J16="Matig","-€ 180.000",IF(J16="Voldoende","€ 0",IF(J16="Goed","€ 54.000",IF(J16="Uitmuntend","€ 60.000"," ")))))
A18: ='Beoordelen open vragen'!A9 -> 7.1.4 EXIT SITUATIE | B18: =$B$3 -> Beoordelaar 1 | D18: ='Beoordelaar 1'!C9 -> Score: | E18: <Motivatie> | G18: ='Beoordelaar 1'!F9 -> Score: | H18: <Motivatie> | J18: ='Beoordelaar 1'!I9 -> Score: | K18: <Motivatie>
B19: =$B$4 -> Beoordelaar 2 | D19: ='Beoordelaar 2'!C9 -> Score: | G19: ='Beoordelaar 2'!F9 -> Score: | J19: ='Beoordelaar 2'!I9 -> Score:
B20: =$B$5 -> Beoordelaar 3 | D20: ='Beoordelaar 3'!C9 -> Score: | G20: ='Beoordelaar 3'!F9 -> Score: | J20: ='Beoordelaar 3'!I9 -> Score:
A21: Consensus: | D21: Score: | G21: Score: | J21: Score:
B22: Behaalde waarde: | D22: =IF(D21="Onvoldoende","KNOCK OUT",IF(D21="Matig","-€ 30.000",IF(D21="Voldoende","€ 0",IF(D21="Goed","€ 13.500",IF(D21="Uitmuntend","€ 15.000"," "))))) | G22: =IF(G21="Onvoldoende","KNOCK OUT",IF(G21="Matig","-€ 30.000",IF(G21="Voldoende","€ 0",IF(G21="Goed","€ 13.500",IF(G21="Uitmuntend","€ 15.000"," "))))) | J22: =IF(J21="Onvoldoende","KNOCK OUT",IF(J21="Matig","-€ 30.000",IF(J21="Voldoende","€ 0",IF(J21="Goed","€ 13.500",IF(J21="Uitmuntend","€ 15.000"," ")))))
A23: ='Beoordelen open vragen'!A11 -> 7.1.5 CUSTOMER JOURNEY LLO | B23: =$B$3 -> Beoordelaar 1 | D23: ='Beoordelaar 1'!C11 -> Score: | E23: <Motivatie> | G23: ='Beoordelaar 1'!F11 -> Score: | H23: <Motivatie> | J23: ='Beoordelaar 1'!I11 -> Score: | K23: <Motivatie>
B24: =$B$4 -> Beoordelaar 2 | D24: ='Beoordelaar 2'!C11 -> Score: | G24: ='Beoordelaar 2'!F11 -> Score: | J24: ='Beoordelaar 2'!I11 -> Score:
B25: =$B$5 -> Beoordelaar 3 | D25: ='Beoordelaar 3'!C11 -> Score: | G25: ='Beoordelaar 3'!F11 -> Score: | J25: ='Beoordelaar 3'!I11 -> Score:
A26: Consensus: | D26: Score: | G26: Score: | J26: Score:
B27: Behaalde waarde: | D27: =IF(D26="Onvoldoende","KNOCK OUT",IF(D26="Matig","-€ 135.000",IF(D26="Voldoende","€ 0",IF(D26="Goed","€ 40.500",IF(D26="Uitmuntend","€ 45.000"," "))))) | G27: =IF(G26="Onvoldoende","KNOCK OUT",IF(G26="Matig","-€ 135.000",IF(G26="Voldoende","€ 0",IF(G26="Goed","€ 40.500",IF(G26="Uitmuntend","€ 45.000"," "))))) | J27: =IF(J26="Onvoldoende","KNOCK OUT",IF(J26="Matig","-€ 135.000",IF(J26="Voldoende","€ 0",IF(J26="Goed","€ 40.500",IF(J26="Uitmuntend","€ 45.000"," ")))))
A28: ='Beoordelen open vragen'!A13 -> 7.1.6 KOSTEN MEERWERK | B28: =$B$3 -> Beoordelaar 1 | D28: ='Beoordelaar 1'!C13 -> Score: | E28: <Motivatie> | G28: ='Beoordelaar 1'!F13 -> Score: | H28: <Motivatie> | J28: ='Beoordelaar 1'!I13 -> Score: | K28: <Motivatie>
B29: =$B$4 -> Beoordelaar 2 | D29: ='Beoordelaar 2'!C13 -> Score: | G29: ='Beoordelaar 2'!F13 -> Score: | J29: ='Beoordelaar 2'!I13 -> Score:
B30: =$B$5 -> Beoordelaar 3 | D30: ='Beoordelaar 3'!C13 -> Score: | G30: ='Beoordelaar 3'!F13 -> Score: | J30: ='Beoordelaar 3'!I13 -> Score:
A31: Consensus: | D31: Score: | G31: Score: | J31: Score:
B32: Behaalde waarde: | D32: =IF(D31="Onvoldoende","KNOCK OUT",IF(D31="Matig","-€ 90.000",IF(D31="Voldoende","€ 0",IF(D31="Goed","€ 27.000",IF(D31="Uitmuntend","€ 30.000"," "))))) | G32: =IF(G31="Onvoldoende","KNOCK OUT",IF(G31="Matig","-€ 90.000",IF(G31="Voldoende","€ 0",IF(G31="Goed","€ 27.000",IF(G31="Uitmuntend","€ 30.000"," "))))) | J32: =IF(J31="Onvoldoende","KNOCK OUT",IF(J31="Matig","-€ 90.000",IF(J31="Voldoende","€ 0",IF(J31="Goed","€ 27.000",IF(J31="Uitmuntend","€ 30.000"," ")))))
A33: ='Beoordelen open vragen'!A15 -> 7.1.7 MIGRATIE NAAR XM CLOUD | B33: =$B$3 -> Beoordelaar 1 | D33: ='Beoordelaar 1'!C15 -> Score: | E33: <Motivatie> | G33: ='Beoordelaar 1'!F15 -> Score: | H33: <Motivatie> | J33: ='Beoordelaar 1'!I15 -> Score: | K33: <Motivatie>
B34: =$B$4 -> Beoordelaar 2 | D34: ='Beoordelaar 2'!C15 -> Score: | G34: ='Beoordelaar 2'!F15 -> Score: | J34: ='Beoordelaar 2'!I15 -> Score:
B35: =$B$5 -> Beoordelaar 3 | D35: ='Beoordelaar 3'!C15 -> Score: | G35: ='Beoordelaar 3'!F15 -> Score: | J35: ='Beoordelaar 3'!I15 -> Score:
A36: Consensus: | D36: Score: | G36: Score: | J36: Score:
B37: Behaalde waarde: | D37: =IF(D36="Onvoldoende","KNOCK OUT",IF(D36="Matig","-€ 135.000",IF(D36="Voldoende","€ 0",IF(D36="Goed","€ 40.500",IF(D36="Uitmuntend","€ 45.000"," "))))) | G37: =IF(G36="Onvoldoende","KNOCK OUT",IF(G36="Matig","-€ 135.000",IF(G36="Voldoende","€ 0",IF(G36="Goed","€ 40.500",IF(G36="Uitmuntend","€ 45.000"," "))))) | J37: =IF(J36="Onvoldoende","KNOCK OUT",IF(J36="Matig","-€ 135.000",IF(J36="Voldoende","€ 0",IF(J36="Goed","€ 40.500",IF(J36="Uitmuntend","€ 45.000"," ")))))
A38: ='Beoordelen open vragen'!A17 -> 7.1.8 ZWARE INCIDENTEN | B38: =$B$3 -> Beoordelaar 1 | D38: ='Beoordelaar 1'!C17 -> Score: | E38: <Motivatie> | G38: ='Beoordelaar 1'!F17 -> Score: | H38: <Motivatie> | J38: ='Beoordelaar 1'!I17 -> Score: | K38: <Motivatie>
B39: =$B$4 -> Beoordelaar 2 | D39: ='Beoordelaar 2'!C17 -> Score: | G39: ='Beoordelaar 2'!F17 -> Score: | J39: ='Beoordelaar 2'!I17 -> Score:
B40: =$B$5 -> Beoordelaar 3 | D40: ='Beoordelaar 3'!C17 -> Score: | G40: ='Beoordelaar 3'!F17 -> Score: | J40: ='Beoordelaar 3'!I17 -> Score:
A41: Consensus: | D41: Score: | G41: Score: | J41: Score:
B42: Behaalde waarde: | D42: =IF(D41="Onvoldoende","KNOCK OUT",IF(D41="Matig","-€ 90.000",IF(D41="Voldoende","€ 0",IF(D41="Goed","€ 27.000",IF(D41="Uitmuntend","€ 30.000"," "))))) | G42: =IF(G41="Onvoldoende","KNOCK OUT",IF(G41="Matig","-€ 90.000",IF(G41="Voldoende","€ 0",IF(G41="Goed","€ 27.000",IF(G41="Uitmuntend","€ 30.000"," "))))) | J42: =IF(J41="Onvoldoende","KNOCK OUT",IF(J41="Matig","-€ 90.000",IF(J41="Voldoende","€ 0",IF(J41="Goed","€ 27.000",IF(J41="Uitmuntend","€ 30.000"," ")))))
A43: ='Beoordelen open vragen'!A19 -> 7.1.8 MINDER ZWARE INCIDENTEN | B43: =$B$3 -> Beoordelaar 1 | D43: ='Beoordelaar 1'!C19 -> Score: | E43: <Motivatie> | G43: ='Beoordelaar 1'!F19 -> Score: | H43: <Motivatie> | J43: ='Beoordelaar 1'!I19 -> Score: | K43: <Motivatie>
B44: =$B$4 -> Beoordelaar 2 | D44: ='Beoordelaar 2'!C19 -> Score: | G44: ='Beoordelaar 2'!F19 -> Score: | J44: ='Beoordelaar 2'!I19 -> Score:
B45: =$B$5 -> Beoordelaar 3 | D45: ='Beoordelaar 3'!C19 -> Score: | G45: ='Beoordelaar 3'!F19 -> Score: | J45: ='Beoordelaar 3'!I19 -> Score:
A46: Consensus: | D46: Score: | G46: Score: | J46: Score:
B47: Behaalde waarde: | D47: =IF(D46="Onvoldoende","KNOCK OUT",IF(D46="Matig","-€ 45.000",IF(D46="Voldoende","€ 0",IF(D46="Goed","€ 13.500",IF(D46="Uitmuntend","€ 15.000"," "))))) | G47: =IF(G46="Onvoldoende","KNOCK OUT",IF(G46="Matig","-€ 45.000",IF(G46="Voldoende","€ 0",IF(G46="Goed","€ 13.500",IF(G46="Uitmuntend","€ 15.000"," "))))) | J47: =IF(J46="Onvoldoende","KNOCK OUT",IF(J46="Matig","-€ 45.000",IF(J46="Voldoende","€ 0",IF(J46="Goed","€ 13.500",IF(J46="Uitmuntend","€ 15.000"," ")))))
A48: ='Beoordelen open vragen'!A21 -> 7.1.8 KLEINE PROBLEMEN | B48: =$B$3 -> Beoordelaar 1 | D48: ='Beoordelaar 1'!C21 -> Score: | E48: <Motivatie> | G48: ='Beoordelaar 1'!F21 -> Score: | H48: <Motivatie> | J48: ='Beoordelaar 1'!I21 -> Score: | K48: <Motivatie>
B49: =$B$4 -> Beoordelaar 2 | D49: ='Beoordelaar 2'!C21 -> Score: | G49: ='Beoordelaar 2'!F21 -> Score: | J49: ='Beoordelaar 2'!I21 -> Score:
B50: =$B$5 -> Beoordelaar 3 | D50: ='Beoordelaar 3'!C21 -> Score: | G50: ='Beoordelaar 3'!F21 -> Score: | J50: ='Beoordelaar 3'!I21 -> Score:
A51: Consensus: | D51: Score: | G51: Score: | J51: Score:
B52: Behaalde waarde: | D52: =IF(D51="Onvoldoende","KNOCK OUT",IF(D51="Matig","-€ 45.000",IF(D51="Voldoende","€ 0",IF(D51="Goed","€ 13.500",IF(D51="Uitmuntend","€ 15.000"," "))))) | G52: =IF(G51="Onvoldoende","KNOCK OUT",IF(G51="Matig","-€ 45.000",IF(G51="Voldoende","€ 0",IF(G51="Goed","€ 13.500",IF(G51="Uitmuntend","€ 15.000"," "))))) | J52: =IF(J51="Onvoldoende","KNOCK OUT",IF(J51="Matig","-€ 45.000",IF(J51="Voldoende","€ 0",IF(J51="Goed","€ 13.500",IF(J51="Uitmuntend","€ 15.000"," ")))))
A53: Totaal behaalde waarde subcriterium open vragen: | D53: =D7+D12+D22+D27+D32+D37+D17+D42+D47+D52 -> #VALUE! | G53: =G7+G12+G22+G27+G32+G37+G17+G42+G47+G52 -> #VALUE! | J53: =J7+J12+J22+J27+J32+J37+J17+J42+J47+J52 -> #VALUE!

Sheet Eindscores
A1: Totaalwaarde criterium kwaliteit
A2: Onderdeel | C2: Inschrijver 1 | E2: Inschrijver 2 | G2: Inschrijver 3
A3: 6.1 Open vragen + toelichting | C3: =Consensus!D53 -> #VALUE! | E3: =Consensus!G53 -> #VALUE! | G3: =Consensus!J53 -> #VALUE!
A4: Waarde Formulier D | C4: 0 | E4: 0 | G4: 0
A5: Totaal behaalde waarde criterium kwaliteit: | C5: =C3+C4 -> #VALUE! | E5: =E3+E4 -> #VALUE! | G5: =G3+G4 -> #VALUE!
A7: Totaal behaalde waarde criterium prijs: | C7: 0 | E7: 0 | G7: 0
A9: FICTIEVE EINDWAARDE (prijs -/- kwaliteit): | C9: =C7-C5 -> #VALUE! | E9: =E7-E5 -> #VALUE! | G9: =G7-G5 -> #VALUE!
