Workbook

Sheet Totaal inschrijfprijs
C2: Oranje velden: door de inschrijver in te vullen
A8: Inschrijvingsprijsformulier
A10: Naam inschrijver: | B10: Uw bedrijfsnaam hier invullen
A12: - Verklaart zich door ondertekening van het prijsformulier, bereid op zich te nemen de werkzaamheden ten behoeve van het uitvoeren van de opdracht m.b.t. project Multifunctionals bij de VRR, overeenkomstig de bepalingen en inhoud van de project Multifunctionals (incl. bijlagen en Nota’s van Inlichtingen) en aan te nemen voor de onderstaande totaalprijs, weergegeven inclusief btw.
B14: aantal | C14: excl. Btw | D14: btw | E14: incl. btw
A15: Eenmalige kosten (1) | B15: 1 | C15: =+Specificaties!I15 -> 0 | D15: =+Specificaties!J15 -> 0 | E15: =+Specificaties!K15 -> 0
A16: Terugkomende maandelijkse kosten (2 /m 4) | B16: =12*5 -> 60 | C16: =(SUM(Specificaties!I18:I19)+Specificaties!H23*Specificaties!I23+Specificaties!H24*Specificaties!I24)*B16 -> 0 | D16: =+B16*((Specificaties!J18+Specificaties!J19)+Specificaties!H23*Specificaties!J23+Specificaties!H24*Specificaties!J24) -> 0 | E16: =+D16+C16 -> 0
A17: totaal maandkosten machineconfiguratie MFP (I t/m XXXIV) | B17: 60 | C17: =SUM(Specificaties!I28:I61)*B17 -> 0 | D17: =SUM(Specificaties!J28:J61)*'Totaal inschrijfprijs'!B17 -> 0 | E17: =+D17+C17 -> 0
A18: totaal inclusief btw
A19: Zegge :
A20: ………………………………………………………………………………………… | B20: euro, (incl. btw) | D20: totaal inclusief btw | E20: =+E17+E16+E15 -> 0
A22: - Verklaart dat deze opgegeven inschrijfprijs de totaalprijs is voor de uitvoering van de opdracht zoals beschreven in het aanbestedingsdocument van de het project Multifunctionals.
C23: op | D23: plaats
A24: Aldus naar waarheid opgemaakt op : …..………….……………………………
A26: Naam rechtsgeldige vertegenwoordiger: ………………………………………...
A29: Handtekening: ……………………………………………………………………..

Sheet Specificaties
A8: Formulier Details prijzen te leveren producten volledig productie gereed
A10: Naam inschrijver: | E10: =IF(+'Totaal inschrijfprijs'!B10="Uw bedrijfsnaam hier invullen","",'Totaal inschrijfprijs'!B10)
E13: Eenmalige kosten
A14: nr | C14: Beknopte Beschrijving Onderwerpen (in bijlage specificeren) | H14: aantal | I14: Kosten | J14: BTW | K14: totaal
A15: 1 | H15: 1 | J15: =+I15*0.21 -> 0 | K15: =(J15+I15) -> 0
E17: Terugkomende kosten (per maand)
A18: 2 | B18: eventuele Software | J18: =+I18*0.21 -> 0 | K18: =(J18+I18) -> 0
A19: 3 | B19: Nader te beschrijven terugkomende (algemene) maandelijkse kosten die niet reeds in de overige posten is opgenomen | J19: =+I19*0.21 -> 0 | K19: =(J19+I19) -> 0
H20: totaalkosten voor de machines per maand | K20: =SUM(K18:K19) -> 0
E21: Afdrukkosten
H22: fictief aantal per maand | I22: Kosten per afdruk | J22: BTW per afdruk
A23: 4 | B23: Afdrukkosten zwart-wit voor alle printers totaal | H23: =232000/12 -> 19333.333 | J23: =+I23*0.21 -> 0 | K23: =(J23+I23)*H23 -> 0
A24: 5 | B24: Afdrukkosten kleur voor alle printers totaal | H24: =430000/12 -> 35833.333 | J24: =+I24*0.21 -> 0 | K24: =(J24+I24)*H24 -> 0
K25: =SUM(K23:K24) -> 0
A27: nr | B27: Straatnaam | C27: no | D27: etage | E27: gekozen machine en uitvoering (incl. 4 papierpakken en sheetfeeder) | F27: Optie 1 | G27: Optie 2 | H27: Optie 3 | I27: kosten excl. btw per maand | J27: BTW (p.s.) | K27: Totalen incl. Btw
A28: I | B28: Wilhelminakade | C28: 947 | D28: 24e | J28: =+I28*0.21 -> 0 | K28: =(J28+I28) -> 0
A29: II | B29: Wilhelminakade | C29: 947 | D29: 22e | J29: =+I29*0.21 -> 0 | K29: =(J29+I29) -> 0
A30: III | B30: Wilhelminakade | C30: 947 | D30: 23e | J30: =+I30*0.21 -> 0 | K30: =(J30+I30) -> 0
A31: IV | B31: Wilhelminakade | C31: 947 | D31: 25e | J31: =+I31*0.21 -> 0 | K31: =(J31+I31) -> 0
A32: V | B32: Breevaartstraat Loods | C32: 1-7 | D32: BGG | J32: =+I32*0.21 -> 0 | K32: =(J32+I32) -> 0
A33: VI | B33: Breevaartstraat Kantoor | C33: 1-7 | D33: BGG | J33: =+I33*0.21 -> 0 | K33: =(J33+I33) -> 0
A34: VII | B34: Breslau | C34: 2 | D34: 2e | J34: =+I34*0.21 -> 0 | K34: =(J34+I34) -> 0
A35: VIII | B35: Breslau | C35: 2 | D35: 4e | J35: =+I35*0.21 -> 0 | K35: =(J35+I35) -> 0
A36: IX | B36: Driemanssteeweg | C36: 160 | D36: 1e | J36: =+I36*0.21 -> 0 | K36: =(J36+I36) -> 0
A37: X | B37: Driemanssteeweg | C37: 160 | D37: BGG | J37: =+I37*0.21 -> 0 | K37: =(J37+I37) -> 0
A38: XI | B38: Slotlaan | C38: 121 | D38: 1e | J38: =+I38*0.21 -> 0 | K38: =(J38+I38) -> 0
A39: XII | B39: Slotlaan | C39: 121 | D39: BGG | J39: =+I39*0.21 -> 0 | K39: =(J39+I39) -> 0
A40: XIII | B40: Frobenstraat | C40: 8 | D40: 3e | J40: =+I40*0.21 -> 0 | K40: =(J40+I40) -> 0
A41: XIV | B41: Frobenstraat | C41: 8 | D41: BGG | J41: =+I41*0.21 -> 0 | K41: =(J41+I41) -> 0
A42: XV | B42: Frobenstraat | C42: 8 | D42: 2e | J42: =+I42*0.21 -> 0 | K42: =(J42+I42) -> 0
A43: XVI | B43: Van Hoogendorpstraat | C43: 50 | D43: 1e | J43: =+I43*0.21 -> 0 | K43: =(J43+I43) -> 0
... A61: XXXIV | B61: Bosland | C61: 30 | D61: 1e | J61: =+I61*0.21 -> 0 | K61: =(J61+I61) -> 0
H62: totaalkosten voor de machines per maand | K62: =SUM(K28:K61) -> 0
I65: op | J65: plaats
A66: Aldus naar waarheid opgemaakt op : ………………………………………...………………………………………...………………………………………...………………………… | I66: =IF(+'Totaal inschrijfprijs'!C24="","",'Totaal inschrijfprijs'!C24) | J66: =IF(+'Totaal inschrijfprijs'!D24="","",'Totaal inschrijfprijs'!D24)
A68: Naam rechtsgeldige vertegenwoordiger: ………………………………………...………………………………………...………………………………………...…………………….. | I68: =IF(+'Totaal inschrijfprijs'!C26="","",'Totaal inschrijfprijs'!C26)
A71: Handtekening: ………………………………………...………………………………………...………………………………………...……………………………...........................

Sheet Opties
A8: Formulier Details prijzen later te installeren opties
A10: Naam inschrijver: | C10: =IF(+'Totaal inschrijfprijs'!B10="Uw bedrijfsnaam hier invullen","",'Totaal inschrijfprijs'!B10)
A14: nr | B14: Omschrijving / naam | C14: kosten/mnd excl. btw | D14: BTW | E14: Totalen incl. Btw
A15: 1 | B15: b.v. Onderstel; papierbak a4; nietunit; etc. | D15: =+C15*0.21 -> 0 | E15: =(D15+C15) -> 0
A16: 2 | D16: =+C16*0.21 -> 0 | E16: =(D16+C16) -> 0
A17: 3 | D17: =+C17*0.21 -> 0 | E17: =(D17+C17) -> 0
A18: 4 | D18: =+C18*0.21 -> 0 | E18: =(D18+C18) -> 0
A19: 5 | D19: =+C19*0.21 -> 0 | E19: =(D19+C19) -> 0
A20: 6 | D20: =+C20*0.21 -> 0 | E20: =(D20+C20) -> 0
A21: 7 | D21: =+C21*0.21 -> 0 | E21: =(D21+C21) -> 0
A22: 8 | D22: =+C22*0.21 -> 0 | E22: =(D22+C22) -> 0
A23: 9 | D23: =+C23*0.21 -> 0 | E23: =(D23+C23) -> 0
A24: 10 | D24: =+C24*0.21 -> 0 | E24: =(D24+C24) -> 0
A25: 11 | D25: =+C25*0.21 -> 0 | E25: =(D25+C25) -> 0
A26: 12 | D26: =+C26*0.21 -> 0 | E26: =(D26+C26) -> 0
A27: 13 | D27: =+C27*0.21 -> 0 | E27: =(D27+C27) -> 0
... A30: 16 | D30: =+C30*0.21 -> 0 | E30: =(D30+C30) -> 0
C33: op | D33: plaats
A34: Aldus naar waarheid opgemaakt op : …..………….….. | C34: =IF(+'Totaal inschrijfprijs'!C24="","",'Totaal inschrijfprijs'!C24) | D34: =IF(+'Totaal inschrijfprijs'!D24="","",'Totaal inschrijfprijs'!D24)
D35: =IF(+'Totaal inschrijfprijs'!D24="","",'Totaal inschrijfprijs'!D24)
A36: Naam rechtsgeldige vertegenwoordiger: ……………… | C36: =IF(+'Totaal inschrijfprijs'!C26="","",'Totaal inschrijfprijs'!C26)
A39: Handtekening: ……………………………………………

Sheet Details uitvoering
A8: Formulier Details Uitvoering
A9: Naam inschrijver: | F9: =IF(+'Totaal inschrijfprijs'!B10="Uw bedrijfsnaam hier invullen","",'Totaal inschrijfprijs'!B10)
A10: Locatie Multifunctional | D10: machinehoogte in cm | E10: machinebreedte in cm | F10: machinediepte in cm | G10: hoogte van bovenkant machine tot op de grond in totale configuratie | H10: onderstel noodzakelijk om printer op bureau hoogte te brengen | I10: staat wel/niet op wieltjes | J10: printsnelheid z/w | K10: printsnelheid kleur
A11: =+Specificaties!B28 -> Wilhelminakade | B11: =+Specificaties!C28 -> 947 | C11: =+Specificaties!D28 -> 24e
A12: =+Specificaties!B29 -> Wilhelminakade | B12: =+Specificaties!C29 -> 947 | C12: =+Specificaties!D29 -> 22e
A13: =+Specificaties!B30 -> Wilhelminakade | B13: =+Specificaties!C30 -> 947 | C13: =+Specificaties!D30 -> 23e
A14: =+Specificaties!B31 -> Wilhelminakade | B14: =+Specificaties!C31 -> 947 | C14: =+Specificaties!D31 -> 25e
A15: =+Specificaties!B32 -> Breevaartstraat Loods | B15: =+Specificaties!C32 -> 1-7 | C15: =+Specificaties!D32 -> BGG
A16: =+Specificaties!B33 -> Breevaartstraat Kantoor | B16: =+Specificaties!C33 -> 1-7 | C16: =+Specificaties!D33 -> BGG
A17: =+Specificaties!B34 -> Breslau | B17: =+Specificaties!C34 -> 2 | C17: =+Specificaties!D34 -> 2e
A18: =+Specificaties!B35 -> Breslau | B18: =+Specificaties!C35 -> 2 | C18: =+Specificaties!D35 -> 4e
A19: =+Specificaties!B36 -> Driemanssteeweg | B19: =+Specificaties!C36 -> 160 | C19: =+Specificaties!D36 -> 1e
A20: =+Specificaties!B37 -> Driemanssteeweg | B20: =+Specificaties!C37 -> 160 | C20: =+Specificaties!D37 -> BGG
A21: =+Specificaties!B38 -> Slotlaan | B21: =+Specificaties!C38 -> 121 | C21: =+Specificaties!D38 -> 1e
A22: =+Specificaties!B39 -> Slotlaan | B22: =+Specificaties!C39 -> 121 | C22: =+Specificaties!D39 -> BGG
... A44: =+Specificaties!B61 -> Bosland | B44: =+Specificaties!C61 -> 30 | C44: =+Specificaties!D61 -> 1e
