Workbook

Sheet Voorblad
B2: Bijlage 3 Prijsinvulblad
B4: In deze bijlage vind u de opbouw van alle werkzaamheden en de toebehorende frequenties.
B5: Correct ingevulde invulvelden zijn weergegeven als deze cel.
B6: Incorrect ingevulde invulvelden zijn weergegeven als deze cel. Zolang deze opmaak voorkomt in dit document heeft u nog geen complete aanbieding gedaan en is uw inschrijving derhalve ongeldig.
B8: Inhoud | C8: Snelkoppeling
A9: - | B9: Recapitulatie | C9: KNOP
B10: In dit tabblad vindt u een opsomming van de door u opgegeven tarieven
A11: - | B11: Ruimtestaat | C11: KNOP
B12: In dit tabblad vindt u een lijst met alle ruimtes inclusief vloerafwerking en oppervlakte. Hier vindt u invulvelden per ruimte. Onder de lijst vind u een invulveld voor het door u op te geven uurtarief.
A13: - | B13: Glasbewassing | C13: KNOP
B14: In dit tabblad vindt u een lijst de calculatie voor de glasbewassing, met glassoort per verdieping en voor de fietsenstalling.
A15: - | B15: Periodieke Schoonmaak / Vloeronderhoud

Sheet Recapitulatie
B10: Locatie | C10: Hoogste frequentie | D10: Totaalkosten schoonmaak | E10: Totaalkosten glasbewassing gevelglas (buitenzijde) | F10: Totaalkosten glasbewassing gevelglas (binnenzijde) | G10: Totaalkosten reiniging bruine gevelbeplating | H10: Totaalkosten glasbewassing seperatieglas | I10: Totaalkosten reiniging glas fietsenstalling | J10: Totaalkosten Periodiek onderhoud / Vloeronderhoud
B11: Hoofdgebouw | C11: 200 | D11: =Ruimtestaat!G252 -> 0 | E11: =Glasbewassing!M28 -> 0 | F11: =Glasbewassing!M29 -> 0 | G11: =Glasbewassing!M30 -> 0 | H11: =Glasbewassing!M31 -> 0 | I11: =Glasbewassing!M32 -> 0 | J11: ='Periodiek - Vloer'!E19 -> 1.6e-08
B13: Totaal | J13: =IF(COUNTIF(C11:J11,0)>0,0,SUM(C11:J11)) -> 0

Sheet Ruimtestaat
A5: Ruimtenummer | B5: Verdieping | C5: Ruimtesoort | D5: Vloerafwerking | E5: Aantal m2 | F5: Werkprogramma | G5: Frequentie | H5: Prestatienorm in uren (invulveld) | I5: Tijd per beurt (in uren) | J5: Uren per jaar
A6: 1 | B6: A-verdieping | C6: A1 | D6: marmoleum | E6: 56 | F6: Leslokaal | G6: 200 | H6: 0 | I6: =IFERROR(E6/H6,0) -> 0 | J6: =G6*I6 -> 0
A7: 2 | B7: A-verdieping | C7: A2 | D7: marmoleum | E7: 56 | F7: Leslokaal | G7: 200 | H7: 0 | I7: =IFERROR(E7/H7,0) -> 0 | J7: =G7*I7 -> 0
A8: 3 | B8: A-verdieping | C8: A3 | D8: marmoleum | E8: 56 | F8: Leslokaal | G8: 200 | H8: 0 | I8: =IFERROR(E8/H8,0) -> 0 | J8: =G8*I8 -> 0
A9: 4 | B9: A-verdieping | C9: A3 | D9: marmoleum | E9: 56 | F9: Leslokaal | G9: 200 | H9: 0 | I9: =IFERROR(E9/H9,0) -> 0 | J9: =G9*I9 -> 0
A10: 5 | B10: A-verdieping | C10: A5 | D10: marmoleum | E10: 56 | F10: Leslokaal | G10: 200 | H10: 0 | I10: =IFERROR(E10/H10,0) -> 0 | J10: =G10*I10 -> 0
A11: 6 | B11: A-verdieping | C11: stafkmr A6,10 | D11: tapijt | E11: 24 | F11: Kantoor | G11: 200 | H11: 0 | I11: =IFERROR(E11/H11,0) -> 0 | J11: =G11*I11 -> 0
A12: 7 | B12: A-verdieping | C12: traphuis A6 | D12: tegel steen | E12: 28 | F12: Trappenhuis | G12: 200 | H12: 0 | I12: =IFERROR(E12/H12,0) -> 0 | J12: =G12*I12 -> 0
A13: 8 | B13: A-verdieping | C13: toilet A1 | D13: tegels | E13: 20 | F13: Sanitair | G13: 200 | H13: 0 | I13: =IFERROR(E13/H13,0) -> 0 | J13: =G13*I13 -> 0
A14: 9 | B14: A-verdieping | C14: gang A1,5 | D14: marmoleum | E14: 70 | F14: Verkeer | G14: 200 | H14: 0 | I14: =IFERROR(E14/H14,0) -> 0 | J14: =G14*I14 -> 0
A15: 10 | B15: A-verdieping | C15: schoonmaak A54 | D15: tegels | E15: 12 | F15: Werkkast | G15: 200 | H15: 0 | I15: =IFERROR(E15/H15,0) -> 0 | J15: =G15*I15 -> 0
A16: 11 | B16: A-verdieping | C16: gang A54 | D16: tegel/ marmoleum | E16: 36 | F16: Verkeer | G16: 200 | H16: 0 | I16: =IFERROR(E16/H16,0) -> 0 | J16: =G16*I16 -> 0
A17: 12 | B17: A-verdieping | C17: traphuis A54 | D17: marmoleum | E17: 28 | F17: Trappenhuis | G17: 200 | H17: 0 | I17: =IFERROR(E17/H17,0) -> 0 | J17: =G17*I17 -> 0
... A244: 246 | B244: C-verdieping/sport | C244: berging G32 | D244: gymzaalvloer | E244: 36 | F244: Gymzaal | G244: 200 | H244: 0 | I244: =IFERROR(E244/H244,0) -> 0 | J244: =G244*I244 -> 0
A246: Totaal | E246: =SUM(E6:E244) -> 12043 | J246: =IF(COUNTIF(J6:J244,0)>0,0,SUM(J6:J244)) -> 0
B249: Uren en kosten specificatie
E250: Uren | F250: Uurtarief* | G250: kosten
B251: Inzet medewerkers | E251: =J246 -> 0 | F251: 0 | G251: =E251*F251 -> 0
B252: Subtotaal | G252: =G251 -> 0
B254: Minimaal uurtarief
B255: Vakvolwassen | E255: 1 | F255: 36.95
B256: Jeugd | E256: 0 | F256: 0
B257: Leidinggevende | E257: 0.08 | F257: =0.08*F255 -> 2.956
F258: =SUM(F255:F257) -> 39.906

Sheet Glasbewassing
B8: Calculatie glasbewassing | D8: individuele oppervlakte (in m2) | E8: Aantal | F8: Totaal aantal m2
B10: Gevelglas buiten (inclusief kozijnen)
B11: A-verdieping | F11: 698.71
B12: B-verdieping | F12: 574.28
B13: C-verdieping | F13: 307.53
B15: Gevelglas binnen (inclusief kozijnen)
B16: A-verdieping | F16: 698.71
B17: B-verdieping | F17: 574.28
B18: C-verdieping | F18: 307.53
B20: Bruine gevelbeplating
B21: A-verdieping | D21: 0.36 | E21: 49 | F21: =D21*E21 -> 17.64
B22: B-verdieping | D22: 0.36 | E22: 69 | F22: =D22*E22 -> 24.84
B23: C-verdieping | D23: 0.36 | E23: 47 | F23: =D23*E23 -> 16.92
B25: Trappenhuis deuren | D25: 2.1 | E25: 7 | F25: =D25*E25 -> 14.7 | I25: !! Gebruik hoogwerker in prijs opnemen !!
B27: Separatieglas | F27: Dubbel | G27: Enkel | J27: invulveld | K27: Frequentie | L27: Totale oppervlakte | M27: Prijs per jaar
B28: A-verdieping | F28: 398.07 | G28: 8.22 | I28: Prijs gegevelglas buitenzijde per m2 | J28: 0 | K28: 2 | L28: =SUM(F11:F13) -> 1580.52 | M28: =J28*K28*L28 -> 0
B29: B-verdieping | F29: 254.4 | G29: 14 | I29: Prijs gegevelglas binnenzijde per m2 | J29: 0 | K29: 2 | L29: =SUM(F16:F18) -> 1580.52 | M29: =J29*K29*L29 -> 0
B30: C-verdieping | F30: 190.9 | I30: Prijs bruine gevelbeplating per m2 | J30: 0 | K30: 2 | L30: =SUM(F21:F23) -> 59.4 | M30: =J30*K30*L30 -> 0
I31: Prijs separatieglas per m2 | J31: 0 | K31: 2 | L31: =SUM(F28:G30) -> 865.59 | M31: =J31*K31*L31 -> 0
B32: Docentenfietsenstalling | D32: 27.8 | E32: 2 | F32: =D32*E32 -> 55.6 | I32: Prijs Fietsenstalling binnen- en buitenzijde per m2 | J32: 0 | K32: 2 | L32: =F32 -> 55.6 | M32: =J32*K32*L32 -> 0
I33: Subtotaal | M33: =SUM(M28:M32) -> 0

Sheet Periodiek - Vloer
B5: Vloeronderhoud | C5: frequentie per jaar | D5: Prijs per uitvoering | E5: Totaal
B6: Anti-Slip behandeling (2 lokalen) | C6: 1 | D6: 1e-09 | E6: =D6*C6 -> 1e-09
B7: Linoleum conserveren (klaslokalen) | C7: 1 | D7: 1e-09 | E7: =D7*C7 -> 1e-09
B8: Linoleum conserveren (verkeersruimten) | C8: 2 | D8: 1e-09 | E8: =D8*C8 -> 2e-09
B9: Linoleum sprayen* | C9: 1 | D9: 1e-09 | E9: =D9*C9 -> 1e-09
B10: PVC schrobben (lokalen) | C10: 1 | D10: 1e-09 | E10: =D10*C10 -> 1e-09
B11: Steen schrobben (kluisjes) | C11: 2 | D11: 1e-09 | E11: =D11*C11 -> 2e-09
B12: Tapijt (kantoren) | C12: 1 | D12: 1e-09 | E12: =D12*C12 -> 1e-09
B13: Flotex | C13: 4 | D13: 1e-09 | E13: =D13*C13 -> 4e-09
B14: Periodiek onderhoud
B15: Discobeurt | C15: 1 | D15: 1e-09 | E15: =D15*C15 -> 1e-09
B16: Grote (zomer)beurt | C16: 1 | D16: 1e-09 | E16: =D16*C16 -> 1e-09
B17: Beurt voor open dag | C17: 1 | D17: 1e-09 | E17: =D17*C17 -> 1e-09
B19: Totaal | E19: =SUM(E6:E17) -> 1.6e-08
