Workbook

Sheet prijzenblad
A1: Bijlage 3 Prijsblad | G1: Kolomlabels
A2: Alleen geel gearceerde cellen invullen | F2: Waarden | G2: aanhangwagen | H2: bestelauto | I2: personenauto | J2: reinigingsvrachtauto | K2: vrachtauto | L2: Eindtotaal
F3: Aantal van kenteken | G3: 2 | H3: 25 | I3: 3 | J3: 6 | K3: 1 | L3: 37
A4: Geoffreerde premie WA vaste premie per personenauto | C4: 0 | F4: Som van WA premie | G4: 0 | H4: 0 | I4: 0 | J4: 0 | K4: 0 | L4: 0
A5: Geoffreerde premie Casco vaste premie per personenauto | C5: 0 | F5: Som van Casco Premie vast | G5: 0 | H5: 0 | I5: 0 | J5: 0 | K5: 0 | L5: 0
A6: Geoffreerde premie Casco % van de oorspronkelijke cataloguswaarde per personenauto | C6: 0 | F6: Som van Casco premie % | G6: 0 | H6: 0 | I6: 0 | J6: 0 | K6: 0 | L6: 0
F7: Som van Totaal | G7: 0 | H7: 0 | I7: 0 | J7: 0 | K7: 0 | L7: 0
A9: Geoffreerde premie WA vaste premie per bestelauto | C9: 0 | F9: refresh de draaitabel na invoer voor totaal van de aanbieding ex 21 % assurantiebelasting
A10: Geoffreerde premie Casco vaste premie per bestelauto | C10: 0
A11: Geoffreerde premie Casco % van de oorspronkelijke cataloguswaarde per bestelauto | C11: 0
A14: Geoffreerde premie WA vaste premie per vrachtauto | C14: 0
A15: Geoffreerde premie Casco vaste premie per vrachtauto | C15: 0
A16: Geoffreerde premie Casco % van de oorspronkelijke cataloguswaarde per vrachtauto | C16: 0
A19: Geoffreerde premie WA vaste premie per reinigingsvrachtauto | C19: 0
A20: Geoffreerde premie Casco vaste premie per reinigingsvrachtauto | C20: 0
A21: Geoffreerde premie Casco % van de oorspronkelijke cataloguswaarde per reinigingsvrachtauto | C21: 0
A24: Geoffreerde premie Casco vaste premie per aanhangwagen | C24: 0
A25: Geoffreerde premie Casco % van de oorspronkelijke cataloguswaarde per aanhangwagen | C25: 0
A28: alleen de geel gearceerde vellen invullen indien van toepassing
A29: indien geen premie in te vullen dan de waarde op 0 laten staan

Sheet objecten
A1: ref | B1: dienst | C1: kenteken | D1: merk | E1: Ledig: | F1: Laadvermogen: | G1: casco | H1: GVW | I1: soort | J1: Bouwjaar: | K1: Verzekering | L1: trede | M1: svj | N1: WA premie | O1: Casco Premie vast | P1: Casco premie % | Q1: Totaal
A2: 59A | B2: Gemeentelijke Reinigingsdienst | C2: 37WSJK | D2: Aanhangwagen G.S | E2: 3720 kg | F2: 23280 kg | G2: 45500 | H2: > 3500 | I2: aanhangwagen | J2: 2018 | K2: casco | N2: 0 | O2: =prijzenblad!$C$24 -> 0 | P2: =G2*prijzenblad!$C$25 -> 0 | Q2: =SUM(N2:P2) -> 0
A3: 56A | B3: Gemeentelijke Reinigingsdienst | C3: WJ69BV | D3: Aanhangwagen G.S | E3: 3940 kg | F3: 16060 kg | G3: 0 | H3: > 3500 | I3: aanhangwagen | J3: 1992 | K3: W.A | N3: 0 | O3: 0 | P3: =G3*prijzenblad!$C$25 -> 0 | Q3: =SUM(N3:P3) -> 0
A4: Auto 410 | B4: Facilitair bedrijf | C4: V055KF | D4: VW Crafter | E4: 2342 kg | F4: 1158 kg | G4: 58611 | H4: < 3500 | I4: bestelauto | J4: 2017 | K4: All-Risk | L4: 19 | M4: 13 | N4: =prijzenblad!$C$9 -> 0 | O4: =prijzenblad!$C$10 -> 0 | P4: =G4*prijzenblad!$C$11 -> 0 | Q4: =SUM(N4:P4) -> 0
A5: Auto 406 | B5: Gemeentewerken | C5: V643BN | D5: VW Caddy | E5: 1523 kg | F5: 654 kg | G5: 27530 | H5: < 3500 | I5: bestelauto | J5: 2016 | K5: All-Risk | L5: 20 | M5: 21 | N5: =prijzenblad!$C$9 -> 0 | O5: =prijzenblad!$C$10 -> 0 | P5: =G5*prijzenblad!$C$11 -> 0 | Q5: =SUM(N5:P5) -> 0
A6: Auto 408 | B6: Facilitair bedrijf | C6: V734JP | D6: VW Caddy | E6: 1481 kg | F6: 660 kg | G6: 33560 | H6: < 3500 | I6: bestelauto | J6: 2017 | K6: All-Risk | L6: 13 | M6: 7 | N6: =prijzenblad!$C$9 -> 0 | O6: =prijzenblad!$C$10 -> 0 | P6: =G6*prijzenblad!$C$11 -> 0 | Q6: =SUM(N6:P6) -> 0
A7: Auto 414 | B7: Facilitair bedrijf | C7: V838TN | D7: Nissan e-NV200 | E7: 1590 kg | F7: 630 kg | G7: 45120 | H7: < 3500 | I7: bestelauto | J7: 2018 | K7: All-Risk | L7: 20 | M7: 15 | N7: =prijzenblad!$C$9 -> 0 | O7: =prijzenblad!$C$10 -> 0 | P7: =G7*prijzenblad!$C$11 -> 0 | Q7: =SUM(N7:P7) -> 0
A8: Auto 409 | B8: Gemeentewerken | C8: V971JX | D8: Piaggio Porter Maxxi | E8: 1160 kg | F8: 1040 kg | G8: 20644 | H8: < 3500 | I8: bestelauto | J8: 2017 | K8: All-Risk | L8: 12 | M8: 6 | N8: =prijzenblad!$C$9 -> 0 | O8: =prijzenblad!$C$10 -> 0 | P8: =G8*prijzenblad!$C$11 -> 0 | Q8: =SUM(N8:P8) -> 0
A9: Auto 413 | B9: Facilitair bedrijf | C9: V972RZ | D9: Mercedes Sprinter | E9: 2356 kg | F9: 844 kg | G9: 58988 | H9: < 3500 | I9: bestelauto | J9: 2018 | K9: All-Risk | L9: 10 | M9: 5 | N9: =prijzenblad!$C$9 -> 0 | O9: =prijzenblad!$C$10 -> 0 | P9: =G9*prijzenblad!$C$11 -> 0 | Q9: =SUM(N9:P9) -> 0
A10: Auto 416 | B10: Gemeentewerken | C10: VDH54F | D10: Ford Transit Connect | E10: 1688 kg | F10: 592 kg | G10: 33257 | H10: < 3500 | I10: bestelauto | J10: 2019 | K10: All-Risk | L10: 20 | M10: 16 | N10: =prijzenblad!$C$9 -> 0 | O10: =prijzenblad!$C$10 -> 0 | P10: =G10*prijzenblad!$C$11 -> 0 | Q10: =SUM(N10:P10) -> 0
A11: Auto 417 | B11: Facilitair bedrijf | C11: VGT49N | D11: Mercedes Sprinter | E11: 2146 kg | F11: 1354 kg | G11: 54875 | H11: < 3500 | I11: bestelauto | J11: 2020 | K11: All-Risk | L11: 20 | M11: 15 | N11: =prijzenblad!$C$9 -> 0 | O11: =prijzenblad!$C$10 -> 0 | P11: =G11*prijzenblad!$C$11 -> 0 | Q11: =SUM(N11:P11) -> 0
A12: Auto 418 | B12: Facilitair bedrijf | C12: VHK13J | D12: VW Crafter | E12: 2179 kg | F12: 1321 kg | G12: 64642 | H12: < 3500 | I12: bestelauto | J12: 2020 | K12: All-Risk | L12: 20 | M12: 16 | N12: =prijzenblad!$C$9 -> 0 | O12: =prijzenblad!$C$10 -> 0 | P12: =G12*prijzenblad!$C$11 -> 0 | Q12: =SUM(N12:P12) -> 0
A13: Auto 419 | B13: Facilitair bedrijf | C13: VHK14J | D13: VW Crafter | E13: 2179 kg | F13: 1321 kg | G13: 64642 | H13: < 3500 | I13: bestelauto | J13: 2020 | K13: All-Risk | L13: 13 | M13: 7 | N13: =prijzenblad!$C$9 -> 0 | O13: =prijzenblad!$C$10 -> 0 | P13: =G13*prijzenblad!$C$11 -> 0 | Q13: =SUM(N13:P13) -> 0
A14: Auto 404 | B14: Facilitair bedrijf | C14: VR384K | D14: Nissan e-NV200 | E14: 1555 kg | F14: 695 kg | G14: 39942 | H14: < 3500 | I14: bestelauto | J14: 2015 | K14: All-Risk | L14: 14 | M14: 8 | N14: =prijzenblad!$C$9 -> 0 | O14: =prijzenblad!$C$10 -> 0 | P14: =G14*prijzenblad!$C$11 -> 0 | Q14: =SUM(N14:P14) -> 0
A15: Auto 405 | B15: Gemeentewerken | C15: VR385K | D15: Nissan e-NV200 | E15: 1555 kg | F15: 695 kg | G15: 39942 | H15: < 3500 | I15: bestelauto | J15: 2015 | K15: All-Risk | L15: 2 | M15: -4 | N15: =prijzenblad!$C$9 -> 0 | O15: =prijzenblad!$C$10 -> 0 | P15: =G15*prijzenblad!$C$11 -> 0 | Q15: =SUM(N15:P15) -> 0
... A19: Auto 424 | B19: Gemeentelijke Reinigingsdienst | C19: VZT88V | D19: VW Crafter | E19: 2486 kg | F19: 1014 kg | G19: 76759 | H19: < 3500 | I19: bestelauto | J19: 2024 | K19: All-Risk | L19: 6 | M19: 0 | N19: =prijzenblad!$C$9 -> 0 | O19: =prijzenblad!$C$10 -> 0 | P19: =G19*prijzenblad!$C$11 -> 0 | Q19: =SUM(N19:P19) -> 0
A20: Auto 32 | B20: Facilitair bedrijf | C20: 33BRFX | D20: VW LT | E20: 2380 kg | F20: 1120 kg | G20: 0 | H20: < 3500 | I20: bestelauto | J20: 2004 | K20: W.A | L20: 10 | M20: 2 | N20: =prijzenblad!$C$9 -> 0 | O20: 0 | P20: =G20*prijzenblad!$C$11 -> 0 | Q20: =SUM(N20:P20) -> 0
A21: Auto 11 | B21: Gemeentelijke Reinigingsdienst | C21: 89VHK4 | D21: VW Caddy | E21: 1365 kg | F21: 700 kg | G21: 0 | H21: < 3500 | I21: bestelauto | J21: 2007 | K21: W.A | L21: 17 | M21: 11 | N21: =prijzenblad!$C$9 -> 0 | O21: 0 | P21: =G21*prijzenblad!$C$11 -> 0 | Q21: =SUM(N21:P21) -> 0
A22: Auto 44 | B22: Facilitair bedrijf | C22: VD128H | D22: VW Caddy | E22: 1391 kg | F22: 768 kg | G22: 0 | H22: < 3500 | I22: bestelauto | J22: 2013 | K22: W.A | L22: 16 | M22: 11 | N22: =prijzenblad!$C$9 -> 0 | O22: 0 | P22: =G22*prijzenblad!$C$11 -> 0 | Q22: =SUM(N22:P22) -> 0
A23: Auto 43 | B23: Gemeentelijke Reinigingsdienst | C23: VD720P | D23: VW Crafter | E23: 2390 kg | F23: 1110 kg | G23: 0 | H23: < 3500 | I23: bestelauto | J23: 2013 | K23: W.A | L23: 11 | M23: 4 | N23: =prijzenblad!$C$9 -> 0 | O23: 0 | P23: =G23*prijzenblad!$C$11 -> 0 | Q23: =SUM(N23:P23) -> 0
A24: Auto 47 | B24: Facilitair bedrijf | C24: VH396G | D24: VW Transporter | E24: 1773 kg | F24: 1027 kg | G24: 0 | H24: < 3500 | I24: bestelauto | J24: 2014 | K24: W.A | L24: 9 | M24: 3 | N24: =prijzenblad!$C$9 -> 0 | O24: 0 | P24: =G24*prijzenblad!$C$11 -> 0 | Q24: =SUM(N24:P24) -> 0
A25: Auto 49 | B25: Gemeentewerken | C25: VJ347V | D25: VW Transporter | E25: 1891 kg | F25: 909 kg | G25: 0 | H25: < 3500 | I25: bestelauto | J25: 2014 | K25: W.A | L25: 20 | M25: 13 | N25: =prijzenblad!$C$9 -> 0 | O25: 0 | P25: =G25*prijzenblad!$C$11 -> 0 | Q25: =SUM(N25:P25) -> 0
A26: Auto 50 | B26: Gemeentewerken | C26: VJ348V | D26: VW Transporter | E26: 1891 kg | F26: 909 kg | G26: 0 | H26: < 3500 | I26: bestelauto | J26: 2014 | K26: W.A | N26: =prijzenblad!$C$9 -> 0 | O26: 0 | P26: =G26*prijzenblad!$C$11 -> 0 | Q26: =SUM(N26:P26) -> 0
A27: Auto 48 | B27: Gemeentewerken | C27: VJ349V | D27: VW Transporter | E27: 1891 kg | F27: 909 kg | G27: 0 | H27: < 3500 | I27: bestelauto | J27: 2014 | K27: W.A | L27: 9 | M27: 3 | N27: =prijzenblad!$C$9 -> 0 | O27: 0 | P27: =G27*prijzenblad!$C$11 -> 0 | Q27: =SUM(N27:P27) -> 0
A28: Auto 401 | B28: Gemeentewerken | C28: VK349D | D28: Ford Transit Custom | E28: 2016 kg | F28: 884 kg | G28: 0 | H28: < 3500 | I28: bestelauto | J28: 2014 | K28: W.A | L28: 11 | M28: 6 | N28: =prijzenblad!$C$9 -> 0 | O28: 0 | P28: =G28*prijzenblad!$C$11 -> 0 | Q28: =SUM(N28:P28) -> 0
A29: Auto 415 | B29: Gemeentewerken | C29: G185JS | D29: Addax MT | E29: 599 kg | F29: 1599 kg | G29: 45897 | H29: < 3500 | I29: personenauto | J29: 2019 | K29: All-Risk | L29: 10 | M29: 4 | N29: =prijzenblad!$C$4 -> 0 | O29: =prijzenblad!$C$5 -> 0 | P29: =G29*prijzenblad!$C$6 -> 0 | Q29: =SUM(N29:P29) -> 0
A30: Auto 420 | B30: Facilitair bedrijf | C30: K039PK | D30: Kia E-Niro | E30: 1812 kg | F30: 418 kg | G30: 56605 | H30: < 3500 | I30: personenauto | J30: 2021 | K30: All-Risk | L30: 9 | M30: 3 | N30: =prijzenblad!$C$4 -> 0 | O30: =prijzenblad!$C$5 -> 0 | P30: =G30*prijzenblad!$C$6 -> 0 | Q30: =SUM(N30:P30) -> 0
A31: Auto 421 | B31: Facilitair bedrijf | C31: 06XKK5 | D31: Toyota Verso | E31: 1495 kg | F31: 630 kg | G31: 0 | H31: < 3500 | I31: personenauto | J31: 2012 | K31: W.A | L31: 8 | M31: 2 | N31: =prijzenblad!$C$4 -> 0 | O31: 0 | P31: =G31*prijzenblad!$C$6 -> 0 | Q31: =SUM(N31:P31) -> 0
A32: Auto 59 | B32: Gemeentelijke Reinigingsdienst | C32: 07BLS2 | D32: Daf CF 410 | E32: 14413 kg | F32: 13587 kg | G32: 262885 | H32: > 3500 | I32: reinigingsvrachtauto | J32: 2018 | K32: All-Risk | L32: 18 | M32: 12 | N32: =prijzenblad!$C$19 -> 0 | O32: =prijzenblad!$C$20 -> 0 | P32: =G32*prijzenblad!$C$21 -> 0 | Q32: =SUM(N32:P32) -> 0
A33: Auto 69 | B33: Gemeentelijke Reinigingsdienst | C33: 15BKX7 | D33: Daf CF 340 | E33: 15420 kg | F33: 12580 kg | G33: 303188 | H33: > 3500 | I33: reinigingsvrachtauto | J33: 2018 | K33: All-Risk | L33: 14 | M33: 8 | N33: =prijzenblad!$C$19 -> 0 | O33: =prijzenblad!$C$20 -> 0 | P33: =G33*prijzenblad!$C$21 -> 0 | Q33: =SUM(N33:P33) -> 0
A34: Auto 70 | B34: Gemeentelijke Reinigingsdienst | C34: 17BLX9 | D34: Daf CF 340 | E34: 15460 kg | F34: 12540 kg | G34: 320000 | H34: > 3500 | I34: reinigingsvrachtauto | J34: 2019 | K34: All-Risk | L34: 5 | M34: -1 | N34: =prijzenblad!$C$19 -> 0 | O34: =prijzenblad!$C$20 -> 0 | P34: =G34*prijzenblad!$C$21 -> 0 | Q34: =SUM(N34:P34) -> 0
A35: Auto 68 | B35: Gemeentelijke Reinigingsdienst | C35: 57BJR6 | D35: Daf CF 330 | E35: 15400 kg | F35: 12600 kg | G35: 300319 | H35: > 3500 | I35: reinigingsvrachtauto | J35: 2017 | K35: All-Risk | L35: 16 | M35: 10 | N35: =prijzenblad!$C$19 -> 0 | O35: =prijzenblad!$C$20 -> 0 | P35: =G35*prijzenblad!$C$21 -> 0 | Q35: =SUM(N35:P35) -> 0
A36: Auto 58 | B36: Gemeentelijke Reinigingsdienst | C36: 92BHN7 | D36: Scania P370 | E36: 19025 kg | F36: 16975 kg | G36: 371575 | H36: > 3500 | I36: reinigingsvrachtauto | J36: 2016 | K36: All-Risk | L36: 1 | M36: -5 | N36: =prijzenblad!$C$19 -> 0 | O36: =prijzenblad!$C$20 -> 0 | P36: =G36*prijzenblad!$C$21 -> 0 | Q36: =SUM(N36:P36) -> 0
A37: Auto 67 | B37: Gemeentelijke Reinigingsdienst II | C37: 86BFJ7 | D37: Daf LF 180 | E37: 8410 kg | F37: 7590 kg | G37: 0 | H37: > 3500 | I37: reinigingsvrachtauto | J37: 2014 | K37: W.A | L37: 20 | M37: 16 | N37: =prijzenblad!$C$19 -> 0 | O37: =prijzenblad!$C$20 -> 0 | P37: =G37*prijzenblad!$C$21 -> 0 | Q37: =SUM(N37:P37) -> 0
A38: Auto 57 | B38: Facilitair bedrijf | C38: BZDV65 | D38: Scania P 360 B | E38: 13225 kg | F38: 13775 kg | G38: 0 | H38: > 3500 | I38: vrachtauto | J38: 2011 | K38: W.A | L38: 8 | M38: 0 | N38: =prijzenblad!$C$14 -> 0 | O38: 0 | P38: 0 | Q38: =SUM(N38:P38) -> 0
A41: bestand medio juni 2024, per ingangsdatum zullen er een aantal objecten gemuteerd kunnen zijn.
