Workbook
Name OLE_LINK2: 'Beoordelen open vragen'!$A$4
Name Score: 'Beoordelen open vragen'!$B$3:$B$8

Sheet Beoordelen open vragen
A1: Beoordeling criterium Open vragen
A2: Naast de gestelde eisen uit de onderhavige aanbesteding is de Aanbestedende dienst op zoek naar een Opdrachtnemer die haar gedurende de periode van de overeenkomst kan voorzien van veel toegevoegde waarde. Hoe meer toegevoegde waarde een Inschrijver biedt, hoe hoger zij op dit onderdeel scoort. Alle antwoorden van een Inschrijver dienen realistisch en uitvoerbaar te zijn. Een honorering van de antwoorden zal nimmer leiden tot een verplichte afname van datgene wat Inschrijver heeft ingediend.
A3: 6.1.1 DUURZAAMHEID EN MVO | B3: Score:
A4: Zie bijlage 6 - Kwaliteit | B4: Uitmuntend
A5: 6.1.2 WERKWIJZE JAARREKENING (INTERIM EN EINDEJAARSCONTROLE) EN BEKOSTIGINGSCONTROLE (ASSURANCERAPPORTEN) EN GESUBSIDIEERD ONDERZOEK | B5: Goed
A6: Zie bijlage 6 - Kwaliteit | B6: Voldoende
A7: 6.1.3 ADVIESROL/KENNIS OP AANDACHTSGEBIEDEN | B7: Matig
A8: Zie bijlage 6 - Kwaliteit | B8: Onvoldoende
A9: 6.1.4 PARTNERSCHAP EN ONAFHANKELIJKE ROL
A10: Zie bijlage 6 - Kwaliteit

Sheet Beoordelen interview
A1: Beoordeling criterium Interview
A2: Om vast te kunnen stellen dat de Inschrijver beschikt over deskundige adviseurs en medewerkers om de (nadere) opdrachten te kunnen uitvoeren zullen de beoordelaars drie vragen stellen, deze vragen zijn opgesteld VOOR publicatie van deze aanbesteding en in bewaring gesteld bij het begeleidende adviesbureau.
A3: Vraag 1
A4: Vraag 2
A5: Vraag 3

Sheet Voorzitter RvT
A1: Beoordelaar 1: Voorzitter RvT | C1: <NAAM INSCHRIJVER 1> | E1: <NAAM INSCHRIJVER 2> | G1: <NAAM INSCHRIJVER 3>
A2: ='Beoordelen open vragen'!A1 -> Beoordeling criterium Open vragen | C2: Score: | E2: Score: | G2: Score:
A3: ='Beoordelen open vragen'!A3 -> 6.1.1 DUURZAAMHEID EN MVO | C3: Score: | E3: Score: | G3: Score:
A4: ='Beoordelen open vragen'!A4 -> Zie bijlage 6 - Kwaliteit | C4: <MOTIVATIE> | E4: <MOTIVATIE> | G4: <MOTIVATIE>
A5: ='Beoordelen open vragen'!A5 -> 6.1.2 WERKWIJZE JAARREKENING (INTERIM EN EINDEJAARSCONTROLE) EN BEKOSTIGINGSCONTROLE (ASSURANCERAPPORTEN) EN GESUBSIDIEERD ONDERZOEK | C5: Score: | E5: Score: | G5: Score:
A6: ='Beoordelen open vragen'!A6 -> Zie bijlage 6 - Kwaliteit | C6: <MOTIVATIE> | E6: <MOTIVATIE> | G6: <MOTIVATIE>
A7: ='Beoordelen open vragen'!A7 -> 6.1.3 ADVIESROL/KENNIS OP AANDACHTSGEBIEDEN | C7: Score: | E7: Score: | G7: Score:
A8: ='Beoordelen open vragen'!A8 -> Zie bijlage 6 - Kwaliteit | C8: <MOTIVATIE> | E8: <MOTIVATIE> | G8: <MOTIVATIE>
A9: ='Beoordelen open vragen'!A9 -> 6.1.4 PARTNERSCHAP EN ONAFHANKELIJKE ROL | C9: Score: | E9: Score: | G9: Score:
A10: ='Beoordelen open vragen'!A10 -> Zie bijlage 6 - Kwaliteit | C10: <MOTIVATIE> | E10: <MOTIVATIE> | G10: <MOTIVATIE>
A13: ='Beoordelen interview'!A1 -> Beoordeling criterium Interview | C13: Score: | E13: Score: | G13: Score:
A14: ='Beoordelen interview'!A3 -> Vraag 1 | C14: Score: | E14: Score: | G14: Score:
C15: <MOTIVATIE> | E15: <MOTIVATIE> | G15: <MOTIVATIE>
A16: ='Beoordelen interview'!A4 -> Vraag 2 | C16: Score: | E16: Score: | G16: Score:
C17: <MOTIVATIE> | E17: <MOTIVATIE> | G17: <MOTIVATIE>
A18: ='Beoordelen interview'!A5 -> Vraag 3 | C18: Score: | E18: Score: | G18: Score:
C19: <MOTIVATIE> | E19: <MOTIVATIE> | G19: <MOTIVATIE>

Sheet Lid van RvT
A1: Beoordelaar 2: Lid van RvT | C1: <NAAM INSCHRIJVER 1> | E1: <NAAM INSCHRIJVER 2> | G1: <NAAM INSCHRIJVER 3>
A2: ='Beoordelen open vragen'!A1 -> Beoordeling criterium Open vragen | C2: Score: | E2: Score: | G2: Score:
A3: ='Beoordelen open vragen'!A3 -> 6.1.1 DUURZAAMHEID EN MVO | C3: Score: | E3: Score: | G3: Score:
A4: ='Beoordelen open vragen'!A4 -> Zie bijlage 6 - Kwaliteit | C4: <MOTIVATIE> | E4: <MOTIVATIE> | G4: <MOTIVATIE>
A5: ='Beoordelen open vragen'!A5 -> 6.1.2 WERKWIJZE JAARREKENING (INTERIM EN EINDEJAARSCONTROLE) EN BEKOSTIGINGSCONTROLE (ASSURANCERAPPORTEN) EN GESUBSIDIEERD ONDERZOEK | C5: Score: | E5: Score: | G5: Score:
A6: ='Beoordelen open vragen'!A6 -> Zie bijlage 6 - Kwaliteit | C6: <MOTIVATIE> | E6: <MOTIVATIE> | G6: <MOTIVATIE>
A7: ='Beoordelen open vragen'!A7 -> 6.1.3 ADVIESROL/KENNIS OP AANDACHTSGEBIEDEN | C7: Score: | E7: Score: | G7: Score:
A8: ='Beoordelen open vragen'!A8 -> Zie bijlage 6 - Kwaliteit | C8: <MOTIVATIE> | E8: <MOTIVATIE> | G8: <MOTIVATIE>
A9: ='Beoordelen open vragen'!A9 -> 6.1.4 PARTNERSCHAP EN ONAFHANKELIJKE ROL | C9: Score: | E9: Score: | G9: Score:
A10: ='Beoordelen open vragen'!A10 -> Zie bijlage 6 - Kwaliteit | C10: <MOTIVATIE> | E10: <MOTIVATIE> | G10: <MOTIVATIE>
A13: ='Beoordelen interview'!A1 -> Beoordeling criterium Interview | C13: Score: | E13: Score: | G13: Score:
A14: ='Beoordelen interview'!A3 -> Vraag 1 | C14: Score: | E14: Score: | G14: Score:
C15: <MOTIVATIE> | E15: <MOTIVATIE> | G15: <MOTIVATIE>
A16: ='Beoordelen interview'!A4 -> Vraag 2 | C16: Score: | E16: Score: | G16: Score:
C17: <MOTIVATIE> | E17: <MOTIVATIE> | G17: <MOTIVATIE>
A18: ='Beoordelen interview'!A5 -> Vraag 3 | C18: Score: | E18: Score: | G18: Score:
C19: <MOTIVATIE> | E19: <MOTIVATIE> | G19: <MOTIVATIE>

Sheet Lid CvB
A1: Beoordelaar 3: Lid CvB | C1: <NAAM INSCHRIJVER 1> | E1: <NAAM INSCHRIJVER 2> | G1: <NAAM INSCHRIJVER 3>
A2: ='Beoordelen open vragen'!A1 -> Beoordeling criterium Open vragen | C2: Score: | E2: Score: | G2: Score:
A3: ='Beoordelen open vragen'!A3 -> 6.1.1 DUURZAAMHEID EN MVO | C3: Score: | E3: Score: | G3: Score:
A4: ='Beoordelen open vragen'!A4 -> Zie bijlage 6 - Kwaliteit | C4: <MOTIVATIE> | E4: <MOTIVATIE> | G4: <MOTIVATIE>
A5: ='Beoordelen open vragen'!A5 -> 6.1.2 WERKWIJZE JAARREKENING (INTERIM EN EINDEJAARSCONTROLE) EN BEKOSTIGINGSCONTROLE (ASSURANCERAPPORTEN) EN GESUBSIDIEERD ONDERZOEK | C5: Score: | E5: Score: | G5: Score:
A6: ='Beoordelen open vragen'!A6 -> Zie bijlage 6 - Kwaliteit | C6: <MOTIVATIE> | E6: <MOTIVATIE> | G6: <MOTIVATIE>
A7: ='Beoordelen open vragen'!A7 -> 6.1.3 ADVIESROL/KENNIS OP AANDACHTSGEBIEDEN | C7: Score: | E7: Score: | G7: Score:
A8: ='Beoordelen open vragen'!A8 -> Zie bijlage 6 - Kwaliteit | C8: <MOTIVATIE> | E8: <MOTIVATIE> | G8: <MOTIVATIE>
A9: ='Beoordelen open vragen'!A9 -> 6.1.4 PARTNERSCHAP EN ONAFHANKELIJKE ROL | C9: Score: | E9: Score: | G9: Score:
A10: ='Beoordelen open vragen'!A10 -> Zie bijlage 6 - Kwaliteit | C10: <MOTIVATIE> | E10: <MOTIVATIE> | G10: <MOTIVATIE>
A13: ='Beoordelen interview'!A1 -> Beoordeling criterium Interview | C13: Score: | E13: Score: | G13: Score:
A14: ='Beoordelen interview'!A3 -> Vraag 1 | C14: Score: | E14: Score: | G14: Score:
C15: <MOTIVATIE> | E15: <MOTIVATIE> | G15: <MOTIVATIE>
A16: ='Beoordelen interview'!A4 -> Vraag 2 | C16: Score: | E16: Score: | G16: Score:
C17: <MOTIVATIE> | E17: <MOTIVATIE> | G17: <MOTIVATIE>
A18: ='Beoordelen interview'!A5 -> Vraag 3 | C18: Score: | E18: Score: | G18: Score:
C19: <MOTIVATIE> | E19: <MOTIVATIE> | G19: <MOTIVATIE>

Sheet Hoofd Control
A1: Beoordelaar 4: Hoofd Control | C1: <NAAM INSCHRIJVER 1> | E1: <NAAM INSCHRIJVER 2> | G1: <NAAM INSCHRIJVER 3>
A2: ='Beoordelen open vragen'!A1 -> Beoordeling criterium Open vragen | C2: Score: | E2: Score: | G2: Score:
A3: ='Beoordelen open vragen'!A3 -> 6.1.1 DUURZAAMHEID EN MVO | C3: Score: | E3: Score: | G3: Score:
A4: ='Beoordelen open vragen'!A4 -> Zie bijlage 6 - Kwaliteit | C4: <MOTIVATIE> | E4: <MOTIVATIE> | G4: <MOTIVATIE>
A5: ='Beoordelen open vragen'!A5 -> 6.1.2 WERKWIJZE JAARREKENING (INTERIM EN EINDEJAARSCONTROLE) EN BEKOSTIGINGSCONTROLE (ASSURANCERAPPORTEN) EN GESUBSIDIEERD ONDERZOEK | C5: Score: | E5: Score: | G5: Score:
A6: ='Beoordelen open vragen'!A6 -> Zie bijlage 6 - Kwaliteit | C6: <MOTIVATIE> | E6: <MOTIVATIE> | G6: <MOTIVATIE>
A7: ='Beoordelen open vragen'!A7 -> 6.1.3 ADVIESROL/KENNIS OP AANDACHTSGEBIEDEN | C7: Score: | E7: Score: | G7: Score:
A8: ='Beoordelen open vragen'!A8 -> Zie bijlage 6 - Kwaliteit | C8: <MOTIVATIE> | E8: <MOTIVATIE> | G8: <MOTIVATIE>
A9: ='Beoordelen open vragen'!A9 -> 6.1.4 PARTNERSCHAP EN ONAFHANKELIJKE ROL | C9: Score: | E9: Score: | G9: Score:
A10: ='Beoordelen open vragen'!A10 -> Zie bijlage 6 - Kwaliteit | C10: <MOTIVATIE> | E10: <MOTIVATIE> | G10: <MOTIVATIE>
A13: ='Beoordelen interview'!A1 -> Beoordeling criterium Interview | C13: Score: | E13: Score: | G13: Score:
A14: ='Beoordelen interview'!A3 -> Vraag 1 | C14: Score: | E14: Score: | G14: Score:
C15: <MOTIVATIE> | E15: <MOTIVATIE> | G15: <MOTIVATIE>
A16: ='Beoordelen interview'!A4 -> Vraag 2 | C16: Score: | E16: Score: | G16: Score:
C17: <MOTIVATIE> | E17: <MOTIVATIE> | G17: <MOTIVATIE>
A18: ='Beoordelen interview'!A5 -> Vraag 3 | C18: Score: | E18: Score: | G18: Score:
C19: <MOTIVATIE> | E19: <MOTIVATIE> | G19: <MOTIVATIE>

Sheet Hoofd Finance
A1: Beoordelaar 5: Hoofd Finance | C1: <NAAM INSCHRIJVER 1> | E1: <NAAM INSCHRIJVER 2> | G1: <NAAM INSCHRIJVER 3>
A2: ='Beoordelen open vragen'!A1 -> Beoordeling criterium Open vragen | C2: Score: | E2: Score: | G2: Score:
A3: ='Beoordelen open vragen'!A3 -> 6.1.1 DUURZAAMHEID EN MVO | C3: Score: | E3: Score: | G3: Score:
A4: ='Beoordelen open vragen'!A4 -> Zie bijlage 6 - Kwaliteit | C4: <MOTIVATIE> | E4: <MOTIVATIE> | G4: <MOTIVATIE>
A5: ='Beoordelen open vragen'!A5 -> 6.1.2 WERKWIJZE JAARREKENING (INTERIM EN EINDEJAARSCONTROLE) EN BEKOSTIGINGSCONTROLE (ASSURANCERAPPORTEN) EN GESUBSIDIEERD ONDERZOEK | C5: Score: | E5: Score: | G5: Score:
A6: ='Beoordelen open vragen'!A6 -> Zie bijlage 6 - Kwaliteit | C6: <MOTIVATIE> | E6: <MOTIVATIE> | G6: <MOTIVATIE>
A7: ='Beoordelen open vragen'!A7 -> 6.1.3 ADVIESROL/KENNIS OP AANDACHTSGEBIEDEN | C7: Score: | E7: Score: | G7: Score:
A8: ='Beoordelen open vragen'!A8 -> Zie bijlage 6 - Kwaliteit | C8: <MOTIVATIE> | E8: <MOTIVATIE> | G8: <MOTIVATIE>
A9: ='Beoordelen open vragen'!A9 -> 6.1.4 PARTNERSCHAP EN ONAFHANKELIJKE ROL | C9: Score: | E9: Score: | G9: Score:
A10: ='Beoordelen open vragen'!A10 -> Zie bijlage 6 - Kwaliteit | C10: <MOTIVATIE> | E10: <MOTIVATIE> | G10: <MOTIVATIE>
A13: ='Beoordelen interview'!A1 -> Beoordeling criterium Interview | C13: Score: | E13: Score: | G13: Score:
A14: ='Beoordelen interview'!A3 -> Vraag 1 | C14: Score: | E14: Score: | G14: Score:
C15: <MOTIVATIE> | E15: <MOTIVATIE> | G15: <MOTIVATIE>
A16: ='Beoordelen interview'!A4 -> Vraag 2 | C16: Score: | E16: Score: | G16: Score:
C17: <MOTIVATIE> | E17: <MOTIVATIE> | G17: <MOTIVATIE>
A18: ='Beoordelen interview'!A5 -> Vraag 3 | C18: Score: | E18: Score: | G18: Score:
C19: <MOTIVATIE> | E19: <MOTIVATIE> | G19: <MOTIVATIE>

Sheet Consensus
A1: Totaalwaardes open vragen
A2: ='Beoordelen open vragen'!A1 -> Beoordeling criterium Open vragen | D2: ='Voorzitter RvT'!C1 -> <NAAM INSCHRIJVER 1> | G2: ='Voorzitter RvT'!E1 -> <NAAM INSCHRIJVER 2> | J2: ='Voorzitter RvT'!G1 -> <NAAM INSCHRIJVER 3>
A3: ='Beoordelen open vragen'!A3 -> 6.1.1 DUURZAAMHEID EN MVO | B3: Beoordelaar 1 Voorzitter RvT | D3: ='Voorzitter RvT'!C3 -> Score: | E3: <<MOTIVATIE>> | G3: ='Voorzitter RvT'!E3 -> Score: | H3: <<MOTIVATIE>> | J3: ='Voorzitter RvT'!G3 -> Score: | K3: <<MOTIVATIE>>
B4: Beoordelaar 2 Lid van RvT | D4: ='Lid van RvT'!C3 -> Score: | G4: ='Lid van RvT'!E3 -> Score: | J4: ='Lid van RvT'!G3 -> Score:
B5: Beoordelaar 3 Lid CvB | D5: ='Lid CvB'!C3 -> Score: | G5: ='Lid CvB'!E3 -> Score: | J5: ='Lid CvB'!G3 -> Score:
B6: Beoordelaar 4 Hoofd Control | D6: ='Hoofd Control'!C3 -> Score: | G6: ='Hoofd Control'!E3 -> Score: | J6: ='Hoofd Control'!G3 -> Score:
B7: Beoordelaar 5 Hoofd Finance | D7: ='Hoofd Finance'!C3 -> Score: | G7: ='Hoofd Finance'!E3 -> Score: | J7: ='Hoofd Finance'!G3 -> Score:
A8: Consensus: | D8: Score: | G8: Score: | J8: Score:
B9: Behaalde waarde vraag 1: | D9: =IF(D8="Onvoldoende","UITSLUITING",IF(D8="Matig","- 154",IF(D8="Voldoende"," 0",IF(D8="Goed"," 92",IF(D8="Uitmuntend"," 154"," "))))) | G9: =IF(G8="Onvoldoende","UITSLUITING",IF(G8="Matig","- 154",IF(G8="Voldoende"," 0",IF(G8="Goed"," 92",IF(G8="Uitmuntend"," 154"," "))))) | J9: =IF(J8="Onvoldoende","UITSLUITING",IF(J8="Matig","- 154",IF(J8="Voldoende"," 0",IF(J8="Goed"," 92",IF(J8="Uitmuntend"," 154"," ")))))
A10: ='Beoordelen open vragen'!A5 -> 6.1.2 WERKWIJZE JAARREKENING (INTERIM EN EINDEJAARSCONTROLE) EN BEKOSTIGINGSCONTROLE (ASSURANCERAPPORTEN) EN GESUBSIDIEERD ONDERZOEK | B10: Beoordelaar 1 Voorzitter RvT | D10: ='Voorzitter RvT'!C5 -> Score: | E10: <<MOTIVATIE>> | G10: ='Voorzitter RvT'!E5 -> Score: | H10: <<MOTIVATIE>> | J10: ='Voorzitter RvT'!G5 -> Score: | K10: <<MOTIVATIE>>
B11: Beoordelaar 2 Lid van RvT | D11: ='Lid van RvT'!C5 -> Score: | G11: ='Lid van RvT'!E5 -> Score: | J11: ='Lid van RvT'!G5 -> Score:
B12: Beoordelaar 3 Lid CvB | D12: ='Lid CvB'!C5 -> Score: | G12: ='Lid CvB'!E5 -> Score: | J12: ='Lid CvB'!G5 -> Score:
B13: Beoordelaar 4 Hoofd Control | D13: ='Hoofd Control'!C5 -> Score: | G13: ='Hoofd Control'!E5 -> Score: | J13: ='Hoofd Control'!G5 -> Score:
B14: Beoordelaar 5 Hoofd Finance | D14: ='Hoofd Finance'!C5 -> Score: | G14: ='Hoofd Finance'!E5 -> Score: | J14: ='Hoofd Finance'!G5 -> Score:
A15: Consensus: | D15: Score: | G15: Score: | J15: Score:
B16: Behaalde waarde vraag 2: | D16: =IF(D15="Onvoldoende","UITSLUITING",IF(D15="Matig","- 110",IF(D15="Voldoende"," 0",IF(D15="Goed","99",IF(D15="Uitmuntend","110"," "))))) | G16: =IF(G15="Onvoldoende","UITSLUITING",IF(G15="Matig","- 110",IF(G15="Voldoende"," 0",IF(G15="Goed","99",IF(G15="Uitmuntend","110"," "))))) | J16: =IF(J15="Onvoldoende","UITSLUITING",IF(J15="Matig","- 110",IF(J15="Voldoende"," 0",IF(J15="Goed","99",IF(J15="Uitmuntend","110"," ")))))
A17: ='Beoordelen open vragen'!A7 -> 6.1.3 ADVIESROL/KENNIS OP AANDACHTSGEBIEDEN | B17: Beoordelaar 1 Voorzitter RvT | D17: ='Voorzitter RvT'!C7 -> Score: | E17: <<MOTIVATIE>> | G17: ='Voorzitter RvT'!E7 -> Score: | H17: <<MOTIVATIE>> | J17: ='Voorzitter RvT'!G7 -> Score: | K17: <<MOTIVATIE>>
B18: Beoordelaar 2 Lid van RvT | D18: ='Lid van RvT'!C7 -> Score: | G18: ='Lid van RvT'!E7 -> Score: | J18: ='Lid van RvT'!G7 -> Score:
B19: Beoordelaar 3 Lid CvB | D19: ='Lid CvB'!C7 -> Score: | G19: ='Lid CvB'!E7 -> Score: | J19: ='Lid CvB'!G7 -> Score:
B20: Beoordelaar 4 Hoofd Control | D20: ='Hoofd Control'!C7 -> Score: | G20: ='Hoofd Control'!E7 -> Score: | J20: ='Hoofd Control'!G7 -> Score:
B21: Beoordelaar 5 Hoofd Finance | D21: ='Hoofd Finance'!C7 -> Score: | G21: ='Hoofd Finance'!E7 -> Score: | J21: ='Hoofd Finance'!G7 -> Score:
A22: Consensus: | D22: Score: | G22: Score: | J22: Score:
B23: Behaalde waarde vraag 3: | D23: =IF(D22="Onvoldoende","UITSLUITING",IF(D22="Matig","- 132",IF(D22="Voldoende"," 0",IF(D22="Goed","79",IF(D22="Uitmuntend","132"," "))))) | G23: =IF(G22="Onvoldoende","UITSLUITING",IF(G22="Matig","- 132",IF(G22="Voldoende"," 0",IF(G22="Goed","79",IF(G22="Uitmuntend","132"," "))))) | J23: =IF(J22="Onvoldoende","UITSLUITING",IF(J22="Matig","- 132",IF(J22="Voldoende"," 0",IF(J22="Goed","79",IF(J22="Uitmuntend","132"," ")))))
A24: ='Beoordelen open vragen'!A9 -> 6.1.4 PARTNERSCHAP EN ONAFHANKELIJKE ROL | B24: Beoordelaar 1 Voorzitter RvT | D24: ='Voorzitter RvT'!C9 -> Score: | E24: <<MOTIVATIE>> | G24: ='Voorzitter RvT'!E9 -> Score: | H24: <<MOTIVATIE>> | J24: ='Voorzitter RvT'!G9 -> Score: | K24: <<MOTIVATIE>>
B25: Beoordelaar 2 Lid van RvT | D25: ='Lid van RvT'!C9 -> Score: | G25: ='Lid van RvT'!E9 -> Score: | J25: ='Lid van RvT'!G9 -> Score:
B26: Beoordelaar 3 Lid CvB | D26: ='Lid CvB'!C9 -> Score: | G26: ='Lid CvB'!E9 -> Score: | J26: ='Lid CvB'!G9 -> Score:
B27: Beoordelaar 4 Hoofd Control | D27: ='Hoofd Control'!C9 -> Score: | G27: ='Hoofd Control'!E9 -> Score: | J27: ='Hoofd Control'!G9 -> Score:
B28: Beoordelaar 5 Hoofd Finance | D28: ='Hoofd Finance'!C9 -> Score: | G28: ='Hoofd Finance'!E9 -> Score: | J28: ='Hoofd Finance'!G9 -> Score:
A29: Consensus: | D29: Score: | G29: Score: | J29: Score:
B30: Behaalde waarde vraag 3: | D30: =IF(D29="Onvoldoende","UITSLUITING",IF(D29="Matig","- 44",IF(D29="Voldoende","0",IF(D29="Goed","40",IF(D29="Uitmuntend","44"," "))))) | G30: =IF(G29="Onvoldoende","UITSLUITING",IF(G29="Matig","- 44",IF(G29="Voldoende","0",IF(G29="Goed","40",IF(G29="Uitmuntend","44"," "))))) | J30: =IF(J29="Onvoldoende","UITSLUITING",IF(J29="Matig","- 44",IF(J29="Voldoende","0",IF(J29="Goed","40",IF(J29="Uitmuntend","44"," ")))))
A31: Totaal behaalde waarde subcriterium open vragen: | D31: =D9+D16+D23+D30 -> #VALUE! | G31: =G9+G16+G23+G30 -> #VALUE! | J31: =J9+J16+J23+J30 -> #VALUE!
A33: ='Beoordelen interview'!A1 -> Beoordeling criterium Interview | D33: =D2 -> <NAAM INSCHRIJVER 1> | G33: =G2 -> <NAAM INSCHRIJVER 2> | J33: =J2 -> <NAAM INSCHRIJVER 3>
A34: ='Beoordelen interview'!A3 -> Vraag 1 | B34: Beoordelaar 1 Voorzitter RvT | D34: ='Voorzitter RvT'!C14 -> Score: | E34: <<MOTIVATIE>> | G34: ='Voorzitter RvT'!E14 -> Score: | H34: <<MOTIVATIE>> | J34: ='Voorzitter RvT'!G14 -> Score: | K34: <<MOTIVATIE>>
B35: Beoordelaar 2 Lid van RvT | D35: ='Lid van RvT'!C14 -> Score: | G35: ='Lid van RvT'!E14 -> Score: | J35: ='Lid van RvT'!G14 -> Score:
B36: Beoordelaar 3 Lid CvB | D36: ='Lid CvB'!C14 -> Score: | G36: ='Lid CvB'!E14 -> Score: | J36: ='Lid CvB'!G14 -> Score:
B37: Beoordelaar 4 Hoofd Control | D37: ='Hoofd Control'!C14 -> Score: | G37: ='Hoofd Control'!E14 -> Score: | J37: ='Hoofd Control'!G14 -> Score:
B38: Beoordelaar 5 Hoofd Finance | D38: ='Hoofd Finance'!C14 -> Score: | G38: ='Hoofd Finance'!E14 -> Score: | J38: ='Hoofd Finance'!G14 -> Score:
A39: Consensus: | D39: Score: | G39: Score: | J39: Score:
B40: Behaalde waarde vraag 1: | D40: =IF(D39="Onvoldoende","UITSLUITING",IF(D39="Matig","- 86",IF(D39="Voldoende"," 0",IF(D39="Goed"," 77",IF(D39="Uitmuntend","86"," "))))) | G40: =IF(G39="Onvoldoende","UITSLUITING",IF(G39="Matig","- 86",IF(G39="Voldoende"," 0",IF(G39="Goed"," 77",IF(G39="Uitmuntend","86"," "))))) | J40: =IF(J39="Onvoldoende","UITSLUITING",IF(J39="Matig","- 86",IF(J39="Voldoende"," 0",IF(J39="Goed"," 77",IF(J39="Uitmuntend","86"," ")))))
A41: ='Beoordelen interview'!A4 -> Vraag 2 | B41: Beoordelaar 1 Voorzitter RvT | D41: ='Voorzitter RvT'!C16 -> Score: | E41: <<MOTIVATIE>> | G41: ='Voorzitter RvT'!E16 -> Score: | H41: <<MOTIVATIE>> | J41: ='Voorzitter RvT'!G16 -> Score: | K41: <<MOTIVATIE>>
B42: Beoordelaar 2 Lid van RvT | D42: ='Lid van RvT'!C16 -> Score: | G42: ='Lid van RvT'!E16 -> Score: | J42: ='Lid van RvT'!G16 -> Score:
B43: Beoordelaar 3 Lid CvB | D43: ='Lid CvB'!C16 -> Score: | G43: ='Lid CvB'!E16 -> Score: | J43: ='Lid CvB'!G16 -> Score:
B44: Beoordelaar 4 Hoofd Control | D44: ='Hoofd Control'!C16 -> Score: | G44: ='Hoofd Control'!E16 -> Score: | J44: ='Hoofd Control'!G16 -> Score:
B45: Beoordelaar 5 Hoofd Finance | D45: ='Hoofd Finance'!C16 -> Score: | G45: ='Hoofd Finance'!E16 -> Score: | J45: ='Hoofd Finance'!G16 -> Score:
A46: Consensus: | D46: Score: | G46: Score: | J46: Score:
B47: Behaalde waarde vraag 2: | D47: =IF(D46="Onvoldoende","UITSLUITING",IF(D46="Matig","- 86",IF(D46="Voldoende"," 0",IF(D46="Goed"," 77",IF(D46="Uitmuntend","86"," "))))) | G47: =IF(G46="Onvoldoende","UITSLUITING",IF(G46="Matig","- 86",IF(G46="Voldoende"," 0",IF(G46="Goed"," 77",IF(G46="Uitmuntend","86"," "))))) | J47: =IF(J46="Onvoldoende","UITSLUITING",IF(J46="Matig","- 86",IF(J46="Voldoende"," 0",IF(J46="Goed"," 77",IF(J46="Uitmuntend","86"," ")))))
A48: ='Beoordelen interview'!A5 -> Vraag 3 | B48: Beoordelaar 1 Voorzitter RvT | D48: ='Voorzitter RvT'!C18 -> Score: | E48: <<MOTIVATIE>> | G48: ='Voorzitter RvT'!E18 -> Score: | H48: <<MOTIVATIE>> | J48: ='Voorzitter RvT'!G18 -> Score: | K48: <<MOTIVATIE>>
B49: Beoordelaar 2 Lid van RvT | D49: ='Lid van RvT'!C18 -> Score: | G49: ='Lid van RvT'!E18 -> Score: | J49: ='Lid van RvT'!G18 -> Score:
B50: Beoordelaar 3 Lid CvB | D50: ='Lid CvB'!C18 -> Score: | G50: ='Lid CvB'!E18 -> Score: | J50: ='Lid CvB'!G18 -> Score:
B51: Beoordelaar 4 Hoofd Control | D51: ='Hoofd Control'!C18 -> Score: | G51: ='Hoofd Control'!E18 -> Score: | J51: ='Hoofd Control'!G18 -> Score:
B52: Beoordelaar 5 Hoofd Finance | D52: ='Hoofd Finance'!C18 -> Score: | G52: ='Hoofd Finance'!E18 -> Score: | J52: ='Hoofd Finance'!G18 -> Score:
A53: Consensus: | D53: Score: | G53: Score: | J53: Score:
B54: Behaalde waarde vraag 3: | D54: =IF(D53="Onvoldoende","UITSLUITING",IF(D53="Matig","- 88",IF(D53="Voldoende","0",IF(D53="Goed","80",IF(D53="Uitmuntend","88"," "))))) | G54: =IF(G53="Onvoldoende","UITSLUITING",IF(G53="Matig","- 88",IF(G53="Voldoende","0",IF(G53="Goed","80",IF(G53="Uitmuntend","88"," "))))) | J54: =IF(J53="Onvoldoende","UITSLUITING",IF(J53="Matig","- 88",IF(J53="Voldoende","0",IF(J53="Goed","80",IF(J53="Uitmuntend","88"," ")))))
A55: Totaal behaalde waarde subcriterium interview: | D55: =D40+D47+D54 -> #VALUE! | G55: =G40+G47+G54 -> #VALUE! | J55: =J40+J47+J54 -> #VALUE!

Sheet Eindscores
A1: Totaalwaarde criterium kwaliteit
A2: Onderdeel | C2: ='Voorzitter RvT'!C1 -> <NAAM INSCHRIJVER 1> | E2: ='Voorzitter RvT'!E1 -> <NAAM INSCHRIJVER 2> | G2: ='Voorzitter RvT'!G1 -> <NAAM INSCHRIJVER 3>
A3: 6.1 Open vragen + toelichting | C3: =Consensus!D31 -> #VALUE! | E3: =Consensus!G31 -> #VALUE! | G3: =Consensus!J31 -> #VALUE!
A4: 6.2 Interview | C4: =Consensus!D55 -> #VALUE! | E4: =Consensus!G55 -> #VALUE! | G4: =Consensus!J55 -> #VALUE!
A5: Totaal behaalde waarde criterium kwaliteit: | C5: =C3+C4 -> #VALUE! | E5: =E3+E4 -> #VALUE! | G5: =G3+G4 -> #VALUE!
A7: Totaal behaalde waarde criterium prijs:
A9: FICTIEVE EINDWAARDE (prijs + kwaliteit): | C9: =C7+C5 -> #VALUE! | E9: =E7+E5 -> #VALUE! | G9: =G7+G5 -> #VALUE!
