Workbook

Sheet P4 EisenWensen - TB1
A1: Bijlage G4 - Programma van prijzen, eisen en wensen Perceel 4 Oogstwerktuigen (getrokken) | L1: Maak uw keuze (verplicht!)
A2: Programma van eisen en wensen | L2: Nee, niet verkrijgbaar
A3: Inschrijver dient uitsluitend de geel gekleurde cellen in te vullen. LET OP: Het programma van prijzen, eisen en wensen bevat meerdere tabbladen (2). Er is een gunningsassortiment opgesteld dat Inschrijver moet kunnen leveren. Voor het gunningsassortiment gelden de onderstaande algemene eisen. Optioneel kan daarnaast materieel worden uitgevraagd wat past binnen het perceel. Inschrijver dient zijn assortiment aan te passen aan de wensen van Staatsbosbeheer. Hiervoor gelden in ieder geval de onderdstaande algemene eisen. | L3: Ja, optioneel (tegen meerprijs)
A4: Algemene eisen | L4: Ja, standaard onderdeel van (prijs) basisuitvoering
C5: Eisen | D5: Getrokken | E5: Eis leverbaar Ja/Nee | G5: Omschrijving wens | H5: Wens leverbaar | I5: Bruto meerprijs wens* | J5: Maximaal te behalen aantal punten | K5: Behaald aantal punten
A6: 1 | B6: Iedere machine | C6: Voldoet bij levering aan de wegenverkeerswetgeving, inclusief bebording breedte verlichting, afscherming scherpe delen | D6: x | E6: Maak uw keuze | H6: Nvt | J6: Nvt | K6: Nvt
A7: 2 | C7: Indien smeervet en olie noodzakelijk is dan wordt een vol synthetische biologisch afbreekbare (biodegredeble OECD301B) variant gebruikt. Hydrauliek-, achterbrugolie (HEES) is afgestemd op de aanwezige tractor(en) en altijd vol synthetisch en biologisch afbreekbaar. Smeermiddelen voldoen aan Milieukeurmerk Blauwe Engel, Eco Keurmerk, Swedish Standard | D7: x | E7: Maak uw keuze | G7: Is voorzien van gesloten lagersmering, zonder smeerpunten. | H7: Maak uw keuze (verplicht!) | I7: 0 | J7: 300 | K7: =IF(H7="Maak uw keuze (verplicht!)","Keuze maken in kolom G",IF(H7="Nee, niet verkrijgbaar",0,IF(H7="Ja, optioneel (tegen meerprijs)",0.3*J7,IF(H7="Ja, standaard onderdeel van (prijs) basisuitvoering",J7)))) -> Keuze maken in kolom G
A8: Specifieke eisen aan het gunningsassortiment - Oogstwerktuigen | G8: Wensen gunningsassortiment
A9: Hooibouw Oogstwerktuigen | C9: Eisen | D9: Getrokken | E9: Eis leverbaar Ja/Nee | G9: Omschrijving wens | H9: Wens leverbaar | J9: Bruto meerprijs wens* | K9: Maximaal te behalen aantal punten
A10: 3 | B10: Opraapwagen klein tot 19 m3 (DIN) | C10: Wagen is geschikt voor inzet in terreinen met matige tot zeer lage draagkracht en voor droog en nat, zwaar gewas. | D10: x | E10: Maak uw keuze | H10: Nvt | J10: Nvt | K10: Nvt
A11: 4 | C11: Onderstel: 2 wiel (hoog) onderstel of tandemonderstel leverbaar | D11: x | E11: Maak uw keuze | G11: 4 wielig pendelend onderstel | H11: Maak uw keuze (verplicht!) | I11: 0 | J11: 300 | K11: =IF(H11="Maak uw keuze (verplicht!)","Keuze maken in kolom G",IF(H11="Nee, niet verkrijgbaar",0,IF(H11="Ja, optioneel (tegen meerprijs)",0.3*J11,IF(H11="Ja, standaard onderdeel van (prijs) basisuitvoering",J11)))) -> Keuze maken in kolom G
A12: 5 | C12: Stekende pickup, zeer degelijk, met meelopende tastwielen incl. extra wiel of rol onderzijde pickup | D12: x | E12: Maak uw keuze | H12: Nvt | J12: Nvt | K12: Nvt
A13: 6 | C13: Er is een balken- of kammen invoer met snij-inrichting leverbaar met instelbare snijlengte; messen zijn eenvoudig te verwisselen | D13: x | E13: Maak uw keuze | H13: Nvt | J13: Nvt | K13: Nvt
A14: 7 | C14: Hydraulisch instelbare steunpoot | D14: x | E14: Maak uw keuze | H14: Nvt | J14: Nvt | K14: Nvt
A15: 8 | C15: pickupbreedte minimaal 180 cm | D15: x | E15: Maak uw keuze | H15: Nvt | J15: Nvt | K15: Nvt
A16: 9 | C16: Elektrische bedieningsunit | D16: x | E16: Maak uw keuze | H16: Nvt | J16: Nvt | K16: Nvt
A17: 10 | B17: Opraap(snij)wagen midden 18 tot 27 m3 (DIN) in minimaal 2 of meer maatvoeringen | C17: Geschikt voor inzet in terreinen met matige tot zeer lage draagkracht, droog en nat, zwaar gewas; | D17: x | E17: Maak uw keuze | H17: Nvt | J17: Nvt | K17: Nvt
A18: 11 | C18: Stekende pickup, zeer degelijk, met meelopende tastwielen incl. extra wiel of rol onderzijde pickup | D18: x | E18: Maak uw keuze | H18: Nvt | J18: Nvt | K18: Nvt
A19: 12 | C19: Onderstel: tandem- of 8 wielig gedwongen elektrisch gestuurd/meelopend gestuurd (o.a. DWM); Lage druk radiaalbanden; | D19: x | E19: Maak uw keuze | G19: Bandenspanningsregeling , meelopend gestuurd | H19: Maak uw keuze (verplicht!) | I19: 0 | J19: 400 | K19: =IF(H19="Maak uw keuze (verplicht!)","Keuze maken in kolom G",IF(H19="Nee, niet verkrijgbaar",0,IF(H19="Ja, optioneel (tegen meerprijs)",0.3*J19,IF(H19="Ja, standaard onderdeel van (prijs) basisuitvoering",J19)))) -> Keuze maken in kolom G
A20: 13 | C20: Rotor-invoer/snijsysteem geschikt voor lang materiaal; | D20: x | E20: Maak uw keuze | H20: Nvt | J20: Nvt | K20: Nvt
A21: 14 | C21: Snij-inrichting, eenvoudig instelbare snijlengte (max 45 mm) en verwisselbare messen/inrichting; | D21: x | E21: Maak uw keuze | H21: Nvt | J21: Nvt | K21: Nvt
A22: 15 | C22: 4 voudige bodemketting incl. bediening op achterzijde | D22: x | E22: Maak uw keuze | H22: Nvt | J22: Nvt | K22: Nvt
A23: 16 | C23: Uitklapbare messenbalk, staand messen kunnen wisselen | D23: x | E23: Maak uw keuze | H23: Nvt | J23: Nvt | K23: Nvt
A24: 17 | C24: Bediening elektronisch/hydraulisch | D24: x | E24: Maak uw keuze | H24: Nvt | J24: Nvt | K24: Nvt
A25: 18 | C25: Loadsensing | D25: x | E25: Maak uw keuze | H25: Nvt | J25: Nvt | K25: Nvt
A26: 19 | C26: Bandenmaat minimaal 22,5 Inch | D26: x | E26: Maak uw keuze | H26: Nvt | J26: Nvt | K26: Nvt
A27: 20 | D27: x | E27: Nvt | G27: Terugdraai-inrichting | H27: Maak uw keuze (verplicht!) | I27: 0 | J27: 500 | K27: =IF(H27="Maak uw keuze (verplicht!)","Keuze maken in kolom G",IF(H27="Nee, niet verkrijgbaar",0,IF(H27="Ja, optioneel (tegen meerprijs)",0.3*J27,IF(H27="Ja, standaard onderdeel van (prijs) basisuitvoering",J27)))) -> Keuze maken in kolom G
A28: 21 | C28: Een centraal smeersysteem voor alle smeerpunten is leverbaar | D28: x | E28: Maak uw keuze | H28: Nvt | J28: Nvt | K28: Nvt
A29: 22 | C29: Laadautomaat is optioneel leverbaar | D29: x | E29: Maak uw keuze | H29: Nvt | J29: Nvt | K29: Nvt
A30: 23 | C30: Beremming op minimaal 4 wielen | D30: x | E30: Maak uw keuze | H30: Nvt | J30: Nvt | K30: Nvt
A31: 24 | C31: Maximaal gewicht 6700kg inc. 8 wielig tandem | D31: x | E31: Maak uw keuze | H31: Nvt | J31: Nvt | K31: Nvt
A32: 25 | C32: Boardcomputer aansluiting mogelijk, isobus | D32: x | E32: Maak uw keuze | H32: Nvt | J32: Nvt | K32: Nvt
A33: 26 | C33: Hydraulisch instelbare steunpoot | D33: x | E33: Maak uw keuze | H33: Nvt | J33: Nvt | K33: Nvt
A34: 27 | C34: Camerasysteem | D34: x | E34: Maak uw keuze | H34: Nvt | J34: Nvt | K34: Nvt
A35: 28 | C35: Elektrische bedieningsunit | D35: x | E35: Maak uw keuze | H35: Nvt | J35: Nvt | K35: Nvt
A36: 29 | B36: Opraap(snij)wagen groot >27m3 (DIN) (100-150 kW tractor) in minimaal 2 of meer maatvoeringen | C36: Geschikt voor inzet in terreinen met matige tot zeer lage draagkracht, droog en nat, zwaar gewas; | D36: x | E36: Maak uw keuze | H36: Nvt | J36: Nvt | K36: Nvt
A37: 30 | C37: Stekende pickup 1,8m, zeer degelijk, met meelopende tastwielen incl. extra wiel of rol onderzijde pickup | D37: x | E37: Maak uw keuze | H37: Nvt | J37: Nvt | K37: Nvt
A38: 31 | C38: Onderstel: tandem- of 8 wielig gedwongen elektrisch gestuurd (DWM); Lage druk radiaalbanden; | D38: x | E38: Maak uw keuze | G38: Bandenspanningsregeling | H38: Maak uw keuze (verplicht!) | I38: 0 | J38: 300 | K38: =IF(H38="Maak uw keuze (verplicht!)","Keuze maken in kolom G",IF(H38="Nee, niet verkrijgbaar",0,IF(H38="Ja, optioneel (tegen meerprijs)",0.3*J38,IF(H38="Ja, standaard onderdeel van (prijs) basisuitvoering",J38)))) -> Keuze maken in kolom G
A39: 32 | C39: Rotor-invoer/snijsysteem geschikt voor lang materiaal; | D39: x | E39: Maak uw keuze | H39: Nvt | J39: Nvt | K39: Nvt
A40: 33 | C40: Snij-inrichting, eenvoudig instelbare snijlengte (max 45 mm) en verwisselbare messen/inrichting; | D40: x | E40: Maak uw keuze | H40: Nvt | J40: Nvt | K40: Nvt
...

Sheet P4 Prijzen - TB2
A1: ='P4 EisenWensen - TB1'!A1:I1 -> Bijlage G4 - Programma van prijzen, eisen en wensen Perceel 4 Oogstwerktuigen (getrokken)
A2: Prijzen gunningsassortiment Perceel 4
A3: Inschrijver dient uitsluitend de geel gekleurde cellen in te vullen. LET OP: Het programma van prijzen, eisen en wensen bevat meerdere tabbladen (2).
A4: Productgroep | B4: Inclusief aanvullende opties/acc. | C4: Maatvoering indicatie | D4: Merk | E4: Type | F4: Bruto catalogusprijs | G4: Bruto catalogusprijs wensen | H4: korting (%) | I4: Netto Aanschafkosten | J4: Restwaarde (na 10 jaar) | K4: Totaal
A5: Opraapsnijwagen klein, tandem onderstel | C5: 15 m3 | F5: 0 | G5: ='P4 EisenWensen - TB1'!I7+'P4 EisenWensen - TB1'!I11 -> 0 | H5: 0 | I5: =F5*(100%-H5) -> 0 | J5: 0 | K5: =I5-J5 -> 0
A6: Opraapsnijwagen midden incl. 8 wielig gestuurd onderstel | C6: 25 m3 | F6: 0 | G6: ='P4 EisenWensen - TB1'!I7+'P4 EisenWensen - TB1'!I19+'P4 EisenWensen - TB1'!I27 -> 0 | H6: 0 | I6: =F6*(100%-H6) -> 0 | J6: 0 | K6: =I6-J6 -> 0
A7: Opraapsnijwagen groot incl. 8 wielig gestuurd onderstel | C7: 31 m3 | F7: 0 | G7: ='P4 EisenWensen - TB1'!I7+'P4 EisenWensen - TB1'!I38+'P4 EisenWensen - TB1'!I41 -> 0 | H7: 0 | I7: =F7*(100%-H7) -> 0 | J7: 0 | K7: =I7-J7 -> 0
A8: Rondebalenpers vaste kamer | C8: 1.3 m baal; grote banden | F8: 0 | G8: ='P4 EisenWensen - TB1'!I7+'P4 EisenWensen - TB1'!I58+'P4 EisenWensen - TB1'!I60 -> 0 | H8: 0 | I8: =F8*(100%-H8) -> 0 | J8: 0 | K8: =I8-J8 -> 0
A9: Rondebalenpers variabele kamer | C9: tot maximaal 1.5 m baal; grote banden | F9: 0 | G9: ='P4 EisenWensen - TB1'!I7+'P4 EisenWensen - TB1'!I56+'P4 EisenWensen - TB1'!I58+'P4 EisenWensen - TB1'!I60 -> 0 | H9: 0 | I9: =F9*(100%-H9) -> 0 | J9: 0 | K9: =I9-J9 -> 0
A10: Totale kosten (grondslag voor beoordeling P4) | K10: =SUM(K5:K9) -> 0
A12: Tarieven Spoedreparaties* Indicatief (telt niet mee voor beoordeling prijscomponent, NB. tarieven gelden wel bij uitvoering overeenkomst!!) | F12: Bruto catologusprijs: | H12: Prijs van gunningsassortiment inclusief alle algemene en specifiek eisen en exclusief wensen en belastingen
A13: Uurtarief 1e monteur LMB | B13: ma t/m vr. tussen 08.00 - 17.00 | D13: 0 | F13: Bruto catalogusprijs wensen: | H13: Prijs van alle -tegen meerprijs- leverbare wensen, exclusief belastingen
B14: ma t/m vr. tussen 17.00 - 08.00 | D14: 0 | F14: Korting: | H14: Kortingspercentage over de bruto catologusprijs én de tegen meerprijs leverbare wensen
B15: za. 00.00 t/m ma. 08.00 uur | D15: 0 | F15: Netto aanschafkosten: | H15: = (bruto catologusprijs + bruto catolugusprijs wensen) - catologuskorting
A16: Voorrijkosten serviceauto | B16: all-in per km | D16: 0 | F16: Service en onderhoud | H16: Betreft alle dienstverlening en producten voor reguliere onderhoudswerkzaamheden volgens fabrieksnormen, exclusief BIO-smeermiddelen protocol en storingen/reparaties!
A18: Bedrijfsnaam inschrijver | B18: [vul hier uw statutaire bedrijfsnaam in]
